{"text_format":"1","workbook":"xlsx","n_sheets":13,"sheets":["Welcome en","Welcome ru","Country choice","DATA-INPUT","DATA-OUTPUT EC absolute","DATA-OUTPUT Co2 absolute","DATA-OUTPUT Transport absolute","DATA-OUTPUT EC per capita","DATA-OUTPUT Co2 per capita","DATA-OUTPUT Transport per capit","_text","_data","_test"],"not_rendered":{"charts":0,"images":6,"macros":1,"external_links":0,"defined_names":0,"comments":0,"pivot_tables":0},"unopened":[],"bounds":{"document_bytes":16777216,"sheet_cells":100000,"rows_first":2000,"rows_last":500,"rows_between":2000,"halvings":0,"cell_chars":16384,"cell_head_chars":4096},"cells_cut":0,"cells_raw":0,"read":"whole","date_system":"1900"}

{"sheet":"Welcome en","index":0,"n_rows":44,"n_cols":1,"rows_kept":44,"cut":false,"hidden":false,"merged":[[8,0,8,10],[9,0,9,10],[2,0,2,8],[0,0,0,12],[1,0,1,12],[6,0,6,10],[7,0,7,10],[4,0,5,12],[14,0,14,10],[18,0,18,10],[13,0,13,10],[11,0,12,12],[16,0,17,12],[41,0,41,10],[22,0,22,10],[23,0,23,10],[42,0,42,10],[20,0,21,12]]}
["Reference-data Tool"]
["Шаблон расчета выбросов"]
[]
[]
["About the Reference-data tool"]
[]
["The Reference Data Tool has been designed by the Covenant of Mayors East Office to help local authorities to calculate their CO2 and energy balance."]
["It provides energy- and CO2 emissions -related data at the municipal level for the eleven CoM-East countries: "]
["Armenia, Azerbaijan, Belarus, Georgia, Kazakhstan, Kyrgyzstan, Republic of Moldova, Ukraine, Tajikistan, Turkmenistan and Uzbekistan."]
["The Tool helps Covenant Signatories to elaborate their ‘Baseline Emission Inventory’ and follow up the progress in terms of CO2 emission reduction."]
[]
["What does it do ?"]
[]
["The tool provides series of energy and CO2 emission data, broken down by energy carrier and by sector."]
["For example, it provides CoM-East signatories with the final energy consumption figures (in MWh/year) from 2000 to 2009."]
[]
["Requirements to use it"]
[]
["The tool was developed to run on Microsoft Excel 2007 and following versions."]
[]
["Partner"]
[]
["The reference-data Tool has been developed by the Climate Alliance"]
["For more information, please contact: "]
[]
["Climate Alliance"]
["European secretariat"]
["Galvanistraße 28"]
["60486 Frankfurt am Main"]
["Germany"]
["Tel. +49-69-717139-0"]
["Fax: +49-69-717139-93"]
["Email: europe@climatealliance.org"]
[]
[]
[]
["The funding of this project was provided by the EU"]
[]
[]
[]
[]
["DISCLAIMER: The sole responsibility for the content of this publication lies with the authors."]
["It does not necessarily reflect the opinion of the European Communities."]
["The European Commission is not responsible for any use that may be made of the information contained therein."]

{"sheet":"Welcome ru","index":1,"n_rows":43,"n_cols":1,"rows_kept":43,"cut":false,"hidden":false,"merged":[[10,0,11,12],[6,0,6,10],[7,0,7,10],[8,0,8,10],[0,0,0,12],[1,0,1,12],[2,0,2,8],[4,0,5,12],[17,0,17,10],[12,0,12,10],[13,0,13,10],[15,0,16,12],[19,0,20,12],[40,0,40,10],[42,0,42,10],[21,0,21,10],[22,0,22,10],[41,0,41,10]]}
["Reference-data Tool"]
["Шаблон расчета выбросов"]
[]
[]
["Информация об инструменте справочных данных"]
[]
["Шаблон расчета выбросов разработан Офисом \"Соглашения мэров - Восток\", чтобы помочь местным органам власти обчислить баланс энергопотребления и выбросов CO2 для одиннадцати стран Соглашения мэров- Восток:"]
["Азербайджан, Армения, Беларусь, Грузия, Казахстан, Кыргызстан, Республика Молдова, Украина, Таджикистан, Туркменистан и Узбекистан."]
["Этот инструмент помогает подписантам свою «Инвентаризацию базовых выбросов\" и следить за прогрессом в плане сокращения выбросов CO2."]
[]
["Как работает шаблон?"]
[]
["Этот инструмент предоставляет ряд данных по энергопотреблению и выбросах CO2 в разбивке по энергоносителях и секторам."]
["Например, он предоставляет подписантам Соглашения мэров - Восток данные по конечному энергопотреблению (в МВтч / год) с 2000 по 2009."]
[]
["Требования к использованию шаблон"]
[]
["Инструмент разработан для использования на основе Microsoft Excel 2007 и последующих версий."]
[]
["Партнер"]
[]
["Формуляр расчета выбросов был разработан Клматическим Альянсом"]
["Для получения дополнительной информации, пожалуйста, обращайтесь:"]
[]
[]
["Climate Alliance"]
["European secretariat"]
["Galvanistraße 28"]
["60486 Frankfurt am Main"]
["Germany"]
["Tel. +49-69-717139-0"]
["Fax: +49-69-717139-93"]
["Email: europe@climatealliance.org"]
[]
[]
[]
["Финансирование этого проекта было обеспечено "]
["Европейским Союзом"]
[]
[]
["ПРЕДОСТЕРЕЖЕНИЕ: Ответственность за содержание данной публикации пренадлежит авторам."]
["Не обязательно отражаеться точка зрения Европейского Сообщества."]
["Европейская Комиссия не несет ответственности за любое использование информации,содержащейся в шаблоне."]

{"sheet":"Country choice","index":2,"n_rows":9,"n_cols":1,"rows_kept":9,"cut":false,"hidden":false,"merged":[[2,0,2,8],[4,0,4,10],[5,0,5,10],[0,0,0,12],[1,0,1,12]]}
["Country choice"]
["Выбор страны"]
[]
[]
["Please choose your country"]
["Пожалуйста, выберите свою страну"]
[]
["Country"]
["страну"]

{"sheet":"DATA-INPUT","index":3,"n_rows":38,"n_cols":11,"rows_kept":38,"cut":false,"hidden":false,"merged":[[0,0,0,12],[1,0,1,12],[33,0,33,10],[38,0,38,6],[28,6,29,6],[24,5,25,5],[24,1,25,1],[26,1,27,1],[28,1,29,1],[14,4,15,4],[14,5,15,5],[14,6,15,6],[28,2,29,2],[28,4,29,4],[26,4,27,4],[28,5,29,5],[28,7,29,7],[26,10,27,10],[14,7,15,7],[28,10,29,10],[18,1,18,10],[24,8,25,8],[28,9,29,9],[26,7,27,7],[26,8,27,8],[26,9,27,9],[28,8,29,8],[24,9,25,9],[24,7,25,7],[14,9,15,9],[39,0,39,6],[26,2,27,2],[34,0,34,10],[24,10,25,10],[40,0,40,6],[28,3,29,3],[26,3,27,3],[30,1,31,1],[30,2,31,2],[30,3,31,3],[30,8,31,8],[30,9,31,9],[30,10,31,10],[30,4,31,4],[30,5,31,5],[24,4,25,4],[30,6,31,6],[30,7,31,7],[2,0,2,8],[20,1,21,1],[20,2,21,2],[20,3,21,3],[20,4,21,4],[20,5,21,5],[20,6,21,6],[20,7,21,7],[20,8,21,8],[14,1,15,1],[10,1,10,10],[19,1,19,10],[4,0,4,10],[5,0,5,10],[11,1,11,10],[14,8,15,8],[14,2,15,2],[12,10,13,10],[26,5,27,5],[26,6,27,6],[12,8,13,8],[12,9,13,9],[14,3,15,3],[14,10,15,10],[12,1,13,1],[12,2,13,2],[12,3,13,3],[12,4,13,4],[12,5,13,5],[12,6,13,6],[12,7,13,7],[24,2,25,2],[20,10,21,10],[20,9,21,9],[24,3,25,3],[24,6,25,6]]}
["   Quantity matrix"]
["Кількісна матриця"]
[]
[]
["Please fill in the tables"]
["Пожалуйста, заполните таблици"]
[]
[]
[]
[]
[null,"Number of inhabitants"]
[null,"Население"]
["Year",2000,2001,2002,2003,2004,2005,2006,2007,2008,2009]
["Год"]
["Inhabitants"]
["Население"]
[]
[]
[null,"Number of employees"]
[null,"Количество занятых"]
["Year",2000,2001,2002,2003,2004,2005,2006,2007,2008,2009]
["Год"]
["Sector"]
["Сектор экономики"]
["Agriculture"]
["Сельское хозяйство"]
["Industry (non-ETS)"]
["Промышленность (не включена в европейскую систему торговли выбросами)"]
["Services (Tertiary)"]
["Третичный сектор (Услуги)"]
["Subtotal",{"$f":"SUM(B25:B30)","v":0},0,0,0,0,0,0,0,0,0]
["Сумма"]
[]
["Before starting the calculation, please fill at least  the table \"Number of inhabitants\" for one year."]
["If you have available  data for both tables \"Number of Inhabitants\" and \" Number of employees\", please take care about fill both tables for one corresponding year."]
[]
["Прежде чем приступить к расчету, пожалуйста, заполните по крайней мере таблицу \"Население\"за один год."]
["Если у вас есть доступные данные для обеих таблиц \"Население\" и \"Количество занятых\", пожалуйста, позаботьтесь о заполнении обеих таблиц для одного соответствующего года."]

{"sheet":"DATA-OUTPUT EC absolute","index":4,"n_rows":38,"n_cols":11,"rows_kept":38,"cut":false,"hidden":false,"merged":[[7,1,8,1],[4,0,4,10],[5,0,5,10],[0,0,0,12],[1,0,1,12],[22,5,23,5],[20,5,21,5],[2,0,2,8],[10,1,10,10],[18,1,19,1],[18,2,19,2],[18,3,19,3],[18,4,19,4],[18,5,19,5],[18,6,19,6],[18,7,19,7],[18,8,19,8],[18,9,19,9],[18,10,19,10],[11,1,11,10],[20,7,21,7],[24,7,25,7],[24,8,25,8],[24,9,25,9],[24,10,25,10],[22,7,23,7],[22,8,23,8],[22,9,23,9],[22,10,23,10],[20,8,21,8],[20,9,21,9],[20,10,21,10],[22,6,23,6],[20,6,21,6],[22,1,23,1],[22,2,23,2],[22,3,23,3],[22,4,23,4],[20,1,21,1],[20,2,21,2],[20,3,21,3],[20,4,21,4],[26,4,27,4],[26,5,27,5],[26,6,27,6],[26,1,27,1],[24,1,25,1],[24,2,25,2],[24,3,25,3],[24,4,25,4],[24,5,25,5],[24,6,25,6],[26,7,27,7],[26,8,27,8],[26,9,27,9],[26,10,27,10],[30,1,31,1],[30,2,31,2],[30,3,31,3],[30,4,31,4],[30,5,31,5],[30,6,31,6],[30,7,31,7],[30,8,31,8],[30,9,31,9],[30,10,31,10],[26,2,27,2],[26,3,27,3],[32,6,33,6],[32,7,33,7],[32,8,33,8],[32,9,33,9],[32,1,33,1],[32,2,33,2],[32,3,33,3],[32,4,33,4],[36,1,37,1],[36,2,37,2],[36,3,37,3],[36,4,37,4],[32,10,33,10],[34,1,35,1],[34,2,35,2],[34,3,35,3],[34,4,35,4],[34,5,35,5],[34,6,35,6],[34,7,35,7],[34,8,35,8],[34,9,35,9],[34,10,35,10],[32,5,33,5],[36,10,37,10],[36,5,37,5],[36,6,37,6],[36,7,37,7],[36,8,37,8],[36,9,37,9]]}
["Reference Data - Final Energy consumption"]
["Справочные данные - Конечное энергопотребление"]
[]
[]
["Overall results  - Final energy consumption"]
["Общие результаты - Конечное энергопотребление"]
[]
["Year"]
["Год"]
[]
[null,"Final energy consumption (MWh)"]
[null,"Конечное энергопотребление (МВт-ч)"]
[{"$f":"'DATA-OUTPUT EC per capita'!A13","v":"Category"},{"$f":"'DATA-OUTPUT EC per capita'!B13","v":"Electricity"},{"$f":"'DATA-OUTPUT EC per capita'!C13","v":"Heat / Cold"},{"$f":"'DATA-OUTPUT EC per capita'!D13","v":"Natural gas"},{"$f":"'DATA-OUTPUT EC per capita'!E13","v":"Liquid gas"},{"$f":"'DATA-OUTPUT EC per capita'!F13","v":"Heating oil/diesel"},{"$f":"'DATA-OUTPUT EC per capita'!G13","v":"Gasoline"},{"$f":"'DATA-OUTPUT EC per capita'!H13","v":"Lignite/Coal"},{"$f":"'DATA-OUTPUT EC per capita'!I13","v":"Other fossil fuels"},{"$f":"'DATA-OUTPUT EC per capita'!J13","v":"Plant oil / biofuel"},{"$f":"'DATA-OUTPUT EC per capita'!K13","v":"Total"}]
[{"$f":"'DATA-OUTPUT EC per capita'!A14","v":"Категория"},{"$f":"'DATA-OUTPUT EC per capita'!B14","v":"Электроенергия"},{"$f":"'DATA-OUTPUT EC per capita'!C14","v":"Теплоэнергия /"},{"$f":"'DATA-OUTPUT EC per capita'!D14","v":"Природный газ"},{"$f":"'DATA-OUTPUT EC per capita'!E14","v":"Сжиженный газ"},{"$f":"'DATA-OUTPUT EC per capita'!F14","v":"Топочный"},{"$f":"'DATA-OUTPUT EC per capita'!G14","v":"Бензин"},{"$f":"'DATA-OUTPUT EC per capita'!H14","v":"Каменный"},{"$f":"'DATA-OUTPUT EC per capita'!I14","v":"Другие виды"},{"$f":"'DATA-OUTPUT EC per capita'!J14","v":"Ростительное"},{"$f":"'DATA-OUTPUT EC per capita'!K14","v":"Сумма"}]
[null,null,{"$f":"'DATA-OUTPUT EC per capita'!C15","v":"холод"},null,null,{"$f":"'DATA-OUTPUT EC per capita'!F15","v":"мазут/дизель"},null,{"$f":"'DATA-OUTPUT EC per capita'!H15","v":"уголь/Бурый"},{"$f":"'DATA-OUTPUT EC per capita'!I15","v":"ископаемого"},{"$f":"'DATA-OUTPUT EC per capita'!J15","v":"масло /"}]
[null,null,null,null,null,null,null,{"$f":"'DATA-OUTPUT EC per capita'!H16","v":"уголь"},{"$f":"'DATA-OUTPUT EC per capita'!I16","v":"топлива"},{"$f":"'DATA-OUTPUT EC per capita'!J16","v":"биотопливо"}]
[{"$f":"'DATA-OUTPUT EC per capita'!A17","v":"Buildings ,equipment/facilites and Industries"}]
["Здания, оборудование/ Услуги и промышленность"]
["Residential buildings",null,null,null,null,null,null,null,null,null,{"$f":"SUM(B19:J20)","v":0}]
["Жилые дома"]
["Agriculture",null,null,null,null,null,null,null,null,null,{"$f":"SUM(B21:J22)","v":0}]
["Сельское хозяйство"]
["Industries (non-ETS)",null,null,null,null,null,null,null,null,null,{"$f":"SUM(B23:J24)","v":0}]
["Промышленность (не включена в европейскую систему торговли выбросами)"]
["Tertiary buildings, equipment/ facilities (Services)",null,null,null,null,null,null,null,null,null,{"$f":"SUM(B25:J26)","v":0}]
["Третичный Здания, оборудование/ Услуги"]
[{"$f":"'DATA-OUTPUT EC per capita'!A27","v":"Subtotal Building and Business"},{"$f":"SUM(B19:B26)","v":0},0,0,0,0,0,0,0,0,0]
[{"$f":"'DATA-OUTPUT EC per capita'!A28","v":"Сумма Здания и сектор бизнеса"}]
[{"$f":"'DATA-OUTPUT EC per capita'!A29","v":"Transport"}]
[{"$f":"'DATA-OUTPUT EC per capita'!A30","v":"Транспорт"}]
["Private and Commercial Transport (road only)",null,null,null,null,null,null,null,null,null,{"$f":"SUM(B31:J32)","v":0}]
["Частные и коммерческие виды транспорта (только дорожные)"]
["Public transport (rail only)",null,null,null,null,null,null,null,null,null,{"$f":"SUM(B33:J34)","v":0}]
["Общественный транспорт (только железнодорожный)"]
[{"$f":"'DATA-OUTPUT EC per capita'!A35","v":"Subtotal Transport"},{"$f":"SUM(B31:B34)","v":0},0,0,0,0,0,0,0,0,0]
[{"$f":"'DATA-OUTPUT EC per capita'!A36","v":"Сумма транспорт"}]
[{"$f":"'DATA-OUTPUT EC per capita'!A37","v":"Total"},{"$f":"SUM(B27,B35)","v":0},0,0,0,0,0,0,0,0,0]
[{"$f":"'DATA-OUTPUT EC per capita'!A38","v":"Сумма"}]

{"sheet":"DATA-OUTPUT Co2 absolute","index":5,"n_rows":38,"n_cols":11,"rows_kept":38,"cut":false,"hidden":false,"merged":[[7,1,8,1],[4,0,4,10],[5,0,5,10],[0,0,0,12],[1,0,1,12],[22,5,23,5],[20,5,21,5],[2,0,2,8],[10,1,10,10],[18,1,19,1],[18,2,19,2],[18,3,19,3],[18,4,19,4],[18,5,19,5],[18,6,19,6],[18,7,19,7],[18,8,19,8],[18,9,19,9],[18,10,19,10],[11,1,11,10],[20,7,21,7],[24,7,25,7],[24,8,25,8],[24,9,25,9],[24,10,25,10],[22,7,23,7],[22,8,23,8],[22,9,23,9],[22,10,23,10],[20,8,21,8],[20,9,21,9],[20,10,21,10],[22,6,23,6],[20,6,21,6],[22,1,23,1],[22,2,23,2],[22,3,23,3],[22,4,23,4],[20,1,21,1],[20,2,21,2],[20,3,21,3],[20,4,21,4],[26,4,27,4],[26,5,27,5],[26,6,27,6],[26,1,27,1],[24,1,25,1],[24,2,25,2],[24,3,25,3],[24,4,25,4],[24,5,25,5],[24,6,25,6],[26,7,27,7],[26,8,27,8],[26,9,27,9],[26,10,27,10],[30,1,31,1],[30,2,31,2],[30,3,31,3],[30,4,31,4],[30,5,31,5],[30,6,31,6],[30,7,31,7],[30,8,31,8],[30,9,31,9],[30,10,31,10],[26,2,27,2],[26,3,27,3],[32,6,33,6],[32,7,33,7],[32,8,33,8],[32,9,33,9],[32,1,33,1],[32,2,33,2],[32,3,33,3],[32,4,33,4],[36,1,37,1],[36,2,37,2],[36,3,37,3],[36,4,37,4],[32,10,33,10],[34,1,35,1],[34,2,35,2],[34,3,35,3],[34,4,35,4],[34,5,35,5],[34,6,35,6],[34,7,35,7],[34,8,35,8],[34,9,35,9],[34,10,35,10],[32,5,33,5],[36,10,37,10],[36,5,37,5],[36,6,37,6],[36,7,37,7],[36,8,37,8],[36,9,37,9]]}
["Reference Data - Final Energy consumption"]
["Справочные данные - Конечное энергопотребление"]
[]
[]
["Overall results absolute - CO2 emissions"]
["Общие результаты - Выбросы CO2 "]
[]
["Year"]
["Год"]
[]
[null,"CO2 emission (t)"]
[null,"Выбросы CO2 (т)"]
[{"$f":"'DATA-OUTPUT EC per capita'!A13","v":"Category"},{"$f":"'DATA-OUTPUT EC per capita'!B13","v":"Electricity"},{"$f":"'DATA-OUTPUT EC per capita'!C13","v":"Heat / Cold"},{"$f":"'DATA-OUTPUT EC per capita'!D13","v":"Natural gas"},{"$f":"'DATA-OUTPUT EC per capita'!E13","v":"Liquid gas"},{"$f":"'DATA-OUTPUT EC per capita'!F13","v":"Heating oil/diesel"},{"$f":"'DATA-OUTPUT EC per capita'!G13","v":"Gasoline"},{"$f":"'DATA-OUTPUT EC per capita'!H13","v":"Lignite/Coal"},{"$f":"'DATA-OUTPUT EC per capita'!I13","v":"Other fossil fuels"},{"$f":"'DATA-OUTPUT EC per capita'!J13","v":"Plant oil / biofuel"},{"$f":"'DATA-OUTPUT EC per capita'!K13","v":"Total"}]
[{"$f":"'DATA-OUTPUT EC per capita'!A14","v":"Категория"},{"$f":"'DATA-OUTPUT EC per capita'!B14","v":"Электроенергия"},{"$f":"'DATA-OUTPUT EC per capita'!C14","v":"Теплоэнергия /"},{"$f":"'DATA-OUTPUT EC per capita'!D14","v":"Природный газ"},{"$f":"'DATA-OUTPUT EC per capita'!E14","v":"Сжиженный газ"},{"$f":"'DATA-OUTPUT EC per capita'!F14","v":"Топочный"},{"$f":"'DATA-OUTPUT EC per capita'!G14","v":"Бензин"},{"$f":"'DATA-OUTPUT EC per capita'!H14","v":"Каменный"},{"$f":"'DATA-OUTPUT EC per capita'!I14","v":"Другие виды"},{"$f":"'DATA-OUTPUT EC per capita'!J14","v":"Ростительное"},{"$f":"'DATA-OUTPUT EC per capita'!K14","v":"Сумма"}]
[null,null,{"$f":"'DATA-OUTPUT EC per capita'!C15","v":"холод"},null,null,{"$f":"'DATA-OUTPUT EC per capita'!F15","v":"мазут/дизель"},null,{"$f":"'DATA-OUTPUT EC per capita'!H15","v":"уголь/Бурый"},{"$f":"'DATA-OUTPUT EC per capita'!I15","v":"ископаемого"},{"$f":"'DATA-OUTPUT EC per capita'!J15","v":"масло /"}]
[null,null,null,null,null,null,null,{"$f":"'DATA-OUTPUT EC per capita'!H16","v":"уголь"},{"$f":"'DATA-OUTPUT EC per capita'!I16","v":"топлива"},{"$f":"'DATA-OUTPUT EC per capita'!J16","v":"биотопливо"}]
[{"$f":"'DATA-OUTPUT EC per capita'!A17","v":"Buildings ,equipment/facilites and Industries"}]
[{"$f":"'DATA-OUTPUT EC per capita'!A18","v":"Здания и сектор бизнеса"}]
["Residential buildings",null,null,null,null,null,null,null,null,null,{"$f":"SUM(B19:J20)","v":0}]
["Жилые дома"]
["Agriculture",null,null,null,null,null,null,null,null,null,{"$f":"SUM(B21:J22)","v":0}]
["Сельское хозяйство"]
["Industries (non-ETS)",null,null,null,null,null,null,null,null,null,{"$f":"SUM(B23:J24)","v":0}]
["Промышленность (не включена в европейскую систему торговли выбросами)"]
["Tertiary buildings, equipment/ facilities (Services)",null,null,null,null,null,null,null,null,null,{"$f":"SUM(B25:J26)","v":0}]
["Третичный Здания, оборудование/ Услуги"]
[{"$f":"'DATA-OUTPUT EC per capita'!A27","v":"Subtotal Building and Business"},{"$f":"SUM(B19:B26)","v":0},{"$f":"IF(AND(C19=\"n.a.\",C21=\"n.a.\",C23=\"n.a.\"),\"\",SUM(C19:C26))","v":0},0,0,0,0,0,0,0,0]
[{"$f":"'DATA-OUTPUT EC per capita'!A28","v":"Сумма Здания и сектор бизнеса"}]
[{"$f":"'DATA-OUTPUT EC per capita'!A29","v":"Transport"}]
[{"$f":"'DATA-OUTPUT EC per capita'!A30","v":"Транспорт"}]
["Private and Commercial Transport (road only)",null,null,null,null,null,null,null,null,null,{"$f":"SUM(B31:J32)","v":0}]
["Частные и коммерческие виды транспорта (только дорожные)"]
["Public transport (rail only)",null,null,null,null,null,null,null,null,null,{"$f":"SUM(B33:J34)","v":0}]
["Общественный транспорт (только железнодорожный)"]
[{"$f":"'DATA-OUTPUT EC per capita'!A35","v":"Subtotal Transport"},{"$f":"SUM(B31:B34)","v":0},{"$f":"IF(AND(C31=\"n.a.\",C33=\"n.a.\"),\"\",SUM(C31:C34))","v":0},0,0,0,0,0,0,0,0]
[{"$f":"'DATA-OUTPUT EC per capita'!A36","v":"Сумма транспорт"}]
[{"$f":"'DATA-OUTPUT EC per capita'!A37","v":"Total"},{"$f":"SUM(B27,B35)","v":0},{"$f":"IF(AND(C27=\"\",C35=\"\"),\"\",SUM(C27,C35))","v":0},0,0,0,0,0,0,0,0]
[{"$f":"'DATA-OUTPUT EC per capita'!A38","v":"Сумма"}]

{"sheet":"DATA-OUTPUT Transport absolute","index":6,"n_rows":24,"n_cols":1,"rows_kept":24,"cut":false,"hidden":false,"merged":[[22,1,23,1],[2,0,2,8],[10,1,11,1],[14,1,15,1],[16,1,17,1],[0,0,0,12],[1,0,1,12],[5,0,5,10],[4,0,4,10],[20,1,21,1],[8,1,9,1]]}
["Reference Data - Transportation data"]
["Справочные данные- Данные транспортного сектора"]
[]
[]
["Overall results absolute - Available transportion data"]
["Общие результаты - Доступные данные в секторе транспорта"]
[]
[]
["Transportation  data "]
["Данные по транспортному сектору"]
["Passengers cars"]
["Количество пассажирских автомобилей"]
["Road"]
["Дорожные перевозки"]
["Passengers transported (pkm)"]
["Количество пассажиров, перевезенных транспортным средством  (пкм)"]
["Goods transported (tkm)"]
["Количество товаров, перевезенных транспортным средством (ткм)"]
["Rail"]
["Железнодорожные перевозки"]
["Passengers (pkm)"]
["Количество пассажиров, перевезенных транспортным средством (пкм)"]
["Goods transported (tkm)"]
["Количество товаров, перевезенных транспортным средством (ткм)"]

{"sheet":"DATA-OUTPUT EC per capita","index":7,"n_rows":48,"n_cols":11,"rows_kept":48,"cut":false,"hidden":false,"merged":[[36,6,37,6],[36,7,37,7],[36,8,37,8],[36,9,37,9],[36,10,37,10],[36,1,37,1],[36,2,37,2],[36,3,37,3],[36,4,37,4],[36,5,37,5],[26,8,27,8],[26,9,27,9],[26,10,27,10],[26,3,27,3],[26,4,27,4],[26,5,27,5],[26,6,27,6],[26,7,27,7],[26,1,27,1],[26,2,27,2],[22,1,23,1],[22,2,23,2],[24,1,25,1],[24,2,25,2],[22,6,23,6],[24,7,25,7],[24,3,25,3],[24,4,25,4],[24,5,25,5],[22,3,23,3],[22,4,23,4],[22,5,23,5],[24,6,25,6],[34,6,35,6],[34,7,35,7],[34,8,35,8],[34,9,35,9],[34,10,35,10],[34,1,35,1],[34,2,35,2],[34,3,35,3],[34,4,35,4],[34,5,35,5],[32,6,33,6],[32,7,33,7],[32,8,33,8],[32,9,33,9],[32,10,33,10],[18,7,19,7],[18,8,19,8],[18,9,19,9],[18,10,19,10],[4,0,4,10],[5,0,5,10],[18,2,19,2],[18,3,19,3],[18,4,19,4],[18,5,19,5],[18,6,19,6],[7,1,8,1],[0,0,0,12],[1,0,1,12],[11,1,11,10],[20,1,21,1],[20,2,21,2],[20,3,21,3],[20,4,21,4],[20,5,21,5],[20,8,21,8],[20,9,21,9],[20,10,21,10],[20,7,21,7],[20,6,21,6],[2,0,2,8],[10,1,10,10],[18,1,19,1],[24,8,25,8],[24,9,25,9],[24,10,25,10],[22,7,23,7],[22,8,23,8],[22,9,23,9],[22,10,23,10],[30,1,31,1],[30,2,31,2],[30,3,31,3],[30,4,31,4],[30,10,31,10],[30,5,31,5],[30,6,31,6],[30,7,31,7],[30,8,31,8],[30,9,31,9],[32,1,33,1],[32,2,33,2],[32,3,33,3],[32,4,33,4],[32,5,33,5]]}
["Reference Data - Final Energy consumption"]
["Справочные данные - Конечное энергопотребление"]
[]
[]
["Overall results per capita - Final energy consumption"]
["Общие результаты на душу населения - Конечное энергопотребление"]
[]
["Year"]
["Год"]
[]
[null,"Final energy consumption (MWh / inhabitant)"]
[null,"Конечное энергопотребление (МВт-ч /житель)"]
["Category","Electricity","Heat / Cold","Natural gas","Liquid gas","Heating oil/diesel","Gasoline","Lignite/Coal","Other fossil fuels","Plant oil / biofuel","Total"]
["Категория","Электроенергия","Теплоэнергия /","Природный газ","Сжиженный газ","Топочный","Бензин","Каменный","Другие виды","Ростительное","Сумма"]
[null,null,"холод",null,null,"мазут/дизель",null,"уголь/Бурый","ископаемого","масло /"]
[null,null,null,null,null,null,null,"уголь","топлива","биотопливо"]
["Buildings ,equipment/facilites and Industries"]
["Здания и сектор бизнеса"]
["Residential buildings",null,null,null,null,null,null,null,null,null,{"$f":"SUM(B19:J20)","v":0}]
["Жилые дома"]
["Agriculture",null,null,null,null,null,null,null,null,null,{"$f":"SUM(B21:J22)","v":0}]
["Сельское хозяйство"]
["Industries (non-ETS)",null,null,null,null,null,null,null,null,null,{"$f":"SUM(B23:J24)","v":0}]
["Промышленность (не включена в европейскую систему торговли выбросами)"]
["Tertiary buildings, equipment/ facilities (Services)",null,null,null,null,null,null,null,null,null,{"$f":"SUM(B25:J26)","v":0}]
["Третичный Здания, оборудование/ Услуги"]
["Subtotal Building and Business",{"$f":"SUM(B19:B26)","v":0},{"$f":"SUM(C19:C26)","v":0},0,0,0,0,0,0,0,0]
["Сумма Здания и сектор бизнеса"]
["Transport"]
["Транспорт"]
["Private and Commercial Transport (road only)",null,null,null,null,null,null,null,null,null,{"$f":"SUM(B31:J32)","v":0}]
["Частные и коммерческие виды транспорта (только дорожные)"]
["Public transport (rail only)",null,null,null,null,null,null,null,null,null,{"$f":"SUM(B33:J34)","v":0}]
["Общественный транспорт (только железнодорожный)"]
["Subtotal Transport",{"$f":"SUM(B31:B34)","v":0},0,0,0,0,0,0,0,0,0]
["Сумма транспорт"]
["Total",{"$f":"SUM(B27,B35)","v":0},0,0,0,0,0,0,0,0,0]
["Сумма"]
[]
[]
[]
[]
[]
[]
[]
[]
["* Note that data expressed in per capita units cannot be reported in the SEAP and Monitoring templates. "]
["* Заметьте, что данные приведенные на одного жителя нельзя включать в План действий устойчивого энергетического развития и отчет о его реализации."]

{"sheet":"DATA-OUTPUT Co2 per capita","index":8,"n_rows":48,"n_cols":11,"rows_kept":48,"cut":false,"hidden":false,"merged":[[10,1,10,10],[2,0,2,8],[18,1,19,1],[18,2,19,2],[18,3,19,3],[18,4,19,4],[18,5,19,5],[18,6,19,6],[18,7,19,7],[18,8,19,8],[18,9,19,9],[18,10,19,10],[4,0,4,10],[5,0,5,10],[11,1,11,10],[7,1,8,1],[20,6,21,6],[20,7,21,7],[20,8,21,8],[20,9,21,9],[20,10,21,10],[20,1,21,1],[20,2,21,2],[20,3,21,3],[20,4,21,4],[20,5,21,5],[24,5,25,5],[22,6,23,6],[22,7,23,7],[22,8,23,8],[24,9,25,9],[22,5,23,5],[24,10,25,10],[22,9,23,9],[22,10,23,10],[24,6,25,6],[24,7,25,7],[24,8,25,8],[30,3,31,3],[30,4,31,4],[24,1,25,1],[24,2,25,2],[24,3,25,3],[24,4,25,4],[22,1,23,1],[22,2,23,2],[22,3,23,3],[22,4,23,4],[30,10,31,10],[30,5,31,5],[30,6,31,6],[30,7,31,7],[30,8,31,8],[30,9,31,9],[26,7,27,7],[26,8,27,8],[26,9,27,9],[26,10,27,10],[30,1,31,1],[30,2,31,2],[32,10,33,10],[32,1,33,1],[32,2,33,2],[32,3,33,3],[32,4,33,4],[32,5,33,5],[34,8,35,8],[34,9,35,9],[32,6,33,6],[32,7,33,7],[32,8,33,8],[32,9,33,9],[36,6,37,6],[36,7,37,7],[36,8,37,8],[36,9,37,9],[36,10,37,10],[36,1,37,1],[36,2,37,2],[36,3,37,3],[36,4,37,4],[36,5,37,5],[0,0,0,12],[1,0,1,12],[34,1,35,1],[34,2,35,2],[34,3,35,3],[34,4,35,4],[26,6,27,6],[26,1,27,1],[26,2,27,2],[26,3,27,3],[26,4,27,4],[26,5,27,5],[34,10,35,10],[34,5,35,5],[34,6,35,6],[34,7,35,7]]}
["Reference Data - Final Energy consumption"]
["Справочные данные - Конечное энергопотребление"]
[]
[]
["Overall results per capita - CO2 emissions"]
["Общие результаты на душу населения - Выбросы СО2"]
[]
[]
[]
[]
[null,"CO2 emission (t / inhabitant)"]
[null,"Выбросы CO2 (т / житель)"]
[{"$f":"'DATA-OUTPUT EC per capita'!A13","v":"Category"},{"$f":"'DATA-OUTPUT EC per capita'!B13","v":"Electricity"},{"$f":"'DATA-OUTPUT EC per capita'!C13","v":"Heat / Cold"},{"$f":"'DATA-OUTPUT EC per capita'!D13","v":"Natural gas"},{"$f":"'DATA-OUTPUT EC per capita'!E13","v":"Liquid gas"},{"$f":"'DATA-OUTPUT EC per capita'!F13","v":"Heating oil/diesel"},{"$f":"'DATA-OUTPUT EC per capita'!G13","v":"Gasoline"},{"$f":"'DATA-OUTPUT EC per capita'!H13","v":"Lignite/Coal"},{"$f":"'DATA-OUTPUT EC per capita'!I13","v":"Other fossil fuels"},{"$f":"'DATA-OUTPUT EC per capita'!J13","v":"Plant oil / biofuel"},{"$f":"'DATA-OUTPUT EC per capita'!K13","v":"Total"}]
[{"$f":"'DATA-OUTPUT EC per capita'!A14","v":"Категория"},{"$f":"'DATA-OUTPUT EC per capita'!B14","v":"Электроенергия"},{"$f":"'DATA-OUTPUT EC per capita'!C14","v":"Теплоэнергия /"},{"$f":"'DATA-OUTPUT EC per capita'!D14","v":"Природный газ"},{"$f":"'DATA-OUTPUT EC per capita'!E14","v":"Сжиженный газ"},{"$f":"'DATA-OUTPUT EC per capita'!F14","v":"Топочный"},{"$f":"'DATA-OUTPUT EC per capita'!G14","v":"Бензин"},{"$f":"'DATA-OUTPUT EC per capita'!H14","v":"Каменный"},{"$f":"'DATA-OUTPUT EC per capita'!I14","v":"Другие виды"},{"$f":"'DATA-OUTPUT EC per capita'!J14","v":"Ростительное"},{"$f":"'DATA-OUTPUT EC per capita'!K14","v":"Сумма"}]
[null,null,{"$f":"'DATA-OUTPUT EC per capita'!C15","v":"холод"},null,null,{"$f":"'DATA-OUTPUT EC per capita'!F15","v":"мазут/дизель"},null,{"$f":"'DATA-OUTPUT EC per capita'!H15","v":"уголь/Бурый"},{"$f":"'DATA-OUTPUT EC per capita'!I15","v":"ископаемого"},{"$f":"'DATA-OUTPUT EC per capita'!J15","v":"масло /"}]
[null,null,null,null,null,null,null,{"$f":"'DATA-OUTPUT EC per capita'!H16","v":"уголь"},{"$f":"'DATA-OUTPUT EC per capita'!I16","v":"топлива"},{"$f":"'DATA-OUTPUT EC per capita'!J16","v":"биотопливо"}]
[{"$f":"'DATA-OUTPUT EC per capita'!A17","v":"Buildings ,equipment/facilites and Industries"}]
[{"$f":"'DATA-OUTPUT EC per capita'!A18","v":"Здания и сектор бизнеса"}]
["Residential buildings",null,null,null,null,null,null,null,null,null,{"$f":"SUM(B19:J20)","v":0}]
["Жилые дома"]
["Agriculture",null,null,null,null,null,null,null,null,null,{"$f":"SUM(B21:J22)","v":0}]
["Сельское хозяйство"]
["Industries (non-ETS)",null,null,null,null,null,null,null,null,null,{"$f":"SUM(B23:J24)","v":0}]
["Промышленность (не включена в европейскую систему торговли выбросами)"]
["Tertiary buildings, equipment/ facilities (Services)",null,null,null,null,null,null,null,null,null,{"$f":"SUM(B25:J26)","v":0}]
["Третичный Здания, оборудование/ Услуги"]
[{"$f":"'DATA-OUTPUT EC per capita'!A27","v":"Subtotal Building and Business"},{"$f":"SUM(B19:B26)","v":0},{"$f":"IF(AND(C19=\"n.a.\",C21=\"n.a.\",C23=\"n.a.\"),\"\",SUM(C19:C26))","v":0},0,0,0,0,0,0,0,0]
[{"$f":"'DATA-OUTPUT EC per capita'!A28","v":"Сумма Здания и сектор бизнеса"}]
[{"$f":"'DATA-OUTPUT EC per capita'!A29","v":"Transport"}]
[{"$f":"'DATA-OUTPUT EC per capita'!A30","v":"Транспорт"}]
["Private and Commercial Transport (road only)",null,null,null,null,null,null,null,null,null,{"$f":"SUM(B31:J32)","v":0}]
["Частные и коммерческие виды транспорта (только дорожные)"]
["Public transport (rail only)",null,null,null,null,null,null,null,null,null,{"$f":"SUM(B33:J34)","v":0}]
["Общественный транспорт (только железнодорожный)"]
[{"$f":"'DATA-OUTPUT EC per capita'!A35","v":"Subtotal Transport"},{"$f":"SUM(B31:B34)","v":0},{"$f":"IF(AND(C31=\"n.a.\",C33=\"n.a.\"),\"\",SUM(C31:C34))","v":0},0,0,0,0,0,0,0,0]
[{"$f":"'DATA-OUTPUT EC per capita'!A36","v":"Сумма транспорт"}]
[{"$f":"'DATA-OUTPUT EC per capita'!A37","v":"Total"},{"$f":"SUM(B27,B35)","v":0},{"$f":"IF(AND(C27=\"\",C35=\"\"),\"\",SUM(C27,C35))","v":0},0,0,0,0,0,0,0,0]
[{"$f":"'DATA-OUTPUT EC per capita'!A38","v":"Сумма"}]
[]
[]
[]
[]
[]
[]
[]
[]
["* Note that data expressed in per capita units cannot be reported in the SEAP and Monitoring templates. "]
["* Заметьте, что данные приведенные на одного жителя нельзя включать в План действий устойчивого энергетического развития и отчет о его реализации."]

{"sheet":"DATA-OUTPUT Transport per capit","index":9,"n_rows":48,"n_cols":1,"rows_kept":48,"cut":false,"hidden":false,"merged":[[0,0,0,12],[1,0,1,12],[5,0,5,10],[4,0,4,10],[20,1,21,1],[22,1,23,1],[2,0,2,8],[10,1,11,1],[14,1,15,1],[16,1,17,1],[8,1,9,1]]}
["Reference Data - Transportation data"]
["Справочные данные - Данные в секторе транспорта"]
[]
[]
["Overall results per capita - Available transportion data"]
["Общие результаты на душу населения - Available transportion data"]
[]
[]
["Transportation  data per inhabitant"]
["Данные по транспортному сектору"]
["Passengers cars/inhabitant"]
["Количество пассажирских автомобилей"]
["Road"]
["Дорожные перевозки"]
["Passengers transported (pkm/inhabitant)"]
["Количество пассажиров, перевезенных транспортным средством  (пкм/житель)"]
["Goods transported (tkm/inhabitant)"]
["Количество товаров, перевезенных транспортным средством (ткм/житель)"]
["Rail"]
["Железнодорожные перевозки"]
["Passengers  transported (pkm/inhabitant)"]
["Количество пассажиров, перевезенных транспортным средством (пкм/житель)"]
["Goods transported (tkm/inhabitant)"]
["Количество товаров, перевезенных транспортным средством (ткм/житель)"]
[]
[]
[]
[]
[]
[]
[]
[]
[]
[]
[]
[]
[]
[]
[]
[]
[]
[]
[]
[]
[]
[]
["* Note that data expressed in per capita units cannot be reported in the SEAP and Monitoring templates. "]
["* Заметьте, что данные приведенные на одного жителя нельзя включать в План действий устойчивого энергетического развития и отчет о его реализации."]

{"sheet":"_text","index":10,"n_rows":12,"n_cols":5,"rows_kept":12,"cut":false,"hidden":true,"merged":[]}
["Country","Category","Energy",null,"displayed year"]
["Uzbekistan - Узбекистан","Residential building - Жилые здания","Electricity - Электроенергия"," - Final energy consumption (MWh) per capita per energy carrier / Конечное энергопотребление на душу население за типом энергоносителя",2001]
["Ukraine - Украина","Agriculture - Сельское хозяйство","Heat and Cold - Теплоэнергия и холод"," - Final energy consumption (MWh) per capita per sector / Конечное энергопотребление на душу населения по секторам"]
["Turkmenistan - Туркменистан","Industry - Промышленность","Natural gas - Природный газ"," - Co2 emission (t) per capita per energy / Выбросы CO2 на душу населения за типом энергоносителя"]
["Tajikistan - Таджикистан","Services - Третичный сектор","Liquid gas - Сжиженный газ"," - Co2 emission (t) per capita per sector / Выбросы CO2 на душу населения за секторами"]
["Moldova - Республика Молдова","Private and Commercial Transport (Road) - Частные и коммерческие виды транспорта (дорожные)","Heating oil/diesel - Топочный мазут/дизель"," - Final energy consumption (MWh) absolute per energy carrier / Абсолютное (общее) конечное энергопотребление за типом энергоносителя"]
["Kyrgyzstan - Кыргызстан","Public transport (Rail) - Общественный транспорт (железнодорожный)","Gasoline - Бензин"," - Final energy consumption (MWh) absolute per sector / Абсолютное (общее) конечное энергопотребление по секторам"]
["Kazakhstan - Казахстан",null,"Lignite/Coal - Каменный уголь/Бурый уголь"," - Co2 emission (t) absolute per energy / Абсолютные (общие) выбросы CO2 за типом энергоносителей"]
["Georgia - Грузия",null,"Other fossil fuels - Другие виды ископаемого топлива"," - Co2 emission (t) absolute per sector / Абсолютные (общие) выбросы CO2 за секторами"]
["Belarus - Беларусь",null,"Plant oil, biofuel - Ростительное масло, биотопливо"]
["Azerbaijan - Азербайджан"]
["Armenia - Армения"]

{"sheet":"_data","index":11,"n_rows":878,"n_cols":47,"rows_kept":878,"cut":false,"hidden":true,"merged":[[720,36,720,46],[800,36,800,46],[320,36,320,46],[400,36,400,46],[480,36,480,46],[560,36,560,46],[640,36,640,46],[0,36,0,46],[80,36,80,46],[160,36,160,46],[240,36,240,46],[80,12,80,22],[80,24,80,34],[0,12,0,22],[0,24,0,34],[320,12,320,22],[320,24,320,34],[240,12,240,22],[240,24,240,34],[160,12,160,22],[160,24,160,34],[560,12,560,22],[560,24,560,34],[480,12,480,22],[480,24,480,34],[400,12,400,22],[400,24,400,34],[800,12,800,22],[800,24,800,34],[720,12,720,22],[720,24,720,34],[640,12,640,22],[640,24,640,34],[0,0,0,10],[80,0,80,10],[160,0,160,10],[240,0,240,10],[320,0,320,10],[800,0,800,10],[400,0,400,10],[480,0,480,10],[560,0,560,10],[640,0,640,10],[720,0,720,10]]}
["Armenia",null,null,null,null,null,null,null,null,null,null,null,"Armenia",null,null,null,null,null,null,null,null,null,null,null,"Armenia",null,null,null,null,null,null,null,null,null,null,null,"Armenia"]
["Energy consumption (MWh /Einwohner and  Year) - Residential building (Households)",null,null,null,null,null,null,null,null,null,null,null,"Workforce (Number) - Nationale Eingabe",null,null,null,null,null,null,null,null,null,null,null,"CO2 emission Factor (t /Mwh)"]
["Energieträger",2000,2001,2002,2003,2004,2005,2006,2007,2008,2009,null,"Branche of trade",2000,2001,2002,2003,2004,2005,2006,2007,2008,2009,null,"Energieträger",2000,2001,2002,2003,2004,2005,2006,2007,2008,2009,null,null,"2000","2001","2002","2003","2004","2005","2006","2007","2008","2009"]
["Electricity",0.50648581417106997,0.4817468937880835,0.48875477443359161,0.52314421216260554,0.53676041525628748,0.55157745716703876,0.55639816080411753,0.57476916435448799,0.58197265762365413,0.55654979967268636,null,"primary sector",566700,570000,500800,509000,507100,507600,504500,506900,493500,496500,null,"Electricity",0.60899999999999999,0.65200000000000002,0.375,0.33600000000000002,0.374,0.35699999999999998,0.26500000000000001,0.254,0.252,0.252,null,"Einwohnerzahlen",3076098,3065810,3061067,3060554,3062612,3065954,3069844,3074181,3079087,3084979]
["Heat and Cold",9.6532829722734595E-2,6.6413479997492059E-2,5.063593838357671E-2,4.4291182431532176E-2,4.217532833629159E-2,7.1212201270251713E-2,6.1168508164511873E-2,7.463595814444382E-2,6.1977246285451933E-2,3.8357905623776799E-2,null,"secondary sector",189800,181000,151700,146000,139600,140200,140900,166000,188000,164600,null,"Heat and Cold","n.a.","n.a.","n.a.","n.a.","n.a.","n.a.","n.a.","n.a.","n.a.","n.a.",null,"Passengers cars",null,null,null,null,null,null,null,295121.37599999999]
["natural gas",0.52239702520675357,0.58023455102856636,0.57995391076960345,0.71737193839924263,1.1049029027800088,1.2371534457319175,1.2661700218136311,1.8127682715421691,2.0048331065525451,1.8779166189894105,null,"tertiary sector",521200.00000000006,513900,453900,452600,435000,450000,447000,428700,435900,428300,null,"natural gas",0.20200000000000001,0.20200000000000001,0.20200000000000001,0.20200000000000001,0.20200000000000001,0.20200000000000001,0.20200000000000001,0.20200000000000001,0.20200000000000001,0.20200000000000001,null,"Road passenger  (million pkm)",1437,1678,1813,1959,2066,2223,2436,2521,2521,2356]
["Liquid gas",0,0,0,0,0,0,0,0,0,0,null,null,null,null,null,null,null,null,null,null,null,null,null,"Liquid gas",0.23100000000000001,0.23100000000000001,0.23100000000000001,0.23100000000000001,0.23100000000000001,0.23100000000000001,0.23100000000000001,0.23100000000000001,0.23100000000000001,0.23100000000000001,null,"Road goods transporterd (million ton-km)",null,142.80000305175801,204.5,79.3,55.3,55.5,91.2,132.9,179.4,182]
["heating oil / diesel",0,0,0,0,0,0,0,0,0,0,null,"Energy consumption, Business (Mwh/year) - Energy consumption - Agriculture",null,null,null,null,null,null,null,null,null,null,null,"heating oil / diesel",0.26700000000000002,0.26700000000000002,0.26700000000000002,0.26700000000000002,0.26700000000000002,0.26700000000000002,0.26700000000000002,0.26700000000000002,0.26700000000000002,0.26700000000000002,null,"Railways, passengers (million pkm)",null,null,null,null,null,null,null,null,27,35]
["gasoline",0,0,2.3503061005997073E-2,1.1798880565777017E-2,0,0,0,0,0,0,null,"Energieträger",2000,2001,2002,2003,2004,2005,2006,2007,2008,2009,null,"gasoline",0.249,0.249,0.249,0.249,0.249,0.249,0.249,0.249,0.249,0.249,null,"Railways, goods transported (million ton-km)",354,344,452,529,678,654.13599999999997,null,null,705,718]
["Lignite / Coal",0,0,4.7913576104889784E-2,7.1791650211766311E-2,0,1.3046510156381993E-2,1.8278163682294967E-2,2.0240259835781375E-2,1.8313509455526553E-2,1.4136599020969386E-2,null,"Electricity",475833.33333333331,391944.44444444444,230000,328333.33333333331,364722.22222222225,228888.88888888888,226944.44444444444,173611.11111111112,223055.55555555553,123888.88888888889,null,"Lignite / Coal",0.36399999999999999,0.36399999999999999,0.36399999999999999,0.36399999999999999,0.36399999999999999,0.36399999999999999,0.36399999999999999,0.36399999999999999,0.36399999999999999,0.36399999999999999]
["other fossil fuels",0,0,0,0,0,0,0,0,0,0,null,"Heat and Cold",0,0,0,0,0,0,0,0,0,0,null,"other fossil fuels",0.38200000000000001,0.38200000000000001,0.38200000000000001,0.38200000000000001,0.38200000000000001,0.38200000000000001,0.38200000000000001,0.38200000000000001,0.38200000000000001,0.38200000000000001]
["Plant oil, biofuel",0,0,0,0,0,0,0,0,0,0,null,"natural gas",0,266111.11111111107,255833.33333333331,223055.55555555553,261111.11111111109,451666.66666666663,0,0,0,0,null,"Plant oil, biofuel",0,0,0,0,0,0,0,0,0,0]
["Summe",{"$f":"SUM(B4:B12)","v":1.1254156691005581},1.1283949248141418,1.1907612606976588,1.3683978637709235,1.6838386463725878,1.87298961432559,1.9020148544645556,2.4824136538768826,2.6670965199171777,2.4869609233068433,null,"Liquid gas",0,0,0,0,0,0,0,0,0,0,null,null,null,null,null,null,null,null,null,null,null,null,null,"Passengers cars",null,null,null,null,null,null,null,295121.37599999999]
[null,null,null,null,null,null,null,null,null,null,null,null,"heating oil / diesel",0,0,0,0,0,0,0,0,0,0,null,null,null,null,null,null,null,null,null,null,null,null,null,"Road passenger  (million pkm)",1437,1678,1813,1959,2066,2223,2436,2521,2521,2356]
["Energy consumption (MWh /Einwohner and  Year) - Primary sector (Agriculture)",null,null,null,null,null,null,null,null,null,null,null,"gasoline",0,0,0,0,0,0,0,0,0,0,null,null,null,null,null,null,null,null,null,null,null,null,null,"Road goods transporterd (million ton-km)",null,142.80000305175801,204.5,79.3,55.3,55.5,91.2,132.9,179.4,182]
["Energieträger",2000,2001,2002,2003,2004,2005,2006,2007,2008,2009,null,"Lignite / Coal",0,0,0,0,0,0,0,0,0,0,null,null,null,null,null,null,null,null,null,null,null,null,null,"Railways, passengers (million pkm)",null,null,null,null,null,null,null,null,27,35]
["Electricity",0.15468731273624356,0.12784368386966069,7.5137198891758988E-2,0.1072790525288341,0.11908861528075455,7.4655030339296963E-2,7.3927028358589053E-2,5.647393927394357E-2,7.2442108831467095E-2,4.0158746263390735E-2,null,"other fossil fuels",0,0,0,0,0,0,0,0,0,0,null,null,null,null,null,null,null,null,null,null,null,null,null,"Railways, goods transported (million ton-km)",354,344,452,529,678,654.13599999999997,null,null,705,718]
["Heat and Cold",0,0,0,0,0,0,0,0,0,0,null,"Plant oil, biofuel",0,0,0,0,0,0,0,0,0,0,null,null,null,null,null,null,null,null,null,null,null,null,null,null,"2000","2001","2002","2003","2004","2005","2006","2007","2008","2009"]
["natural gas",0,8.6799609601087832E-2,8.3576521955688432E-2,7.2880777648607259E-2,8.5257652980890525E-2,0.14731684384914667,0,0,0,0,null,"Summe",{"$f":"SUM(N10:N18)","v":475833.33333333331},{"$f":"SUM(O10:O18)","v":658055.5555555555},485833.33333333331,551388.88888888888,625833.33333333337,680555.5555555555,226944.44444444444,173611.11111111112,223055.55555555553,123888.88888888889,null,null,null,null,null,null,null,null,null,null,null,null,null,"Passengers cars",{"$f":"IFERROR(AL13/AL5-1,\"\")","v":""},{"$f":"IFERROR(AM13/AM5-1,\"\")","v":""},"","","","","",0,"",""]
["Liquid gas",0,0,0,0,0,0,0,0,0,0,null,null,null,null,null,null,null,null,null,null,null,null,null,null,null,null,null,null,null,null,null,null,null,null,null,"Road passenger  (million pkm)",{"$f":"IFERROR(AL14/AL6-1,\"\")","v":0},0,0,0,0,0,0,0,0,0]
["heating oil / diesel",0,0,0,0,0,0,0,0,0,0,null,"Energy consumption, Business (Mwh/year) - Energy consumption - Industry",null,null,null,null,null,null,null,null,null,null,null,null,null,null,null,null,null,null,null,null,null,null,null,"Road goods transporterd (million ton-km)","",0,0,0,0,0,0,0,0,0]
["gasoline",0,0,0,0,0,0,0,0,0,0,null,{"$f":"M$9","v":"Energieträger"},2000,2001,2002,2003,2004,2005,2006,2007,2008,2009,null,null,null,null,null,null,null,null,null,null,null,null,null,"Railways, passengers (million pkm)","","","","","","","","",0,0]
["Lignite / Coal",0,0,0,0,0,0,0,0,0,0,null,{"$f":"M$10","v":"Electricity"},696000,773888.88888888888,768055.5555555555,795000,911111.11111111112,953055.5555555555,1038888.8888888889,1210000,1171111.111111111,1008888.8888888889,null,null,null,null,null,null,null,null,null,null,null,null,null,"Railways, goods transported (million ton-km)",0,0,0,0,0,0,"","",0,0]
["other fossil fuels",0,0,0,0,0,0,0,0,0,0,null,{"$f":"M$11","v":"Heat and Cold"},353055.55555555556,242222.22222222222,184166.66666666666,161111.11111111112,153611.11111111112,259444.44444444447,223333.33333333331,273055.55555555556,223888.88888888888,138888.88888888888]
["Plant oil, biofuel",0,0,0,0,0,0,0,0,0,0,null,{"$f":"M$12","v":"natural gas"},3977222.222222222,4403055.555555556,4232500,5434722.222222222,6036666.666666667,7475833.333333333,7905000,6438888.888888889,7396388.888888889,5291111.111111111]
["Summe",{"$f":"SUM(B17:B25)","v":0.15468731273624356},0.21464329347074851,0.15871372084744742,0.18015983017744136,0.20434626826164509,0.22197187418844364,7.3927028358589053E-2,5.647393927394357E-2,7.2442108831467095E-2,4.0158746263390735E-2,null,{"$f":"M$13","v":"Liquid gas"},0,0,0,0,0,0,0,0,0,0]
[null,null,null,null,null,null,null,null,null,null,null,null,{"$f":"M$14","v":"heating oil / diesel"},0,0,0,0,0,0,0,0,0,0]
["Energy consumption (MWh /Einwohner and  Year) - Secondary sector (Industrie)",null,null,null,null,null,null,null,null,null,null,null,{"$f":"M$15","v":"gasoline"},0,0,0,0,0,0,0,0,0,0]
["Energieträger",2000,2001,2002,2003,2004,2005,2006,2007,2008,2009,null,{"$f":"M$16","v":"Lignite / Coal"},0,0,0,0,0,0,0,0,0,0]
["Electricity",0.22626067179914294,0.25242558700274603,0.2509110566856444,0.25975689368656785,0.29749478912480953,0.31085122462879594,0.33841748599892663,0.39360076716367709,0.38034362494827556,0.32703266015389049,null,{"$f":"M$17","v":"other fossil fuels"},0,0,0,0,0,0,0,0,0,0]
["Heat and Cold",0.11477383215864891,7.9007577841491233E-2,6.0164206358980926E-2,5.2641159447312846E-2,5.0156895849396241E-2,8.4621114486533214E-2,7.2750710893886891E-2,8.8822211690058439E-2,7.27127518283468E-2,4.5021015990348356E-2,null,{"$f":"M$18","v":"Plant oil, biofuel"},0,0,0,0,0,0,0,0,0,0]
["natural gas",1.2929439251357473,1.4361801793182083,1.3826878013450865,1.775731525149441,1.9710843772135247,2.4383383877688098,2.5750494161918325,2.094505459792019,2.4021370259719483,1.7151206251683111,null,"Summe",{"$f":"SUM(N23:N31)","v":5026277.777777778},5419166.666666667,5184722.222222222,6390833.333333333,7101388.888888889,8688333.3333333321,9167222.222222222,7921944.444444444,8791388.8888888881,6438888.888888889]
["Liquid gas",0,0,0,0,0,0,0,0,0,0]
["heating oil / diesel",0,0,0,0,0,0,0,0,0,0,null,"Energy consumption, Business (Mwh/year) - Energy consumption - Services"]
["gasoline",0,0,0,0,0,0,0,0,0,0,null,{"$f":"M$9","v":"Energieträger"},2000,2001,2002,2003,2004,2005,2006,2007,2008,2009]
["Lignite / Coal",0,0,0,0,0,0,0,0,0,0,null,{"$f":"M$10","v":"Electricity"},608333.33333333337,716944.4444444445,798888.88888888888,933055.5555555555,1038055.5555555554,1275000,1438888.888888889,1485000,1596111.111111111,1518055.5555555555]
["other fossil fuels",0,0,0,0,0,0,0,0,0,0,null,{"$f":"M$11","v":"Heat and Cold"},0,0,0,0,0,0,0,0,0,0]
["Plant oil, biofuel",0,0,0,0,0,0,0,0,0,0,null,{"$f":"M$12","v":"natural gas"},84444.444444444438,93611.111111111109,93333.333333333328,115555.55555555556,178055.55555555553,199722.22222222222,204444.44444444444,284722.22222222225,373888.88888888888,373611.11111111107]
["Summe",{"$f":"SUM(B30:B38)","v":1.6339784290935391},1.7676133441624455,1.6937630643897119,2.0881295782833216,2.3187360621877304,2.8338107268841388,2.9862176130846461,2.5769284386457545,2.8551934027485708,2.0871743013125501,null,{"$f":"M$13","v":"Liquid gas"},0,0,0,0,0,0,0,0,0,0]
[null,null,null,null,null,null,null,null,null,null,null,null,{"$f":"M$14","v":"heating oil / diesel"},820555.5555555555,779166.66666666663,779166.66666666663,1286666.6666666667,1286388.888888889,1369444.4444444443,1333888.888888889,1429444.4444444443,1534166.6666666665,1400555.5555555555]
["Energy consumption (MWh /Einwohner and  Year) - Tertiary sector (Services)",null,null,null,null,null,null,null,null,null,null,null,{"$f":"M$15","v":"gasoline"},0,0,0,0,0,0,0,0,0,0]
["Energieträger",2000,2001,2002,2003,2004,2005,2006,2007,2008,2009,null,{"$f":"M$16","v":"Lignite / Coal"},0,0,0,0,0,0,0,0,0,0]
["Electricity",0.19776136304283329,0.23385155780835881,0.26098379711678604,0.30486492169573076,0.33894452041445516,0.41585751123467607,0.46871726670439573,0.48305548697360368,0.51837155335692398,0.49207970477450752,null,{"$f":"M$17","v":"other fossil fuels"},0,12777.777777777777,12777.777777777777,0,0,253055.55555555553,189722.22222222222,144166.66666666666,113888.88888888889,95000]
["Heat and Cold",0,0,0,0,0,0,0,0,0,0,null,{"$f":"M$18","v":"Plant oil, biofuel"},0,118333.33333333333,128333.33333333334,153888.88888888888,161388.88888888888,98333.333333333328,160000,101388.88888888889,101388.88888888889,101388.88888888889]
["natural gas",2.7451805646128452E-2,3.0533891895163468E-2,3.04904575212935E-2,3.7756417810486456E-2,5.8138463362500878E-2,6.5141950016935096E-2,6.6597665693906419E-2,9.261726040926746E-2,0.12142849126669331,0.12110653301403707,null,"Summe",{"$f":"SUM(N36:N44)","v":1513333.3333333333},1720833.3333333333,1812500,2489166.666666667,2663888.888888889,3195555.5555555555,3326944.4444444445,3444722.222222222,3719444.4444444445,3488611.111111111]
["Liquid gas",0,0,0,0,0,0,0,0,0,0]
["heating oil / diesel",0.2667520851271824,0.25414708239149414,0.254540873057227,0.42040319062060882,0.42002999037713201,0.44666177132613349,0.43451357426921011,0.46498382640594171,0.49825375725553273,0.45399192524667281]
["gasoline",0,0,0,0,0,0,0,0,0,0]
["Lignite / Coal",0,0,0,0,0,0,0,0,0,0]
["other fossil fuels",0,4.167830941179583E-3,4.1742888273199434E-3,0,0,8.2537296892111076E-2,6.1801909876274569E-2,4.6895959173082737E-2,3.6987876240226043E-2,3.0794374937398276E-2]
["Plant oil, biofuel",0,3.8597738716141354E-2,4.1924379091778569E-2,5.0281383334157437E-2,5.26964855126568E-2,3.2072670801105735E-2,5.2119912282187632E-2,3.2980780535983044E-2,3.2928231287030506E-2,3.2865341672954303E-2]
["Summe",{"$f":"SUM(B43:B51)","v":0.49196525381614414},0.56129810175233741,0.59211379561440503,0.81330591346098347,0.86980945966674494,1.0422712002709613,1.0837503288259744,1.1205333134978783,1.2079699094064065,1.13083787964557]
[]
["Energy consumption (MWh /Einwohner and  Year) - Road"]
["Energieträger",2000,2001,2002,2003,2004,2005,2006,2007,2008,2009]
["Electricity",0,0,0,0,0,0,0,0,0,0]
["Heat and Cold",0,0,0,0,0,0,0,0,0,0]
["natural gas",0,0,0,0,5.0066196218565506E-2,0.19832507453000126,0.25191290936390687,0.97297820496291887,1.1698092468463686,1.0372842084176261]
["Liquid gas",0,0,0,0,0,0,0,0,0,0]
["heating oil / diesel",0,0,0,0,0,0,0,0,0,0]
["gasoline",0.74607506002734636,0.74087725230490098,0.7460180097695055,0.76611039119787527,0.75761401632912628,0.7328695878817636,0.6841643346625359,0.67082004027161124,0.78522554828031099,0.72834999669185574]
["Lignite / Coal",0,0,0,0,0,0,0,0,0,0]
["other fossil fuels",0,0,0,0,0,0,0,0,0,0]
["Plant oil, biofuel",0,0,0,0,0,0,0,0,0,0]
["Summe",{"$f":"SUM(B56:B64)","v":0.74607506002734636},0.74087725230490098,0.7460180097695055,0.76611039119787527,0.80768021254769184,0.93119466241176485,0.93607724402644277,1.6437982452345301,1.9550347951266795,1.7656342051094818]
[]
["Energy consumption (MWh /Einwohner and  Year) - Rail"]
["Energieträger",2000,2001,2002,2003,2004,2005,2006,2007,2008,2009]
["Electricity",2.2105927704513965E-2,2.0839154705897915E-2,2.3503061005997073E-2,2.4142324849974511E-2,2.4126101800975405E-2,2.7089628727487616E-2,2.2169059911694391E-2,2.3131725526607284E-2,2.1741654082669454E-2,2.1430003611405818E-2]
["Heat and Cold",0,0,0,0,0,0,0,0,0,0]
["natural gas",0,0,0,0,0,0,0,0,0,0]
["Liquid gas",0,0,0,0,0,0,0,0,0,0]
["heating oil / diesel",0,0,0,0,0,0,0,0,0,0]
["gasoline",0,0,0,0,0,0,0,0,0,0]
["Lignite / Coal",0,0,0,0,0,0,0,0,0,0]
["other fossil fuels",0,0,0,0,0,0,0,0,0,0]
["Plant oil, biofuel",0,0,0,0,0,0,0,0,0,0]
["Summe",{"$f":"SUM(B69:B77)","v":2.2105927704513965E-2},2.0839154705897915E-2,2.3503061005997073E-2,2.4142324849974511E-2,2.4126101800975405E-2,2.7089628727487616E-2,2.2169059911694391E-2,2.3131725526607284E-2,2.1741654082669454E-2,2.1430003611405818E-2]
[]
[]
["Azerbaijan",null,null,null,null,null,null,null,null,null,null,null,"Azerbaijan",null,null,null,null,null,null,null,null,null,null,null,"Azerbaijan",null,null,null,null,null,null,null,null,null,null,null,"Azerbaijan"]
["Energy consumption (MWh /Einwohner and  Year) - Residential building (Households)",null,null,null,null,null,null,null,null,null,null,null,"Workforce (Number) - Nationale Eingabe",null,null,null,null,null,null,null,null,null,null,null,"CO2 emission Factor (t /Mwh)"]
["Energieträger",2000,2001,2002,2003,2004,2005,2006,2007,2008,2009,null,"Branche of trade",2000,2001,2002,2003,2004,2005,2006,2007,2008,2009,null,"Energieträger",2000,2001,2002,2003,2004,2005,2006,2007,2008,2009,null,null,"2000","2001","2002","2003","2004","2005","2006","2007","2008","2009"]
["Electricity",1.4014859727157518,1.2540615993249389,1.2734958540427246,1.4669349277867512,1.4330811880923238,1.3409505121702072,1.6258964824298283,0.97120094468980989,0.84939762091324267,0.65352223273942844,null,"primary sector",1549000,1563000,1569000,1585000,1594000,1616000,1625000,1642000,1655000,1673000,null,"Electricity",0.874,0.81,0.77800000000000002,0.73699999999999999,0.70099999999999996,0.68,0.71299999999999997,0.9,0.89100000000000001,0.89100000000000001,null,"Einwohnerzahlen",8048600,8111200,8171950,8234100,8306500,8391850,8484550,8581300,8763400,8947243]
["Heat and Cold",0.34464240847959748,0,0,0,0,0,3.6864392074745005E-2,3.868230273320411E-2,4.4313090048763416E-2,4.7780081529025201E-2,null,"secondary sector",187000,188000,191000,192000,199000,198000,203000,207000,211000,214000,null,"Heat and Cold","n.a.","n.a.","n.a.","n.a.","n.a.","n.a.","n.a.","n.a.","n.a.","n.a.",null,"Passengers cars",329992.59999999998,340670.4,351393.85,403470.9,440244.5,478335.45,551495.75,617853.6,709835.4,769462.89800000004]
["natural gas",3.0521871298528107,2.6118549385760153,3.0717202680442788,3.2717938545533545,3.5101025301470732,3.5777437500537888,3.5616371980704797,3.1285081126014314,3.8060126333513371,3.3829167015781034,null,"tertiary sector",1882000,1903000,1929000,1948000,1970000,1981000,1991000,2014000,2068000,2096000,null,"natural gas",0.20200000000000001,0.20200000000000001,0.20200000000000001,0.20200000000000001,0.20200000000000001,0.20200000000000001,0.20200000000000001,0.20200000000000001,0.20200000000000001,0.20200000000000001,null,"Road passenger  (million pkm)",9153,9442,9603,9861,10279,10892,11786,12893,14041,15291]
["Liquid gas",0,0,0,0,0,0,0,0,0,0,null,null,null,null,null,null,null,null,null,null,null,null,null,"Liquid gas",0.23100000000000001,0.23100000000000001,0.23100000000000001,0.23100000000000001,0.23100000000000001,0.23100000000000001,0.23100000000000001,0.23100000000000001,0.23100000000000001,0.23100000000000001,null,"Road goods transporterd (million ton-km)",3513,4843,5334,6241,6965,7536,8222,9134,9947,10634]
["heating oil / diesel",7.0025981053985928E-2,0,0,0,0,0,0,2.2011686910944597E-2,2.0191300687455147E-2,1.5833555282522969E-2,null,"Energy consumption, Business (Mwh/year) - Energy consumption - Agriculture",null,null,null,null,null,null,null,null,null,null,null,"heating oil / diesel",0.26700000000000002,0.26700000000000002,0.26700000000000002,0.26700000000000002,0.26700000000000002,0.26700000000000002,0.26700000000000002,0.26700000000000002,0.26700000000000002,0.26700000000000002,null,"Railways, passengers (million pkm)",null,null,null,null,null,null,null,null,1049,1024]
["gasoline",0,0,0,0,0,0,0,1.1232434350143788E-2,1.3725012869180656E-2,5.4020365081548947E-3,null,"Energieträger",2000,2001,2002,2003,2004,2005,2006,2007,2008,2009,null,"gasoline",0.249,0.249,0.249,0.249,0.249,0.249,0.249,0.249,0.249,0.249,null,"Railways, goods transported (million ton-km)",5770,6142,6980,7719,7551,null,11059,10374,10021,7582]
["Lignite / Coal",0,0,0,0,0,0,0,0,0,0,null,{"$f":"M$10","v":"Electricity"},803055.5555555555,826944.4444444445,865000,0,486944.44444444444,498888.88888888888,510000,610000,640000,636388.88888888888,null,"Lignite / Coal",0.36399999999999999,0.36399999999999999,0.36399999999999999,0.36399999999999999,0.36399999999999999,0.36399999999999999,0.36399999999999999,0.36399999999999999,0.36399999999999999,0.36399999999999999]
["other fossil fuels",0,4.5239230255010907E-2,4.6432546019547896E-2,8.4506301032697365E-2,9.898539965355109E-2,9.6489120065566245E-2,9.094962804941531E-2,0.11795674574041487,0.12127459408195196,8.0595901006724771E-2,null,{"$f":"M$11","v":"Heat and Cold"},0,0,0,0,0,0,0,2500,3888.8888888888887,402222.22222222225,null,"other fossil fuels",0.38200000000000001,0.38200000000000001,0.38200000000000001,0.38200000000000001,0.38200000000000001,0.38200000000000001,0.38200000000000001,0.38200000000000001,0.38200000000000001,0.38200000000000001]
["Plant oil, biofuel",0,0,0,0,0,0,0,8.5748468569253306E-2,7.8895050880809836E-2,6.2868528327664736E-2,null,{"$f":"M$12","v":"natural gas"},46944.444444444445,20833.333333333332,62777.777777777781,239722.22222222222,325277.77777777775,335000,416666.66666666663,173055.55555555553,129722.22222222223,65000,null,"Plant oil, biofuel",0,0,0,0,0,0,0,0,0,0]
["Summe",{"$f":"SUM(B84:B92)","v":4.8683414921021457},3.9111557681559654,4.3916486681065514,4.8232350833728033,5.0421691178929482,5.0151833822895622,5.3153477006244678,4.3753406955952023,4.9338093028327403,4.2489190369716248,null,{"$f":"M$13","v":"Liquid gas"},0,0,0,0,0,0,0,0,0,0,null,null,null,null,null,null,null,null,null,null,null,null,null,"Passengers cars",329992.59999999998,340670.4,351393.85,403470.9,440244.5,478335.45,551495.75,617853.6,709835.4,769462.89800000004]
[null,null,null,null,null,null,null,null,null,null,null,null,{"$f":"M$14","v":"heating oil / diesel"},1087500,885277.77777777775,708333.33333333337,661111.11111111112,944444.4444444445,247777.77777777778,294166.66666666669,2112777.777777778,2631944.4444444445,3521666.6666666665,null,null,null,null,null,null,null,null,null,null,null,null,null,"Road passenger  (million pkm)",9153,9442,9603,9861,10279,10892,11786,12893,14041,15291]
["Energy consumption (MWh /Einwohner and  Year) - Primary sector (Agriculture)",null,null,null,null,null,null,null,null,null,null,null,{"$f":"M$15","v":"gasoline"},0,0,0,0,24444.444444444442,0,11944.444444444445,0,0,0,null,null,null,null,null,null,null,null,null,null,null,null,null,"Road goods transporterd (million ton-km)",3513,4843,5334,6241,6965,7536,8222,9134,9947,10634]
["Energieträger",2000,2001,2002,2003,2004,2005,2006,2007,2008,2009,null,{"$f":"M$16","v":"Lignite / Coal"},0,0,0,0,0,0,0,0,0,0,null,null,null,null,null,null,null,null,null,null,null,null,null,"Railways, passengers (million pkm)",null,null,null,null,null,null,null,null,1049,1024]
["Electricity",9.9775806420440261E-2,0.10195093752397234,0.10584988894939397,0,5.862209648401185E-2,5.9449214283964665E-2,6.0109257414948346E-2,7.1084800671226966E-2,7.3031015359335413E-2,7.1126814024039461E-2,null,{"$f":"M$17","v":"other fossil fuels"},0,0,0,0,0,0,0,0,0,0,null,null,null,null,null,null,null,null,null,null,null,null,null,"Railways, goods transported (million ton-km)",5770,6142,6980,7719,7551,null,11059,10374,10021,7582]
["Heat and Cold",0,0,0,0,0,0,0,2.9133115029191382E-4,4.4376485027373952E-4,4.495487852763385E-2,null,{"$f":"M$18","v":"Plant oil, biofuel"},0,0,0,0,0,0,0,4722.2222222222226,8888.8888888888887,189444.44444444444,null,null,null,null,null,null,null,null,null,null,null,null,null,null,"2000","2001","2002","2003","2004","2005","2006","2007","2008","2009"]
["natural gas",5.8326223746296806E-3,2.5684650031232532E-3,7.6821049783439427E-3,2.9113348419647831E-2,3.9159426687266324E-2,3.9919683979098772E-2,4.9108870437049298E-2,2.0166589625762475E-2,1.4802727505559742E-2,7.2648077178634803E-3,null,"Summe",{"$f":"SUM(N90:N98)","v":1937500},1733055.5555555555,1636111.111111111,900833.33333333337,1781111.1111111112,1081666.6666666667,1232777.7777777778,2903055.5555555555,3414444.4444444445,4814722.222222222,null,null,null,null,null,null,null,null,null,null,null,null,null,"Passengers cars",{"$f":"IFERROR(AL93/AL85-1,\"\")","v":0},{"$f":"IFERROR(AM93/AM85-1,\"\")","v":0},0,0,0,0,0,0,0,0]
["Liquid gas",0,0,0,0,0,0,0,0,0,0,null,null,null,null,null,null,null,null,null,null,null,null,null,null,null,null,null,null,null,null,null,null,null,null,null,"Road passenger  (million pkm)",{"$f":"IFERROR(AL94/AL86-1,\"\")","v":0},0,0,0,0,0,0,0,0,0]
["heating oil / diesel",0.13511666625251598,0.10914263953271745,8.6678618118482542E-2,8.0289419743640608E-2,0.11369944554799789,2.9526001749051494E-2,3.4670862528556813E-2,0.24620719212447742,0.30033371116740587,0.39360355661142393,null,"Energy consumption, Business (Mwh/year) - Energy consumption - Industry",null,null,null,null,null,null,null,null,null,null,null,null,null,null,null,null,null,null,null,null,null,null,null,"Road goods transporterd (million ton-km)",{"$f":"IFERROR(AL95/AL87-1,\"\")","v":0},0,0,0,0,0,0,0,0,0]
["gasoline",0,0,0,0,2.9428091788893567E-3,0,1.4077876191954134E-3,0,0,0,null,{"$f":"M$9","v":"Energieträger"},2000,2001,2002,2003,2004,2005,2006,2007,2008,2009,null,null,null,null,null,null,null,null,null,null,null,null,null,"Railways, passengers (million pkm)",{"$f":"IFERROR(AL96/AL88-1,\"\")","v":""},"","","","","","","",0,0]
["Lignite / Coal",0,0,0,0,0,0,0,0,0,0,null,{"$f":"M$10","v":"Electricity"},740000,1841944.4444444443,2085000,4390000,3940000,4358888.888888889,4610000,2960555.5555555555,3172500,2065555.5555555557,null,null,null,null,null,null,null,null,null,null,null,null,null,"Railways, goods transported (million ton-km)",{"$f":"IFERROR(AL97/AL89-1,\"\")","v":0},0,0,0,0,"",0,0,0,0]
["other fossil fuels",0,0,0,0,0,0,0,0,0,0,null,{"$f":"M$11","v":"Heat and Cold"},1187222.2222222222,3767777.777777778,4097777.7777777775,4444444.444444444,5046666.666666667,4551388.888888889,4684166.666666667,3784722.222222222,4692777.7777777771,2535277.777777778]
["Plant oil, biofuel",0,0,0,0,0,0,0,5.5029217277361504E-4,1.0143196577685474E-3,2.1173499417020913E-2,null,{"$f":"M$12","v":"natural gas"},12541111.111111112,10053333.333333334,9330833.333333334,8244166.666666666,4183611.1111111115,4262500,9254722.222222222,3971666.6666666665,5317222.222222222,3533611.111111111]
["Summe",{"$f":"SUM(B97:B105)","v":0.24072509504758594},{"$f":"SUM(C97:C105)","v":0.21366204205981304},{"$f":"SUM(D97:D105)","v":0.20021061204622045},{"$f":"SUM(E97:E105)","v":0.10940276816328844},{"$f":"SUM(F97:F105)","v":0.21442377789816544},{"$f":"SUM(G97:G105)","v":0.12889490001211493},{"$f":"SUM(H97:H105)","v":0.14529677799974985},{"$f":"SUM(I97:I105)","v":0.3383002057445324},{"$f":"SUM(J97:J105)","v":0.38962553854034332},{"$f":"SUM(K97:K105)","v":0.5381235562979817},null,{"$f":"M$13","v":"Liquid gas"},0,0,0,0,0,0,0,0,0,0]
[null,null,null,null,null,null,null,null,null,null,null,null,{"$f":"M$14","v":"heating oil / diesel"},3579722.222222222,1404722.2222222222,70833.333333333328,897222.22222222213,885277.77777777775,295000,899722.22222222213,735555.5555555555,836666.66666666663,1193888.888888889]
["Energy consumption (MWh /Einwohner and  Year) - Secondary sector (Industrie)",null,null,null,null,null,null,null,null,null,null,null,{"$f":"M$15","v":"gasoline"},5748611.111111111,4057500,3101388.8888888885,3787777.777777778,305277.77777777775,3334166.6666666665,180000,325277.77777777775,336111.11111111107,48055.555555555555]
["Energieträger",2000,2001,2002,2003,2004,2005,2006,2007,2008,2009,null,{"$f":"M$16","v":"Lignite / Coal"},0,0,0,0,0,0,0,0,0,0]
["Electricity",9.1941455656884427E-2,0.22708655247613724,0.25514106180287449,0.53314873513802363,0.47432733401553001,0.51941930431178929,0.54334054251551345,0.34500082220124639,0.36201702535545566,0.23085944525655061,null,{"$f":"M$17","v":"other fossil fuels"},404722.22222222225,227777.77777777778,316388.88888888888,227777.77777777778,240277.77777777778,151944.44444444444,113888.88888888889,25277.777777777777,12777.777777777777,75833.333333333328]
["Heat and Cold",0.14750667472880033,0.46451545736485084,0.50144430371915849,0.53976080499926449,0.60755633138706644,0.54235822719530125,0.55208192145330826,0.44104299141414727,0.5354973843231825,0.28335854718350423,null,{"$f":"M$18","v":"Plant oil, biofuel"},0,0,0,0,0,0,0,833.33333333333326,1111.1111111111111,277.77777777777777]
["natural gas",1.5581729879868689,1.2394384719071572,1.1418123377325282,1.0012225582233232,0.5036551027642342,0.50793329242062235,1.0907734909007811,0.46282808743042037,0.60675334028142291,0.39493854264504841,null,"Summe",{"$f":"SUM(N103:N111)","v":24201388.888888892},21353055.555555556,19002222.222222224,21991388.888888888,14601111.111111114,16953888.888888888,19742500,11803888.88888889,14369166.666666668,9452500.0000000019]
["Liquid gas",0,0,0,0,0,0,0,0,0,0]
["heating oil / diesel",0.44476334048433541,0.17318303361059056,8.6678618118482525E-3,0.10896421250922653,0.10657650969454978,3.5153154548758614E-2,0.10604242089706845,8.5716098441443081E-2,9.5472837787464529E-2,0.13343651098879164,null,"Energy consumption, Business (Mwh/year) - Energy consumption - Services"]
["gasoline",0.71423739670391262,0.50023424400828487,0.37951638089915973,0.46001114606062327,3.6751673722720493E-2,0.3973100885581447,2.12150320288053E-2,3.7905419665759006E-2,3.8353962059373199E-2,5.3709903213264194E-3,null,{"$f":"M$9","v":"Energieträger"},2000,2001,2002,2003,2004,2005,2006,2007,2008,2009]
["Lignite / Coal",0,0,0,0,0,0,0,0,0,0,null,{"$f":"M$10","v":"Electricity"},1606111.111111111,1580000,1516111.111111111,588055.5555555555,1481944.4444444443,1498888.888888889,1100000,3556388.8888888885,3904722.222222222,3402222.222222222]
["other fossil fuels",5.0284797632162391E-2,2.8081884034147572E-2,3.8716449426255531E-2,2.7662741256212309E-2,2.8926476587946521E-2,1.8106191655528212E-2,1.3423091252793477E-2,2.9456816307293506E-3,1.458084508042287E-3,8.4756090041740607E-3,null,{"$f":"M$11","v":"Heat and Cold"},95000,1555833.3333333333,1851111.111111111,1858611.111111111,1257777.7777777778,1511944.4444444443,110555.55555555556,218055.55555555553,385833.33333333331,402222.22222222225]
["Plant oil, biofuel",0,0,0,0,0,0,0,9.7110383430637932E-5,1.2678995722106842E-4,3.104618682847641E-5,null,{"$f":"M$12","v":"natural gas"},4207500,8723611.1111111119,6650000,3177500,216666.66666666666,230555.55555555553,376111.11111111107,350833.33333333331,505277.77777777775,464166.66666666663]
["Summe",{"$f":"SUM(B110:B118)","v":3.006906653192964},{"$f":"SUM(C110:C118)","v":2.6325396434011683},{"$f":"SUM(D110:D118)","v":2.3252983953918247},{"$f":"SUM(E110:E118)","v":2.6707701981866734},{"$f":"SUM(F110:F118)","v":1.7577934281720473},{"$f":"SUM(G110:G118)","v":2.0202802586901445},{"$f":"SUM(H110:H118)","v":2.3268764990482693},{"$f":"SUM(I110:I118)","v":1.3755362111671763},{"$f":"SUM(J110:J118)","v":1.6396794242721622},{"$f":"SUM(K110:K118)","v":1.0564706915862236},null,{"$f":"M$13","v":"Liquid gas"},0,0,0,0,0,0,0,0,0,0]
[null,null,null,null,null,null,null,null,null,null,null,null,{"$f":"M$14","v":"heating oil / diesel"},149722.22222222222,932500,1640833.3333333333,590277.77777777775,531111.11111111112,3954444.4444444445,57500,128611.11111111111,140000,151666.66666666666]
["Energy consumption (MWh /Einwohner and  Year) - Tertiary sector (Services)",null,null,null,null,null,null,null,null,null,null,null,{"$f":"M$15","v":"gasoline"},2100000,971944.4444444445,1716111.111111111,1716111.111111111,1716111.111111111,1416111.111111111,288055.55555555556,84166.666666666672,48333.333333333328,24166.666666666664]
["Energieträger",2000,2001,2002,2003,2004,2005,2006,2007,2008,2009,null,{"$f":"M$16","v":"Lignite / Coal"},0,0,0,0,0,0,0,0,0,0]
["Electricity",0.19955161284088052,0.19479238583686753,0.18552623438850102,7.1417101511465186E-2,0.17840780647016724,0.17861245004246848,0.12964741795381016,0.41443474635415245,0.44557160716413974,0.38025369627517908,null,{"$f":"M$17","v":"other fossil fuels"},0,0,0,0,0,0,0,126388.88888888889,25277.777777777777,0]
["Heat and Cold",0,0,0,0,0,0,0,0,0,0,null,{"$f":"M$18","v":"Plant oil, biofuel"},67777.777777777766,66666.666666666672,66666.666666666672,51388.888888888883,102777.77777777777,182777.77777777778,165000,181111.11111111112,197500,189444.44444444444]
["natural gas",0.52276172253559627,1.0755019123078104,0.81375926186528302,0.38589524052416174,2.6083990449246572E-2,2.7473746022099482E-2,4.4328940381176497E-2,4.0883471424298566E-2,5.7657733046280871E-2,5.1878178190384081E-2,null,"Summe",{"$f":"SUM(N116:N124)","v":8226111.111111111},13830555.555555554,13440833.333333334,7981944.444444444,5306388.8888888881,8794722.222222222,2097222.222222222,4645555.555555556,5206944.444444444,4633888.888888889]
["Liquid gas",0,0,0,0,0,0,0,0,0,0]
["heating oil / diesel",1.8602268993641407E-2,0.11496449353979682,0.20078846950034365,7.1686981913964817E-2,6.3939217614050581E-2,0.47122439562723889,6.7770241203128035E-3,1.4987369176128454E-2,1.5975534609854621E-2,1.6951218008348121E-2]
["gasoline",0.26091494172899637,0.11982745394571019,0.2100001971513667,0.20841514083034102,0.20659858076339144,0.16874838219357008,3.3950599095480087E-2,9.8081487264944315E-3,5.5153631391164767E-3,2.7010182540774474E-3]
["Lignite / Coal",0,0,0,0,0,0,0,0,0,0]
["other fossil fuels",0,0,0,0,0,0,0,1.4728408153646753E-2,2.8844715267793068E-3,0]
["Plant oil, biofuel",8.421064256861786E-3,8.2190880099944109E-3,8.1579875876218854E-3,6.2409843078039956E-3,1.2373174956693886E-2,2.178039142474875E-2,1.9447112693071523E-2,2.1105323332258646E-2,2.2536914896044914E-2,2.1173499417020913E-2]
["Summe",{"$f":"SUM(B123:B131)","v":1.0102516103559764},{"$f":"SUM(C123:C131)","v":1.5133053336401796},{"$f":"SUM(D123:D131)","v":1.4182321504931164},{"$f":"SUM(E123:E131)","v":0.74365544908773673},{"$f":"SUM(F123:F131)","v":0.48740277025354972},{"$f":"SUM(G123:G131)","v":0.86783936531012573},{"$f":"SUM(H123:H131)","v":0.23415109424385108},{"$f":"SUM(I123:I131)","v":0.51594746716697926},{"$f":"SUM(J123:J131)","v":0.55014162438221592},{"$f":"SUM(K123:K131)","v":0.47295761014500964}]
[]
["Energy consumption (MWh /Einwohner and  Year) - Road"]
["Energieträger",2000,2001,2002,2003,2004,2005,2006,2007,2008,2009]
["Electricity",0,0,0,0,0,0,0,0,0,0]
["Heat and Cold",0,0,0,0,0,0,0,0,0,0]
["natural gas",0,0,0,0,0,0,0,0,0,0]
["Liquid gas",0,0,0,0,0,0,0,0,0,0]
["heating oil / diesel",0.50453909168468214,0.37691367765832701,0.494034131660402,0.4673653870287382,0.7517539811526448,0.56546265457292222,0.92521111903400888,0.44981529605071491,0.72469969798632183,0.42483602056087122]
["gasoline",0.48704122456079318,0.59468526372313724,0.59475128675258382,0.66886484254502621,0.6409639037701399,0.8381809599657869,1.0377031715818097,1.1042745401175944,1.3098670480508579,1.3361657887239677]
["Lignite / Coal",0,0,0,0,0,0,0,0,0,0]
["other fossil fuels",7.544445272745845E-2,7.1745789087242884E-2,7.2776047604576885E-2,0.10754734039610346,0.12640703063865646,0.12363185709944768,0.11628980519493275,7.2250125272394619E-2,1.588044214193882E-2,4.1012012800417337E-2]
["Plant oil, biofuel",0,0,0,0,0,0,0,0,0,0]
["Summe",{"$f":"SUM(B136:B144)","v":1.0670247689729337},1.0433447304687071,1.1615614660175626,1.2437775699698677,1.519124915561441,1.5272754716381567,2.0792040958107512,1.6263399614407039,2.0504471881791182,1.8020138220852564]
[]
["Energy consumption (MWh /Einwohner and  Year) - Rail"]
["Energieträger",2000,2001,2002,2003,2004,2005,2006,2007,2008,2009]
["Electricity",4.7454767840921952E-2,5.8321278670918679E-2,5.0783472732946235E-2,5.2829088789303022E-2,5.2970565220008425E-2,6.0045030462757186E-2,4.079310170970895E-2,5.3184119992179375E-2,5.1762000035501181E-2,4.5048017088119272E-2]
["Heat and Cold",0,0,0,0,0,0,0,0,0,0]
["natural gas",0,0,0,0,0,0,0,0,0,0]
["Liquid gas",0,0,0,0,0,0,0,0,0,0]
["heating oil / diesel",1.5737726643971207E-2,0,0,0,0,0,0.24318712640426818,0.24614245186885694,0.14365302153147055,1.4467523062070005E-2]
["gasoline",0,0,0,0,0,0,0,0,0,0]
["Lignite / Coal",0,0,0,0,0,0,0,0,0,0]
["other fossil fuels",0,0,0,0,0,0,0,0,0,0]
["Plant oil, biofuel",0,0,0,0,0,0,0,0,0,0]
["Summe",{"$f":"SUM(B149:B157)","v":6.3192494484893155E-2},5.8321278670918679E-2,5.0783472732946235E-2,5.2829088789303022E-2,5.2970565220008425E-2,6.0045030462757186E-2,0.28398022811397711,0.29932657186103634,0.19541502156697174,5.9515540150189276E-2]
[]
[]
["Belarus",null,null,null,null,null,null,null,null,null,null,null,"Belarus",null,null,null,null,null,null,null,null,null,null,null,"Belarus",null,null,null,null,null,null,null,null,null,null,null,"Belarus"]
["Energy consumption (MWh /Einwohner and  Year) - Residential building (Households)",null,null,null,null,null,null,null,null,null,null,null,"Workforce (Number) - Nationale Eingabe",null,null,null,null,null,null,null,null,null,null,null,"CO2 emission Factor (t /Mwh)"]
["Energieträger",2000,2001,2002,2003,2004,2005,2006,2007,2008,2009,null,"Branche of trade",2000,2001,2002,2003,2004,2005,2006,2007,2008,2009,null,"Energieträger",2000,2001,2002,2003,2004,2005,2006,2007,2008,2009,null,null,"2000","2001","2002","2003","2004","2005","2006","2007","2008","2009"]
["Electricity",0.55622188905547232,0.55927439315635807,0.58217184438846914,0.61353809892391342,0.61600728186372655,0.6095681467124483,0.58957673316779413,0.61934538125014316,0.65871693397208919,0.68014211750406128,null,"primary sector",676900,639000,588000,545000,522000,525300.00000000012,518000,509700.00000000006,500700,501800,null,"Electricity",0.78,0.752,0.80500000000000005,0.80100000000000005,0.90200000000000002,0.90100000000000002,0.89800000000000002,0.89900000000000002,0.96099999999999997,0.96099999999999997,null,"Einwohnerzahlen",10005000,9970260,9925000,9873968,9824469,9775591,9732500,9702000,9602000,9507000]
["Heat and Cold",2.7381864623243932,3.1213662766400607,2.810635320458998,3.1438728584091016,2.9914537309288107,2.903802837996075,2.9271341724462712,2.673503744932316,2.5408190423291441,2.6999696130336708,null,"secondary sector",2220900,2251000,2319000,2322000,2314000,2580600,2395000,2446599.9999999995,2511300,2548799.9999999995,null,"Heat and Cold",0.18753537859007835,0.18753537859007835,0.18753537859007835,0.18753537859007835,0.18753537859007835,0.18753537859007835,0.18753537859007835,0.18753537859007835,0.17525979112271542,0.17525979112271542,null,"Passengers cars",1420710,1465628.22,1548300,1658826.6240000001,1709457.6059999999,1769381.9709999999,1781047.5,2328480,2192400,2340000]
["natural gas",1.2964073518796155,1.4311172538239838,1.4776378393506855,1.4657227975622364,1.4910616430148935,1.5397477701802831,1.5807289436881011,1.5978664192949907,1.6122798491055106,1.7603987704965931,null,"tertiary sector",1545800,1532000,1480000,1480000,1490000,1532700,1557000,1562000,1598500,1591800,null,"natural gas",0.20200000000000001,0.20200000000000001,0.20200000000000001,0.20200000000000001,0.20200000000000001,0.20200000000000001,0.20200000000000001,0.20200000000000001,0.20200000000000001,0.20200000000000001,null,"Road passenger  (million pkm)",9235,9493,9397,9768,9382,9231,9343,9353,8220,9135]
["Liquid gas",0,0,0,0,0,0,0,0,0,0,null,null,null,null,null,null,null,null,null,null,null,null,null,"Liquid gas",0.23100000000000001,0.23100000000000001,0.23100000000000001,0.23100000000000001,0.23100000000000001,0.23100000000000001,0.23100000000000001,0.23100000000000001,0.23100000000000001,0.23100000000000001,null,"Road goods transporterd (million ton-km)",null,null,11400,12710,13969,15045,15779,19200,22767]
["heating oil / diesel",0.14276195235715475,0.17641354276507223,0.15222502099076404,0.26661014092814561,0.24030136726303819,0.36709914634430912,0.54216970631047179,0.48546691403834263,0.64665347497049219,0.39108610030036345,null,"Energy consumption, Business (Mwh/year) - Energy consumption - Agriculture",null,null,null,null,null,null,null,null,null,null,null,"heating oil / diesel",0.26700000000000002,0.26700000000000002,0.26700000000000002,0.26700000000000002,0.26700000000000002,0.26700000000000002,0.26700000000000002,0.26700000000000002,0.26700000000000002,0.26700000000000002,null,"Railways, passengers (million pkm)",null,null,null,null,null,null,null,null,8188,7401]
["gasoline",0,0,2.4069409459837672E-3,4.8668939939399795E-3,0.49714306866525476,0.58331227464633306,0.7050831977623655,0.7009723081151652,0.75534032261797301,0.78342858478547972,null,"Energieträger",2000,2001,2002,2003,2004,2005,2006,2007,2008,2009,null,"gasoline",0.249,0.249,0.249,0.249,0.249,0.249,0.249,0.249,0.249,0.249,null,"Railways, goods transported (million ton-km)",31425,29727,34169,38402,40331,43559,45723,47933,47933,42742]
["Lignite / Coal",0.57218612915764333,0.42442891826960044,0.39476630282675618,0.36783028306800714,0.3263959270131207,0.37605001182139386,0.39292747666752287,0.35734327400994065,0.32270476058228603,0.28777041478209037,null,{"$f":"M$10","v":"Electricity"},1843888.888888889,1725000,1576944.4444444443,1441944.4444444443,1376944.4444444443,1413055.5555555555,1541944.4444444443,1426111.111111111,1433055.5555555555,1468055.5555555555,null,"Lignite / Coal",0.36399999999999999,0.36399999999999999,0.36399999999999999,0.36399999999999999,0.36399999999999999,0.36399999999999999,0.36399999999999999,0.36399999999999999,0.36399999999999999,0.36399999999999999]
["other fossil fuels",0.30093286689988341,0.27534665874087316,0.24346487545479986,0.22677475424942298,0.22534438134914858,0.23942854765052624,0.24568313497160144,0.26469341945532421,0.26218496146636117,0.23818706683963864,null,{"$f":"M$11","v":"Heat and Cold"},0,0,0,0,1878055.5555555555,1910000,1919444.4444444443,1825277.7777777778,1869166.6666666665,1929166.6666666665,null,"other fossil fuels",0.38200000000000001,0.38200000000000001,0.38200000000000001,0.38200000000000001,0.38200000000000001,0.38200000000000001,0.38200000000000001,0.38200000000000001,0.38200000000000001,0.38200000000000001]
["Plant oil, biofuel",0.58015436726081404,0.64096177587701386,0.65866218863699966,0.60189131214072766,0.60732714070008942,0.66730833290113434,0.73936124668207892,0.76278659611992949,0.79760582286097803,0.74541565863749515,null,{"$f":"M$12","v":"natural gas"},268333.33333333331,278888.88888888888,257500,246666.66666666666,311111.11111111107,321944.44444444444,375555.55555555556,515000,729444.4444444445,933611.11111111112,null,"Plant oil, biofuel",0,0,0,0,0,0,0,0,0,0]
["Summe",{"$f":"SUM(B164:B172)","v":6.186851018934977},{"$f":"SUM(C164:C172)","v":6.6289088192729624},{"$f":"SUM(D164:D172)","v":6.3219703330534571},{"$f":"SUM(E164:E172)","v":6.6911071392754939},{"$f":"SUM(F164:F172)","v":6.9950345407980832},{"$f":"SUM(G164:G172)","v":7.2863170682525018},{"$f":"SUM(H164:H172)","v":7.7226646116962065},{"$f":"SUM(I164:I172)","v":7.461978057216152},{"$f":"SUM(J164:J172)","v":7.5963051679048341},{"$f":"SUM(K164:K172)","v":7.5863983263793919},null,{"$f":"M$13","v":"Liquid gas"},0,0,0,0,0,0,0,0,0,0,null,null,null,null,null,null,null,null,null,null,null,null,null,"Passengers cars",1420710,1465628.22,1548300,1658826.6240000001,1709457.6059999999,1769381.9709999999,1781047.5,2328480,2192400,2340000]
[null,null,null,null,null,null,null,null,null,null,null,null,{"$f":"M$14","v":"heating oil / diesel"},6975833.333333333,6386111.111111111,6243888.888888889,6468333.333333333,6846388.888888889,7424722.222222222,8003333.333333333,8393055.5555555541,9412777.777777778,7948333.333333333,null,null,null,null,null,null,null,null,null,null,null,null,null,"Road passenger  (million pkm)",9235,9493,9397,9768,9382,9231,9343,9353,8220,9135]
["Energy consumption (MWh /Einwohner and  Year) - Primary sector (Agriculture)",null,null,null,null,null,null,null,null,null,null,null,{"$f":"M$15","v":"gasoline"},842500,525000,549444.4444444445,427500,415277.77777777775,403055.55555555556,415277.77777777775,427500,415277.77777777775,85277.777777777766,null,null,null,null,null,null,null,null,null,null,null,null,null,"Road goods transporterd (million ton-km)",null,null,11400,12710,13969,15045,15779,19200,22767]
["Energieträger",2000,2001,2002,2003,2004,2005,2006,2007,2008,2009,null,{"$f":"M$16","v":"Lignite / Coal"},18888.888888888891,8333.3333333333339,21666.666666666668,43611.111111111109,40555.555555555547,36944.444444444438,43888.888888888891,41666.666666666672,43333.333333333328,55555.555555555555,null,null,null,null,null,null,null,null,null,null,null,null,null,"Railways, passengers (million pkm)",null,null,null,null,null,null,null,null,8188,7401]
["Electricity",0.1842967405186296,0.1730145452575961,0.15888609012034702,0.14603495215342446,0.14015459201351688,0.14454937359342832,0.15843251419927504,0.14699145651526602,0.14924552755213033,0.15441838177717004,null,{"$f":"M$17","v":"other fossil fuels"},12777.777777777777,38055.555555555555,12777.777777777777,0,0,0,0,0,0,0,null,null,null,null,null,null,null,null,null,null,null,null,null,"Railways, goods transported (million ton-km)",31425,29727,34169,38402,40331,43559,45723,47933,47933,42742]
["Heat and Cold",0,0,0,0,0.1911610241281799,0.19538460641407768,0.19722008162799323,0.18813417622941433,0.19466430604735124,0.20292065495599731,null,{"$f":"M$18","v":"Plant oil, biofuel"},138333.33333333334,162777.77777777778,179166.66666666666,285000,286111.11111111107,309444.44444444444,336388.88888888888,337500,330277.77777777775,370000,null,null,null,null,null,null,null,null,null,null,null,null,null,null,"2000","2001","2002","2003","2004","2005","2006","2007","2008","2009"]
["natural gas",2.6819923371647507E-2,2.7972077848410059E-2,2.5944584382871536E-2,2.4981513679876891E-2,3.1666964505777467E-2,3.2933501866479933E-2,3.8587778634015468E-2,5.3081838796124513E-2,7.5967969635955479E-2,9.8202494068697924E-2,null,"Summe",{"$f":"SUM(N170:N178)","v":10100555.555555556},9124166.6666666679,8841388.8888888881,8913055.555555556,11154444.444444446,11819166.666666666,12635833.33333333,12966111.11111111,14233333.333333334,12790000,null,null,null,null,null,null,null,null,null,null,null,null,null,"Passengers cars",{"$f":"IFERROR(AL173/AL165-1,\"\")","v":0},{"$f":"IFERROR(AM173/AM165-1,\"\")","v":0},0,0,0,0,0,0,0,0]
["Liquid gas",0,0,0,0,0,0,0,0,0,0,null,null,null,null,null,null,null,null,null,null,null,null,null,null,null,null,null,null,null,null,null,null,null,null,null,"Road passenger  (million pkm)",{"$f":"IFERROR(AL174/AL166-1,\"\")","v":0},0,0,0,0,0,0,0,0,0]
["heating oil / diesel",0.69723471597534559,0.64051600571209888,0.6291071928351526,0.65508955805136626,0.69687113765526554,0.7595164550380864,0.82233067899648937,0.86508509127556732,0.98029345738156404,0.83605062936082186,null,"Energy consumption, Business (Mwh/year) - Energy consumption - Industry",null,null,null,null,null,null,null,null,null,null,null,null,null,null,null,null,null,null,null,null,null,null,null,"Road goods transporterd (million ton-km)",{"$f":"IFERROR(AL175/AL167-1,\"\")","v":""},"",0,0,0,0,0,0,0,""]
["gasoline",8.4207896051974013E-2,5.2656600730572725E-2,5.535964175762665E-2,4.3295663911408259E-2,4.2269742800122606E-2,4.1230812086507668E-2,4.266917829722864E-2,4.4063079777365489E-2,4.3249091624430094E-2,8.9699987143975774E-3,null,{"$f":"M$9","v":"Energieträger"},2000,2001,2002,2003,2004,2005,2006,2007,2008,2009,null,null,null,null,null,null,null,null,null,null,null,null,null,"Railways, passengers (million pkm)",{"$f":"IFERROR(AL176/AL168-1,\"\")","v":""},"","","","","","","",0,0]
["Lignite / Coal",1.8879449164306734E-3,8.3581905921544008E-4,2.1830394626364399E-3,4.4167766303385946E-3,4.1280150159317061E-3,3.7792543125468774E-3,4.5095185090047668E-3,4.2946471517900098E-3,4.51294869124488E-3,5.8436473709430475E-3,null,{"$f":"M$10","v":"Electricity"},12925000,12871944.444444444,12158055.555555554,12408055.555555554,13020000,13301111.111111112,13916944.444444444,14115000,14518055.555555554,12331944.444444444,null,null,null,null,null,null,null,null,null,null,null,null,null,"Railways, goods transported (million ton-km)",{"$f":"IFERROR(AL177/AL169-1,\"\")","v":0},0,0,0,0,0,0,0,0,0]
["other fossil fuels",1.2771392081736908E-3,3.816907037083843E-3,1.2874335292471313E-3,0,0,0,0,0,0,0,null,{"$f":"M$11","v":"Heat and Cold"},24645277.777777776,24592777.777777776,23898888.888888888,22975000,23413611.111111108,23526666.666666668,23818611.111111108,23031944.444444444,23134444.444444444,19031666.666666668]
["Plant oil, biofuel",1.3826420123271699E-2,1.6326332290008263E-2,1.8052057094878251E-2,2.8863775940938842E-2,2.9122297715134637E-2,3.1654806798324976E-2,3.4563461483574504E-2,3.4786641929499075E-2,3.4396769191603602E-2,3.8918691490480696E-2,null,{"$f":"M$12","v":"natural gas"},27367777.777777776,13764444.444444444,15534444.444444444,18131111.111111108,18592222.222222224,19965277.777777776,19954722.222222224,21768055.555555556,23044166.666666668,21113333.333333332]
["Summe",{"$f":"SUM(B177:B185)","v":1.0095507801654726},{"$f":"SUM(C177:C185)","v":0.91513828793498531},{"$f":"SUM(D177:D185)","v":0.89082003918275954},{"$f":"SUM(E177:E185)","v":0.90268224036735323},{"$f":"SUM(F177:F185)","v":1.1353737738339289},{"$f":"SUM(G177:G185)","v":1.2090488101094516},{"$f":"SUM(H177:H185)","v":1.2983132117475811},{"$f":"SUM(I177:I185)","v":1.3364369316750269},{"$f":"SUM(J177:J185)","v":1.4823300701242799},{"$f":"SUM(K177:K185)","v":1.3453244977385086},null,{"$f":"M$13","v":"Liquid gas"},0,0,0,0,0,0,0,0,0,0]
[null,null,null,null,null,null,null,null,null,null,null,null,{"$f":"M$14","v":"heating oil / diesel"},6104444.444444444,5295833.333333333,5109722.222222222,5305833.333333333,6057222.222222222,6093888.888888889,2198333.3333333335,2211111.111111111,2261111.111111111,1342777.7777777778]
["Energy consumption (MWh /Einwohner and  Year) - Secondary sector (Industrie)",null,null,null,null,null,null,null,null,null,null,null,{"$f":"M$15","v":"gasoline"},290555.55555555556,205833.33333333331,146111.11111111112,133888.88888888888,109722.22222222222,133888.88888888888,133888.88888888888,133888.88888888888,121666.66666666666,85000]
["Energieträger",2000,2001,2002,2003,2004,2005,2006,2007,2008,2009,null,{"$f":"M$16","v":"Lignite / Coal"},695555.5555555555,688611.11111111112,682777.77777777775,655277.77777777775,716388.88888888888,631944.4444444445,618888.88888888888,626666.66666666663,588333.33333333337,550833.33333333326]
["Electricity",1.2918540729635182,1.2910339794994758,1.2249930030786453,1.2566432821693927,1.3252624645667872,1.3606452143007119,1.4299454862003025,1.4548546691403834,1.5119824573584206,1.297143625165083,null,{"$f":"M$17","v":"other fossil fuels"},38055.555555555555,75833.333333333328,75833.333333333328,101111.11111111111,101111.11111111111,63333.333333333328,38055.555555555555,38055.555555555555,38055.555555555555,63333.333333333328]
["Heat and Cold",2.463296129712921,2.4666134862859921,2.4079485026588299,2.3268254464669118,2.3831935457388189,2.4066746109433863,2.4473271113394408,2.3739377906044572,2.4093360179592214,2.0018582798639599,null,{"$f":"M$18","v":"Plant oil, biofuel"},1783333.3333333333,1685277.7777777778,1587777.7777777778,1693333.3333333333,1633055.5555555555,1689722.2222222222,1783055.5555555555,1875277.7777777778,2271944.4444444445,2855555.5555555555]
["natural gas",2.735410072741407,1.3805502007414494,1.5651833193394906,1.8362537848118516,1.8924404181256234,2.0423601783030589,2.0503182350087052,2.2436668270001605,2.3999340415191281,2.2208197468531958,null,"Summe",{"$f":"SUM(N183:N191)","v":73849999.999999985},59180555.555555567,59193611.111111104,61403611.111111104,63643333.333333328,65405833.333333336,62462499.999999993,63799999.999999993,65977777.777777784,57374444.444444448]
["Liquid gas",0,0,0,0,0,0,0,0,0,0]
["heating oil / diesel",0.61013937475706592,0.53116301213141215,0.51483347327176043,0.53735573513437895,0.61654448929730676,0.62337805344852182,0.22587550303964382,0.22790260885498981,0.23548334837649562,0.14124095695569347,null,"Energy consumption, Business (Mwh/year) - Energy consumption - Services"]
["gasoline",2.9041035038036539E-2,2.0644730762621369E-2,1.4721522530086763E-2,1.3559785578491735E-2,1.1168259803376877E-2,1.3696244952237556E-2,1.3756885578103147E-2,1.3800132847751894E-2,1.2670971325418315E-2,8.9407804775428635E-3,null,{"$f":"M$9","v":"Energieträger"},2000,2001,2002,2003,2004,2005,2006,2007,2008,2009]
["Lignite / Coal",6.9520795157976559E-2,6.9066514926502523E-2,6.8793730758466273E-2,6.6364178795979265E-2,7.2918840589642944E-2,6.4645139556722908E-2,6.3589919228244432E-2,6.4591493162921731E-2,6.12719572311324E-2,5.7939763682900318E-2,null,{"$f":"M$10","v":"Electricity"},4538888.888888889,4545000,4623055.555555556,4593055.555555556,4640000,4903055.555555556,5240000,5318055.555555556,5341111.111111111,5806944.444444444]
["other fossil fuels",3.80365372869121E-3,7.6059534388605039E-3,7.6406381192275392E-3,1.0240170021931519E-2,1.0291763464377679E-2,6.4787216786517899E-3,3.9101521248965376E-3,3.9224443986348749E-3,3.9632946839778752E-3,6.6617580028750737E-3,null,{"$f":"M$11","v":"Heat and Cold"},15465555.555555554,15710277.777777778,14910833.333333332,16128888.888888888,14102777.777777778,14672222.222222222,14473888.888888888,12982777.777777778,11185555.555555554,13983055.555555554]
["Plant oil, biofuel",0.17824421122771947,0.16903047440866917,0.15997760985166526,0.17149471553212783,0.16622328957988014,0.17285115776859142,0.18320632474241516,0.19328775281156232,0.23661158554930686,0.30036347486647264,null,{"$f":"M$12","v":"natural gas"},1019166.6666666666,1652222.2222222222,579444.4444444445,568611.11111111112,1898888.888888889,1330277.7777777778,493611.11111111107,353611.11111111107,466944.44444444444,676111.11111111112]
["Summe",{"$f":"SUM(B190:B198)","v":7.3813093453273355},{"$f":"SUM(C190:C198)","v":5.9357083521949816},{"$f":"SUM(D190:D198)","v":5.9640917996081724},{"$f":"SUM(E190:E198)","v":6.218737098511065},{"$f":"SUM(F190:F198)","v":6.4780430711658141},{"$f":"SUM(G190:G198)","v":6.690729320951883},{"$f":"SUM(H190:H198)","v":6.417929617261751},{"$f":"SUM(I190:I198)","v":6.5759637188208622},{"$f":"SUM(J190:J198)","v":6.8712536740031016},{"$f":"SUM(K190:K198)","v":6.0349683858677228},null,{"$f":"M$13","v":"Liquid gas"},0,0,0,0,0,0,0,0,0,0]
[null,null,null,null,null,null,null,null,null,null,null,null,{"$f":"M$14","v":"heating oil / diesel"},304166.66666666669,303611.11111111107,198611.11111111112,187222.22222222222,175555.55555555553,394444.44444444444,615277.77777777775,535000,639166.66666666663,939444.4444444445]
["Energy consumption (MWh /Einwohner and  Year) - Tertiary sector (Services)",null,null,null,null,null,null,null,null,null,null,null,{"$f":"M$15","v":"gasoline"},0,0,11944.444444444445,48611.111111111109,85277.777777777766,60833.333333333328,36666.666666666664,110000,146666.66666666666,48888.888888888883]
["Energieträger",2000,2001,2002,2003,2004,2005,2006,2007,2008,2009,null,{"$f":"M$16","v":"Lignite / Coal"},2086666.6666666667,1792222.2222222222,1540277.7777777775,1477777.777777778,1255555.5555555555,1045000,1004999.9999999999,864166.66666666663,814166.66666666674,842500]
["Electricity",0.45366205785995894,0.45585571489610099,0.46579904841869579,0.4651681629468068,0.47229015634330973,0.50156103662229279,0.53840226046750583,0.54814013147346485,0.55624985535420857,0.61080724144782206,null,{"$f":"M$17","v":"other fossil fuels"},240277.77777777778,101111.11111111111,88611.111111111109,227777.77777777778,240277.77777777778,75833.333333333328,88611.111111111109,139166.66666666666,291111.11111111107,0]
["Heat and Cold",0,0,0,0,0,0,0,0,0,0,null,{"$f":"M$18","v":"Plant oil, biofuel"},3780000,3482222.222222222,3500833.333333333,3873888.8888888885,3879166.6666666665,1511666.6666666667,1701666.6666666665,1702777.7777777778,1649444.4444444443,1850000]
["natural gas",0.10186573379976678,0.1657150588071146,5.8382311782815569E-2,5.758689020575225E-2,0.19328157978704893,0.13608157069764659,5.0717812598110562E-2,3.6447238828191203E-2,4.8629915063991294E-2,7.1117188504376899E-2,null,"Summe",{"$f":"SUM(N196:N204)","v":27434722.222222224},27586666.666666672,25453611.111111108,27105833.333333336,26277499.999999996,23993333.333333328,23654722.222222224,22005555.55555556,20534166.666666668,24146944.444444444]
["Liquid gas",0,0,0,0,0,0,0,0,0,0]
["heating oil / diesel",3.0401465933699818E-2,3.0451674390749195E-2,2.0011195074167369E-2,1.8961193941708362E-2,1.7869215685402999E-2,4.0349933261778693E-2,6.3218882895225051E-2,5.5143269428983711E-2,6.6565993195861969E-2,9.8816077042646944E-2]
["gasoline",0,0,1.2034704729918836E-3,4.9231586643901527E-3,8.6801411636372172E-3,6.2229826650207981E-3,3.7674458429660072E-3,1.1337868480725623E-2,1.5274595570367283E-2,5.1424096864298814E-3]
["Lignite / Coal",0.20856238547392972,0.17975681900193397,0.15519171564511614,0.14966402339746065,0.12779882104117338,0.10689890769775454,0.10326226560493193,8.9070981928124779E-2,8.4791362910504764E-2,8.8618912380351328E-2]
["other fossil fuels",2.4015769892831364E-2,1.0141271251814006E-2,8.9280716484746708E-3,2.3068514884571005E-2,2.4457075265622782E-2,7.757416746806748E-3,9.1046607871678505E-3,1.4344121486978629E-2,3.031775787451688E-2,0]
["Plant oil, biofuel",0.37781109445277361,0.34926092421082522,0.35272879932829554,0.39233354704905754,0.39484746368141288,0.15463685690887299,0.17484373662128605,0.17550791360315168,0.17178134185007751,0.1945934574524035]
["Summe",{"$f":"SUM(B203:B211)","v":1.1963185074129603},{"$f":"SUM(C203:C211)","v":1.191181462558538},{"$f":"SUM(D203:D211)","v":1.0622446123705569},{"$f":"SUM(E203:E211)","v":1.1117054910897468},{"$f":"SUM(F203:F211)","v":1.239224452967608},{"$f":"SUM(G203:G211)","v":0.95350870460017312},{"$f":"SUM(H203:H211)","v":0.94331706481719324},{"$f":"SUM(I203:I211)","v":0.92999152522962047},{"$f":"SUM(J203:J211)","v":0.97361082181952829},{"$f":"SUM(K203:K211)","v":1.0690952865140306}]
[]
["Energy consumption (MWh /Einwohner and  Year) - Road"]
["Energieträger",2000,2001,2002,2003,2004,2005,2006,2007,2008,2009]
["Electricity",0,0,0,0,0,0,0,0,0,0]
["Heat and Cold",0,0,0,0,0,0,0,0,0,0]
["natural gas",0,0,0,0,0,0,0,0,0,0]
["Liquid gas",0,0,0,0,0,0,0,0,0,0]
["heating oil / diesel",0.82236659448053739,0.70682431774319043,0.73741953540442207,0.76750636961081231,0.81703595832451037,0.89116521616612909,0.96546507977281149,1.0159417302274445,1.0669652155800875,1.0132007994109604]
["gasoline",1.1060858459659058,1.0162445334647463,1.0125944584382871,1.1291475389293004,0.64510130550340961,0.65454979766554378,0.64865713388703372,0.6154515678325202,0.62822560114790893,0.61139160618491639]
["Lignite / Coal",0,0,0,0,0,0,0,0,0,0]
["other fossil fuels",2.1489255372313842E-2,1.9028813914804852E-2,2.1662468513853905E-2,0,0,3.8815499179992746E-2,4.6807660473214031E-2,4.9560228131656704E-2,5.6643291906778678E-2,6.6529925318186606E-2]
["Plant oil, biofuel",0,0,0,0,0,0,0,0,0.1112615427341526,0.5286455594123628]
["Summe",{"$f":"SUM(B216:B224)","v":1.949941695818757},1.7420976651227416,1.7716764623565631,1.8966539085401126,1.46213726382792,1.5845305130116656,1.6609298741330591,1.6809535261916215,1.8630956513689279,2.219767890326426]
[]
["Energy consumption (MWh /Einwohner and  Year) - Rail"]
["Energieträger",2000,2001,2002,2003,2004,2005,2006,2007,2008,2009]
["Electricity",6.8354711533122323E-2,7.1601832739456028E-2,7.4055415617128459E-2,7.2103175181896934E-2,7.5011122173060399E-2,7.2430971749488648E-2,7.9829894111938818E-2,7.2465012941203416E-2,7.7790506607419763E-2,7.4272758084686141E-2]
["Heat and Cold",0,0,0,0,0,0,0,0,0,0]
["natural gas",0,0,0,0,0,0,0,0,0,0]
["Liquid gas",0,0,0,0,0,0,0,0,0,0]
["heating oil / diesel",0.26075850963407182,0.29245308881948251,0.25096557514693535,0.26300920201933453,0.27996989512161474,0.30671632368143609,0.33353312212803604,0.35041457660505276,0.4401282140294846,0.25577644542617717]
["gasoline",0,0,0,0,0,0,0,0,0,0]
["Lignite / Coal",8.9399744572158362E-3,1.3818875112361942E-2,1.2314581584102995E-2,1.1281066425259723E-2,1.13379042560864E-2,9.2634353826337012E-3,9.1332020435539573E-3,8.990128037747085E-3,8.8233932745492832E-3,9.4959269777824522E-3]
["other fossil fuels",0,0,0,0,0,0,0,0,0,0]
["Plant oil, biofuel",0,0,0,0,0,0,0,0,0,0]
["Summe",{"$f":"SUM(B229:B237)","v":0.33805319562441},0.3778737966713005,0.3373355723481668,0.34639344362649116,0.36631892155076151,0.38841073081355842,0.42249621828352879,0.43186971758400322,0.52674211391145365,0.33954513048864576]
[]
[]
["Georgia",null,null,null,null,null,null,null,null,null,null,null,"Georgia",null,null,null,null,null,null,null,null,null,null,null,"Georgia",null,null,null,null,null,null,null,null,null,null,null,"Georgia"]
["Energy consumption (MWh /Einwohner and  Year) - Residential building (Households)",null,null,null,null,null,null,null,null,null,null,null,"Workforce (Number) - Nationale Eingabe",null,null,null,null,null,null,null,null,null,null,null,"CO2 emission Factor (t /Mwh)"]
["Energieträger",2000,2001,2002,2003,2004,2005,2006,2007,2008,2009,null,"Branche of trade",2000,2001,2002,2003,2004,2005,2006,2007,2008,2009,null,"Energieträger",2000,2001,2002,2003,2004,2005,2006,2007,2008,2009,null,null,"2000","2001","2002","2003","2004","2005","2006","2007","2008","2009"]
["Electricity",0.60272050336102112,0.58729507366202605,0.56530997373320069,0.61492398633473733,0.65329206194824607,0.67896705290083259,0.61776817745439849,0.63690638957250933,0.65267037231359604,0.66087784528883653,null,"primary sector",958000,990500,989000,995600,962400,947800,966400,910100,875600,892100,null,"Electricity",0.20100000000000001,0.215,7.4000000000000003E-3,0.09,0.121,0.13500000000000001,0.28199999999999997,0.21099999999999999,0.17399999999999999,0.17399999999999999,null,"Einwohnerzahlen",4418300,4386400,4357000,4328900,4318300,4361200,4398000,4388400,4383700,4410800]
["Heat and Cold",0,1.0765598719273716E-3,3.8252620304490853E-4,3.8500927872361722E-4,3.8595434931956246E-4,3.1528019811061174E-2,0,2.5762363402505598E-2,2.7247403892703526E-2,2.6387251493808127E-2,null,"secondary sector",180000,174000,151000,152000,157000,162000,158000,177000,178299.99999999994,187550.99999999994,null,"Heat and Cold","n.a.","n.a.","n.a.","n.a.","n.a.","n.a.","n.a.","n.a.","n.a.","n.a.",null,"Passengers cars",244800,247800,252000,255200,307076,340077,382356,427780,500900]
["natural gas",0.70162732272593531,0.39205777453543278,0.33012011322775608,0.37718075672290369,0.44294694156908454,0.52215496244662529,0.53149158708503863,0.55385916405878122,0.56775985785726413,0.58801376419495577,null,"tertiary sector",699000,713000,699000,668000,663000,635000,623000,617000,548100,576549.00000000012,null,"natural gas",0.20200000000000001,0.20200000000000001,0.20200000000000001,0.20200000000000001,0.20200000000000001,0.20200000000000001,0.20200000000000001,0.20200000000000001,0.20200000000000001,0.20200000000000001,null,"Road passenger  (million pkm)",null,null,null,5150,5200,null,5269.2,null,5568.4,5724.3]
["Liquid gas",0,0,0,0,0,0,0,0,0,0,null,null,null,null,null,null,null,null,null,null,null,null,null,"Liquid gas",0.23100000000000001,0.23100000000000001,0.23100000000000001,0.23100000000000001,0.23100000000000001,0.23100000000000001,0.23100000000000001,0.23100000000000001,0.23100000000000001,0.23100000000000001,null,"Road goods transporterd (million ton-km)",475,520,543,562,570,null,586.1,null,602.6,611.1]
["heating oil / diesel",0,0,2.6776834213143598E-3,2.6950649510653207E-3,2.7016804452369373E-3,5.4139023917983836E-3,5.3686018897478646E-3,8.038870152624597E-3,8.0474890566822055E-3,2.676511189706075E-2,null,"Energy consumption, Business (Mwh/year) - Energy consumption - Agriculture",null,null,null,null,null,null,null,null,null,null,null,"heating oil / diesel",0.26700000000000002,0.26700000000000002,0.26700000000000002,0.26700000000000002,0.26700000000000002,0.26700000000000002,0.26700000000000002,0.26700000000000002,0.26700000000000002,0.26700000000000002,null,"Railways, passengers (million pkm)",null,null,null,null,null,null,null,null,675,626]
["gasoline",0.16239277550188988,0.18326848643281252,7.7142784280723214E-2,7.2060903334437029E-2,7.2237789047644774E-2,7.1527204541053935E-2,2.5642969026325093E-2,2.7218221776602967E-3,0,0,null,"Energieträger",2000,2001,2002,2003,2004,2005,2006,2007,2008,2009,null,"gasoline",0.249,0.249,0.249,0.249,0.249,0.249,0.249,0.249,0.249,0.249,null,"Railways, goods transported (million ton-km)",3912.1,4480.6000000000004,5074.5,5538.5,4855.8,6127,6127,7379,6928,5417]
["Lignite / Coal",1.5088759628514737E-3,1.1145561027012786E-2,5.6103843113253253E-3,1.1293605509226104E-2,1.1321327580040497E-2,1.4076146218675796E-2,1.2379364357536254E-2,1.3988900029370359E-2,2.1734557058598392E-2,4.3202039438549819E-2,null,{"$f":"M$10","v":"Electricity"},1111.1111111111111,1111.1111111111111,1111.1111111111111,1111.1111111111111,1111.1111111111111,1111.1111111111111,1111.1111111111111,1111.1111111111111,1944.4444444444443,208055.55555555553,null,"Lignite / Coal",0.36399999999999999,0.36399999999999999,0.36399999999999999,0.36399999999999999,0.36399999999999999,0.36399999999999999,0.36399999999999999,0.36399999999999999,0.36399999999999999,0.36399999999999999]
["other fossil fuels",6.5447494888682678E-2,6.0540661033092184E-2,6.0949175018488767E-2,4.6778627364919494E-2,4.3934470097543525E-2,7.254629205009834E-2,5.7538780253650647E-2,5.1904515946080074E-2,3.1746393837777824E-2,2.8654413913323861E-2,null,{"$f":"M$11","v":"Heat and Cold"},0,0,0,0,0,21388.888888888891,41944.444444444445,35000,69722.222222222219,81388.888888888891,null,"other fossil fuels",0.38200000000000001,0.38200000000000001,0.38200000000000001,0.38200000000000001,0.38200000000000001,0.38200000000000001,0.38200000000000001,0.38200000000000001,0.38200000000000001,0.38200000000000001]
["Plant oil, biofuel",1.5725631024501632,1.584189515066772,1.5948792492285722,1.6052320194250016,1.6091723337630293,1.5937891711761287,0.87047142640594199,0.92535624221432256,0.87857036040077752,0.87556553107020141,null,{"$f":"M$12","v":"natural gas"},800277.77777777775,781666.66666666663,763055.5555555555,744444.4444444445,725833.33333333337,651388.88888888888,674444.4444444445,709444.4444444445,837222.22222222213,476944.44444444444,null,"Plant oil, biofuel",0,0,0,0,0,0,0,0,0,0]
["Summe",{"$f":"SUM(B244:B252)","v":3.1062600748905438},{"$f":"SUM(C244:C252)","v":2.8195736316290754},{"$f":"SUM(D244:D252)","v":2.6370718894244254},{"$f":"SUM(E244:E252)","v":2.7305499729210143},{"$f":"SUM(F244:F252)","v":2.8359925588001449},{"$f":"SUM(G244:G252)","v":2.9900027515362742},{"$f":"SUM(H244:H252)","v":2.1206609064726392},{"$f":"SUM(I244:I252)","v":2.2185382675538539},{"$f":"SUM(J244:J252)","v":2.1877764344173993},{"$f":"SUM(K244:K252)","v":2.2494659572967359},null,{"$f":"M$13","v":"Liquid gas"},0,0,0,0,0,0,0,0,0,0,null,null,null,null,null,null,null,null,null,null,null,null,null,"Passengers cars",244800,247800,252000,255200,307076,340077,382356,427780,500900,".."]
[null,null,null,null,null,null,null,null,null,null,null,null,{"$f":"M$14","v":"heating oil / diesel"},129166.66666666666,236111.11111111112,354166.66666666669,271388.88888888888,306944.44444444444,566666.66666666663,649166.66666666663,826388.88888888888,755555.5555555555,0,null,null,null,null,null,null,null,null,null,null,null,null,null,"Road passenger  (million pkm)",null,null,null,5150,5200,null,5269.2,null,5568.4,5724.3]
["Energy consumption (MWh /Einwohner and  Year) - Primary sector (Agriculture)",null,null,null,null,null,null,null,null,null,null,null,{"$f":"M$15","v":"gasoline"},0,0,0,11944.444444444445,0,0,0,0,0,0,null,null,null,null,null,null,null,null,null,null,null,null,null,"Road goods transporterd (million ton-km)",475,520,543,562,570,null,586.1,null,602.6,611.1]
["Energieträger",2000,2001,2002,2003,2004,2005,2006,2007,2008,2009,null,{"$f":"M$16","v":"Lignite / Coal"},0,0,0,0,0,0,0,95277.777777777766,75000,170277.77777777778,null,null,null,null,null,null,null,null,null,null,null,null,null,"Railways, passengers (million pkm)",null,null,null,null,null,null,null,null,675,626]
["Electricity",2.5147932714191228E-4,2.533082051593815E-4,2.5501746869660574E-4,2.5667285248241148E-4,2.5730289954637499E-4,2.547718772611004E-4,2.5264008892931128E-4,2.5319276071258571E-4,4.4356238895098762E-4,4.7169573672702352E-2,null,{"$f":"M$17","v":"other fossil fuels"},0,0,0,0,0,0,0,0,0,0,null,null,null,null,null,null,null,null,null,null,null,null,null,"Railways, goods transported (million ton-km)",3912.1,4480.6000000000004,5074.5,5538.5,4855.8,6127,6127,7379,6928,5417]
["Heat and Cold",0,0,0,0,0,4.9043586372761834E-3,9.5371633570815011E-3,7.9755719624464497E-3,1.5904879946671127E-2,1.8452183025503058E-2,null,{"$f":"M$18","v":"Plant oil, biofuel"},0,0,0,0,0,0,232500,0,0,0,null,null,null,null,null,null,null,null,null,null,null,null,null,null,"2000","2001","2002","2003","2004","2005","2006","2007","2008","2009"]
["natural gas",0.18112798537396232,0.17820232232962488,0.17513324662739396,0.17197081116321572,0.16808311912866947,0.14936001304432012,0.15335253398009197,0.16166357771498599,0.19098529147118237,0.10813105206412543,null,"Summe",{"$f":"SUM(N250:N258)","v":930555.5555555555},1018888.8888888889,1118333.3333333333,1028888.888888889,1033888.888888889,1240555.5555555555,1599166.6666666665,1667222.2222222222,1739444.4444444443,936666.66666666663,null,null,null,null,null,null,null,null,null,null,null,null,null,"Passengers cars",{"$f":"IFERROR(AL253/AL245-1,\"\")","v":0},{"$f":"IFERROR(AM253/AM245-1,\"\")","v":0},0,0,0,0,0,0,0,""]
["Liquid gas",0,0,0,0,0,0,0,0,0,0,null,null,null,null,null,null,null,null,null,null,null,null,null,null,null,null,null,null,null,null,null,null,null,null,null,"Road passenger  (million pkm)",{"$f":"IFERROR(AL254/AL246-1,\"\")","v":""},"","",0,0,"",0,"",0,0]
["heating oil / diesel",2.9234471780247302E-2,5.3827993596368577E-2,8.1286818147043083E-2,6.2692344218829008E-2,7.1079925999686086E-2,0.12993365740316121,0.14760497195695013,0.18831211577998561,0.17235567113524089,0,null,"Energy consumption, Business (Mwh/year) - Energy consumption - Industry",null,null,null,null,null,null,null,null,null,null,null,null,null,null,null,null,null,null,null,null,null,null,null,"Road goods transporterd (million ton-km)",{"$f":"IFERROR(AL255/AL247-1,\"\")","v":0},0,0,0,0,"",0,"",0,0]
["gasoline",0,0,0,2.7592331641859238E-3,0,0,0,0,0,0,null,{"$f":"M$9","v":"Energieträger"},2000,2001,2002,2003,2004,2005,2006,2007,2008,2009,null,null,null,null,null,null,null,null,null,null,null,null,null,"Railways, passengers (million pkm)",{"$f":"IFERROR(AL256/AL248-1,\"\")","v":""},"","","","","","","",0,0]
["Lignite / Coal",0,0,0,0,0,0,0,2.1711279231104223E-2,1.7108835002395236E-2,3.8604737865642919E-2,null,{"$f":"M$10","v":"Electricity"},896000,620000,663888.88888888888,690000,703055.5555555555,736944.4444444445,678055.5555555555,696944.4444444445,711111.11111111112,1311944.4444444443,null,null,null,null,null,null,null,null,null,null,null,null,null,"Railways, goods transported (million ton-km)",{"$f":"IFERROR(AL257/AL249-1,\"\")","v":0},0,0,0,0,0,0,0,0,0]
["other fossil fuels",0,0,0,0,0,0,0,0,0,0,null,{"$f":"M$11","v":"Heat and Cold"},0,0,0,0,0,315833.33333333331,125555.55555555556,151111.11111111112,220833.33333333331,244166.66666666666]
["Plant oil, biofuel",0,0,0,0,0,0,5.2864938608458388E-2,0,0,0,null,{"$f":"M$12","v":"natural gas"},2547777.777777778,1964166.6666666665,1643055.5555555555,1865000,1007500,1199166.6666666667,1942222.2222222222,2116666.6666666665,2314166.6666666665,2337500]
["Summe",{"$f":"SUM(B257:B265)","v":0.21061393648135154},{"$f":"SUM(C257:C265)","v":0.23228362413115283},{"$f":"SUM(D257:D265)","v":0.25667508224313362},{"$f":"SUM(E257:E265)","v":0.23767906139871303},{"$f":"SUM(F257:F265)","v":0.23942034802790191},{"$f":"SUM(G257:G265)","v":0.28445280096201864},{"$f":"SUM(H257:H265)","v":0.36361224799151132},{"$f":"SUM(I257:I265)","v":0.37991573744923485},{"$f":"SUM(J257:J265)","v":0.39679823994444063},{"$f":"SUM(K257:K265)","v":0.21235754662797376},null,{"$f":"M$13","v":"Liquid gas"},0,0,0,0,0,0,0,0,0,0]
[null,null,null,null,null,null,null,null,null,null,null,null,{"$f":"M$14","v":"heating oil / diesel"},214166.66666666666,360833.33333333331,280833.33333333331,268611.11111111107,208055.55555555553,208055.55555555553,208055.55555555553,277222.22222222225,346388.88888888888,576388.88888888888]
["Energy consumption (MWh /Einwohner and  Year) - Secondary sector (Industrie)",null,null,null,null,null,null,null,null,null,null,null,{"$f":"M$15","v":"gasoline"},0,12222.222222222221,0,36666.666666666664,12222.222222222221,0,0,0,0,0]
["Energieträger",2000,2001,2002,2003,2004,2005,2006,2007,2008,2009,null,{"$f":"M$16","v":"Lignite / Coal"},56111.111111111109,180833.33333333331,148888.88888888888,319999.99999999994,373611.11111111112,61388.888888888883,450000,702222.22222222225,965833.33333333337,1003888.8888888889]
["Electricity",0.20279292940723809,0.1413459784789349,0.15237293754622191,0.15939384139157753,0.16280840968796875,0.16897744759342487,0.15417361426911222,0.15881515915696939,0.16221710224493263,0.29743911409368917,null,{"$f":"M$17","v":"other fossil fuels"},0,0,0,0,0,0,0,0,0,0]
["Heat and Cold",0,0,0,0,0,7.2418906111467785E-2,2.854833004901218E-2,3.4434215456911658E-2,5.0376014173719307E-2,5.5356549076509172E-2,null,{"$f":"M$18","v":"Plant oil, biofuel"},416944.44444444444,416944.44444444444,416944.44444444444,416944.44444444444,416944.44444444444,416944.44444444444,0,0,0,0]
["natural gas",0.57664209713640491,0.44778557967049665,0.37710708183510572,0.43082538289172767,0.23330940416367552,0.27496254853404262,0.44161487544843614,0.48233220915747571,0.52790260890723961,0.52994921556180286,null,"Summe",{"$f":"SUM(N263:N271)","v":4131000},3555000,3153611.1111111115,3597222.222222222,2721388.888888889,2938333.3333333335,3403888.8888888885,3944166.666666666,4558333.333333333,5473888.888888889]
["Liquid gas",0,0,0,0,0,0,0,0,0,0]
["heating oil / diesel",4.8472640306603594E-2,8.2261839625509148E-2,6.4455665213067087E-2,6.2050662087622971E-2,4.8179967940058709E-2,4.7706034017141047E-2,4.7306856652013535E-2,6.3171593797790138E-2,7.9017471288840221E-2,0.13067672279153189,null,"Energy consumption, Business (Mwh/year) - Energy consumption - Services"]
["gasoline",0,2.7863902567531965E-3,0,8.470204131919578E-3,2.8303318950101243E-3,0,0,0,0,0,null,{"$f":"M$9","v":"Energieträger"},2000,2001,2002,2003,2004,2005,2006,2007,2008,2009]
["Lignite / Coal",1.2699706020666571E-2,4.1225910389689341E-2,3.4172340805345161E-2,7.3921781514934504E-2,8.6518099972468593E-2,1.4076146218675796E-2,0.10231923601637108,0.16001782477035417,0.22032377519751201,0.22759791622582953,null,{"$f":"M$10","v":"Electricity"},2208888.8888888885,1773055.5555555555,1898055.5555555555,1976944.4444444443,2020000,2120000,1945000,2001111.111111111,2048888.8888888888,763888.88888888888]
["other fossil fuels",0,0,0,0,0,0,0,0,0,0,null,{"$f":"M$11","v":"Heat and Cold"},0,0,0,0,0,104722.22222222222,167500,77500,102777.77777777777,23055.555555555555]
["Plant oil, biofuel",9.4367617510002583E-2,9.5053903986057911E-2,9.5695305128401298E-2,9.6316487894024916E-2,9.6552913054777215E-2,9.5603146942227935E-2,0,0,0,0,null,{"$f":"M$12","v":"natural gas"},212222.22222222222,490000,409722.22222222225,465277.77777777775,545277.77777777775,649444.4444444445,395277.77777777775,360555.55555555556,918611.11111111112,372222.22222222225]
["Summe",{"$f":"SUM(B270:B278)","v":0.93497499038091569},{"$f":"SUM(C270:C278)","v":0.81045960240744119},{"$f":"SUM(D270:D278)","v":0.72380333052814116},{"$f":"SUM(E270:E278)","v":0.83097835991180713},{"$f":"SUM(F270:F278)","v":0.63019912671395883},{"$f":"SUM(G270:G278)","v":0.67374422941697998},{"$f":"SUM(H270:H278)","v":0.77396291243494508},{"$f":"SUM(I270:I278)","v":0.89877100233950113},{"$f":"SUM(J270:J278)","v":1.0398369718122438},{"$f":"SUM(K270:K278)","v":1.2410195177493626},null,{"$f":"M$13","v":"Liquid gas"},0,0,0,0,0,0,0,0,0,0]
[null,null,null,null,null,null,null,null,null,null,null,null,{"$f":"M$14","v":"heating oil / diesel"},2777.7777777777778,11666.666666666666,11666.666666666666,11666.666666666666,11666.666666666666,23611.111111111109,23611.111111111109,35277.777777777781,35277.777777777781,0]
["Energy consumption (MWh /Einwohner and  Year) - Tertiary sector (Services)",null,null,null,null,null,null,null,null,null,null,null,{"$f":"M$15","v":"gasoline"},0,0,0,0,0,0,0,0,0,0]
["Energieträger",2000,2001,2002,2003,2004,2005,2006,2007,2008,2009,null,{"$f":"M$16","v":"Lignite / Coal"},0,0,0,0,0,0,0,34166.666666666664,170277.77777777778,939166.66666666663]
["Electricity",0.49994090235812155,0.40421656838308306,0.4356335909009767,0.45668517277933063,0.4677766713753097,0.48610474181417956,0.44224647567075942,0.45600016204336685,0.4673880258432121,0.17318601815745191,null,{"$f":"M$17","v":"other fossil fuels"},0,0,0,0,0,0,0,0,0,0]
["Heat and Cold",0,0,0,0,0,0,0,0,0,0,null,{"$f":"M$18","v":"Plant oil, biofuel"},138888.88888888888,138888.88888888888,138888.88888888888,138888.88888888888,138888.88888888888,138888.88888888888,279166.66666666669,523611.11111111107,546666.66666666663,581666.66666666663]
["natural gas",4.8032551484105249E-2,0.11170891847528726,9.4037691581873362E-2,0.1074817569770098,0.12627139795238351,0.14891416225911319,8.9876711636602491E-2,8.2161050851234069E-2,0.20955154575155943,8.4388823393085663E-2,null,"Summe",{"$f":"SUM(N276:N284)","v":2562777.7777777775},2413611.111111111,2458333.3333333335,2592777.7777777775,2715833.3333333335,3036666.6666666665,2810555.5555555555,3032222.222222222,3822500,2679999.9999999995]
["Liquid gas",0,0,0,0,0,0,0,0,0,0]
["heating oil / diesel",6.2869831785478071E-4,2.6597361541735058E-3,2.6776834213143598E-3,2.6950649510653207E-3,2.7016804452369373E-3,5.4139023917983836E-3,5.3686018897478646E-3,8.038870152624597E-3,8.0474890566822055E-3,0]
["gasoline",0,0,0,0,0,0,0,0,0,0]
["Lignite / Coal",0,0,0,0,0,0,0,7.7856773919120102E-3,3.8843392060993631E-2,0.21292433723285267]
["other fossil fuels",0,0,0,0,0,0,0,0,0,0]
["Plant oil, biofuel",3.1434915892739036E-2,3.166352564492269E-2,3.1877183587075711E-2,3.2084106560301431E-2,3.2162862443296872E-2,3.184648465763755E-2,6.3475822343489474E-2,0.11931708848580601,0.12470439735079195,0.13187328073516519]
["Summe",{"$f":"SUM(B283:B291)","v":0.58003706805282063},{"$f":"SUM(C283:C291)","v":0.55024874865746654},{"$f":"SUM(D283:D291)","v":0.56422614949124006},{"$f":"SUM(E283:E291)","v":0.5989461012677072},{"$f":"SUM(F283:F291)","v":0.62891261221622707},{"$f":"SUM(G283:G291)","v":0.67227929112272866},{"$f":"SUM(H283:H291)","v":0.6009676115405993},{"$f":"SUM(I283:I291)","v":0.67330284892494363},{"$f":"SUM(J283:J291)","v":0.84853485006323925},{"$f":"SUM(K283:K291)","v":0.60237245951855534}]
[]
["Energy consumption (MWh /Einwohner and  Year) - Road"]
["Energieträger",2000,2001,2002,2003,2004,2005,2006,2007,2008,2009]
["Electricity",0,0,0,0,0,0,0,0,0,0]
["Heat and Cold",0,0,0,0,0,0,0,0,0,0]
["natural gas",0,2.0327983464040369E-2,1.7086170402672581E-2,1.9507136788663271E-2,2.2899958059627374E-2,2.700581898967664E-2,3.701177302814411E-2,4.2409787419358108E-2,4.7778005895577812E-2,0]
["Liquid gas",0,0,0,0,0,0,0,0,0,0]
["heating oil / diesel",0,0.15337811822400552,0.17608956213500623,0.18544613591854231,0.25151358430658155,0.38706217452892677,0.4428780758930827,0.56759487132743902,0.52238976207313459,0.81359642493677131]
["gasoline",0.73758886650722866,0.86580744523476605,0.90531201387295035,0.92241806360866629,0.82008866657918356,0.93520386845618431,0.8857561517861654,1.0685367483972898,1.1337454661587243,1.2873703938816843]
["Lignite / Coal",0,0,0,0,0,0,0,0,0,0]
["other fossil fuels",0,0,0,0,0,0,0,0,0,0]
["Plant oil, biofuel",0,0,0,0,0,0,0,0,0,0]
["Summe",{"$f":"SUM(B296:B304)","v":0.73758886650722866},1.0395135469228118,1.0984877464106291,1.1273713363158719,1.0945022089453924,1.3492718619747877,1.3656460007073923,1.6785414071440869,1.7039132341274366,2.1009668188184554]
[]
["Energy consumption (MWh /Einwohner and  Year) - Rail"]
["Energieträger",2000,2001,2002,2003,2004,2005,2006,2007,2008,2009]
["Electricity",0.10247782581032926,6.7949926034004099E-2,7.3062504781577539E-2,7.6681014679120432E-2,8.2658556479272963E-2,7.7960194441896724E-2,7.4591986256379167E-2,7.6780704686091619E-2,7.8954105233275784E-2,7.8909847545922632E-2]
["Heat and Cold",0,0,0,0,0,0,0,0,0,0]
["natural gas",0,0,0,0,0,0,0,0,0,0]
["Liquid gas",0,0,0,0,0,0,0,0,0,0]
["heating oil / diesel",0,0,0,0,0,0,0,0,0,0]
["gasoline",0,0,0,0,0,0,0,0,0,0]
["Lignite / Coal",0,0,0,0,0,0,0,0,0,6.1717199197928322E-3]
["other fossil fuels",0,0,0,0,0,0,0,0,0,0]
["Plant oil, biofuel",0,0,0,0,0,0,0,0,0,0]
["Summe",{"$f":"SUM(B309:B317)","v":0.10247782581032926},6.7949926034004099E-2,7.3062504781577539E-2,7.6681014679120432E-2,8.2658556479272963E-2,7.7960194441896724E-2,7.4591986256379167E-2,7.6780704686091619E-2,7.8954105233275784E-2,8.5081567465715463E-2]
[]
[]
["Kazakhstan",null,null,null,null,null,null,null,null,null,null,null,"Kazakhstan",null,null,null,null,null,null,null,null,null,null,null,"Kazakhstan",null,null,null,null,null,null,null,null,null,null,null,"Kazakhstan"]
["Energy consumption (MWh /Einwohner and  Year) - Residential building (Households)",null,null,null,null,null,null,null,null,null,null,null,"Workforce (Number) - Nationale Eingabe",null,null,null,null,null,null,null,null,null,null,null,"CO2 emission Factor (t /Mwh)"]
["Energieträger",2000,2001,2002,2003,2004,2005,2006,2007,2008,2009,null,"Branche of trade",2000,2001,2002,2003,2004,2005,2006,2007,2008,2009,null,"Energieträger",2000,2001,2002,2003,2004,2005,2006,2007,2008,2009,null,null,"2000","2001","2002","2003","2004","2005","2006","2007","2008","2009"]
["Electricity",0.3967447179874044,0.41579729865799608,0.36603458662678467,0.37984092417854964,0.3918645057874941,0.41122842564630258,0.43355811288246987,0.50043869831172905,0.47371446176562854,0.52405622431150156,null,"primary sector",1948000,2379000,2380000,2463000,2406000,2353000,2335000,2383000,2370000,2326000,null,"Electricity",1.3979999999999999,1.409,1.4059999999999999,1.4830000000000001,1.538,1.4750000000000001,1.4590000000000001,1.5069999999999999,1.508,1.508,null,"Einwohnerzahlen",14883626,14858335,14858948,14909019,15012984,15147029,15308085,15484192,15673999,16093481]
["Heat and Cold",1.0641821347089,1.1167319741934596,1.3135930693822409,1.4057859131367991,1.4356646960465094,1.482413922008512,1.3544766993679773,1.5185917784193497,1.6270399291350104,1.66130069132409,null,"secondary sector",1081000,1094000,1092000,1185000,1250000,1307000,1365000,1444000,1487000,1491000,null,"Heat and Cold","n.a.","n.a.","n.a.","n.a.","n.a.","n.a.","n.a.","n.a.","n.a.","n.a.",null,"Passengers cars",1000298,1057801,1062554,1147994.463,1201038.72,1405325,1745121.69,2183271.0720000002,2576625,2751597]
["natural gas",0,0,0,0,0,0,0,0,0.83005477911398218,0.73987860191478905,null,"tertiary sector",1581000,1567000,1568000,1589000,1660000,1655000,1696000,1724000,1842000,1859000,null,"natural gas",0.20200000000000001,0.20200000000000001,0.20200000000000001,0.20200000000000001,0.20200000000000001,0.20200000000000001,0.20200000000000001,0.20200000000000001,0.20200000000000001,0.20200000000000001,null,"Road passenger  (million pkm)",5207,5482,5949,80824,85240,91651,100865,103381,106878,110475]
["Liquid gas",0,0,0,0,0,0,0,0,0,0,null,null,null,null,null,null,null,null,null,null,null,null,null,"Liquid gas",0.23100000000000001,0.23100000000000001,0.23100000000000001,0.23100000000000001,0.23100000000000001,0.23100000000000001,0.23100000000000001,0.23100000000000001,0.23100000000000001,0.23100000000000001,null,"Road goods transporterd (million ton-km)",4603,5497,6962,40158,43910,47123,53816,61444,63481,66254]
["heating oil / diesel",0,0,0,0,0,0,0.13803526408140243,0.57251937976485956,0.14308905964443266,0.10635776477858747,null,"Energy consumption, Business (Mwh/year) - Energy consumption - Agriculture",null,null,null,null,null,null,null,null,null,null,null,"heating oil / diesel",0.26700000000000002,0.26700000000000002,0.26700000000000002,0.26700000000000002,0.26700000000000002,0.26700000000000002,0.26700000000000002,0.26700000000000002,0.26700000000000002,0.26700000000000002,null,"Railways, passengers (million pkm)",null,null,null,null,null,null,null,null,14719,14702]
["gasoline",0,0,0,0,0,0,0,0,0,0,null,"Energieträger",2000,2001,2002,2003,2004,2005,2006,2007,2008,2009,null,"gasoline",0.249,0.249,0.249,0.249,0.249,0.249,0.249,0.249,0.249,0.249,null,"Railways, goods transported (million ton-km)",124983,0,133088,147672,163420,171855,191189,191189,214907,197302]
["Lignite / Coal",3.8259792636851022E-3,3.2323795215128598E-2,5.4213498530014074E-4,3.8194628663659525E-3,5.3657257981195184E-4,5.3182413234671667E-4,3.8287683345833989E-2,1.4190099310459482E-2,0,0.76958352128900998,null,{"$f":"M$10","v":"Electricity"},8490000,8881944.444444444,10466111.111111112,10898055.555555554,11321944.444444444,5796944.444444444,6176111.111111111,786944.4444444445,718888.88888888888,2326944.4444444445,null,"Lignite / Coal",0.36399999999999999,0.36399999999999999,0.36399999999999999,0.36399999999999999,0.36399999999999999,0.36399999999999999,0.36399999999999999,0.36399999999999999,0.36399999999999999,0.36399999999999999]
["other fossil fuels",0,0,0,0,0,0,0,0,0,0,null,{"$f":"M$11","v":"Heat and Cold"},0,0,0,0,0,0,0,0,0,0,null,"other fossil fuels",0.38200000000000001,0.38200000000000001,0.38200000000000001,0.38200000000000001,0.38200000000000001,0.38200000000000001,0.38200000000000001,0.38200000000000001,0.38200000000000001,0.38200000000000001]
["Plant oil, biofuel",0,0,0,0,0,0,0,0,0,0,null,{"$f":"M$12","v":"natural gas"},0,0,0,0,0,0,0,0,0,0,null,"Plant oil, biofuel",0,0,0,0,0,0,0,0,0,0]
["Summe",{"$f":"SUM(B324:B332)","v":1.4647528319599894},{"$f":"SUM(C324:C332)","v":1.5648530680665842},{"$f":"SUM(D324:D332)","v":1.6801697909943256},{"$f":"SUM(E324:E332)","v":1.7894463001817147},{"$f":"SUM(F324:F332)","v":1.8280657744138153},{"$f":"SUM(G324:G332)","v":1.8941741717871612},{"$f":"SUM(H324:H332)","v":1.9643577596776836},{"$f":"SUM(I324:I332)","v":2.6057399558063974},{"$f":"SUM(J324:J332)","v":3.0738982296590538},{"$f":"SUM(K324:K332)","v":3.8011768036179783},null,{"$f":"M$13","v":"Liquid gas"},0,0,0,0,0,0,0,0,0,0,null,null,null,null,null,null,null,null,null,null,null,null,null,"Passengers cars",1000298,1057801,1062554,1147994.463,1201038.72,1405325,1745121.69,2183271.0720000002,2576625,2751597]
[null,null,null,null,null,null,null,null,null,null,null,null,{"$f":"M$14","v":"heating oil / diesel"},4544166.666666667,5181666.666666667,5205277.7777777771,4107500,5523888.888888889,8163611.111111111,9933888.8888888881,5523888.888888889,5121388.888888889,8613333.333333334,null,null,null,null,null,null,null,null,null,null,null,null,null,"Road passenger  (million pkm)",5207,5482,5949,80824,85240,91651,100865,103381,106878,110475]
["Energy consumption (MWh /Einwohner and  Year) - Primary sector (Agriculture)",null,null,null,null,null,null,null,null,null,null,null,{"$f":"M$15","v":"gasoline"},0,0,0,0,0,0,0,0,0,0,null,null,null,null,null,null,null,null,null,null,null,null,null,"Road goods transporterd (million ton-km)",4603,5497,6962,40158,43910,47123,53816,61444,63481,66254]
["Energieträger",2000,2001,2002,2003,2004,2005,2006,2007,2008,2009,null,{"$f":"M$16","v":"Lignite / Coal"},0,0,0,0,0,0,0,0,0,0,null,null,null,null,null,null,null,null,null,null,null,null,null,"Railways, passengers (million pkm)",null,null,null,null,null,null,null,null,14719,14702]
["Electricity",0.57042551324522661,0.59777521804727407,0.70436420607374839,0.73097066651773357,0.7541435096743222,0.3827116488946079,0.40345419502903929,5.0822441651746791E-2,4.5865058999231073E-2,0.14458925601269512,null,{"$f":"M$17","v":"other fossil fuels"},0,0,0,0,0,0,0,0,0,0,null,null,null,null,null,null,null,null,null,null,null,null,null,"Railways, goods transported (million ton-km)",124983,0,133088,147672,163420,171855,191189,191189,214907,197302]
["Heat and Cold",0,0,0,0,0,0,0,0,0,0,null,{"$f":"M$18","v":"Plant oil, biofuel"},0,0,0,0,0,0,0,0,0,0,null,null,null,null,null,null,null,null,null,null,null,null,null,null,"2000","2001","2002","2003","2004","2005","2006","2007","2008","2009"]
["natural gas",0,0,0,0,0,0,0,0,0,0,null,"Summe",{"$f":"SUM(N330:N338)","v":13034166.666666668},14063611.111111112,15671388.888888888,15005555.555555554,16845833.333333332,13960555.555555556,16110000,6310833.333333334,5840277.777777778,10940277.777777778,null,null,null,null,null,null,null,null,null,null,null,null,null,"Passengers cars",{"$f":"IFERROR(AL333/AL325-1,\"\")","v":0},{"$f":"IFERROR(AM333/AM325-1,\"\")","v":0},0,0,0,0,0,0,0,0]
["Liquid gas",0,0,0,0,0,0,0,0,0,0,null,null,null,null,null,null,null,null,null,null,null,null,null,null,null,null,null,null,null,null,null,null,null,null,null,"Road passenger  (million pkm)",{"$f":"IFERROR(AL334/AL326-1,\"\")","v":0},0,0,0,0,0,0,0,0,0]
["heating oil / diesel",0.3053131452420712,0.34873804276634407,0.35031267205308053,0.27550437758513824,0.36794076972898188,0.53895791122543646,0.64893086815815881,0.35674376092009769,0.32674423986430579,0.53520635674366124,null,"Energy consumption, Business (Mwh/year) - Energy consumption - Industry",null,null,null,null,null,null,null,null,null,null,null,null,null,null,null,null,null,null,null,null,null,null,null,"Road goods transporterd (million ton-km)",{"$f":"IFERROR(AL335/AL327-1,\"\")","v":0},0,0,0,0,0,0,0,0,0]
["gasoline",0,0,0,0,0,0,0,0,0,0,null,{"$f":"M$9","v":"Energieträger"},2000,2001,2002,2003,2004,2005,2006,2007,2008,2009,null,null,null,null,null,null,null,null,null,null,null,null,null,"Railways, passengers (million pkm)",{"$f":"IFERROR(AL336/AL328-1,\"\")","v":""},"","","","","","","",0,0]
["Lignite / Coal",0,0,0,0,0,0,0,0,0,0,null,{"$f":"M$10","v":"Electricity"},11218888.888888888,11738888.888888888,12340000,12848888.888888888,13350000,27723055.555555556,29536111.111111108,29668888.888888888,56283055.555555552,49463055.555555552,null,null,null,null,null,null,null,null,null,null,null,null,null,"Railways, goods transported (million ton-km)",{"$f":"IFERROR(AL337/AL329-1,\"\")","v":0},"",0,0,0,0,0,0,0,0]
["other fossil fuels",0,0,0,0,0,0,0,0,0,0,null,{"$f":"M$11","v":"Heat and Cold"},31873333.333333332,33390277.777777772,39278055.555555552,42176666.666666664,43373333.333333336,45176666.666666664,47448055.555555552,48623611.111111112,55257777.777777776,45608888.888888888]
["Plant oil, biofuel",0,0,0,0,0,0,0,0,0,0,null,{"$f":"M$12","v":"natural gas"},5486666.666666667,5441666.666666667,5996111.111111111,7353333.333333333,6501944.444444444,10677777.777777778,11501666.666666666,65781111.111111112,65641666.666666672,65727777.777777784]
["Summe",{"$f":"SUM(B337:B345)","v":0.87573865848729782},{"$f":"SUM(C337:C345)","v":0.9465132608136182},{"$f":"SUM(D337:D345)","v":1.054676878126829},{"$f":"SUM(E337:E345)","v":1.0064750441028718},{"$f":"SUM(F337:F345)","v":1.1220842794033041},{"$f":"SUM(G337:G345)","v":0.92166956012004442},{"$f":"SUM(H337:H345)","v":1.052385063187198},{"$f":"SUM(I337:I345)","v":0.4075662025718445},{"$f":"SUM(J337:J345)","v":0.37260929886353689},{"$f":"SUM(K337:K345)","v":0.67979561275635636},null,{"$f":"M$13","v":"Liquid gas"},0,0,0,0,0,0,0,0,0,0]
[null,null,null,null,null,null,null,null,null,null,null,null,{"$f":"M$14","v":"heating oil / diesel"},25992500,28497777.777777776,28798888.888888888,24227500,30839722.222222224,27356666.666666664,33346666.666666664,38145277.777777776,38743333.333333336,20539166.666666668]
["Energy consumption (MWh /Einwohner and  Year) - Secondary sector (Industrie)",null,null,null,null,null,null,null,null,null,null,null,{"$f":"M$15","v":"gasoline"},0,0,0,0,0,686111.11111111112,1148888.888888889,1522500,11757500,0]
["Energieträger",2000,2001,2002,2003,2004,2005,2006,2007,2008,2009,null,{"$f":"M$16","v":"Lignite / Coal"},131723333.33333333,115296666.66666667,127140277.77777776,140004166.66666666,138089722.22222224,83591944.444444448,62160555.555555552,59793611.111111104,47674444.44444444,64508888.888888888]
["Electricity",0.75377390488640927,0.79005412712049417,0.83047602024046385,0.86181987486157796,0.88923028226766909,1.8302635820896334,1.9294451991291601,1.9160760140980484,3.5908548645151472,3.0734839501507194,null,{"$f":"M$17","v":"other fossil fuels"},0,0,0,0,0,101111.11111111111,1492777.7777777778,1783888.888888889,2378333.3333333335,2074722.2222222222]
["Heat and Cold",2.1415032421086995,2.2472422231547324,2.643394105393972,2.8289364086709301,2.889054789729566,2.9825430892531246,3.0995422063279339,3.1402097772432112,3.5254422166147754,2.8339977465962081,null,{"$f":"M$18","v":"Plant oil, biofuel"},0,0,0,0,0,0,0,0,0,0]
["natural gas",0.36863776788442998,0.36623663867227835,0.40353537216168406,0.49321376096799752,0.43308808191925363,0.70494205680716515,0.75134588465289198,4.248275345017106,4.1879335750032061,4.0841243592842211,null,"Summe",{"$f":"SUM(N343:N351)","v":206294722.22222221},194365277.77777779,213553333.33333331,226610555.55555555,232154722.22222224,195313333.33333331,186634722.22222224,245318888.8888889,277736111.1111111,247922500]
["Liquid gas",0,0,0,0,0,0,0,0,0,0]
["heating oil / diesel",1.746382232394176,1.9179657598094118,1.9381512667578411,1.6250230816662048,2.0542033630504251,1.8060747534494497,2.1783695783415538,2.4634981132872658,2.4718218581826714,1.2762413965422812,null,"Energy consumption, Business (Mwh/year) - Energy consumption - Services"]
["gasoline",0,0,0,0,0,4.5296745065392767E-2,7.5051117686430996E-2,9.8326086372475877E-2,0.75012764770496665,0,null,{"$f":"M$9","v":"Energieträger"},2000,2001,2002,2003,2004,2005,2006,2007,2008,2009]
["Lignite / Coal",8.8502179061294139,7.7597299203892405,8.5564790843724445,9.3905686662996857,9.1980196756502384,5.5187023438355105,4.060635641594331,3.8615906539463674,3.0416260996599807,4.0083863080267648,null,{"$f":"M$10","v":"Electricity"},10806111.111111112,11313888.888888888,12163888.888888888,11946111.111111112,14265000,4318055.555555556,4601111.111111111,4843888.888888889,5146944.444444444,6526111.111111111]
["other fossil fuels",0,0,0,0,0,6.6753097991105129E-3,9.751564469218571E-2,0.11520710211349026,0.1517374942625257,0.12891693364674942,null,{"$f":"M$11","v":"Heat and Cold"},75833.333333333328,88888.888888888891,84444.444444444438,94166.666666666672,100555.55555555556,24759444.444444444,26004444.444444444,17897222.222222224,11944444.444444444,25095000]
["Plant oil, biofuel",0,0,0,0,0,0,0,0,0,0,null,{"$f":"M$12","v":"natural gas"},58127222.222222216,72712500,80121666.666666672,98258055.555555552,119521111.1111111,142670833.33333334,153679166.66666666,137911944.44444445,225504166.66666666,87384444.444444433]
["Summe",{"$f":"SUM(B350:B358)","v":13.860515053403129},{"$f":"SUM(C350:C358)","v":13.081228669146157},{"$f":"SUM(D350:D358)","v":14.372035848926405},{"$f":"SUM(E350:E358)","v":15.199561792466397},{"$f":"SUM(F350:F358)","v":15.463596192617151},{"$f":"SUM(G350:G358)","v":12.894497880299387},{"$f":"SUM(H350:H358)","v":12.191905272424489},{"$f":"SUM(I350:I358)","v":15.843183092077965},{"$f":"SUM(J350:J358)","v":17.719543755943274},{"$f":"SUM(K350:K358)","v":15.405150694246943},null,{"$f":"M$13","v":"Liquid gas"},0,0,0,0,0,0,0,0,0,0]
[null,null,null,null,null,null,null,null,null,null,null,null,{"$f":"M$14","v":"heating oil / diesel"},636111.11111111112,718611.11111111112,718611.11111111112,600555.5555555555,812777.77777777775,1625833.3333333333,1943055.5555555555,126666.66666666666,2818055.5555555555,1995277.7777777778]
["Energy consumption (MWh /Einwohner and  Year) - Tertiary sector (Services)",null,null,null,null,null,null,null,null,null,null,null,{"$f":"M$15","v":"gasoline"},108055.55555555556,48055.555555555555,180000,168055.55555555553,228055.55555555553,168055.55555555553,180000,263888.88888888888,2028055.5555555555,2303888.8888888885]
["Energieträger",2000,2001,2002,2003,2004,2005,2006,2007,2008,2009,null,{"$f":"M$16","v":"Lignite / Coal"},0,0,0,0,0,0,0,0,0,0]
["Electricity",0.72604022105306276,0.76145065304348625,0.81862382780321241,0.80126741478504471,0.95017752633320596,0.28507607370102456,0.30056738717554227,0.3128280047734418,0.3283746824562413,0.40551271108538361,null,{"$f":"M$17","v":"other fossil fuels"},7033888.888888889,11651666.666666666,4971944.444444444,4048333.333333333,5401944.444444444,4495000,1125833.3333333333,2555555.5555555555,1834444.4444444443,2100000]
["Heat and Cold",0,0,0,0,0,0,0,0,0,0,null,{"$f":"M$18","v":"Plant oil, biofuel"},852500,1705277.7777777778,1705277.7777777778,1705277.7777777778,1713888.888888889,329444.44444444444,175555.55555555553,125833.33333333333,125833.33333333333,616666.66666666663]
["natural gas",3.9054476524888635,4.8937179031163316,5.3921493410345516,6.5905111232037168,7.9611828741781849,9.4190638529399617,10.039085010742145,8.9066284146079084,14.387149486654087,5.4298038096571171,null,"Summe",{"$f":"SUM(N356:N364)","v":77639722.222222209},98238888.888888881,99945833.333333328,116820555.55555554,142043333.33333334,178366666.66666669,187709166.66666666,163725000,249401944.44444445,126021388.8888889]
["Liquid gas",0,0,0,0,0,0,0,0,0,0]
["heating oil / diesel",4.2738987872384802E-2,4.8364174795568357E-2,4.8362179550740139E-2,4.0281359595527748E-2,5.4138323052750723E-2,0.10733678091811491,0.1269300213289615,8.1803859488868806E-3,0.17979174016506927,0.12398049730681496]
["gasoline",7.2600289442609992E-3,3.2342490296224679E-3,1.2113912774982454E-2,1.1272073337323907E-2,1.5190554759503875E-2,1.1094951726543571E-2,1.1758492326113945E-2,1.7042470726847669E-2,0.1293897974317566,0.14315665385809873]
["Lignite / Coal",0,0,0,0,0,0,0,0,0,0]
["other fossil fuels",0.47259242397577639,0.78418387165632397,0.33460945178921442,0.27153586250935308,0.359818171020794,0.29675786584946789,7.3545014502684899E-2,0.16504287440736692,0.11703742257763601,0.13048761793672856]
["Plant oil, biofuel",5.7277709074388193E-2,0.11476910284885741,0.11476436809508841,0.11437893920302722,0.11416044198068079,2.1749773136662275E-2,1.1468159182259279E-2,8.1265676202757833E-3,8.0281575450740633E-3,3.8317792568721872E-2]
["Summe",{"$f":"SUM(B363:B371)","v":5.2113570234087367},{"$f":"SUM(C363:C371)","v":6.6057199544901897},{"$f":"SUM(D363:D371)","v":6.7206230810477896},{"$f":"SUM(E363:E371)","v":7.8292467726339936},{"$f":"SUM(F363:F371)","v":9.4546678913251228},{"$f":"SUM(G363:G371)","v":10.141079298271773},{"$f":"SUM(H363:H371)","v":10.563354085257707},{"$f":"SUM(I363:I371)","v":9.417848718084727},{"$f":"SUM(J363:J371)","v":15.149771286829862},{"$f":"SUM(K363:K371)","v":6.2712590824128647}]
[]
["Energy consumption (MWh /Einwohner and  Year) - Road"]
["Energieträger",2000,2001,2002,2003,2004,2005,2006,2007,2008,2009]
["Electricity",0,0,0,0,0,0,0,0,0,0]
["Heat and Cold",0,0,0,0,0,0,0,0,0,0]
["natural gas",0,0,0,0,0,0,0,0,0,0]
["Liquid gas",0,0,0,0,0,0,0,0,0,0]
["heating oil / diesel",0.13482377658956671,0.15412224855611345,0.15491974562697469,0.12192470730487215,0.1635436218261325,0.19015463545872777,0.22901841303685816,0.3849804439980537,0.21087648262436268,0.22738675644159548]
["gasoline",1.3480324694473718,1.5705737628819856,1.6510440562668216,1.5316605039912792,1.9594705489594872,1.9292378869956759,2.1458522662298316,2.5126163078663284,8.8823676856316133E-2,2.5039987032982829]
["Lignite / Coal",0,0,0,0,0,0,0,0,0,0]
["other fossil fuels",0,0,0,0,0,8.4358310648099879E-4,6.6050790226936358E-3,8.2521437203683461E-4,9.6940445411821466E-3,0]
["Plant oil, biofuel",0,0,0,0,0,0,0,0,0,0]
["Summe",{"$f":"SUM(B376:B384)","v":1.4828562460369386},1.7246960114380991,1.8059638018937962,1.6535852112961513,2.1230141707856198,2.1202361055608847,2.3814757582893833,2.8984219662364188,0.30939420402186096,2.7313854597398786]
[]
["Energy consumption (MWh /Einwohner and  Year) - Rail"]
["Energieträger",2000,2001,2002,2003,2004,2005,2006,2007,2008,2009]
["Electricity",0.17455797099144763,0.18293136852517833,0.16366868263112869,0.1826448511170021,6.220541425268214E-2,6.0444563455681999E-2,6.3764416719080869E-2,0.11411279609839792,0.12715679996888832,0]
["Heat and Cold",0,0,0,0,0,0,0,0,0,0]
["natural gas",0,0,0,0,0,0,0,0,0,0]
["Liquid gas",0,0,0,0,0,0,0,0,0,0]
["heating oil / diesel",0.15186338179807649,0.17197605100287333,0.17353927822555884,0.13893529070483368,0.18350782229568752,0.19473932625482013,0.23355486840958736,0.25613936530308529,0.13998767427933781,0.2310114124953935]
["gasoline",0,0,0,0,0,0,0,0,0,0]
["Lignite / Coal",0,0,0,0,0,0,0,0,0,0]
["other fossil fuels",0,0,0,0,0,0,0,0,0,0]
["Plant oil, biofuel",0,0,0,0,0,0,0,0,0,0]
["Summe",{"$f":"SUM(B389:B397)","v":0.32642135278952411},0.35490741952805166,0.33720796085668753,0.32158014182183581,0.24571323654836966,0.2551838897105021,0.29731928512866823,0.3702521614014832,0.26714447424822613,0.2310114124953935]
[]
[]
["Kyrgyzstan",null,null,null,null,null,null,null,null,null,null,null,"Kyrgyzstan",null,null,null,null,null,null,null,null,null,null,null,"Kyrgyzstan",null,null,null,null,null,null,null,null,null,null,null,"Kyrgyzstan"]
["Energy consumption (MWh /Einwohner and  Year) - Residential building (Households)",null,null,null,null,null,null,null,null,null,null,null,"Workforce (Number) - Nationale Eingabe",null,null,null,null,null,null,null,null,null,null,null,"CO2 emission Factor (t /Mwh)"]
["Energieträger",2000,2001,2002,2003,2004,2005,2006,2007,2008,2009,null,"Branche of trade",2000,2001,2002,2003,2004,2005,2006,2007,2008,2009,null,"Energieträger",2000,2001,2002,2003,2004,2005,2006,2007,2008,2009,null,null,"2000","2001","2002","2003","2004","2005","2006","2007","2008","2009"]
["Electricity",0.47997532073965193,0.36680529997146449,0.34441839599432722,0.47885313187793704,0.4877857660587302,0.57120227964376258,0.62412702062786385,0.53410691839816427,0.28991002396157789,0.26862911431856129,null,"primary sector",938000,946000,908000,835000,775000,800000,760000,742000,743000,719000,null,"Electricity",0.23300000000000001,0.28000000000000003,0.27200000000000002,0.20799999999999999,0.24199999999999999,0.21199999999999999,0.193,0.23100000000000001,0.14899999999999999,0.14899999999999999,null,"Einwohnerzahlen",4898400,4945100,4990700,5043300,5104700,5162600,5218400,5268400,5318700,5383300]
["Heat and Cold",0,0,0,0,0,0,0,0,0,0,null,"secondary sector",185000,185000,222000,290000,350000,365000,407000,436000,451000,470000,null,"Heat and Cold","n.a.","n.a.","n.a.","n.a.","n.a.","n.a.","n.a.","n.a.","n.a.","n.a.",null,"Passengers cars",189827,189796,188711,188900,196339,201430,218718,229735,305300,305300]
["natural gas",0,0,0,0,0,0,0,0,0,0,null,"tertiary sector",645000,656000,720000,806000,866000,912000,929000,974000,990000,1028000,null,"natural gas",0.20200000000000001,0.20200000000000001,0.20200000000000001,0.20200000000000001,0.20200000000000001,0.20200000000000001,0.20200000000000001,0.20200000000000001,0.20200000000000001,0.20200000000000001,null,"Road passenger  (million pkm)",4622,5033,5081,5273,5623.89990234375,5874,6117,6468,6816,7072]
["Liquid gas",0,0,0,0,0,0,0,0,0,0,null,null,null,null,null,null,null,null,null,null,null,null,null,"Liquid gas",0.23100000000000001,0.23100000000000001,0.23100000000000001,0.23100000000000001,0.23100000000000001,0.23100000000000001,0.23100000000000001,0.23100000000000001,0.23100000000000001,0.23100000000000001,null,"Road goods transporterd (million ton-km)",1200,1051,875,823,847.40002441406295,1335.59997558594,819,902.5,912,1256]
["heating oil / diesel",0,0,0,0,0,0,0,0,0,0,null,"Energy consumption, Business (Mwh/year) - Energy consumption - Agriculture",null,null,null,null,null,null,null,null,null,null,null,"heating oil / diesel",0.26700000000000002,0.26700000000000002,0.26700000000000002,0.26700000000000002,0.26700000000000002,0.26700000000000002,0.26700000000000002,0.26700000000000002,0.26700000000000002,0.26700000000000002,null,"Railways, passengers (million pkm)",null,null,null,null,null,null,null,null,90,106]
["gasoline",0,0,0,0,0,0,0,0,0,0,null,"Energieträger",2000,2001,2002,2003,2004,2005,2006,2007,2008,2009,null,"gasoline",0.249,0.249,0.249,0.249,0.249,0.249,0.249,0.249,0.249,0.249,null,"Railways, goods transported (million ton-km)",null,null,null,null,null,null,715,752,849,745]
["Lignite / Coal",0,0,0,0,0,0,0,0,0,0,null,{"$f":"M$10","v":"Electricity"},3318055.5555555555,2621111.111111111,2483888.8888888885,2508055.5555555555,2148888.8888888885,2545000,2811111.111111111,2428888.8888888885,1680000,1650000,null,"Lignite / Coal",0.36399999999999999,0.36399999999999999,0.36399999999999999,0.36399999999999999,0.36399999999999999,0.36399999999999999,0.36399999999999999,0.36399999999999999,0.36399999999999999,0.36399999999999999]
["other fossil fuels",0,0,0,0,0,0,0,0,0,0,null,{"$f":"M$11","v":"Heat and Cold"},0,0,0,0,0,0,0,0,0,0,null,"other fossil fuels",0.38200000000000001,0.38200000000000001,0.38200000000000001,0.38200000000000001,0.38200000000000001,0.38200000000000001,0.38200000000000001,0.38200000000000001,0.38200000000000001,0.38200000000000001]
["Plant oil, biofuel",0,0,0,0,0,0,0,0,0,0,null,{"$f":"M$12","v":"natural gas"},0,0,0,0,0,0,0,0,0,0,null,"Plant oil, biofuel",0,0,0,0,0,0,0,0,0,0]
["Summe",{"$f":"SUM(B404:B412)","v":0.47997532073965193},{"$f":"SUM(C404:C412)","v":0.36680529997146449},{"$f":"SUM(D404:D412)","v":0.34441839599432722},{"$f":"SUM(E404:E412)","v":0.47885313187793704},{"$f":"SUM(F404:F412)","v":0.4877857660587302},{"$f":"SUM(G404:G412)","v":0.57120227964376258},{"$f":"SUM(H404:H412)","v":0.62412702062786385},{"$f":"SUM(I404:I412)","v":0.53410691839816427},{"$f":"SUM(J404:J412)","v":0.28991002396157789},{"$f":"SUM(K404:K412)","v":0.26862911431856129},null,{"$f":"M$13","v":"Liquid gas"},0,0,0,0,0,0,0,0,0,0,null,null,null,null,null,null,null,null,null,null,null,null,null,"Passengers cars",189827,189796,188711,188900,196339,201430,218718,229735,305300,305300]
[null,null,null,null,null,null,null,null,null,null,null,null,{"$f":"M$14","v":"heating oil / diesel"},0,0,0,0,0,0,0,0,0,0,null,null,null,null,null,null,null,null,null,null,null,null,null,"Road passenger  (million pkm)",4622,5033,5081,5273,5623.89990234375,5874,6117,6468,6816,7072]
["Energy consumption (MWh /Einwohner and  Year) - Primary sector (Agriculture)",null,null,null,null,null,null,null,null,null,null,null,{"$f":"M$15","v":"gasoline"},0,0,0,0,0,0,0,0,0,0,null,null,null,null,null,null,null,null,null,null,null,null,null,"Road goods transporterd (million ton-km)",1200,1051,875,823,847.40002441406295,1335.59997558594,819,902.5,912,1256]
["Energieträger",2000,2001,2002,2003,2004,2005,2006,2007,2008,2009,null,{"$f":"M$16","v":"Lignite / Coal"},0,0,0,0,0,0,0,0,0,0,null,null,null,null,null,null,null,null,null,null,null,null,null,"Railways, passengers (million pkm)",null,null,null,null,null,null,null,null,90,106]
["Electricity",0.67737537880849985,0.53004208430792321,0.49770350629949478,0.4973044545348394,0.42096281640231326,0.49296865920272731,0.53869214914746111,0.46102970330439763,0.3158666591460319,0.30650344584176992,null,{"$f":"M$17","v":"other fossil fuels"},0,0,0,0,0,0,0,0,0,0,null,null,null,null,null,null,null,null,null,null,null,null,null,"Railways, goods transported (million ton-km)",0,0,0,0,0,0,715,752,849,745]
["Heat and Cold",0,0,0,0,0,0,0,0,0,0,null,{"$f":"M$18","v":"Plant oil, biofuel"},0,0,0,0,0,0,0,0,0,0,null,null,null,null,null,null,null,null,null,null,null,null,null,null,"2000","2001","2002","2003","2004","2005","2006","2007","2008","2009"]
["natural gas",0,0,0,0,0,0,0,0,0,0,null,"Summe",{"$f":"SUM(N410:N418)","v":3318055.5555555555},2621111.111111111,2483888.8888888885,2508055.5555555555,2148888.8888888885,2545000,2811111.111111111,2428888.8888888885,1680000,1650000,null,null,null,null,null,null,null,null,null,null,null,null,null,"Passengers cars",{"$f":"IFERROR(AL413/AL405-1,\"\")","v":0},{"$f":"IFERROR(AM413/AM405-1,\"\")","v":0},0,0,0,0,0,0,0,0]
["Liquid gas",0,0,0,0,0,0,0,0,0,0,null,null,null,null,null,null,null,null,null,null,null,null,null,null,null,null,null,null,null,null,null,null,null,null,null,"Road passenger  (million pkm)",{"$f":"IFERROR(AL414/AL406-1,\"\")","v":0},0,0,0,0,0,0,0,0,0]
["heating oil / diesel",0,0,0,0,0,0,0,0,0,0,null,"Energy consumption, Business (Mwh/year) - Energy consumption - Industry",null,null,null,null,null,null,null,null,null,null,null,null,null,null,null,null,null,null,null,null,null,null,null,"Road goods transporterd (million ton-km)",{"$f":"IFERROR(AL415/AL407-1,\"\")","v":0},0,0,0,0,0,0,0,0,0]
["gasoline",0,0,0,0,0,0,0,0,0,0,null,{"$f":"M$9","v":"Energieträger"},2000,2001,2002,2003,2004,2005,2006,2007,2008,2009,null,null,null,null,null,null,null,null,null,null,null,null,null,"Railways, passengers (million pkm)",{"$f":"IFERROR(AL416/AL408-1,\"\")","v":""},"","","","","","","",0,0]
["Lignite / Coal",0,0,0,0,0,0,0,0,0,0,null,{"$f":"M$10","v":"Electricity"},1398055.5555555555,1263055.5555555555,1198888.888888889,1816944.4444444443,1385000,3201944.4444444445,3553055.5555555555,3070000,4110000,4050000,null,null,null,null,null,null,null,null,null,null,null,null,null,"Railways, goods transported (million ton-km)",{"$f":"IFERROR(AL417/AL409-1,\"\")","v":""},"","","","","",0,0,0,0]
["other fossil fuels",0,0,0,0,0,0,0,0,0,0,null,{"$f":"M$11","v":"Heat and Cold"},0,0,0,0,0,0,0,0,0,0]
["Plant oil, biofuel",0,0,0,0,0,0,0,0,0,0,null,{"$f":"M$12","v":"natural gas"},0,0,0,0,0,0,0,0,0,0]
["Summe",{"$f":"SUM(B417:B425)","v":0.67737537880849985},{"$f":"SUM(C417:C425)","v":0.53004208430792321},{"$f":"SUM(D417:D425)","v":0.49770350629949478},{"$f":"SUM(E417:E425)","v":0.4973044545348394},{"$f":"SUM(F417:F425)","v":0.42096281640231326},{"$f":"SUM(G417:G425)","v":0.49296865920272731},{"$f":"SUM(H417:H425)","v":0.53869214914746111},{"$f":"SUM(I417:I425)","v":0.46102970330439763},{"$f":"SUM(J417:J425)","v":0.3158666591460319},{"$f":"SUM(K417:K425)","v":0.30650344584176992},null,{"$f":"M$13","v":"Liquid gas"},0,0,0,0,0,0,0,0,0,0]
[null,null,null,null,null,null,null,null,null,null,null,null,{"$f":"M$14","v":"heating oil / diesel"},0,0,0,0,0,0,0,0,0,0]
["Energy consumption (MWh /Einwohner and  Year) - Secondary sector (Industrie)",null,null,null,null,null,null,null,null,null,null,null,{"$f":"M$15","v":"gasoline"},0,0,0,0,0,0,0,0,0,0]
["Energieträger",2000,2001,2002,2003,2004,2005,2006,2007,2008,2009,null,{"$f":"M$16","v":"Lignite / Coal"},3268611.111111111,1548888.8888888888,5498888.8888888881,7246666.666666666,6837500,4188333.333333333,3869722.222222222,4155833.333333333,4401944.444444444,4901111.111111111]
["Electricity",0.28541065563358559,0.25541557411489263,0.24022459552545514,0.36026895969790501,0.27131858875154269,0.62021935544966578,0.68087067981671689,0.58271961126717786,0.77274521969654242,0.75232663979343528,null,{"$f":"M$17","v":"other fossil fuels"},0,0,0,0,0,0,0,0,0,0]
["Heat and Cold",0,0,0,0,0,0,0,0,0,0,null,{"$f":"M$18","v":"Plant oil, biofuel"},0,0,0,0,0,0,0,0,0,0]
["natural gas",0,0,0,0,0,0,0,0,0,0,null,"Summe",{"$f":"SUM(N423:N431)","v":4666666.666666666},2811944.444444444,6697777.7777777771,9063611.1111111101,8222500,7390277.777777778,7422777.777777778,7225833.333333333,8511944.444444444,8951111.1111111119]
["Liquid gas",0,0,0,0,0,0,0,0,0,0]
["heating oil / diesel",0,0,0,0,0,0,0,0,0,0,null,"Energy consumption, Business (Mwh/year) - Energy consumption - Services"]
["gasoline",0,0,0,0,0,0,0,0,0,0,null,{"$f":"M$9","v":"Energieträger"},2000,2001,2002,2003,2004,2005,2006,2007,2008,2009]
["Lignite / Coal",0.66728137986099767,0.31321689933244806,1.1018271763257437,1.4368898670843824,1.3394518776813524,0.81128372008936056,0.74155339227008699,0.78882266595803907,0.82763540798398938,0.91042875394481282,null,{"$f":"M$10","v":"Electricity"},723055.5555555555,910000,861944.4444444445,1078888.888888889,981944.4444444445,543888.88888888888,603888.88888888888,521944.44444444444,0,0]
["other fossil fuels",0,0,0,0,0,0,0,0,0,0,null,{"$f":"M$11","v":"Heat and Cold"},4020000,3928055.5555555555,3604166.6666666665,3568055.5555555555,3450555.5555555555,2040833.3333333333,2066944.4444444443,2189166.6666666665,2707222.222222222,2833333.3333333335]
["Plant oil, biofuel",0,0,0,0,0,0,0,0,0,0,null,{"$f":"M$12","v":"natural gas"},2107777.777777778,1539722.2222222222,4064444.4444444445,2960277.777777778,3232777.777777778,2980833.3333333335,3114166.6666666665,3345833.333333333,3543333.333333333,3664166.6666666665]
["Summe",{"$f":"SUM(B430:B438)","v":0.95269203549458326},{"$f":"SUM(C430:C438)","v":0.56863247344734069},{"$f":"SUM(D430:D438)","v":1.3420517718511988},{"$f":"SUM(E430:E438)","v":1.7971588267822873},{"$f":"SUM(F430:F438)","v":1.610770466432895},{"$f":"SUM(G430:G438)","v":1.4315030755390263},{"$f":"SUM(H430:H438)","v":1.422424072086804},{"$f":"SUM(I430:I438)","v":1.3715422772252168},{"$f":"SUM(J430:J438)","v":1.6003806276805319},{"$f":"SUM(K430:K438)","v":1.662755393738248},null,{"$f":"M$13","v":"Liquid gas"},0,0,0,0,0,0,0,0,0,0]
[null,null,null,null,null,null,null,null,null,null,null,null,{"$f":"M$14","v":"heating oil / diesel"},2544722.222222222,2285833.3333333335,1695000,1986388.888888889,2308888.8888888885,1896388.888888889,2030000,3521388.8888888885,2838888.8888888885,9374444.444444444]
["Energy consumption (MWh /Einwohner and  Year) - Tertiary sector (Services)",null,null,null,null,null,null,null,null,null,null,null,{"$f":"M$15","v":"gasoline"},0,0,0,0,0,0,0,0,0,0]
["Energieträger",2000,2001,2002,2003,2004,2005,2006,2007,2008,2009,null,{"$f":"M$16","v":"Lignite / Coal"},0,0,0,179166.66666666666,105833.33333333333,0,0,0,0,0]
["Electricity",0.14761055764240477,0.18402054559058462,0.17271012973018704,0.21392518566987667,0.19236085263471792,0.10535173921839555,0.11572299725756724,9.9070769957566709E-2,0,0,null,{"$f":"M$17","v":"other fossil fuels"},101111.11111111111,101111.11111111111,101111.11111111111,101111.11111111111,0,0,0,0,0,0]
["Heat and Cold",0,0,0,0,0,0,0,0,0,0,null,{"$f":"M$18","v":"Plant oil, biofuel"},95833.333333333328,82222.222222222219,82222.222222222219,83333.333333333328,83333.333333333328,45555.555555555555,45555.555555555555,41666.666666666664,41666.666666666664,41666.666666666664]
["natural gas",0.43029923603172016,0.3113632125178909,0.81440367973319261,0.5869723747898753,0.63329437141806144,0.57738994563462853,0.59676656957432672,0.63507579783868595,0.66620289419093637,0.68065436937690016,null,"Summe",{"$f":"SUM(N436:N444)","v":9592500.0000000019},8846944.4444444459,10408888.88888889,9957222.2222222239,10163333.333333334,7507500.0000000009,7860555.555555556,9619999.9999999981,9131111.1111111101,15913611.11111111]
["Liquid gas",0,0,0,0,0,0,0,0,0,0]
["heating oil / diesel",0.51950069864082604,0.46224208475730189,0.33963171498988121,0.39386689050599588,0.45230648008480195,0.3673321366925365,0.38900812509581478,0.66839816431722887,0.53375616013102611,1.7413936515602779]
["gasoline",0,0,0,0,0,0,0,0,0,0]
["Lignite / Coal",0,0,0,3.5525680936423901E-2,2.0732527539979496E-2,0,0,0,0,0]
["other fossil fuels",2.0641660769049303E-2,2.0446727287842734E-2,2.025990564672513E-2,2.0048601334664032E-2,0,0,0,0,0,0]
["Plant oil, biofuel",1.9564211443192335E-2,1.6627009003300684E-2,1.647508810832593E-2,1.6523572528569255E-2,1.6324824834629523E-2,8.8241497608870633E-3,8.7297937213620183E-3,7.9087895123124037E-3,7.8339945224710286E-3,7.7399860061053002E-3]
["Summe",{"$f":"SUM(B443:B451)","v":1.1376163645271928},{"$f":"SUM(C443:C451)","v":0.99469957915692075},{"$f":"SUM(D443:D451)","v":1.3634805182083121},{"$f":"SUM(E443:E451)","v":1.2668623057654052},{"$f":"SUM(F443:F451)","v":1.3150190565121902},{"$f":"SUM(G443:G451)","v":1.0588979713064477},{"$f":"SUM(H443:H451)","v":1.1102274856490708},{"$f":"SUM(I443:I451)","v":1.4104535216257941},{"$f":"SUM(J443:J451)","v":1.2077930488444335},{"$f":"SUM(K443:K451)","v":2.4297880069432831}]
[]
["Energy consumption (MWh /Einwohner and  Year) - Road"]
["Energieträger",2000,2001,2002,2003,2004,2005,2006,2007,2008,2009]
["Electricity",0,0,0,0,0,0,0,0,0,0]
["Heat and Cold",0,0,0,0,0,0,0,0,0,0]
["natural gas",0,0,0,0,0,0,0,0,0,0]
["Liquid gas",0,0,0,0,0,0,0,0,0,0]
["heating oil / diesel",0,0,0,0,0,0,0,0,0,0]
["gasoline",0.39888308200410111,0.37040032894515107,0.41594031565378276,0.53993527165854804,0.70332786995862207,0.66703039381534712,0.53821307510177663,1.0407439745568969,1.0745106887021265,0.61249089261646616]
["Lignite / Coal",0,0,0,0,0,0,0,0,0,0]
["other fossil fuels",0,0,0,0,0,0,0,0,0,0]
["Plant oil, biofuel",0,0,0,0,0,0,0,0,0,0]
["Summe",{"$f":"SUM(B456:B464)","v":0.39888308200410111},0.37040032894515107,0.41594031565378276,0.53993527165854804,0.70332786995862207,0.66703039381534712,0.53821307510177663,1.0407439745568969,1.0745106887021265,0.61249089261646616]
[]
["Energy consumption (MWh /Einwohner and  Year) - Rail"]
["Energieträger",2000,2001,2002,2003,2004,2005,2006,2007,2008,2009]
["Electricity",1.0434246103035911E-2,1.1740016492195417E-2,1.1020498126515319E-2,1.5256765301378946E-2,1.2515699039882634E-2,1.3290030432555517E-2,1.6075595755191033E-2,1.3866744278254415E-2,3.3947309597374461E-3,3.3539939359789636E-3]
["Heat and Cold",0,0,0,0,0,0,0,0,0,0]
["natural gas",0,0,0,0,0,0,0,0,1.5667989044942057E-2,1.54799720122106E-2]
["Liquid gas",0,0,0,0,0,0,0,0,0,0]
["heating oil / diesel",0,0,0,0,0,0,0,0,0,0]
["gasoline",0,0,0,0,0,0,0,0,0,0]
["Lignite / Coal",0,0,0,0,0,0,0,0,0,0]
["other fossil fuels",0,0,0,0,0,0,0,0,0,0]
["Plant oil, biofuel",0,0,0,0,0,0,0,0,0,0]
["Summe",{"$f":"SUM(B469:B477)","v":1.0434246103035911E-2},1.1740016492195417E-2,1.1020498126515319E-2,1.5256765301378946E-2,1.2515699039882634E-2,1.3290030432555517E-2,1.6075595755191033E-2,1.3866744278254415E-2,1.9062720004679505E-2,1.8833965948189563E-2]
[]
[]
["Moldova",null,null,null,null,null,null,null,null,null,null,null,"Moldova",null,null,null,null,null,null,null,null,null,null,null,"Moldova",null,null,null,null,null,null,null,null,null,null,null,"Moldova"]
["Energy consumption (MWh /Einwohner and  Year) - Residential building (Households)",null,null,null,null,null,null,null,null,null,null,null,"Workforce (Number) - Nationale Eingabe",null,null,null,null,null,null,null,null,null,null,null,"CO2 emission Factor (t /Mwh)"]
["Energieträger",2000,2001,2002,2003,2004,2005,2006,2007,2008,2009,null,"Branche of trade",2000,2001,2002,2003,2004,2005,2006,2007,2008,2009,null,"Energieträger",2000,2001,2002,2003,2004,2005,2006,2007,2008,2009,null,null,"2000","2001","2002","2003","2004","2005","2006","2007","2008","2009"]
["Electricity",0.57546196010219952,0.5925073294671197,0.5645934983547205,0.23211777429824085,0.23446600298451636,0.28927603665127383,0.32181911937149676,0.36204494165904366,0.38405322616692189,0.40666333296219459,null,"primary sector",770000,765000,747000,583000,533000,536000,422000,409000,389000,334000,null,"Electricity",0.876,0.86299999999999999,0.66900000000000004,0.60299999999999998,0.625,0.625,0.625,0.59299999999999997,0.747,0.68400000000000005,null,"Einwohnerzahlen",3639588,3631460,3623059,3612869,3603934,3595182,3585520,3576904,3570107,3565603]
["Heat and Cold",0.45907210742900934,0.43539268258802549,0.45664297612720195,0.4146443049984806,0.36472489353146986,0.38152913167307434,0.43175203472733537,0.41469755222207061,0.41151894513712522,0.42130944533707826,null,"secondary sector",210000,208000,217000,218000,214000,211000,229000,234000,246000,228000,null,"Heat and Cold",0.19889795918367348,0.19889795918367348,0.19889795918367348,0.19889795918367348,0.19889795918367348,0.19889795918367348,0.19889795918367348,0.19889795918367348,0.16233333333333333,0.16233333333333333,null,"Passengers cars",196537.75200000001,null,228252.717,216772.14,234255.71,251662.74,301183.68,318344.45600000001,360580.80699999997,407711]
["natural gas",0.57996491177939191,0.59472559858079721,0.62761574925743369,0.79099955680036504,0.98588252602726789,1.0256782549534349,0.98451549566032259,0.82473558138546632,0.87454583916454665,0.9036183906184857,null,"tertiary sector",534000,526000,541000,556000,569000,571000,606000,605000,616000,622000,null,"natural gas",0.20200000000000001,0.20200000000000001,0.20200000000000001,0.20200000000000001,0.20200000000000001,0.20200000000000001,0.20200000000000001,0.20200000000000001,0.20200000000000001,0.20200000000000001,null,"Road passenger  (million pkm)",1021,1069,1298,1640,1949,2059,2206,2475,2599,2475]
["Liquid gas",0,0,0,0,0,0,0,0,0,0,null,null,null,null,null,null,null,null,null,null,null,null,null,"Liquid gas",0.23100000000000001,0.23100000000000001,0.23100000000000001,0.23100000000000001,0.23100000000000001,0.23100000000000001,0.23100000000000001,0.23100000000000001,0.23100000000000001,0.23100000000000001,null,"Road goods transporterd (million ton-km)",1001,964,1153,1577,2162,null,null,null,2013,2714]
["heating oil / diesel",0,0,0,0,0.36356874953253243,0.35131894728988838,0.28641436791440139,0.26403963999158059,0.30422368604389477,0.33436762932447112,null,"Energy consumption, Business (Mwh/year) - Energy consumption - Agriculture",null,null,null,null,null,null,null,null,null,null,null,"heating oil / diesel",0.26700000000000002,0.26700000000000002,0.26700000000000002,0.26700000000000002,0.26700000000000002,0.26700000000000002,0.26700000000000002,0.26700000000000002,0.26700000000000002,0.26700000000000002,null,"Railways, passengers (million pkm)",null,null,null,null,null,null,null,null,485,423]
["gasoline",0,0,0,0,0.46423035370668708,0.46876007328079017,0.41889166548909063,0.41306671915153442,0.44124105461762847,0.48635999764041776,null,"Energieträger",2000,2001,2002,2003,2004,2005,2006,2007,2008,2009,null,"gasoline",0.249,0.249,0.249,0.249,0.249,0.249,0.249,0.249,0.249,0.249,null,"Railways, goods transported (million ton-km)",null,null,2715,3000,null,2980,3655,3092,3092,1017]
["Lignite / Coal",9.6317373162994158E-2,5.8363425301240945E-2,0.11699751201647252,0.18029684687955441,0.10027622284117547,9.0476025352201297E-2,0.13387179544389657,7.7891693797516245E-2,6.5046291952096172E-2,7.9618759825165308E-2,null,{"$f":"M$10","v":"Electricity"},105000,98888.888888888891,96944.444444444438,113888.88888888889,78888.888888888891,83888.888888888891,86944.444444444438,50000,53888.888888888883,58888.888888888883,null,"Lignite / Coal",0.36399999999999999,0.36399999999999999,0.36399999999999999,0.36399999999999999,0.36399999999999999,0.36399999999999999,0.36399999999999999,0.36399999999999999,0.36399999999999999,0.36399999999999999]
["other fossil fuels",0,0,0,0,0.16147477851826489,0.16542200707007937,0.1516903793282115,0.15912271245374957,0.15234526272990945,0.14903198389974678,null,{"$f":"M$11","v":"Heat and Cold"},28055.555555555555,11944.444444444445,3055.5555555555552,3333.333333333333,16388.888888888891,17222.222222222223,11388.888888888889,9444.4444444444453,12500,11944.444444444445,null,"other fossil fuels",0.38200000000000001,0.38200000000000001,0.38200000000000001,0.38200000000000001,0.38200000000000001,0.38200000000000001,0.38200000000000001,0.38200000000000001,0.38200000000000001,0.38200000000000001]
["Plant oil, biofuel",0.13211202293592939,0.11894511971615947,0.14398514257335213,0.15100341461468864,0.1506841011948486,0.16024532585863835,0.23783935880368196,0.1924383023232755,0.2177805875286091,0.21501739443978105,null,{"$f":"M$12","v":"natural gas"},164722.22222222222,143055.55555555553,187222.22222222222,198611.11111111112,197222.22222222222,211111.11111111112,181388.88888888888,185555.55555555553,75277.777777777766,20555.555555555555,null,"Plant oil, biofuel",0,0,0,0,0,0,0,0,0,0]
["Summe",{"$f":"SUM(B484:B492)","v":1.8429283754095245},{"$f":"SUM(C484:C492)","v":1.7999341556533428},{"$f":"SUM(D484:D492)","v":1.9098348783291808},{"$f":"SUM(E484:E492)","v":1.7690618975913297},{"$f":"SUM(F484:F492)","v":2.8253076283367626},{"$f":"SUM(G484:G492)","v":2.932705802129381},{"$f":"SUM(H484:H492)","v":2.9667942167384367},{"$f":"SUM(I484:I492)","v":2.7080371429842369},{"$f":"SUM(J484:J492)","v":2.8507548933407314},{"$f":"SUM(K484:K492)","v":2.9959869340473406},null,{"$f":"M$13","v":"Liquid gas"},0,0,0,0,0,0,0,0,0,0,null,null,null,null,null,null,null,null,null,null,null,null,null,"Passengers cars",196537.75200000001,0,228252.717,216772.14,234255.71,251662.74,301183.68,318344.45600000001,360580.80699999997,407711]
[null,null,null,null,null,null,null,null,null,null,null,null,{"$f":"M$14","v":"heating oil / diesel"},942500,898888.88888888888,855277.77777777775,768333.33333333326,731944.4444444445,661111.11111111112,661111.11111111112,578333.33333333337,554722.22222222213,507500,null,null,null,null,null,null,null,null,null,null,null,null,null,"Road passenger  (million pkm)",1021,1069,1298,1640,1949,2059,2206,2475,2599,2475]
["Energy consumption (MWh /Einwohner and  Year) - Primary sector (Agriculture)",null,null,null,null,null,null,null,null,null,null,null,{"$f":"M$15","v":"gasoline"},0,0,0,0,0,0,0,0,0,0,null,null,null,null,null,null,null,null,null,null,null,null,null,"Road goods transporterd (million ton-km)",1001,964,1153,1577,2162,null,null,null,2013,2714]
["Energieträger",2000,2001,2002,2003,2004,2005,2006,2007,2008,2009,null,{"$f":"M$16","v":"Lignite / Coal"},0,0,0,0,0,0,0,0,0,0,null,null,null,null,null,null,null,null,null,null,null,null,null,"Railways, passengers (million pkm)",null,null,null,null,null,null,null,null,485,423]
["Electricity",2.88494192199776E-2,2.7231165671352264E-2,2.6757622341906227E-2,3.1523116085551091E-2,2.188965971321586E-2,2.3333697400823906E-2,2.4248768503437282E-2,1.3978569176024852E-2,1.5094474448213704E-2,1.6515828848273035E-2,null,{"$f":"M$17","v":"other fossil fuels"},0,0,0,0,0,0,0,0,0,0,null,null,null,null,null,null,null,null,null,null,null,null,null,"Railways, goods transported (million ton-km)",0,0,2715,3000,0,2980,3655,3092,3092,1017]
["Heat and Cold",7.7084427016342388E-3,3.2891576513150206E-3,8.4336345490248858E-4,9.2262778786978794E-4,4.5474997291539993E-3,4.7903617180499406E-3,3.1763562576387493E-3,2.6403963999158059E-3,3.501295619431014E-3,3.3499086814893428E-3,null,{"$f":"M$18","v":"Plant oil, biofuel"},1111.1111111111111,1388.8888888888889,1944.4444444444443,2222.2222222222222,2500,2500,5000,5277.7777777777774,2500,5555.5555555555557,null,null,null,null,null,null,null,null,null,null,null,null,null,null,"2000","2001","2002","2003","2004","2005","2006","2007","2008","2009"]
["natural gas",4.5258480416525776E-2,3.9393399777377568E-2,5.1675178964025209E-2,5.4973239027241542E-2,5.4724149283039647E-2,5.8720562995450892E-2,5.0589283810685448E-2,5.1876023386581115E-2,2.108558028590677E-2,5.7649591262839851E-3,null,"Summe",{"$f":"SUM(N490:N498)","v":1241388.8888888888},1154166.6666666667,1144444.4444444445,1086388.8888888888,1026944.4444444445,975833.33333333337,945833.33333333326,828611.11111111112,698888.88888888876,604444.44444444438,null,null,null,null,null,null,null,null,null,null,null,null,null,"Passengers cars",{"$f":"IFERROR(AL493/AL485-1,\"\")","v":0},{"$f":"IFERROR(AM493/AM485-1,\"\")","v":""},0,0,0,0,0,0,0,0]
["Liquid gas",0,0,0,0,0,0,0,0,0,0,null,null,null,null,null,null,null,null,null,null,null,null,null,null,null,null,null,null,null,null,null,null,null,null,null,"Road passenger  (million pkm)",{"$f":"IFERROR(AL494/AL486-1,\"\")","v":0},0,0,0,0,0,0,0,0,0]
["heating oil / diesel",0.2589578820459898,0.24752823627105597,0.23606509796770567,0.21266570510398614,0.20309596248001338,0.18388807885417516,0.18438360715073718,0.16168545013602081,0.15537971893341632,0.14233216653676811,null,"Energy consumption, Business (Mwh/year) - Energy consumption - Industry",null,null,null,null,null,null,null,null,null,null,null,null,null,null,null,null,null,null,null,null,null,null,null,"Road goods transporterd (million ton-km)",{"$f":"IFERROR(AL495/AL487-1,\"\")","v":0},0,0,0,0,"","","",0,0]
["gasoline",0,0,0,0,0,0,0,0,0,0,null,{"$f":"M$9","v":"Energieträger"},2000,2001,2002,2003,2004,2005,2006,2007,2008,2009,null,null,null,null,null,null,null,null,null,null,null,null,null,"Railways, passengers (million pkm)",{"$f":"IFERROR(AL496/AL488-1,\"\")","v":""},"","","","","","","",0,0]
["Lignite / Coal",0,0,0,0,0,0,0,0,0,0,null,{"$f":"M$10","v":"Electricity"},695000,751944.4444444445,793055.5555555555,933055.5555555555,916944.4444444445,1041111.1111111111,1021111.1111111111,1046111.1111111111,943888.88888888888,870000,null,null,null,null,null,null,null,null,null,null,null,null,null,"Railways, goods transported (million ton-km)",{"$f":"IFERROR(AL497/AL489-1,\"\")","v":""},"",0,0,"",0,0,0,0,0]
["other fossil fuels",0,0,0,0,0,0,0,0,0,0,null,{"$f":"M$11","v":"Heat and Cold"},623055.5555555555,643055.5555555555,252222.22222222222,263888.88888888888,1181944.4444444443,1150000,1062777.7777777778,849166.66666666663,854166.66666666663,485277.77777777775]
["Plant oil, biofuel",3.0528485947066289E-4,3.8246019201337449E-4,5.366858349379473E-4,6.1508519191319207E-4,6.936863993624744E-4,6.9537508810402367E-4,1.3944978692072558E-3,1.4755156352470678E-3,7.002591238862029E-4,1.5580970611578338E-3,null,{"$f":"M$12","v":"natural gas"},2378611.111111111,2246388.8888888885,2665000,2825555.5555555555,1326388.888888889,1391666.6666666667,1706111.111111111,1670000,984444.4444444445,545833.33333333337]
["Summe",{"$f":"SUM(B497:B505)","v":0.34107950924359809},{"$f":"SUM(C497:C505)","v":0.31782441956311419},{"$f":"SUM(D497:D505)","v":0.31587794856347751},{"$f":"SUM(E497:E505)","v":0.30069977319656171},{"$f":"SUM(F497:F505)","v":0.28495095760478534},{"$f":"SUM(G497:G505)","v":0.27142807605660391},{"$f":"SUM(H497:H505)","v":0.26379251359170591},{"$f":"SUM(I497:I505)","v":0.23165595473378964},{"$f":"SUM(J497:J505)","v":0.19576132841085403},{"$f":"SUM(K497:K505)","v":0.16952096025397231},null,{"$f":"M$13","v":"Liquid gas"},0,0,0,0,0,0,0,0,0,0]
[null,null,null,null,null,null,null,null,null,null,null,null,{"$f":"M$14","v":"heating oil / diesel"},191111.11111111112,171388.88888888888,161666.66666666666,151666.66666666666,128333.33333333334,128611.11111111111,140277.77777777778,117222.22222222222,117222.22222222222,70555.555555555562]
["Energy consumption (MWh /Einwohner and  Year) - Secondary sector (Industrie)",null,null,null,null,null,null,null,null,null,null,null,{"$f":"M$15","v":"gasoline"},0,0,0,0,11944.444444444445,11944.444444444445,0,0,0,0]
["Energieträger",2000,2001,2002,2003,2004,2005,2006,2007,2008,2009,null,{"$f":"M$16","v":"Lignite / Coal"},0,0,23611.111111111109,53055.555555555555,45555.555555555555,40555.555555555555,30833.333333333332,15555.555555555555,433611.11111111107,308888.88888888893]
["Electricity",0.19095567959889967,0.20706394795604097,0.21889115124969136,0.25825889495455151,0.25442875603283649,0.28958509224598672,0.2847874537336596,0.29246273064949774,0.26438672255170192,0.24399799977731676,null,{"$f":"M$17","v":"other fossil fuels"},0,0,0,0,0,0,0,0,0,0]
["Heat and Cold",0.17118848494817421,0.17707906890219238,6.9615819731950884E-2,7.3041366539691552E-2,0.32795951436525872,0.31987254052785086,0.29640826931038672,0.23740269983948875,0.2392552006611193,0.13609977829213676,null,{"$f":"M$18","v":"Plant oil, biofuel"},5000,4722.2222222222226,4444.4444444444443,4166.666666666667,5277.7777777777774,2500,2777.7777777777778,1388.8888888888889,3888.8888888888887,2777.7777777777778]
["natural gas",0.65353856291182166,0.61859111456243177,0.73556627148495235,0.7820808215176237,0.36803917299509065,0.38709213237790652,0.4758336618150536,0.46688421047923007,0.27574648167252258,0.15308303625875719,null,"Summe",{"$f":"SUM(N503:N511)","v":3892777.7777777775},3817499.9999999995,3900000,4231388.888888889,3616388.8888888895,3766388.888888889,3963888.8888888895,3699444.4444444445,3337222.222222222,2283333.3333333335]
["Liquid gas",0,0,0,0,0,0,0,0,0,0]
["heating oil / diesel",5.2508995828954026E-2,4.7195587694450404E-2,4.4621593704840756E-2,4.1979564348075357E-2,3.5609235167273691E-2,3.5773185088018106E-2,3.9123412441648013E-2,3.2771978846013822E-2,3.2834372253330843E-2,1.9787832676704489E-2,null,"Energy consumption, Business (Mwh/year) - Energy consumption - Services"]
["gasoline",0,0,0,0,3.3142794636207115E-3,3.3223476431636688E-3,0,0,0,0,null,{"$f":"M$9","v":"Energieträger"},2000,2001,2002,2003,2004,2005,2006,2007,2008,2009]
["Lignite / Coal",0,0,6.516899424246503E-3,1.4685158956927459E-2,1.2640507721716199E-2,1.1280529207020829E-2,8.599403526778078E-3,4.3488881880966203E-3,0.12145605470959583,8.6630196600375561E-2,null,{"$f":"M$10","v":"Electricity"},1015833.3333333333,583888.88888888888,873888.88888888888,1028055.5555555554,891944.4444444445,953888.88888888888,908055.5555555555,890000,978888.88888888888,933888.88888888888]
["other fossil fuels",0,0,0,0,0,0,0,0,0,0,null,{"$f":"M$11","v":"Heat and Cold"},361111.11111111107,396944.44444444444,112500,117777.77777777777,610555.5555555555,636388.88888888888,721388.88888888888,627222.22222222213,632500,580555.5555555555]
["Plant oil, biofuel",1.3737818676179832E-3,1.3003646528454732E-3,1.2267104798581654E-3,1.1532847348372352E-3,1.4644490653207792E-3,6.9537508810402367E-4,7.7472103844847544E-4,3.882935882229126E-4,1.0892919704896488E-3,7.7904853057891691E-4,null,{"$f":"M$12","v":"natural gas"},561666.66666666663,616666.66666666663,594722.22222222213,630555.5555555555,668333.33333333337,750000,809444.4444444445,873888.88888888888,888333.33333333326,1276388.888888889]
["Summe",{"$f":"SUM(B510:B518)","v":1.0695655051554676},{"$f":"SUM(C510:C518)","v":1.0512300837679611},{"$f":"SUM(D510:D518)","v":1.0764384460755403},{"$f":"SUM(E510:E518)","v":1.1711990910517067},{"$f":"SUM(F510:F518)","v":1.0034559148111173},{"$f":"SUM(G510:G518)","v":1.0476212021780507},{"$f":"SUM(H510:H518)","v":1.1055269218659745},{"$f":"SUM(I510:I518)","v":1.0342588015905501},{"$f":"SUM(J510:J518)","v":0.93476812381876018},{"$f":"SUM(K510:K518)","v":0.6403778921358696},null,{"$f":"M$13","v":"Liquid gas"},0,0,0,0,0,0,0,0,0,0]
[null,null,null,null,null,null,null,null,null,null,null,null,{"$f":"M$14","v":"heating oil / diesel"},0,0,0,0,46944.444444444445,46944.444444444445,35277.777777777781,46944.444444444445,81388.888888888891,80833.333333333328]
["Energy consumption (MWh /Einwohner and  Year) - Tertiary sector (Services)",null,null,null,null,null,null,null,null,null,null,null,{"$f":"M$15","v":"gasoline"},0,0,0,0,72500,72500,84444.444444444438,96388.888888888891,72500,12222.222222222221]
["Energieträger",2000,2001,2002,2003,2004,2005,2006,2007,2008,2009,null,{"$f":"M$16","v":"Lignite / Coal"},0,0,0,0,536666.66666666663,485277.77777777775,443888.88888888888,356111.11111111107,335555.55555555556,309722.22222222225]
["Electricity",0.27910668277105355,0.16078626472242263,0.24120194810211174,0.28455378690884042,0.24749189203921174,0.26532422806102413,0.25325630746880662,0.24881853133324239,0.27419035028610877,0.26191611598063186,null,{"$f":"M$17","v":"other fossil fuels"},0,0,0,0,25277.777777777777,25277.777777777777,25277.777777777777,25277.777777777777,25277.777777777777,101111.11111111111]
["Heat and Cold",0,0,0,0,0,0,0,0,0,0,null,{"$f":"M$18","v":"Plant oil, biofuel"},0,0,0,0,140277.77777777778,109166.66666666666,104166.66666666666,101388.88888888889,109722.22222222222,94166.666666666672]
["natural gas",0.1543214964624201,0.16981232525393825,0.16414919608602072,0.17453042320536824,0.18544549742956817,0.20861252643120709,0.22575371060388577,0.24431432570985659,0.24882540868756406,0.35797279980101232,null,"Summe",{"$f":"SUM(N516:N524)","v":1938611.111111111},1597500,1581111.111111111,1776388.8888888888,2992500.0000000005,3079444.4444444445,3131944.444444445,3017222.2222222225,3124166.6666666665,3388888.8888888885]
["Liquid gas",0,0,0,0,0,0,0,0,0,0]
["heating oil / diesel",0,0,0,0,1.3025889054695353E-2,1.3057598876620001E-2,9.8389571882956401E-3,1.3124323281934445E-2,2.2797324810961937E-2,2.2670312239846481E-2]
["gasoline",0,0,0,0,2.011690558151176E-2,2.0165877555016688E-2,2.3551519568833654E-2,2.6947575022670135E-2,2.0307514592699881E-2,3.4278135345472338E-3]
["Lignite / Coal",0,0,0,0,0.14891134706314452,0.13498003099085881,0.12380042194406637,9.9558476020354766E-2,9.3990335739392555E-2,8.6863911159549237E-2]
["other fossil fuels",0,0,0,0,7.0139402602205749E-3,7.0310147797184612E-3,7.0499614498811267E-3,7.0669433056570084E-3,7.0803978081827174E-3,2.8357366513072572E-2]
["Plant oil, biofuel",0,0,0,0,3.8923514630894399E-2,3.0364712180542364E-2,2.9052038941817827E-2,2.8345431940272618E-2,3.0733594881672235E-2,2.6409745186625283E-2]
["Summe",{"$f":"SUM(B523:B531)","v":0.43342817923347365},{"$f":"SUM(C523:C531)","v":0.33059858997636088},{"$f":"SUM(D523:D531)","v":0.40535114418813245},{"$f":"SUM(E523:E531)","v":0.45908421011420864},{"$f":"SUM(F523:F531)","v":0.66092898605924655},{"$f":"SUM(G523:G531)","v":0.67953598887498756},{"$f":"SUM(H523:H531)","v":0.67230291716558699},{"$f":"SUM(I523:I531)","v":0.66817560661398789},{"$f":"SUM(J523:J531)","v":0.69792492680658214},{"$f":"SUM(K523:K531)","v":0.78761806441528504}]
[]
["Energy consumption (MWh /Einwohner and  Year) - Road"]
["Energieträger",2000,2001,2002,2003,2004,2005,2006,2007,2008,2009]
["Electricity",0,0,0,0,0,0,1.3944978692072559E-2,1.4522180199536931E-2,1.4005182477724056E-2,1.2620586195378454E-2]
["Heat and Cold",0,0,0,0,0,0,0,0,0,0]
["natural gas",3.9305425656847845E-2,3.9393399777377568E-2,4.2551519770080107E-2,4.5208761605619617E-2,3.730491303238196E-2,4.0022699515320469E-2,3.4475086210957157E-2,3.5334716528285043E-2,2.3731003642810208E-2,6.1544833915734426E-3]
["Liquid gas",0,0,0,0,0,0,0,0,0,0]
["heating oil / diesel",0.24590695430361897,0.28799252458607094,0.33029179670181102,0.37289539759737267,0.40619192496002676,0.43337320768616316,0.49713849037238672,0.60395184712191829,0.63482379908750308,0.56613456717169885]
["gasoline",0.24514374215494231,0.24530996715737838,0.24549543478161534,0.24580341981830936,0.23716367231537042,0.24114062777473977,0.24519920866894249,0.27312570995599672,0.26337523715053296,0.21922425650490721]
["Lignite / Coal",0,0,0,0,0,0,0,0,0,0]
["other fossil fuels",1.9080303716916432E-3,5.2779506497845682E-3,8.7403121689894267E-3,1.214793254028554E-2,1.7573388783849352E-2,1.7616168898635265E-2,1.766363967662524E-2,2.1200829916971024E-2,3.5401989040913587E-2,3.5446708141340717E-2]
["Plant oil, biofuel",0,0,0,0,0,0,0,0,0,0]
["Summe",{"$f":"SUM(B536:B544)","v":0.53226415248710079},0.57797384217061143,0.62707906342249586,0.67605551156158716,0.69823389909162858,0.73215270387485865,0.80842140362098414,0.94813528372270806,0.97133721139948404,0.83958060140489865]
[]
["Energy consumption (MWh /Einwohner and  Year) - Rail"]
["Energieträger",2000,2001,2002,2003,2004,2005,2006,2007,2008,2009]
["Electricity",3.0223201087595628E-3,9.179044608320987E-4,8.4336345490248858E-4,9.995134368589371E-4,0,0,0,0,0,0]
["Heat and Cold",0,0,0,0,0,0,0,0,0,0]
["natural gas",0,0,0,0,0,0,0,0,0,0]
["Liquid gas",0,0,0,0,0,0,0,0,0,0]
["heating oil / diesel",7.1207693471532135E-2,7.1596547944903707E-2,7.1915901881684938E-2,7.2349395698789204E-2,5.2411861285164736E-2,7.2241745264140234E-2,9.2191803575368589E-2,9.2413873997053197E-2,8.5976259099361574E-2,4.6353387569445556E-2]
["gasoline",0,0,0,0,0,0,0,0,0,0]
["Lignite / Coal",0,0,0,0,0,0,0,0,0,0]
["other fossil fuels",0,0,0,0,0,0,0,0,0,0]
["Plant oil, biofuel",0,0,0,0,0,0,0,0,0,0]
["Summe",{"$f":"SUM(B549:B557)","v":7.4230013580291701E-2},7.2514452405735799E-2,7.2759265336587428E-2,7.3348909135648135E-2,5.2411861285164736E-2,7.2241745264140234E-2,9.2191803575368589E-2,9.2413873997053197E-2,8.5976259099361574E-2,4.6353387569445556E-2]
[]
[]
["Tajikistan",null,null,null,null,null,null,null,null,null,null,null,"Tajikistan",null,null,null,null,null,null,null,null,null,null,null,"Tajikistan",null,null,null,null,null,null,null,null,null,null,null,"Tajikistan"]
["Energy consumption (MWh /Einwohner and  Year) - Residential building (Households)",null,null,null,null,null,null,null,null,null,null,null,"Workforce (Number) - Nationale Eingabe",null,null,null,null,null,null,null,null,null,null,null,"CO2 emission Factor (t /Mwh)"]
["Energieträger",2000,2001,2002,2003,2004,2005,2006,2007,2008,2009,null,"Branche of trade",2000,2001,2002,2003,2004,2005,2006,2007,2008,2009,null,"Energieträger",2000,2001,2002,2003,2004,2005,2006,2007,2008,2009,null,null,"2000","2001","2002","2003","2004","2005","2006","2007","2008","2009"]
["Electricity",0.87934963065515515,0.46146345187176868,0.52578753188332639,0.47549105114181328,0.48409181628398285,1.0201163377707254,0.49044896617955891,0.4858694591912891,0.46402734488484948,0.43517244982883846,null,"primary sector",1133000,1218000,1255000,1275000,1391000,1425000,1432000,1430000,1447000,1468000,null,"Electricity",1.4E-2,1.0999999999999999E-2,8.0000000000000002E-3,0.01,8.9999999999999993E-3,7.0000000000000001E-3,1.2999999999999999E-2,2.1000000000000001E-2,1.7000000000000001E-2,1.7000000000000001E-2,null,"Einwohnerzahlen",6172807,6232587,6285809,6336724,6391120,6453240,6524634,6604426,6691416,6783390]
["Heat and Cold",0,0,0,0,0,0,0,0,0,0,null,"secondary sector",158000,156000,153000,146000,186000,183000,182000,177000,169000,169000,null,"Heat and Cold","n.a.","n.a.","n.a.","n.a.","n.a.","n.a.","n.a.","n.a.","n.a.","n.a.",null,"Passengers cars",null,null,null,null,null,null,null,191528.35399999999]
["natural gas",0,0,0,0,0,0,0,0,0,0,null,"tertiary sector",454000,455000,449000,464000,512000,504000,523000,542000,551000,582000,null,"natural gas",0.20200000000000001,0.20200000000000001,0.20200000000000001,0.20200000000000001,0.20200000000000001,0.20200000000000001,0.20200000000000001,0.20200000000000001,0.20200000000000001,0.20200000000000001,null,"Road passenger  (million pkm)",150.19999999999999,null,null,null,null,null,null,null,5588,8591]
["Liquid gas",0,0,0,0,0,0,0,0,0,0,null,null,null,null,null,null,null,null,null,null,null,null,null,"Liquid gas",0.23100000000000001,0.23100000000000001,0.23100000000000001,0.23100000000000001,0.23100000000000001,0.23100000000000001,0.23100000000000001,0.23100000000000001,0.23100000000000001,0.23100000000000001,null,"Road goods transporterd (million ton-km)",14572.4,null,null,null,null,null,null,null,1329,5012.8999999999996]
["heating oil / diesel",0,0,0,0,0,0,0,0,0,0,null,"Energy consumption, Business (Mwh/year) - Energy consumption - Agriculture",null,null,null,null,null,null,null,null,null,null,null,"heating oil / diesel",0.26700000000000002,0.26700000000000002,0.26700000000000002,0.26700000000000002,0.26700000000000002,0.26700000000000002,0.26700000000000002,0.26700000000000002,0.26700000000000002,0.26700000000000002,null,"Railways, passengers (million pkm)",null,null,null,null,null,null,null,null,57,45]
["gasoline",0,0,0,0,0,0,0,0,0,0,null,"Energieträger",2000,2001,2002,2003,2004,2005,2006,2007,2008,2009,null,"gasoline",0.249,0.249,0.249,0.249,0.249,0.249,0.249,0.249,0.249,0.249,null,"Railways, goods transported (million ton-km)",1326,1250,null,1087,1117,null,1220.0999999999999,1274.4000000000001,1274,1282]
["Lignite / Coal",0,0,0,0,0,0,0,0,0,0,null,{"$f":"M$10","v":"Electricity"},4513055.555555556,4500000,4195000,4256944.444444444,4371944.444444444,4461388.888888889,4480000,4493055.555555556,4346944.444444444,4133055.5555555555,null,"Lignite / Coal",0.36399999999999999,0.36399999999999999,0.36399999999999999,0.36399999999999999,0.36399999999999999,0.36399999999999999,0.36399999999999999,0.36399999999999999,0.36399999999999999,0.36399999999999999]
["other fossil fuels",0,0,0,0,0,0,0,0,0,0,null,{"$f":"M$11","v":"Heat and Cold"},0,0,0,0,0,0,0,0,0,0,null,"other fossil fuels",0.38200000000000001,0.38200000000000001,0.38200000000000001,0.38200000000000001,0.38200000000000001,0.38200000000000001,0.38200000000000001,0.38200000000000001,0.38200000000000001,0.38200000000000001]
["Plant oil, biofuel",0,0,0,0,0,0,0,0,0,0,null,{"$f":"M$12","v":"natural gas"},0,0,0,0,0,0,0,0,0,0,null,"Plant oil, biofuel",0,0,0,0,0,0,0,0,0,0]
["Summe",{"$f":"SUM(B564:B572)","v":0.87934963065515515},{"$f":"SUM(C564:C572)","v":0.46146345187176868},{"$f":"SUM(D564:D572)","v":0.52578753188332639},{"$f":"SUM(E564:E572)","v":0.47549105114181328},{"$f":"SUM(F564:F572)","v":0.48409181628398285},{"$f":"SUM(G564:G572)","v":1.0201163377707254},{"$f":"SUM(H564:H572)","v":0.49044896617955891},{"$f":"SUM(I564:I572)","v":0.4858694591912891},{"$f":"SUM(J564:J572)","v":0.46402734488484948},{"$f":"SUM(K564:K572)","v":0.43517244982883846},null,{"$f":"M$13","v":"Liquid gas"},0,0,0,0,0,0,0,0,0,0,null,null,null,null,null,null,null,null,null,null,null,null,null,"Passengers cars",null,null,null,null,null,null,null,191528.35399999999]
[null,null,null,null,null,null,null,null,null,null,null,null,{"$f":"M$14","v":"heating oil / diesel"},0,0,0,0,0,0,0,0,0,0,null,null,null,null,null,null,null,null,null,null,null,null,null,"Road passenger  (million pkm)",150.19999999999999,null,null,null,null,null,null,null,5588,8591]
["Energy consumption (MWh /Einwohner and  Year) - Primary sector (Agriculture)",null,null,null,null,null,null,null,null,null,null,null,{"$f":"M$15","v":"gasoline"},0,0,0,0,0,0,0,0,0,0,null,null,null,null,null,null,null,null,null,null,null,null,null,"Road goods transporterd (million ton-km)",14572.4,null,null,null,null,null,null,null,1329,5012.8999999999996]
["Energieträger",2000,2001,2002,2003,2004,2005,2006,2007,2008,2009,null,{"$f":"M$16","v":"Lignite / Coal"},0,0,0,0,0,0,0,0,0,0,null,null,null,null,null,null,null,null,null,null,null,null,null,"Railways, passengers (million pkm)",null,null,null,null,null,null,null,null,57,45]
["Electricity",0.7311188500718645,0.72201158202845783,0.66737630748882126,0.67178946794028649,0.6840654602705698,0.69134092159735094,0.68662855265138245,0.68030977340885579,0.64962998032769803,0.60929056939901072,null,{"$f":"M$17","v":"other fossil fuels"},0,0,0,0,0,0,0,0,0,0,null,null,null,null,null,null,null,null,null,null,null,null,null,"Railways, goods transported (million ton-km)",1326,1250,null,1087,1117,null,1220.0999999999999,1274.4000000000001,1274,1282]
["Heat and Cold",0,0,0,0,0,0,0,0,0,0,null,{"$f":"M$18","v":"Plant oil, biofuel"},0,0,0,0,0,0,0,0,0,0,null,null,null,null,null,null,null,null,null,null,null,null,null,null,"2000","2001","2002","2003","2004","2005","2006","2007","2008","2009"]
["natural gas",0,0,0,0,0,0,0,0,0,0,null,"Summe",{"$f":"SUM(N570:N578)","v":4513055.555555556},4500000,4195000,4256944.444444444,4371944.444444444,4461388.888888889,4480000,4493055.555555556,4346944.444444444,4133055.5555555555,null,null,null,null,null,null,null,null,null,null,null,null,null,"Passengers cars",{"$f":"IFERROR(AL573/AL565-1,\"\")","v":""},{"$f":"IFERROR(AM573/AM565-1,\"\")","v":""},"","","","","",0,"",""]
["Liquid gas",0,0,0,0,0,0,0,0,0,0,null,null,null,null,null,null,null,null,null,null,null,null,null,null,null,null,null,null,null,null,null,null,null,null,null,"Road passenger  (million pkm)",{"$f":"IFERROR(AL574/AL566-1,\"\")","v":0},"","","","","","","",0,0]
["heating oil / diesel",0,0,0,0,0,0,0,0,0,0,null,"Energy consumption, Business (Mwh/year) - Energy consumption - Industry",null,null,null,null,null,null,null,null,null,null,null,null,null,null,null,null,null,null,null,null,null,null,null,"Road goods transporterd (million ton-km)",{"$f":"IFERROR(AL575/AL567-1,\"\")","v":0},"","","","","","","",0,0]
["gasoline",0,0,0,0,0,0,0,0,0,0,null,{"$f":"M$9","v":"Energieträger"},2000,2001,2002,2003,2004,2005,2006,2007,2008,2009,null,null,null,null,null,null,null,null,null,null,null,null,null,"Railways, passengers (million pkm)",{"$f":"IFERROR(AL576/AL568-1,\"\")","v":""},"","","","","","","",0,0]
["Lignite / Coal",0,0,0,0,0,0,0,0,0,0,null,{"$f":"M$10","v":"Electricity"},5428055.555555556,5638888.888888889,5745000,6271944.444444444,6440000,6583055.555555556,6661944.444444444,6681944.444444444,6463888.888888889,6146111.111111111,null,null,null,null,null,null,null,null,null,null,null,null,null,"Railways, goods transported (million ton-km)",{"$f":"IFERROR(AL577/AL569-1,\"\")","v":0},0,"",0,0,"",0,0,0,0]
["other fossil fuels",0,0,0,0,0,0,0,0,0,0,null,{"$f":"M$11","v":"Heat and Cold"},0,0,0,0,0,0,0,0,0,0]
["Plant oil, biofuel",0,0,0,0,0,0,0,0,0,0,null,{"$f":"M$12","v":"natural gas"},0,0,0,0,0,0,0,0,0,0]
["Summe",{"$f":"SUM(B577:B585)","v":0.7311188500718645},{"$f":"SUM(C577:C585)","v":0.72201158202845783},{"$f":"SUM(D577:D585)","v":0.66737630748882126},{"$f":"SUM(E577:E585)","v":0.67178946794028649},{"$f":"SUM(F577:F585)","v":0.6840654602705698},{"$f":"SUM(G577:G585)","v":0.69134092159735094},{"$f":"SUM(H577:H585)","v":0.68662855265138245},{"$f":"SUM(I577:I585)","v":0.68030977340885579},{"$f":"SUM(J577:J585)","v":0.64962998032769803},{"$f":"SUM(K577:K585)","v":0.60929056939901072},null,{"$f":"M$13","v":"Liquid gas"},0,0,0,0,0,0,0,0,0,0]
[null,null,null,null,null,null,null,null,null,null,null,null,{"$f":"M$14","v":"heating oil / diesel"},0,0,0,0,0,0,0,0,0,0]
["Energy consumption (MWh /Einwohner and  Year) - Secondary sector (Industrie)",null,null,null,null,null,null,null,null,null,null,null,{"$f":"M$15","v":"gasoline"},0,0,0,0,0,0,0,0,0,0]
["Energieträger",2000,2001,2002,2003,2004,2005,2006,2007,2008,2009,null,{"$f":"M$16","v":"Lignite / Coal"},0,0,0,0,0,0,0,0,0,0]
["Electricity",0.87934963065515515,0.90474290834430215,0.91396350095906509,0.98977712212879143,1.0076481117550602,1.0201163377707254,1.0210449267260728,1.0117373477187033,0.96599716545629344,0.90605303706717599,null,{"$f":"M$17","v":"other fossil fuels"},0,0,0,0,0,0,0,0,0,0]
["Heat and Cold",0,0,0,0,0,0,0,0,0,0,null,{"$f":"M$18","v":"Plant oil, biofuel"},0,0,0,0,0,0,0,0,0,0]
["natural gas",0,0,0,0,0,0,0,0,0,0,null,"Summe",{"$f":"SUM(N583:N591)","v":5428055.555555556},5638888.888888889,5745000,6271944.444444444,6440000,6583055.555555556,6661944.444444444,6681944.444444444,6463888.888888889,6146111.111111111]
["Liquid gas",0,0,0,0,0,0,0,0,0,0]
["heating oil / diesel",0,0,0,0,0,0,0,0,0,0,null,"Energy consumption, Business (Mwh/year) - Energy consumption - Services"]
["gasoline",0,0,0,0,0,0,0,0,0,0,null,{"$f":"M$9","v":"Energieträger"},2000,2001,2002,2003,2004,2005,2006,2007,2008,2009]
["Lignite / Coal",0,0,0,0,0,0,0,0,0,0,null,{"$f":"M$10","v":"Electricity"},283055.55555555556,281111.11111111107,286944.44444444444,295000,303055.55555555556,310000,313888.88888888888,315000,305000,290000]
["other fossil fuels",0,0,0,0,0,0,0,0,0,0,null,{"$f":"M$11","v":"Heat and Cold"},876111.11111111112,888333.33333333326,940277.77777777775,1018611.1111111111,1066111.111111111,1054166.6666666667,1045000,1079444.4444444443,996388.88888888888,995277.77777777775]
["Plant oil, biofuel",0,0,0,0,0,0,0,0,0,0,null,{"$f":"M$12","v":"natural gas"},4658611.111111111,2878333.3333333335,4405277.7777777771,3320833.333333333,3414166.6666666665,3489722.222222222,3551944.4444444445,3571388.8888888885,2635555.5555555555,1777777.7777777778]
["Summe",{"$f":"SUM(B590:B598)","v":0.87934963065515515},{"$f":"SUM(C590:C598)","v":0.90474290834430215},{"$f":"SUM(D590:D598)","v":0.91396350095906509},{"$f":"SUM(E590:E598)","v":0.98977712212879143},{"$f":"SUM(F590:F598)","v":1.0076481117550602},{"$f":"SUM(G590:G598)","v":1.0201163377707254},{"$f":"SUM(H590:H598)","v":1.0210449267260728},{"$f":"SUM(I590:I598)","v":1.0117373477187033},{"$f":"SUM(J590:J598)","v":0.96599716545629344},{"$f":"SUM(K590:K598)","v":0.90605303706717599},null,{"$f":"M$13","v":"Liquid gas"},0,0,0,0,0,0,0,0,0,0]
[null,null,null,null,null,null,null,null,null,null,null,null,{"$f":"M$14","v":"heating oil / diesel"},855555.5555555555,1090000,1113333.3333333333,1172777.7777777778,1243611.111111111,1302777.7777777778,2188611.111111111,3418611.111111111,3918333.333333333,3852222.222222222]
["Energy consumption (MWh /Einwohner and  Year) - Tertiary sector (Services)",null,null,null,null,null,null,null,null,null,null,null,{"$f":"M$15","v":"gasoline"},0,0,0,0,0,0,0,0,0,0]
["Energieträger",2000,2001,2002,2003,2004,2005,2006,2007,2008,2009,null,{"$f":"M$16","v":"Lignite / Coal"},900277.77777777775,981666.66666666674,1148333.3333333333,1136944.4444444445,1177777.7777777778,477500,533611.11111111112,936111.11111111112,1028888.8888888889,1049722.2222222222]
["Electricity",4.5855241473701604E-2,4.5103439568691311E-2,4.5649564669312165E-2,4.6554023814198001E-2,4.7418223340440414E-2,4.8037884845441976E-2,4.8108275328376866E-2,4.769528797809227E-2,4.5580785890460253E-2,4.275148561412509E-2,null,{"$f":"M$17","v":"other fossil fuels"},88611.111111111109,88611.111111111109,63333.333333333328,63333.333333333328,75833.333333333328,88611.111111111109,88611.111111111109,88611.111111111109,88611.111111111109,88611.111111111109]
["Heat and Cold",0,0,0,0,0,0,0,0,0,0,null,{"$f":"M$18","v":"Plant oil, biofuel"},0,0,0,0,0,0,0,0,0,0]
["natural gas",0.75469897424479837,0.46182000080116548,0.70082908624455131,0.52406153926434751,0.53420475075834384,0.54077056210868057,0.54438983772031424,0.5407568937692524,0.39387112616455999,0.26207807273026873,null,"Summe",{"$f":"SUM(N596:N604)","v":7662222.2222222229},6208055.555555556,7957499.9999999981,7007499.9999999991,7280555.555555555,6722777.777777778,7721666.666666667,9409166.6666666679,8972777.777777778,8053611.111111111]
["Liquid gas",0,0,0,0,0,0,0,0,0,0]
["heating oil / diesel",0.13860072987144351,0.17488724986911536,0.17711854326679879,0.18507635456077584,0.19458422171874584,0.20187964150996673,0.33543814275423128,0.51762425850650928,0.58557610725941012,0.56789042384740107]
["gasoline",0,0,0,0,0,0,0,0,0,0]
["Lignite / Coal",0.14584576802381441,0.15750548956102287,0.18268664118386879,0.1794214872613111,0.18428347109392057,7.3993838753866267E-2,8.1784068058240678E-2,0.14173996515535356,0.15376250540825573,0.15474891200745089]
["other fossil fuels",1.4355075593828077E-2,1.4217388559696176E-2,1.0075605754698135E-2,9.994649180449287E-3,1.1865421605811395E-2,1.3731259198652321E-2,1.3581008698895771E-2,1.3416928452391034E-2,1.3242505190397833E-2,1.3062953937649334E-2]
["Plant oil, biofuel",0,0,0,0,0,0,0,0,0,0]
["Summe",{"$f":"SUM(B603:B611)","v":1.0993557892075858},{"$f":"SUM(C603:C611)","v":0.85353356835969119},{"$f":"SUM(D603:D611)","v":1.1163594411192292},{"$f":"SUM(E603:E611)","v":0.94510805408108178},{"$f":"SUM(F603:F611)","v":0.97235608851726196},{"$f":"SUM(G603:G611)","v":0.87841318641660793},{"$f":"SUM(H603:H611)","v":1.0233013325600588},{"$f":"SUM(I603:I611)","v":1.2612333338615986},{"$f":"SUM(J603:J611)","v":1.1920330299130839},{"$f":"SUM(K603:K611)","v":1.040531848136895}]
[]
["Energy consumption (MWh /Einwohner and  Year) - Road"]
["Energieträger",2000,2001,2002,2003,2004,2005,2006,2007,2008,2009]
["Electricity",0,0,0,0,0,0,0,0,0,0]
["Heat and Cold",0,0,0,0,0,0,0,0,0,0]
["natural gas",0,0,0,0,0,0,0,0,0,0]
["Liquid gas",0,0,0,0,0,0,0,0,0,0]
["heating oil / diesel",0,0,0,0,0,0,0,0,0,0]
["gasoline",1.3313770110313401,1.6869666908246392,1.7037495801168066,1.8442319546959736,1.9813950189220875,2.1137099778991293,0.1010699518845723,0.16272757423918782,0.15513241973829686,0.14221830415503489]
["Lignite / Coal",0,0,0,0,0,0,0,0,0,0]
["other fossil fuels",0,0,0,0,0,0,0,0,0,0]
["Plant oil, biofuel",0,0,0,0,0,0,0,0,0,0]
["Summe",{"$f":"SUM(B616:B624)","v":1.3313770110313401},1.6869666908246392,1.7037495801168066,1.8442319546959736,1.9813950189220875,2.1137099778991293,0.1010699518845723,0.16272757423918782,0.15513241973829686,0.14221830415503489]
[]
["Energy consumption (MWh /Einwohner and  Year) - Rail"]
["Energieträger",2000,2001,2002,2003,2004,2005,2006,2007,2008,2009]
["Electricity",5.3100279626072519E-3,3.8329009910152705E-3,2.87243146515517E-3,2.8493517400403671E-3,2.9554896307515568E-3,2.797905479349219E-3,2.7672901737561917E-3,2.7338568946878284E-3,2.6983161046265176E-3,2.6617304261667921E-3]
["Heat and Cold",0,0,0,0,0,0,0,0,0,0]
["natural gas",0,0,0,0,0,0,0,0,0,0]
["Liquid gas",0,0,0,0,0,0,0,0,0,0]
["heating oil / diesel",0,0,0,0,0,0,0,0,0,0]
["gasoline",0,0,0,0,0,0,0,0,0,0]
["Lignite / Coal",0,0,0,0,0,0,0,0,0,0]
["other fossil fuels",0,0,0,0,0,0,0,0,0,0]
["Plant oil, biofuel",0,0,0,0,0,0,0,0,0,0]
["Summe",{"$f":"SUM(B629:B637)","v":5.3100279626072519E-3},3.8329009910152705E-3,2.87243146515517E-3,2.8493517400403671E-3,2.9554896307515568E-3,2.797905479349219E-3,2.7672901737561917E-3,2.7338568946878284E-3,2.6983161046265176E-3,2.6617304261667921E-3]
[]
[]
["Turkmenistan",null,null,null,null,null,null,null,null,null,null,null,"Turkmenistan",null,null,null,null,null,null,null,null,null,null,null,"Turkmenistan",null,null,null,null,null,null,null,null,null,null,null,"Turkmenistan"]
["Energy consumption (MWh /Einwohner and  Year) - Residential building (Households)",null,null,null,null,null,null,null,null,null,null,null,"Workforce (Number) - Nationale Eingabe",null,null,null,null,null,null,null,null,null,null,null,"CO2 emission Factor (t /Mwh)"]
["Energieträger",2000,2001,2002,2003,2004,2005,2006,2007,2008,2009,null,"Branche of trade",2000,2001,2002,2003,2004,2005,2006,2007,2008,2009,null,"Energieträger",2000,2001,2002,2003,2004,2005,2006,2007,2008,2009,null,null,"2000","2001","2002","2003","2004","2005","2006","2007","2008","2009"]
["Electricity",0.26411424683836121,0.28475087886473033,0.28411261347204159,0.28358014427888384,0.28293670031791818,0.32985767021820056,0.34714651350708264,0.37394590532034977,0.3734844539651635,0.39198253307536002,null,"primary sector",908000,943000,980000,995000,1017000,1049600,1076600,1103590,1130600,1157600,null,"Electricity",1.369,1.3979999999999999,1.397,1.397,1.397,1.397,1.3959999999999999,1.395,1.395,1.395,null,"Einwohnerzahlen",4501419,4551737,4600093,4647912,4696771,4747839,4801847,4858843,4918396,4979672]
["Heat and Cold",0,0,0,0,0,0,0,0,0,0,null,"secondary sector",248000,262000,285000,285000,291000,306900,317790,328700,339600,350500,null,"Heat and Cold","n.a.","n.a.","n.a.","n.a.","n.a.","n.a.","n.a.","n.a.","n.a.","n.a.",null,"Passengers cars",null,null,null,null,null,null,null,null,403970]
["natural gas",0,0,0,0,0,0,0,0,0,0,null,"tertiary sector",752000,742000,748000,748000,802000,790200,800800,811400,822000,832600,null,"natural gas",0.20200000000000001,0.20200000000000001,0.20200000000000001,0.20200000000000001,0.20200000000000001,0.20200000000000001,0.20200000000000001,0.20200000000000001,0.20200000000000001,0.20200000000000001,null,"Road passenger  (million pkm)"]
["Liquid gas",0,0,0,0,0,0,0,0,0,0,null,null,null,null,null,null,null,null,null,null,null,null,null,"Liquid gas",0.23100000000000001,0.23100000000000001,0.23100000000000001,0.23100000000000001,0.23100000000000001,0.23100000000000001,0.23100000000000001,0.23100000000000001,0.23100000000000001,0.23100000000000001,null,"Road goods transporterd (million ton-km)"]
["heating oil / diesel",0,0,0,0,0,0,0,0,0,0,null,"Energy consumption, Business (Mwh/year) - Energy consumption - Agriculture",null,null,null,null,null,null,null,null,null,null,null,"heating oil / diesel",0.26700000000000002,0.26700000000000002,0.26700000000000002,0.26700000000000002,0.26700000000000002,0.26700000000000002,0.26700000000000002,0.26700000000000002,0.26700000000000002,0.26700000000000002,null,"Railways, passengers (million pkm)",null,null,null,null,null,8670,8670,10441,10973,11547]
["gasoline",0,0,0,0,0,0,0,0,0,0,null,"Energieträger",2000,2001,2002,2003,2004,2005,2006,2007,2008,2009,null,"gasoline",0.249,0.249,0.249,0.249,0.249,0.249,0.249,0.249,0.249,0.249,null,"Railways, goods transported (million ton-km)"]
["Lignite / Coal",0,0,0,0,0,0,0,0,0,0,null,{"$f":"M$10","v":"Electricity"},1800000,1961111.111111111,1978055.5555555555,1995000,2011944.4444444443,2368888.8888888885,2521944.4444444445,2748888.8888888885,2778888.8888888885,2953055.5555555555,null,"Lignite / Coal",0.36399999999999999,0.36399999999999999,0.36399999999999999,0.36399999999999999,0.36399999999999999,0.36399999999999999,0.36399999999999999,0.36399999999999999,0.36399999999999999,0.36399999999999999]
["other fossil fuels",0,0,0,0,0,0,0,0,0,0,null,{"$f":"M$11","v":"Heat and Cold"},0,0,0,0,0,0,0,0,0,0,null,"other fossil fuels",0.38200000000000001,0.38200000000000001,0.38200000000000001,0.38200000000000001,0.38200000000000001,0.38200000000000001,0.38200000000000001,0.38200000000000001,0.38200000000000001,0.38200000000000001]
["Plant oil, biofuel",0,0,0,0,0,0,0,0,0,0,null,{"$f":"M$12","v":"natural gas"},0,0,0,0,0,0,0,0,0,0,null,"Plant oil, biofuel",0,0,0,0,0,0,0,0,0,0,null,"Passengers cars"]
["Summe",{"$f":"SUM(B644:B652)","v":0.26411424683836121},{"$f":"SUM(C644:C652)","v":0.28475087886473033},{"$f":"SUM(D644:D652)","v":0.28411261347204159},{"$f":"SUM(E644:E652)","v":0.28358014427888384},{"$f":"SUM(F644:F652)","v":0.28293670031791818},{"$f":"SUM(G644:G652)","v":0.32985767021820056},{"$f":"SUM(H644:H652)","v":0.34714651350708264},{"$f":"SUM(I644:I652)","v":0.37394590532034977},{"$f":"SUM(J644:J652)","v":0.3734844539651635},{"$f":"SUM(K644:K652)","v":0.39198253307536002},null,{"$f":"M$13","v":"Liquid gas"},0,0,0,0,0,0,0,0,0,0,null,null,null,null,null,null,null,null,null,null,null,null,null,"Road passenger  (million pkm)",null,null,null,null,null,null,null,null,403970]
[null,null,null,null,null,null,null,null,null,null,null,null,{"$f":"M$14","v":"heating oil / diesel"},0,0,0,0,0,0,0,0,0,0,null,null,null,null,null,null,null,null,null,null,null,null,null,"Road goods transporterd (million ton-km)"]
["Energy consumption (MWh /Einwohner and  Year) - Primary sector (Agriculture)",null,null,null,null,null,null,null,null,null,null,null,{"$f":"M$15","v":"gasoline"},0,0,0,0,0,0,0,0,0,0,null,null,null,null,null,null,null,null,null,null,null,null,null,"Railways, passengers (million pkm)"]
["Energieträger",2000,2001,2002,2003,2004,2005,2006,2007,2008,2009,null,{"$f":"M$16","v":"Lignite / Coal"},0,0,0,0,0,0,0,0,0,0,null,null,null,null,null,null,null,null,null,null,null,null,null,"Railways, goods transported (million ton-km)",null,null,null,null,null,8670,8670,10441,10973,11547]
["Electricity",0.399873906428173,0.43084895087548136,0.43000338374801456,0.42922499393275948,0.42836758369621264,0.49894044193345405,0.52520299885532473,0.56574968338941767,0.56499901368025029,0.59302210176805936,null,{"$f":"M$17","v":"other fossil fuels"},0,0,0,0,0,0,0,0,0,0,null,null,null,null,null,null,null,null,null,null,null,null,null,null,"2000","2001","2002","2003","2004","2005","2006","2007","2008","2009"]
["Heat and Cold",0,0,0,0,0,0,0,0,0,0,null,{"$f":"M$18","v":"Plant oil, biofuel"},0,0,0,0,0,0,0,0,0,0,null,null,null,null,null,null,null,null,null,null,null,null,null,"Passengers cars",{"$f":"IFERROR(AL653/AL645-1,\"\")","v":""},{"$f":"IFERROR(AM653/AM645-1,\"\")","v":""},"","","","","","",0,""]
["natural gas",0,0,0,0,0,0,0,0,0,0,null,"Summe",{"$f":"SUM(N650:N658)","v":1800000},1961111.111111111,1978055.5555555555,1995000,2011944.4444444443,2368888.8888888885,2521944.4444444445,2748888.8888888885,2778888.8888888885,2953055.5555555555,null,null,null,null,null,null,null,null,null,null,null,null,null,"Road passenger  (million pkm)",{"$f":"IFERROR(AL654/AL646-1,\"\")","v":""},"","","","","","","","",""]
["Liquid gas",0,0,0,0,0,0,0,0,0,0,null,null,null,null,null,null,null,null,null,null,null,null,null,null,null,null,null,null,null,null,null,null,null,null,null,"Road goods transporterd (million ton-km)","","","","","","","","","",""]
["heating oil / diesel",0,0,0,0,0,0,0,0,0,0,null,"Energy consumption, Business (Mwh/year) - Energy consumption - Industry",null,null,null,null,null,null,null,null,null,null,null,null,null,null,null,null,null,null,null,null,null,null,null,"Railways, passengers (million pkm)","","","","","",0,0,0,0,0]
["gasoline",0,0,0,0,0,0,0,0,0,0,null,{"$f":"M$9","v":"Energieträger"},2000,2001,2002,2003,2004,2005,2006,2007,2008,2009,null,null,null,null,null,null,null,null,null,null,null,null,null,"Railways, goods transported (million ton-km)","","","","","","","","","",""]
["Lignite / Coal",0,0,0,0,0,0,0,0,0,0,null,{"$f":"M$10","v":"Electricity"},2043055.5555555555,2226111.111111111,2243888.8888888885,2261944.4444444445,2280000,2683888.8888888885,2856111.111111111,3113888.8888888885,3148055.5555555555,3345000]
["other fossil fuels",0,0,0,0,0,0,0,0,0,0,null,{"$f":"M$11","v":"Heat and Cold"},0,0,0,0,0,0,0,0,0,0]
["Plant oil, biofuel",0,0,0,0,0,0,0,0,0,0,null,{"$f":"M$12","v":"natural gas"},3587500,3751944.4444444445,3805555.5555555555,4223611.111111111,4440833.333333333,4690000,4891111.111111111,5730000,5762222.222222222,8141111.111111111]
["Summe",{"$f":"SUM(B657:B665)","v":0.399873906428173},{"$f":"SUM(C657:C665)","v":0.43084895087548136},{"$f":"SUM(D657:D665)","v":0.43000338374801456},{"$f":"SUM(E657:E665)","v":0.42922499393275948},{"$f":"SUM(F657:F665)","v":0.42836758369621264},{"$f":"SUM(G657:G665)","v":0.49894044193345405},{"$f":"SUM(H657:H665)","v":0.52520299885532473},{"$f":"SUM(I657:I665)","v":0.56574968338941767},{"$f":"SUM(J657:J665)","v":0.56499901368025029},{"$f":"SUM(K657:K665)","v":0.59302210176805936},null,{"$f":"M$13","v":"Liquid gas"},0,0,0,0,0,0,0,0,0,0]
[null,null,null,null,null,null,null,null,null,null,null,null,{"$f":"M$14","v":"heating oil / diesel"},0,0,0,0,0,0,0,0,0,0]
["Energy consumption (MWh /Einwohner and  Year) - Secondary sector (Industrie)",null,null,null,null,null,null,null,null,null,null,null,{"$f":"M$15","v":"gasoline"},0,0,0,0,0,0,0,0,0,0]
["Energieträger",2000,2001,2002,2003,2004,2005,2006,2007,2008,2009,null,{"$f":"M$16","v":"Lignite / Coal"},0,0,0,0,0,0,0,0,0,0]
["Electricity",0.45386922558321174,0.48906848333089348,0.48779207048398554,0.48665819069819838,0.48543989051201347,0.56528641533314172,0.59479427626725945,0.64087044773599156,0.64005735926012375,0.67173098951095578,null,{"$f":"M$17","v":"other fossil fuels"},0,0,0,0,0,0,0,0,0,0]
["Heat and Cold",0,0,0,0,0,0,0,0,0,0,null,{"$f":"M$18","v":"Plant oil, biofuel"},0,0,0,0,0,0,0,0,0,0]
["natural gas",0.79697091072837256,0.82428849567636364,0.82727796058809144,0.90871150553433688,0.94550773996290916,0.98781782617312841,1.0185895367159994,1.1792930950845706,1.1715653278471725,1.6348689454066676,null,"Summe",{"$f":"SUM(N663:N671)","v":5630555.555555556},5978055.555555556,6049444.444444444,6485555.555555556,6720833.333333333,7373888.8888888881,7747222.222222222,8843888.8888888881,8910277.777777778,11486111.111111112]
["Liquid gas",0,0,0,0,0,0,0,0,0,0]
["heating oil / diesel",0,0,0,0,0,0,0,0,0,0,null,"Energy consumption, Business (Mwh/year) - Energy consumption - Services"]
["gasoline",0,0,0,0,0,0,0,0,0,0,null,{"$f":"M$9","v":"Energieträger"},2000,2001,2002,2003,2004,2005,2006,2007,2008,2009]
["Lignite / Coal",0,0,0,0,0,0,0,0,0,0,null,{"$f":"M$10","v":"Electricity"},481944.44444444444,523055.55555555556,531111.11111111112,540000,548888.88888888888,648888.88888888888,695000,758055.5555555555,766111.11111111112,813888.88888888888]
["other fossil fuels",0,0,0,0,0,0,0,0,0,0,null,{"$f":"M$11","v":"Heat and Cold"},1320000,1517777.7777777778,1745277.7777777778,1448055.5555555555,1537777.7777777778,1719166.6666666665,1830555.5555555555,1995555.5555555555,2016944.4444444443,2143055.5555555555]
["Plant oil, biofuel",0,0,0,0,0,0,0,0,0,0,null,{"$f":"M$12","v":"natural gas"},78218888.888888896,82391666.666666672,86787222.222222224,96475833.333333328,74950000,78775000,61845277.777777776,83394722.222222224,77588055.555555552,77102500]
["Summe",{"$f":"SUM(B670:B678)","v":1.2508401363115844},{"$f":"SUM(C670:C678)","v":1.3133569790072572},{"$f":"SUM(D670:D678)","v":1.3150700310720769},{"$f":"SUM(E670:E678)","v":1.3953696962325353},{"$f":"SUM(F670:F678)","v":1.4309476304749227},{"$f":"SUM(G670:G678)","v":1.5531042415062701},{"$f":"SUM(H670:H678)","v":1.6133838129832587},{"$f":"SUM(I670:I678)","v":1.8201635428205623},{"$f":"SUM(J670:J678)","v":1.8116226871072962},{"$f":"SUM(K670:K678)","v":2.3065999349176236},null,{"$f":"M$13","v":"Liquid gas"},0,0,0,0,0,0,0,0,0,0]
[null,null,null,null,null,null,null,null,null,null,null,null,{"$f":"M$14","v":"heating oil / diesel"},17861666.666666668,21714444.444444444,20702777.777777776,22409166.666666668,22020833.333333332,22837500,22009166.666666668,24610277.777777776,26954722.222222224,24610277.777777776]
["Energy consumption (MWh /Einwohner and  Year) - Tertiary sector (Services)",null,null,null,null,null,null,null,null,null,null,null,{"$f":"M$15","v":"gasoline"},0,0,0,0,0,0,0,0,0,0]
["Energieträger",2000,2001,2002,2003,2004,2005,2006,2007,2008,2009,null,{"$f":"M$16","v":"Lignite / Coal"},0,0,0,0,0,0,0,0,0,0]
["Electricity",0.10706500426741977,0.11491339582132175,0.11545660296674679,0.11618120136525821,0.1168651588269662,0.13667036495738144,0.14473597347020845,0.15601565137123294,0.15576442220413142,0.16344226866526326,null,{"$f":"M$17","v":"other fossil fuels"},1012222.2222222221,1012222.2222222221,1012222.2222222221,1012222.2222222221,1012222.2222222221,1012222.2222222221,1012222.2222222221,1012222.2222222221,1012222.2222222221,1012222.2222222221]
["Heat and Cold",0,0,0,0,0,0,0,0,0,0,null,{"$f":"M$18","v":"Plant oil, biofuel"},0,0,0,0,0,0,0,0,0,0]
["natural gas",17.376495920261789,18.10114834549243,18.866406010100714,20.756811517372387,15.957771839419038,16.591758903366351,12.879476954967073,17.163493906311075,15.775072921244153,15.483449512337359,null,"Summe",{"$f":"SUM(N676:N684)","v":98894722.222222239},107159166.66666667,110778611.11111112,121885277.77777778,100069722.22222222,104992777.77777778,87392222.222222224,111770833.33333333,108338055.55555555,105681944.44444445]
["Liquid gas",0,0,0,0,0,0,0,0,0,0]
["heating oil / diesel",3.9680080140654908,4.7705841625833045,4.5005128761044126,4.8213405646808001,4.6885047904897501,4.8100830714773606,4.5834793708892994,5.065048979310049,5.4803887735396302,4.9421483539031836]
["gasoline",0,0,0,0,0,0,0,0,0,0]
["Lignite / Coal",0,0,0,0,0,0,0,0,0,0]
["other fossil fuels",0.22486736342967009,0.2223815264858717,0.22004386046591279,0.21777998856738728,0.21551449330236072,0.21319640834961381,0.21079851611728198,0.20832577266279692,0.20580331925738027,0.20327086246287349]
["Plant oil, biofuel",0,0,0,0,0,0,0,0,0,0]
["Summe",{"$f":"SUM(B683:B691)","v":21.676436302024367},{"$f":"SUM(C683:C691)","v":23.209027430382928},{"$f":"SUM(D683:D691)","v":23.70241934963779},{"$f":"SUM(E683:E691)","v":25.912113271985831},{"$f":"SUM(F683:F691)","v":20.978656282038113},{"$f":"SUM(G683:G691)","v":21.751708748150708},{"$f":"SUM(H683:H691)","v":17.818490815443862},{"$f":"SUM(I683:I691)","v":22.592884309655155},{"$f":"SUM(J683:J691)","v":21.617029436245293},{"$f":"SUM(K683:K691)","v":20.792310997368681}]
[]
["Energy consumption (MWh /Einwohner and  Year) - Road"]
["Energieträger",2000,2001,2002,2003,2004,2005,2006,2007,2008,2009]
["Electricity",0,0,0,0,0,0,0,0,0,0]
["Heat and Cold",0,0,0,0,0,0,0,0,0,0]
["natural gas",0,0,0,0,0,0,0,0,0,0]
["Liquid gas",0,0,0,0,0,0,0,0,0,0]
["heating oil / diesel",0,0,0,0,0,0,0,0,0,0]
["gasoline",1.2967515848274116,1.6875120665168288,1.9803343589406175,2.0650849958719815,1.8979942697747971,1.9496004158710707,1.8564615749823858,2.0508426022866395,2.2196147777536508,2.001080035436515]
["Lignite / Coal",0,0,0,0,0,0,0,0,0,0]
["other fossil fuels",0,0,0,0,0,0,0,0,0,0]
["Plant oil, biofuel",0,0,0,0,0,0,0,0,0,0]
["Summe",{"$f":"SUM(B696:B704)","v":1.2967515848274116},1.6875120665168288,1.9803343589406175,2.0650849958719815,1.8979942697747971,1.9496004158710707,1.8564615749823858,2.0508426022866395,2.2196147777536508,2.001080035436515]
[]
["Energy consumption (MWh /Einwohner and  Year) - Rail"]
["Energieträger",2000,2001,2002,2003,2004,2005,2006,2007,2008,2009]
["Electricity",3.2458900429200466E-2,3.4907308767815205E-2,3.4781905496258446E-2,3.4663115633667578E-2,3.4479953236903491E-2,4.0252230775119191E-2,4.2286969067434996E-2,4.5506947047087368E-2,4.5351280286409543E-2,4.7582339648965723E-2]
["Heat and Cold",0,0,0,0,0,0,0,0,0,0]
["natural gas",0,0,0,0,0,0,0,0,0,0]
["Liquid gas",0,0,0,0,0,0,0,0,0,0]
["heating oil / diesel",0,0,0,0,0,0,0,0,0,0]
["gasoline",0,0,0,0,0,0,0,0,0,0]
["Lignite / Coal",0,0,0,0,0,0,0,0,0,0]
["other fossil fuels",0,0,0,0,0,0,0,0,0,0]
["Plant oil, biofuel",0,0,0,0,0,0,0,0,0,0]
["Summe",{"$f":"SUM(B709:B717)","v":3.2458900429200466E-2},3.4907308767815205E-2,3.4781905496258446E-2,3.4663115633667578E-2,3.4479953236903491E-2,4.0252230775119191E-2,4.2286969067434996E-2,4.5506947047087368E-2,4.5351280286409543E-2,4.7582339648965723E-2]
[]
[]
["Ukraine",null,null,null,null,null,null,null,null,null,null,null,"Ukraine",null,null,null,null,null,null,null,null,null,null,null,"Ukraine",null,null,null,null,null,null,null,null,null,null,null,"Ukraine"]
["Energy consumption (MWh /Einwohner and  Year) - Residential building (Households)",null,null,null,null,null,null,null,null,null,null,null,"Workforce (Number) - Nationale Eingabe",null,null,null,null,null,null,null,null,null,null,null,"CO2 emission Factor (t /Mwh)"]
["Energieträger",2000,2001,2002,2003,2004,2005,2006,2007,2008,2009,null,"Branche of trade",2000,2001,2002,2003,2004,2005,2006,2007,2008,2009,null,"Energieträger",2000,2001,2002,2003,2004,2005,2006,2007,2008,2009,null,null,"2000","2001","2002","2003","2004","2005","2006","2007","2008","2009"]
["Electricity",0.60941083224199888,0.44142702901088454,0.44901594717721116,0.48131907048444383,0.50879845449582128,0.55125735793152586,0.58977946825675864,0.60564916844126204,0.67053154681464866,0.71467169948098508,null,"primary sector",5835100,5974400,4657000,4638900,4503600,4504300,4146800,3969900,3780100,3590300,null,"Electricity",0.92300000000000004,0.998,1.0089999999999999,0.98199999999999998,0.83,0.85099999999999998,0.93300000000000005,0.92700000000000005,0.92400000000000004,0.92400000000000004,null,"Einwohnerzahlen",49429800,48923400,48457200,48003500,47622000,47280800,46929500,46646000,46372000,46962900]
["Heat and Cold",0.63975689878485364,0.7206390216360905,1.4344674842495599,1.430208213984397,1.407332745369787,1.4277054439763193,0.10651911673657058,1.1704290471494518,1.1043841111015267,0.91445706196924703,null,"secondary sector",4886900,4674600,4509100,4425700,4455100,4495900,4546700,4601600,4635800,4670000,null,"Heat and Cold",0.24299999999999999,0.24299999999999999,0.24099999999999999,0.247,0.247,0.26500000000000001,0.26500000000000001,0.26500000000000001,0.26800000000000002,0.26500000000000001,null,"Passengers cars",5261815.6977492701,5306541.2389918752,5398680,5546302.2000000002,5456934,5558407.7000000002,5614530,5953196.7999999998,6383631.5999999996,6525038.7839430729]
["natural gas",4.5290942351015424,3.3411925581623518,3.3958260531401363,3.6095342584973551,3.6155675014815749,3.3666061769964415,3.6908376749521441,3.3252285535975457,3.8526601301551704,3.7151252489849553,null,"tertiary sector",10339200,10598400,10924800,11127200,11335900,11679000,12071400,12432500,12757100,13081700,null,"natural gas",0.20200000000000001,0.20200000000000001,0.20200000000000001,0.20200000000000001,0.20200000000000001,0.20200000000000001,0.20200000000000001,0.20200000000000001,0.20200000000000001,0.20200000000000001,null,"Road passenger  (million pkm)",28917,30423,79283,39495,46841,51820,53343,55446,61434,55194]
["Liquid gas",0,0,0,0,0,0,0,0,0,0,null,null,null,null,null,null,null,null,null,null,null,null,null,"Liquid gas",0.23100000000000001,0.23100000000000001,0.23100000000000001,0.23100000000000001,0.23100000000000001,0.23100000000000001,0.23100000000000001,0.23100000000000001,0.23100000000000001,0.23100000000000001,null,"Road goods transporterd (million ton-km)",null,null,20593.099609375,24386.80078125,19725.599609375,23894.69921875,26625.1,31052.9,36866.400000000001,49232]
["heating oil / diesel",0,0,0,0,0,2.9257824176691879E-3,0,0,4.4746829983610802E-3,0,null,"Energy consumption, Business (Mwh/year) - Energy consumption - Agriculture",null,null,null,null,null,null,null,null,null,null,null,"heating oil / diesel",0.26700000000000002,0.26700000000000002,0.26700000000000002,0.26700000000000002,0.26700000000000002,0.26700000000000002,0.26700000000000002,0.26700000000000002,0.26700000000000002,0.26700000000000002,null,"Railways, passengers (million pkm)",null,null,null,null,null,null,null,null,53100,48327]
["gasoline",1.697131869618912E-3,2.4414583705229903E-4,4.9298946057322528E-4,2.4882444914317591E-4,0,0,0,0,0,0,null,"Energieträger",2000,2001,2002,2003,2004,2005,2006,2007,2008,2009,null,"gasoline",0.249,0.249,0.249,0.249,0.249,0.249,0.249,0.249,0.249,0.249,null,"Railways, goods transported (million ton-km)",172840,177465,193141,225287,233961,223980,240810,240810,257006,196188]
["Lignite / Coal",0.50174973171829318,0.43654979008000261,0.43509759356939964,0.54346731661927428,0.72475256534094878,0.47411775322470573,0.48392328445386756,0.39076233760665435,0.17117010264814975,0.19686343428062958,null,{"$f":"M$10","v":"Electricity"},5021111.111111111,4223888.888888889,3733055.5555555555,3460000,3186111.111111111,3293055.5555555555,3246944.4444444445,3328888.8888888885,3193888.8888888885,3173888.8888888885,null,"Lignite / Coal",0.36399999999999999,0.36399999999999999,0.36399999999999999,0.36399999999999999,0.36399999999999999,0.36399999999999999,0.36399999999999999,0.36399999999999999,0.36399999999999999,0.36399999999999999]
["other fossil fuels",4.7603986978615238E-2,1.3115741478856064E-3,1.3241926208420352E-3,0.12597461064760324,0.12778291079286416,4.0402822663275106E-2,4.9062956136332159E-2,5.5328073861281427E-2,5.9476743628818156E-2,5.360614442464158E-2,null,{"$f":"M$11","v":"Heat and Cold"},0,0,0,0,0,0,0,0,0,0,null,"other fossil fuels",0.38200000000000001,0.38200000000000001,0.38200000000000001,0.38200000000000001,0.38200000000000001,0.38200000000000001,0.38200000000000001,0.38200000000000001,0.38200000000000001,0.38200000000000001]
["Plant oil, biofuel",0.21918851471064912,0.20933518293677233,0.38808588931171334,0.41334370294758599,0.40622564734319799,0.42206467647661539,1.2874986238222581,0.10102092831587321,0.1097705032730479,0.10654982739330171,null,{"$f":"M$12","v":"natural gas"},5814166.666666667,5815833.333333333,4553333.333333333,4041666.6666666665,1357500,1310277.7777777778,1520277.7777777778,1553611.111111111,2063888.8888888888,1916666.6666666665,null,"Plant oil, biofuel",0,0,0,0,0,0,0,0,0,0]
["Summe",{"$f":"SUM(B724:B732)","v":6.5485013314055713},{"$f":"SUM(C724:C732)","v":5.1506993018110405},{"$f":"SUM(D724:D732)","v":6.1043101495294358},{"$f":"SUM(E724:E732)","v":6.6040959976298019},{"$f":"SUM(F724:F732)","v":6.7904598248241941},{"$f":"SUM(G724:G732)","v":6.285080013686553},{"$f":"SUM(H724:H732)","v":6.2076211243579307},{"$f":"SUM(I724:I732)","v":5.6484181089720682},{"$f":"SUM(J724:J732)","v":5.9724678206197224},{"$f":"SUM(K724:K732)","v":5.70127341653376},null,{"$f":"M$13","v":"Liquid gas"},0,0,0,0,0,0,0,0,0,0,null,null,null,null,null,null,null,null,null,null,null,null,null,"Passengers cars",5261815.6977492701,5306541.2389918752,5398680,5546302.2000000002,5456934,5558407.7000000002,5614530,5953196.7999999998,6383631.5999999996,6525038.7839430729]
[null,null,null,null,null,null,null,null,null,null,null,null,{"$f":"M$14","v":"heating oil / diesel"},20020277.777777776,23963055.555555556,25580277.777777776,26654444.444444444,29310555.555555556,14483611.111111112,13846388.888888888,13881666.666666666,14471388.888888888,13751944.444444444,null,null,null,null,null,null,null,null,null,null,null,null,null,"Road passenger  (million pkm)",28917,30423,79283,39495,46841,51820,53343,55446,61434,55194]
["Energy consumption (MWh /Einwohner and  Year) - Primary sector (Agriculture)",null,null,null,null,null,null,null,null,null,null,null,{"$f":"M$15","v":"gasoline"},0,0,0,0,0,0,0,0,0,0,null,null,null,null,null,null,null,null,null,null,null,null,null,"Road goods transporterd (million ton-km)",null,null,20593.099609375,24386.80078125,19725.599609375,23894.69921875,26625.1,31052.9,36866.400000000001,49232]
["Energieträger",2000,2001,2002,2003,2004,2005,2006,2007,2008,2009,null,{"$f":"M$16","v":"Lignite / Coal"},0,0,0,0,544444.44444444438,451666.66666666663,346388.88888888888,333333.33333333331,330277.77777777775,220000,null,null,null,null,null,null,null,null,null,null,null,null,null,"Railways, passengers (million pkm)",null,null,null,null,null,null,null,null,53100,48327]
["Electricity",0.10158064793122996,8.6336781353889738E-2,7.7038201867948533E-2,7.2078077640172072E-2,6.6904185273846353E-2,6.9648896709775546E-2,6.9187705908744915E-2,7.1364937805790174E-2,6.8875374986821544E-2,6.7582898178964429E-2,null,{"$f":"M$17","v":"other fossil fuels"},0,0,0,0,0,25277.777777777777,38055.555555555555,63333.333333333328,101111.11111111111,50555.555555555555,null,null,null,null,null,null,null,null,null,null,null,null,null,"Railways, goods transported (million ton-km)",172840,177465,193141,225287,233961,223980,240810,240810,257006,196188]
["Heat and Cold",0,0,0,0,0,0,0,0,0,0,null,{"$f":"M$18","v":"Plant oil, biofuel"},0,0,0,0,0,0,312222.22222222225,256388.88888888885,215555.55555555553,175000,null,null,null,null,null,null,null,null,null,null,null,null,null,null,"2000","2001","2002","2003","2004","2005","2006","2007","2008","2009"]
["natural gas",0.11762472570527631,0.11887631140381358,9.3966084159491939E-2,8.4195249651935103E-2,2.8505732644576037E-2,2.7712682056517186E-2,3.2394928089533828E-2,3.3306416651183619E-2,4.4507221790927476E-2,4.0812357555999872E-2,null,"Summe",{"$f":"SUM(N730:N738)","v":30855555.555555552},34002777.777777776,33866666.666666664,34156111.111111112,34398611.111111112,19563888.888888888,19310277.77777778,19417222.222222216,20376111.111111108,19288055.555555556,null,null,null,null,null,null,null,null,null,null,null,null,null,"Passengers cars",{"$f":"IFERROR(AL733/AL725-1,\"\")","v":0},{"$f":"IFERROR(AM733/AM725-1,\"\")","v":0},0,0,0,0,0,0,0,0]
["Liquid gas",0,0,0,0,0,0,0,0,0,0,null,null,null,null,null,null,null,null,null,null,null,null,null,null,null,null,null,null,null,null,null,null,null,null,null,"Road passenger  (million pkm)",{"$f":"IFERROR(AL734/AL726-1,\"\")","v":0},0,0,0,0,0,0,0,0,0]
["heating oil / diesel",0.40502445443391993,0.48980764941838784,0.5278942608689271,0.55526043818564152,0.61548350668925189,0.30633176915600224,0.2950465887957231,0.29759607826323087,0.31207170035557852,0.29282570804708491,null,"Energy consumption, Business (Mwh/year) - Energy consumption - Industry",null,null,null,null,null,null,null,null,null,null,null,null,null,null,null,null,null,null,null,null,null,null,null,"Road goods transporterd (million ton-km)","","",0,0,0,0,0,0,0,0]
["gasoline",0,0,0,0,0,0,0,0,0,0,null,{"$f":"M$9","v":"Energieträger"},2000,2001,2002,2003,2004,2005,2006,2007,2008,2009,null,null,null,null,null,null,null,null,null,null,null,null,null,"Railways, passengers (million pkm)","","","","","","","","",0,0]
["Lignite / Coal",0,0,0,0,1.1432624510613673E-2,9.5528558456427701E-3,7.3810479312349138E-3,7.1460218096585631E-3,7.1223535275118125E-3,4.6845488672973773E-3,null,{"$f":"M$10","v":"Electricity"},60300000,57323055.555555552,56746111.111111112,61181111.111111112,65355000,65708888.888888888,68671944.444444433,71558055.555555552,67141944.444444433,53563055.555555552,null,null,null,null,null,null,null,null,null,null,null,null,null,"Railways, goods transported (million ton-km)",0,0,0,0,0,0,0,0,0,0]
["other fossil fuels",0,0,0,0,0,5.346309237106347E-4,8.1090903494721988E-4,1.3577441438351269E-3,2.1804345534182507E-3,1.0764998659698519E-3,null,{"$f":"M$11","v":"Heat and Cold"},65115555.555555552,72595277.777777776,80921666.666666672,79943611.111111104,78075555.555555552,78627222.222222224,70378888.888888896,63593055.555555552,59651944.444444448,50022777.777777776]
["Plant oil, biofuel",0,0,0,0,0,0,6.6530055129976296E-3,5.496481775262377E-3,4.6483989380564899E-3,3.7263456898956409E-3,null,{"$f":"M$12","v":"natural gas"},197705277.77777779,197759444.44444445,154845277.77777779,137445277.77777779,145321388.88888887,120819166.66666666,119961944.44444443,126501388.8888889,125607222.22222222,75714722.222222224]
["Summe",{"$f":"SUM(B737:B745)","v":0.62422982807042615},{"$f":"SUM(C737:C745)","v":0.69502074217609122},{"$f":"SUM(D737:D745)","v":0.69889854689636755},{"$f":"SUM(E737:E745)","v":0.71153376547774871},{"$f":"SUM(F737:F745)","v":0.72232604911828791},{"$f":"SUM(G737:G745)","v":0.41378083469164834},{"$f":"SUM(H737:H745)","v":0.41147418527318158},{"$f":"SUM(I737:I745)","v":0.41626768044896068},{"$f":"SUM(J737:J745)","v":0.43940548415231412},{"$f":"SUM(K737:K745)","v":0.41070835820521207},null,{"$f":"M$13","v":"Liquid gas"},0,0,0,0,0,0,0,0,0,0]
[null,null,null,null,null,null,null,null,null,null,null,null,{"$f":"M$14","v":"heating oil / diesel"},8428333.333333334,10104722.222222222,10789166.666666666,11237777.777777778,22837777.777777776,15585000,16788055.555555556,18075000,16822222.222222224,11955555.555555554]
["Energy consumption (MWh /Einwohner and  Year) - Secondary sector (Industrie)",null,null,null,null,null,null,null,null,null,null,null,{"$f":"M$15","v":"gasoline"},0,0,0,0,0,5517777.7777777771,83888.888888888891,71944.444444444438,60000,71944.444444444438]
["Energieträger",2000,2001,2002,2003,2004,2005,2006,2007,2008,2009,null,{"$f":"M$16","v":"Lignite / Coal"},35751944.444444448,37169166.666666664,36694722.222222224,44063888.888888888,56272222.222222224,71985000,81919166.666666657,91177222.222222209,80724444.444444433,68163888.888888896]
["Electricity",1.2199118750227596,1.1716899388749669,1.1710563365425801,1.2745135482019252,1.3723699130653899,1.3897583985230557,1.4633001511723849,1.5340662769702773,1.4478983965419743,1.1405397783262012,null,{"$f":"M$17","v":"other fossil fuels"},35411388.888888888,34670555.555555552,41733888.888888888,43498333.333333336,45550833.333333336,39397500,46486666.666666664,50701944.444444448,43761944.444444448,36661944.44444444]
["Heat and Cold",1.3173339879092278,1.4838559416920691,1.6699616706426841,1.6653704648850836,1.6394850185955137,1.6629841758646686,1.4996726768639959,1.363312085828486,1.2863785138541457,1.0651552135361695,null,{"$f":"M$18","v":"Plant oil, biofuel"},0,0,0,0,0,0,121666.66666666666,144722.22222222222,121666.66666666666,109166.66666666666]
["natural gas",3.9997183435453469,4.0422261013021261,3.1955060915153535,2.8632345095207179,3.0515599699485292,2.5553536883188666,2.5562161208716145,2.7119450518562984,2.7086867554175411,1.6122241646538484,null,"Summe",{"$f":"SUM(N743:N751)","v":402712500.00000006},409622222.22222221,381730833.33333337,377370000,413412777.77777773,397640555.55555558,404412222.22222221,421823333.33333325,393891388.8888889,296263055.55555558]
["Liquid gas",0,0,0,0,0,0,0,0,0,0]
["heating oil / diesel",0.17051117611912922,0.20654170033608094,0.22265353067586791,0.23410330033805407,0.47956360039010909,0.32962640226053702,0.35772926529273819,0.38749303262873558,0.36276680372255293,0.25457447379858472,null,"Energy consumption, Business (Mwh/year) - Energy consumption - Services"]
["gasoline",0,0,0,0,0,0.1167022930614071,1.7875513033143095E-3,1.5423497072513065E-3,1.2938842404899508E-3,1.5319421169570967E-3,null,{"$f":"M$9","v":"Energieträger"},2000,2001,2002,2003,2004,2005,2006,2007,2008,2009]
["Lignite / Coal",0.72328725676503747,0.7597421002356064,0.75726047361841409,0.91793075273446489,1.1816434047755706,1.5224996192957816,1.7455793619507274,1.9546632556322558,1.740801441482887,1.4514412203864944,null,{"$f":"M$10","v":"Electricity"},8811111.1111111119,17008055.555555556,17160000,16871944.444444444,17501111.111111108,18555000,20155000,21388055.555555556,22748888.888888888,21905000]
["other fossil fuels",0.71639757573141882,0.70867019781036378,0.86125258762142443,0.9061492043982905,0.95650819649181751,0.83326635759124212,0.9905638599743587,1.0869516023762906,0.94371483749772378,0.7806575923642799,null,{"$f":"M$11","v":"Heat and Cold"},4097500,4568055.555555556,0,0,0,0,0,0,0,0]
["Plant oil, biofuel",0,0,0,0,0,0,2.5925412942108196E-3,3.1025644690267592E-3,2.6237097098823999E-3,2.3245299303634713E-3,null,{"$f":"M$12","v":"natural gas"},119205000,119237500,93363055.555555552,82871944.444444433,10897500,5969444.444444444,6314722.222222222,5988333.333333333,7048055.555555556,4175277.7777777775]
["Summe",{"$f":"SUM(B750:B758)","v":8.1471602150929208},{"$f":"SUM(C750:C758)","v":8.3727259802512144},{"$f":"SUM(D750:D758)","v":7.8776906906163244},{"$f":"SUM(E750:E758)","v":7.861301780078537},{"$f":"SUM(F750:F758)","v":8.6811301032669288},{"$f":"SUM(G750:G758)","v":8.4101909349155584},{"$f":"SUM(H750:H758)","v":8.6174415287233455},{"$f":"SUM(I750:I758)","v":9.0430762194686221},{"$f":"SUM(J750:J758)","v":8.4941643424671973},{"$f":"SUM(K750:K758)","v":6.3084489151128986},null,{"$f":"M$13","v":"Liquid gas"},0,0,0,0,0,0,0,0,0,0]
[null,null,null,null,null,null,null,null,null,null,null,null,{"$f":"M$14","v":"heating oil / diesel"},0,0,0,0,0,23055.555555555555,126666.66666666666,92222.222222222219,149722.22222222222,80555.555555555562]
["Energy consumption (MWh /Einwohner and  Year) - Tertiary sector (Services)",null,null,null,null,null,null,null,null,null,null,null,{"$f":"M$15","v":"gasoline"},0,0,0,0,0,0,11944.444444444445,0,11944.444444444445,0]
["Energieträger",2000,2001,2002,2003,2004,2005,2006,2007,2008,2009,null,{"$f":"M$16","v":"Lignite / Coal"},0,0,0,0,7488888.8888888881,3396666.666666667,4264722.222222222,3660277.7777777775,3168055.5555555555,2177777.777777778]
["Electricity",0.17825504272950957,0.34764663853198174,0.35412694088804142,0.35147321433738049,0.3675005482993387,0.39244259826398875,0.42947399823138965,0.45851853439856699,0.49057381369983799,0.46643201335522294,null,{"$f":"M$17","v":"other fossil fuels"},0,0,0,0,0,139166.66666666666,215000,354166.66666666669,531388.88888888888,38055.555555555555]
["Heat and Cold",0,0,0,0,0,0,0,0,0,0,null,{"$f":"M$18","v":"Plant oil, biofuel"},0,3042222.222222222,3042222.222222222,3042222.222222222,3055555.5555555555,0,626666.66666666663,560833.33333333337,482222.22222222225,466944.44444444444]
["natural gas",2.4116019081606641,2.4372284019508048,1.9267117281963373,1.7263729612308358,0.22883331233463525,0.12625514890704989,0.13455762840478211,0.12837828181051608,0.15198946682384964,8.890587629336727E-2,null,"Summe",{"$f":"SUM(N756:N764)","v":132113611.1111111},143855833.33333331,113565277.77777778,102786111.1111111,38943055.555555552,28083333.333333336,31714722.222222228,32043888.888888888,34140277.777777784,28843611.111111112]
["Liquid gas",0,0,0,0,0,0,0,0,0,0]
["heating oil / diesel",0,0,0,0,0,4.8763040294486461E-4,2.6990840871235931E-3,1.9770660340055358E-3,3.2287203964077938E-3,1.7153019842376762E-3]
["gasoline",0,0,0,0,0,0,2.5451889418051426E-4,0,2.5757880713457354E-4,0]
["Lignite / Coal",0,0,0,0,0.15725691673782891,7.1840295990479572E-2,9.0875083310545016E-2,7.8469274488225743E-2,6.8318285938832823E-2,4.6372301918701307E-2]
["other fossil fuels",0,0,0,0,0,2.9434076129563514E-3,4.581340095249257E-3,7.5926481727622234E-3,1.1459261815079981E-2,8.1033231669159177E-4]
["Plant oil, biofuel",0,6.2183376916204146E-2,6.2781634560441418E-2,6.3375008535257266E-2,6.4162688579974703E-2,0,1.3353363378400934E-2,1.2023181694750534E-2,1.0398995562456272E-2,9.9428366741501142E-3]
["Summe",{"$f":"SUM(B763:B771)","v":2.5898569508901739},{"$f":"SUM(C763:C771)","v":2.8470584173989906},{"$f":"SUM(D763:D771)","v":2.34362030364482},{"$f":"SUM(E763:E771)","v":2.1412211841034736},{"$f":"SUM(F763:F771)","v":0.81775346595177756},{"$f":"SUM(G763:G771)","v":0.59396908117741942},{"$f":"SUM(H763:H771)","v":0.67579501640167117},{"$f":"SUM(I763:I771)","v":0.68695898659882704},{"$f":"SUM(J763:J771)","v":0.73622612304359902},{"$f":"SUM(K763:K771)","v":0.61417866254237086}]
[]
["Energy consumption (MWh /Einwohner and  Year) - Road"]
["Energieträger",2000,2001,2002,2003,2004,2005,2006,2007,2008,2009]
["Electricity",0,0,0,0,0,0,0,0,0,0]
["Heat and Cold",0,0,0,0,0,0,0,0,0,0]
["natural gas",0,0,0,0,0,0,0,0,0,1.5000020110437058E-2]
["Liquid gas",0,0,0,0,0,0,0,0,0,0]
["heating oil / diesel",0,0,0,0,0,8.3890054501803868E-2,0.57803016581610001,0.61469484104865491,0.63614777116459165,0.50170808588623506]
["gasoline",0.94495403357668628,1.1042489097468924,1.1597290438205718,1.0351039218205154,1.0726309968781935,1.1620173751525167,1.147785508049308,1.2552880561391473,1.3324911105360515,1.2179531313251761]
["Lignite / Coal",0,0,0,0,0,0,0,0,0,0]
["other fossil fuels",0,0,0,0,0,2.1385236948425388E-3,2.9654410694055265E-3,3.2573949415693614E-3,3.5462012517131986E-3,2.4244906322035287E-2]
["Plant oil, biofuel",0,0,0,0,0,0,0,0,0,0]
["Summe",{"$f":"SUM(B776:B784)","v":0.94495403357668628},1.1042489097468924,1.1597290438205718,1.0351039218205154,1.0726309968781935,1.248045953349163,1.7287811149348136,1.8732402921293714,1.9721850829523562,1.7589061436438838]
[]
["Energy consumption (MWh /Einwohner and  Year) - Rail"]
["Energieträger",2000,2001,2002,2003,2004,2005,2006,2007,2008,2009]
["Electricity",9.1622642391611719E-2,8.7035152004062602E-2,9.7858407923785196E-2,0.10415907173435271,0.10327276375531384,0.10625642732121472,0.14828389155837776,0.12481122592386151,0.13441420589052783,0.14360035025283552]
["Heat and Cold",0,0,0,0,0,0,0,0,0,0]
["natural gas",0,0,0,0,0,0,0,0,0,0]
["Liquid gas",0,0,0,0,0,0,0,0,0,0]
["heating oil / diesel",0.32311255333602174,0.39112163095778296,0.42168369429333741,0.44337044868256131,0.49154452423949713,7.2404302239668802E-2,6.6654355055041192E-2,4.0488168569890473E-2,7.8657379453118265E-2,6.6358527452284433E-2]
["gasoline",0,0,0,0,0,0,0,0,0,0]
["Lignite / Coal",0,0,0,0,1.9143813083588816E-2,1.2807641908672347E-2,8.9377565165715475E-3,6.9971463552906763E-3,1.3322215513192827E-2,1.0587553626846345E-2]
["other fossil fuels",0,0,0,0,0,0,0,0,0,0]
["Plant oil, biofuel",0,0,0,0,0,0,0,0,0,0]
["Summe",{"$f":"SUM(B789:B797)","v":0.41473519572763345},0.47815678296184555,0.5195421022171226,0.54752952041691405,0.61396110107839974,0.19146837146955586,0.22387600312999051,0.17229654084904264,0.22639380085683891,0.2205464313319663]
[]
[]
["Uzbekistan",null,null,null,null,null,null,null,null,null,null,null,"Uzbekistan",null,null,null,null,null,null,null,null,null,null,null,"Uzbekistan",null,null,null,null,null,null,null,null,null,null,null,"Uzbekistan"]
["Energy consumption (MWh /Einwohner and  Year) - Residential building (Households)",null,null,null,null,null,null,null,null,null,null,null,"Workforce (Number) - Nationale Eingabe",null,null,null,null,null,null,null,null,null,null,null,"CO2 emission Factor (t /Mwh)"]
["Energieträger",2000,2001,2002,2003,2004,2005,2006,2007,2008,2009,null,"Branche of trade",2000,2001,2002,2003,2004,2005,2006,2007,2008,2009,null,"Energieträger",2000,2001,2002,2003,2004,2005,2006,2007,2008,2009,null,null,"2000","2001","2002","2003","2004","2005","2006","2007","2008","2009"]
["Electricity",0.29293642293837013,0.28833280814101503,0.29210204435158732,0.28918865947617067,0.29538670914461579,0.27290522838350256,0.28763331932290187,0.27255677964699854,0.27062850519871257,0.26877041262615714,null,"primary sector",3093000,3062000,3046000,3063000,3068000,2970000,2929000,2991000,3030000,2892000,null,"Electricity",0.68899999999999995,0.70099999999999996,0.70799999999999996,0.68400000000000005,0.66300000000000003,0.66400000000000003,0.65900000000000003,0.69299999999999995,0.61499999999999999,0.61499999999999999,null,"Einwohnerzahlen",24650400,24964400,25271800,25567700,25864400,26167000,26488200,26868000,27302700,27767400]
["Heat and Cold",0,0,0,0,0,0,0,0,0,0,null,"secondary sector",1821000,1862000,1915000,1986000,2092000,1887199.9999999998,1962800,2024399.9999999998,2081799.9999999998,2118200,null,"Heat and Cold",0.20393920145190564,0.20393920145190564,0.20393920145190564,0.20393920145190564,0.20393920145190564,0.20393920145190564,0.20393920145190564,0.20393920145190564,0.20489443436176649,0.20489443436176649,null,"Passengers cars"]
["natural gas",7.4858487759495445,7.5061109241782518,7.8139687539295002,7.3402835087499723,7.0443458103716994,6.7535870031379641,6.9698750554754358,6.9545762824012041,7.0876995071305524,6.4468985613025023,null,"tertiary sector",4069000,4212000,4372000,4540000,4751000,5339800,5575200,5720600,5924200.0000000009,6317800,null,"natural gas",0.20200000000000001,0.20200000000000001,0.20200000000000001,0.20200000000000001,0.20200000000000001,0.20200000000000001,0.20200000000000001,0.20200000000000001,0.20200000000000001,0.20200000000000001,null,"Road passenger  (million pkm)",10435,null,null,null,null,null,null,49151.3,56673.8,62653]
["Liquid gas",0,0,0,0,0,0,0,0,0,0,null,null,null,null,null,null,null,null,null,null,null,null,null,"Liquid gas",0.23100000000000001,0.23100000000000001,0.23100000000000001,0.23100000000000001,0.23100000000000001,0.23100000000000001,0.23100000000000001,0.23100000000000001,0.23100000000000001,0.23100000000000001,null,"Road goods transporterd (million ton-km)",1200,1200,12000,14100,null,null,null,18158.5,21038,23183]
["heating oil / diesel",2.9185913593468842E-3,2.8151198417657852E-3,2.7149277499470205E-3,2.618320945741871E-3,2.73864204595248E-3,2.2505021167458588E-3,2.2232121808536966E-3,2.191785353911303E-3,2.1568888384258292E-3,2.1207923280137458E-3,null,"Energy consumption, Business (Mwh/year) - Energy consumption - Agriculture",null,null,null,null,null,null,null,null,null,null,null,"heating oil / diesel",0.26700000000000002,0.26700000000000002,0.26700000000000002,0.26700000000000002,0.26700000000000002,0.26700000000000002,0.26700000000000002,0.26700000000000002,0.26700000000000002,0.26700000000000002,null,"Railways, passengers (million pkm)",null,null,null,null,null,null,null,null,2400,2400]
["gasoline",9.8037624812038191E-4,9.6804516297874829E-4,9.562700981594767E-4,9.4520299701055096E-4,9.3436022744261083E-4,9.2355511394759296E-4,9.1235594214279054E-4,8.994590839164309E-4,8.8513834407097705E-4,8.7032515347733905E-4,null,"Energieträger",2000,2001,2002,2003,2004,2005,2006,2007,2008,2009,null,"gasoline",0.249,0.249,0.249,0.249,0.249,0.249,0.249,0.249,0.249,0.249,null,"Railways, goods transported (million ton-km)",15441,null,18428,null,18428,18007,18007,19281,21594,24238]
["Lignite / Coal",3.4820259847034257E-3,3.6941493575740744E-3,3.8910300545799401E-3,4.0958796537123882E-3,4.1240727280225584E-3,4.5540821136036483E-3,4.8554115081851958E-3,5.0142259275801036E-3,4.7105638310903719E-3,5.1919397086751607E-3,null,{"$f":"M$10","v":"Electricity"},12915000,12875000,13208888.888888888,13236111.111111112,13673055.555555554,12783888.888888888,13653888.888888888,13128055.555555554,13251111.111111112,13388055.555555554,null,"Lignite / Coal",0.36399999999999999,0.36399999999999999,0.36399999999999999,0.36399999999999999,0.36399999999999999,0.36399999999999999,0.36399999999999999,0.36399999999999999,0.36399999999999999,0.36399999999999999]
["other fossil fuels",7.8430099849630553E-3,7.2770291561850735E-3,6.7268655180873545E-3,6.2035736930232729E-3,6.3579454557014447E-3,4.8300870901856873E-3,4.2996084629717719E-3,3.7632540982250671E-3,3.7033374395613293E-3,3.6413604122500164E-3,null,{"$f":"M$11","v":"Heat and Cold"},0,0,0,0,0,0,0,0,0,0,null,"other fossil fuels",0.38200000000000001,0.38200000000000001,0.38200000000000001,0.38200000000000001,0.38200000000000001,0.38200000000000001,0.38200000000000001,0.38200000000000001,0.38200000000000001,0.38200000000000001]
["Plant oil, biofuel",0,0,0,0,0,0,0,0,0,0,null,{"$f":"M$12","v":"natural gas"},1972500,2003055.5555555555,2110833.3333333335,2006111.111111111,1947500,1888888.888888889,1973333.3333333333,1997222.2222222222,2068333.3333333335,1913333.3333333333,null,"Plant oil, biofuel",0,0,0,0,0,0,0,0,0,0]
["Summe",{"$f":"SUM(B804:B812)","v":7.7940092024650474},{"$f":"SUM(C804:C812)","v":7.8091980758377701},{"$f":"SUM(D804:D812)","v":8.1203598917018631},{"$f":"SUM(E804:E812)","v":7.6433351455156311},{"$f":"SUM(F804:F812)","v":7.3538875399734343},{"$f":"SUM(G804:G812)","v":7.0390504579559501},{"$f":"SUM(H804:H812)","v":7.2697989628924917},{"$f":"SUM(I804:I812)","v":7.2390017865118352},{"$f":"SUM(J804:J812)","v":7.3697839407824137},{"$f":"SUM(K804:K812)","v":6.727493391531076},null,{"$f":"M$13","v":"Liquid gas"},0,0,0,0,0,0,0,0,0,0,null,null,null,null,null,null,null,null,null,null,null,null,null,"Passengers cars"]
[null,null,null,null,null,null,null,null,null,null,null,null,{"$f":"M$14","v":"heating oil / diesel"},11754722.222222222,11150000,10545277.777777778,10496111.111111112,10139722.222222222,8286388.888888889,7766944.444444444,7035277.7777777771,6728333.333333333,6988055.555555556,null,null,null,null,null,null,null,null,null,null,null,null,null,"Road passenger  (million pkm)",10435,null,null,null,null,null,null,49151.3,56673.8,62653]
["Energy consumption (MWh /Einwohner and  Year) - Primary sector (Agriculture)",null,null,null,null,null,null,null,null,null,null,null,{"$f":"M$15","v":"gasoline"},657222.22222222213,642500,627777.77777777775,612777.77777777775,668055.5555555555,546666.66666666663,522222.22222222219,522500,534722.22222222213,571388.88888888888,null,null,null,null,null,null,null,null,null,null,null,null,null,"Road goods transporterd (million ton-km)",1200,1200,12000,14100,null,null,null,18158.5,21038,23183]
["Energieträger",2000,2001,2002,2003,2004,2005,2006,2007,2008,2009,null,{"$f":"M$16","v":"Lignite / Coal"},13333.333333333332,16388.888888888891,19444.444444444442,22500,25000,28333.333333333332,34444.444444444445,34444.444444444445,34444.444444444445,37500,null,null,null,null,null,null,null,null,null,null,null,null,null,"Railways, passengers (million pkm)",null,null,null,null,null,null,null,null,2400,2400]
["Electricity",0.5239265894265408,0.51573440579385044,0.52267305411125797,0.5176887679029053,0.52864383305066243,0.4885500397022543,0.51547062046076697,0.48861305476982114,0.48534068466163099,0.48215013128904954,null,{"$f":"M$17","v":"other fossil fuels"},0,0,0,0,0,0,0,0,0,0,null,null,null,null,null,null,null,null,null,null,null,null,null,"Railways, goods transported (million ton-km)",15441,null,18428,null,18428,18007,18007,19281,21594,24238]
["Heat and Cold",0,0,0,0,0,0,0,0,0,0,null,{"$f":"M$18","v":"Plant oil, biofuel"},0,0,0,0,0,0,0,0,0,0,null,null,null,null,null,null,null,null,null,null,null,null,null,null,"2000","2001","2002","2003","2004","2005","2006","2007","2008","2009"]
["natural gas",8.0018985493136019E-2,8.0236478968273045E-2,8.352524684958465E-2,7.8462713154140218E-2,7.5296546604599376E-2,7.2185916952225662E-2,7.4498581758418211E-2,7.4334607050105042E-2,7.5755633447729842E-2,6.8905743185654164E-2,null,"Summe",{"$f":"SUM(N810:N818)","v":27312777.77777778},26686944.444444444,26512222.22222222,26373611.111111112,26453333.333333332,23534166.666666664,23950833.333333332,22717499.999999996,22616944.444444448,22898333.333333332,null,null,null,null,null,null,null,null,null,null,null,null,null,"Passengers cars",{"$f":"IFERROR(AL813/AL805-1,\"\")","v":""},{"$f":"IFERROR(AM813/AM805-1,\"\")","v":""},"","","","","","","",""]
["Liquid gas",0,0,0,0,0,0,0,0,0,0,null,null,null,null,null,null,null,null,null,null,null,null,null,null,null,null,null,null,null,null,null,null,null,null,null,"Road passenger  (million pkm)",{"$f":"IFERROR(AL814/AL806-1,\"\")","v":0},"","","","","","",0,0,0]
["heating oil / diesel",0.47685726082425528,0.44663600967778117,0.41727450271756572,0.41052230396598488,0.39203392393491526,0.31667324832380056,0.29322281032476516,0.26184597952128097,0.24643472379410583,0.25166402167849911,null,"Energy consumption, Business (Mwh/year) - Energy consumption - Industry",null,null,null,null,null,null,null,null,null,null,null,null,null,null,null,null,null,null,null,null,null,null,null,"Road goods transporterd (million ton-km)",{"$f":"IFERROR(AL815/AL807-1,\"\")","v":0},0,0,0,"","","",0,0,0]
["gasoline",2.6661726471871539E-2,2.5736648988159139E-2,2.4841039331499053E-2,2.3966871395462937E-2,2.5829153413787116E-2,2.0891453612055896E-2,1.9715277830212027E-2,1.9446925710882836E-2,1.9584957613064721E-2,2.0577687824171111E-2,null,{"$f":"M$9","v":"Energieträger"},2000,2001,2002,2003,2004,2005,2006,2007,2008,2009,null,null,null,null,null,null,null,null,null,null,null,null,null,"Railways, passengers (million pkm)",{"$f":"IFERROR(AL816/AL808-1,\"\")","v":""},"","","","","","","",0,0]
["Lignite / Coal",5.4089724034227975E-4,6.564903978821398E-4,7.6941272265705022E-4,8.8001658342361656E-4,9.6657954563028723E-4,1.0827887542833848E-3,1.3003693888012189E-3,1.2819876598349131E-3,1.2615764904000133E-3,1.3505045484993193E-3,null,{"$f":"M$10","v":"Electricity"},15237777.777777778,15190000,15580000,15608055.555555554,16123888.888888888,15073055.555555554,16088055.555555554,15466111.111111112,15608055.555555554,15766111.111111112,null,null,null,null,null,null,null,null,null,null,null,null,null,"Railways, goods transported (million ton-km)",{"$f":"IFERROR(AL817/AL809-1,\"\")","v":0},"",0,"",0,0,0,0,0,0]
["other fossil fuels",0,0,0,0,0,0,0,0,0,0,null,{"$f":"M$11","v":"Heat and Cold"},0,0,0,0,0,0,0,0,0,0]
["Plant oil, biofuel",0,0,0,0,0,0,0,0,0,0,null,{"$f":"M$12","v":"natural gas"},81523055.555555552,82785000,87241666.666666672,82912500,80493055.555555552,78073611.111111104,81563055.555555552,82550833.333333328,85492222.222222224,79086388.888888896]
["Summe",{"$f":"SUM(B817:B825)","v":1.1080054594561459},{"$f":"SUM(C817:C825)","v":1.0690000338259458},{"$f":"SUM(D817:D825)","v":1.0490832557325642},{"$f":"SUM(E817:E825)","v":1.0315206730019166},{"$f":"SUM(F817:F825)","v":1.0227700365495946},{"$f":"SUM(G817:G825)","v":0.89938344734461972},{"$f":"SUM(H817:H825)","v":0.90420765976296347},{"$f":"SUM(I817:I825)","v":0.84552255471192483},{"$f":"SUM(J817:J825)","v":0.8283775760069314},{"$f":"SUM(K817:K825)","v":0.82464808852587324},null,{"$f":"M$13","v":"Liquid gas"},0,0,0,0,0,0,0,0,0,0]
[null,null,null,null,null,null,null,null,null,null,null,null,{"$f":"M$14","v":"heating oil / diesel"},2250000,2129722.222222222,2009166.6666666665,1888611.111111111,1922777.7777777778,1568888.888888889,1451111.111111111,1309722.2222222222,1251111.111111111,1298333.3333333333]
["Energy consumption (MWh /Einwohner and  Year) - Secondary sector (Industrie)",null,null,null,null,null,null,null,null,null,null,null,{"$f":"M$15","v":"gasoline"},1127500,1108333.3333333333,1088888.888888889,1069722.2222222222,1180277.7777777778,961388.88888888888,925000,937222.22222222213,973888.88888888888,1035277.7777777779]
["Energieträger",2000,2001,2002,2003,2004,2005,2006,2007,2008,2009,null,{"$f":"M$16","v":"Lignite / Coal"},0,77500,243888.88888888888,410277.77777777775,398055.55555555556,441944.44444444444,1064166.6666666667,1349166.6666666667,1526666.6666666667,1085555.5555555555]
["Electricity",0.61815539617116877,0.60846645623367679,0.61649743983412342,0.61045989883937757,0.62340084784061833,0.5760330017027383,0.60736688621935631,0.57563313648619596,0.57166710821843825,0.56779212713869909,null,{"$f":"M$17","v":"other fossil fuels"},0,0,0,0,0,0,0,0,0,0]
["Heat and Cold",0,0,0,0,0,0,0,0,0,0,null,{"$f":"M$18","v":"Plant oil, biofuel"},0,0,0,0,0,0,0,0,0,0]
["natural gas",3.3071696830702768,3.316122157952925,3.4521350543557117,3.2428611099160269,3.112117642611294,2.9836668747319566,3.0792222784317378,3.0724591831670884,3.1312735451886526,2.8481740778354796,null,"Summe",{"$f":"SUM(N823:N831)","v":100138333.33333333},101290555.55555555,106163611.11111113,101889166.66666666,100118055.55555555,96118888.888888896,101091388.88888888,101613055.55555557,104851944.44444445,98271666.666666657]
["Liquid gas",0,0,0,0,0,0,0,0,0,0]
["heating oil / diesel",9.1276409307759709E-2,8.531037085698924E-2,7.9502317471120632E-2,7.3867070996261344E-2,7.4340706831698314E-2,5.9956773374436848E-2,5.4783303928206184E-2,4.8746546904206572E-2,4.5823713812594029E-2,4.6757468590265319E-2,null,"Energy consumption, Business (Mwh/year) - Energy consumption - Services"]
["gasoline",4.573962288644403E-2,4.4396554026266737E-2,4.3087112468794819E-2,4.1838813120547498E-2,4.5633294326478779E-2,3.6740508613478384E-2,3.4921210199258534E-2,3.4882470679701585E-2,3.5670057865664892E-2,3.7283929275977505E-2,null,{"$f":"M$9","v":"Energieträger"},2000,2001,2002,2003,2004,2005,2006,2007,2008,2009]
["Lignite / Coal",0,3.1044206950697792E-3,9.6506338641841449E-3,1.6046722144650388E-2,1.5390094320980017E-2,1.6889381451616326E-2,4.0175122004011854E-2,5.0214629546920748E-2,5.5916325735794144E-2,3.9094605744706218E-2,null,{"$f":"M$10","v":"Electricity"},3082777.777777778,3073055.5555555555,3151944.4444444445,3158055.5555555555,3261944.4444444445,3050000,3255000,3128888.8888888885,3158055.5555555555,3190000]
["other fossil fuels",0,0,0,0,0,0,0,0,0,0,null,{"$f":"M$11","v":"Heat and Cold"},32307777.777777776,31755277.777777776,31202777.777777776,30650277.777777776,30052500,29994444.444444444,28498333.333333332,28647222.222222224,27389722.222222224,27718333.333333332]
["Plant oil, biofuel",0,0,0,0,0,0,0,0,0,0,null,{"$f":"M$12","v":"natural gas"},36908055.555555552,37479444.444444448,39496944.444444448,37536944.444444448,36441666.666666664,35346388.888888888,36926111.111111112,37373333.333333336,38705000,35805000]
["Summe",{"$f":"SUM(B830:B838)","v":4.0623411114356491},{"$f":"SUM(C830:C838)","v":4.0573999597649273},{"$f":"SUM(D830:D838)","v":4.2008725579939341},{"$f":"SUM(E830:E838)","v":3.985073615016864},{"$f":"SUM(F830:F838)","v":3.8708825859310694},{"$f":"SUM(G830:G838)","v":3.6732865398742267},{"$f":"SUM(H830:H838)","v":3.8164688007825709},{"$f":"SUM(I830:I838)","v":3.7819359667841135},{"$f":"SUM(J830:J838)","v":3.8403507508211439},{"$f":"SUM(K830:K838)","v":3.5391022085851276},null,{"$f":"M$13","v":"Liquid gas"},0,0,0,0,177222.22222222222,139166.66666666666,0,0,0,0]
[null,null,null,null,null,null,null,null,null,null,null,null,{"$f":"M$14","v":"heating oil / diesel"},2202222.222222222,2084444.4444444443,1966388.888888889,1848611.111111111,1888055.5555555555,1533888.888888889,1416111.111111111,1274722.2222222222,1227500,1274722.2222222222]
["Energy consumption (MWh /Einwohner and  Year) - Tertiary sector (Services)",null,null,null,null,null,null,null,null,null,null,null,{"$f":"M$15","v":"gasoline"},940555.5555555555,887500,834166.66666666663,781111.11111111112,781111.11111111112,636944.4444444445,600833.33333333337,540833.33333333337,516944.44444444444,492777.77777777775]
["Energieträger",2000,2001,2002,2003,2004,2005,2006,2007,2008,2009,null,{"$f":"M$16","v":"Lignite / Coal"},0,105833.33333333333,398055.55555555556,690000,886944.4444444445,990555.5555555555,1457500,2190833.3333333335,1748888.888888889,2814444.4444444445]
["Electricity",0.12505994944413795,0.12309751308084935,0.12472180234270785,0.1235173893449765,0.12611715115929403,0.11655902472579967,0.12288490724171518,0.1164541048417779,0.11566825096256252,0.11488292025900877,null,{"$f":"M$17","v":"other fossil fuels"},37500,51388.888888888883,65555.555555555562,79444.444444444438,93333.333333333328,107500,126388.88888888889,126388.88888888889,151944.44444444444,164444.44444444444]
["Heat and Cold",0,0,0,0,0,0,0,0,0,0,null,{"$f":"M$18","v":"Plant oil, biofuel"},41111.111111111109,43055.555555555555,45000,46944.444444444445,48888.888888888883,46388.888888888883,55833.333333333328,58333.333333333328,55833.333333333328,55833.333333333328]
["natural gas",1.497259904729966,1.5013156512651795,1.5628860803126192,1.4681392712072048,1.4089507843470819,1.3508002021205674,1.3940589058943647,1.3909979653615205,1.4176253630593312,1.2894617429071502,null,"Summe",{"$f":"SUM(N836:N844)","v":75519999.999999985},75480000,77160833.333333343,74791388.888888881,73631666.666666657,71845277.777777791,72336111.111111104,73340555.555555552,72953888.888888896,71515555.555555552]
["Liquid gas",0,0,0,0,6.8519750012458131E-3,5.3184035872154492E-3,0,0,0,0]
["heating oil / diesel",8.9338194196533202E-2,8.3496677045891116E-2,7.7809609481275133E-2,7.2302597070174904E-2,7.2998235240545134E-2,5.8619210795616196E-2,5.3461960839585591E-2,4.7443882024051746E-2,4.4958923476432731E-2,4.5907150911580569E-2]
["gasoline",3.8155792829144983E-2,3.5550624088702312E-2,3.3007805801987457E-2,3.055069916774333E-2,3.0200240914581861E-2,2.4341515819331392E-2,2.2683056354653518E-2,2.012927398144013E-2,1.8933821359955038E-2,1.7746630141020684E-2]
["Lignite / Coal",0,4.2393701964931396E-3,1.5750977593822189E-2,2.6987175224990907E-2,3.4292094324416746E-2,3.7855144095828928E-2,5.5024501476128994E-2,8.1540618331596454E-2,6.4055528899665204E-2,0.101357867299223]
["other fossil fuels",1.5212734884626619E-3,2.0584868408168784E-3,2.5940200363866271E-3,3.1072190476438802E-3,3.6085636370197386E-3,4.1082279206634308E-3,4.7715167089076981E-3,4.7040676227813345E-3,5.565180163296833E-3,5.922212538604422E-3]
["Plant oil, biofuel",1.6677664910553626E-3,1.7246781639276552E-3,1.780640872434888E-3,1.8360839826986567E-3,1.8902000003436724E-3,1.772801195738483E-3,2.1078568318471367E-3,2.1711081335913851E-3,2.0449747949226023E-3,2.0107512166545418E-3]
["Summe",{"$f":"SUM(B843:B851)","v":1.7530028811793001},{"$f":"SUM(C843:C851)","v":1.75148300068186},{"$f":"SUM(D843:D851)","v":1.8185509364412333},{"$f":"SUM(E843:E851)","v":1.726440435045433},{"$f":"SUM(F843:F851)","v":1.6849092446245288},{"$f":"SUM(G843:G851)","v":1.5993745302607612},{"$f":"SUM(H843:H851)","v":1.6549927053472029},{"$f":"SUM(I843:I851)","v":1.6634410202967596},{"$f":"SUM(J843:J851)","v":1.6688520427161659},{"$f":"SUM(K843:K851)","v":1.5772892752732421}]
[]
["Energy consumption (MWh /Einwohner and  Year) - Road"]
["Energieträger",2000,2001,2002,2003,2004,2005,2006,2007,2008,2009]
["Electricity",0,0,0,0,0,0,0,0,0,0]
["Heat and Cold",0,0,0,0,0,0,0,0,0,0]
["natural gas",3.2104504952815728E-2,3.219028340801746E-2,3.351341987687638E-2,3.1485037762489392E-2,3.0210980687311088E-2,2.8959291389069351E-2,2.9887522242608659E-2,2.9826890311481648E-2,3.0399923817058385E-2,2.7650330163349026E-2]
["Liquid gas",0,0,0,0,0,0,0,0,0,0]
["heating oil / diesel",0.18234998215039108,0.17168892948002398,0.16134584794118345,0.1513085303375396,0.15426609548259385,0.12451009116656687,0.11720103459066469,0.10588804525829984,0.1003055049907559,0.10415891377018453]
["gasoline",0.70628784026943892,0.69295343235433926,0.6801168803875377,0.66788912920946697,0.74408367399892428,0.60060806019456225,0.57350484786097633,0.5817639323110515,0.59798725644960626,0.64867234398771378]
["Lignite / Coal",0,0,0,0,0,0,0,0,0,0]
["other fossil fuels",0,0,0,0,6.3579454557014447E-3,5.3184035872154492E-3,3.8172133671261583E-3,2.8224405736688002E-3,1.8516687197806646E-3,9.103401030625041E-4]
["Plant oil, biofuel",0,0,0,0,0,0,0,0,0,0]
["Summe",{"$f":"SUM(B856:B864)","v":0.92074232737264572},0.89683264524238071,0.87497614820559755,0.85068269730949597,0.93491869562453067,0.75939584633741397,0.72441061806137585,0.7203013084545018,0.73054435397720119,0.78139192802430979]
[]
["Energy consumption (MWh /Einwohner and  Year) - Rail"]
["Energieträger",2000,2001,2002,2003,2004,2005,2006,2007,2008,2009]
["Electricity",6.4501995910816864E-3,6.3690695550463862E-3,6.4498769379308148E-3,6.3752312488021988E-3,6.4546034102644732E-3,5.9978004526481613E-3,6.3445441953607845E-3,6.0274097232560827E-3,5.9721403214903846E-3,5.9422200133970055E-3]
["Heat and Cold",0,0,0,0,0,0,0,0,0,0]
["natural gas",0,0,0,0,0,0,0,0,0,0]
["Liquid gas",0,0,0,0,0,0,0,0,0,0]
["heating oil / diesel",5.3717857181492662E-2,5.03160945631023E-2,4.7011117354345773E-2,4.3794405528155535E-2,4.4269343189867152E-2,3.5636488707150228E-2,3.2981142965966395E-2,2.9434023125403202E-2,2.767329075716158E-2,2.8480640367241197E-2]
["gasoline",0,0,0,0,0,0,0,0,0,0]
["Lignite / Coal",0,0,0,0,0,0,0,0,0,0]
["other fossil fuels",0,0,0,0,0,0,0,0,0,0]
["Plant oil, biofuel",0,0,0,0,0,0,0,0,0,0]
["Summe",{"$f":"SUM(B869:B877)","v":6.0168056772574349E-2},5.6685164118148688E-2,5.346099429227659E-2,5.0169636776957731E-2,5.0723946600131624E-2,4.1634289159798388E-2,3.9325687161327179E-2,3.5461432848659283E-2,3.3645431078651963E-2,3.4422860380638201E-2]

{"sheet":"_test","index":12,"n_rows":878,"n_cols":42,"rows_kept":878,"cut":false,"hidden":true,"merged":[[800,0,800,10],[800,12,800,22],[800,24,800,34],[800,36,800,46],[640,0,640,10],[640,12,640,22],[640,24,640,34],[640,36,640,46],[720,0,720,10],[720,12,720,22],[720,24,720,34],[720,36,720,46],[480,0,480,10],[480,12,480,22],[480,24,480,34],[480,36,480,46],[560,0,560,10],[560,12,560,22],[560,24,560,34],[560,36,560,46],[320,0,320,10],[320,12,320,22],[320,24,320,34],[320,36,320,46],[400,0,400,10],[400,12,400,22],[400,24,400,34],[400,36,400,46],[160,0,160,10],[160,12,160,22],[160,24,160,34],[160,36,160,46],[240,0,240,10],[240,12,240,22],[240,24,240,34],[240,36,240,46],[0,0,0,10],[0,12,0,22],[0,24,0,34],[0,36,0,46],[80,0,80,10],[80,12,80,22],[80,24,80,34],[80,36,80,46]]}
["Armenia",null,null,null,null,null,null,null,null,null,null,null,"Armenia",null,null,null,null,null,null,null,null,null,null,null,"Armenia",null,null,null,null,null,null,null,null,null,null,null,"Armenia"]
["Energy consumption (MWh /Einwohner and  Year) - Residential building (Households)",null,null,null,null,null,null,null,null,null,null,null,"Test:",{"$f":"A2","v":"Energy consumption (MWh /Einwohner and  Year) - Residential building (Households)"},null,null,null,null,null,null,null,null,null,null,"CO2 emission Factor (t /Mwh)"]
["Energieträger",2000,2001,2002,2003,2004,2005,2006,2007,2008,2009,null,"Energieträger",2000,2001,2002,2003,2004,2005,2006,2007,2008,2009,null,"Energieträger",2000,2001,2002,2003,2004,2005,2006,2007,2008,2009,null,null,"Year:",{"$f":"'DATA-OUTPUT Co2 absolute'!$B$8","v":0},null,"CO2","Test"]
["Electricity",0.50648581417106997,0.4817468937880835,0.48875477443359161,0.52314421216260554,0.53676041525628748,0.55157745716703876,0.55639816080411753,0.57476916435448799,0.58197265762365413,0.55654979967268636,null,"Electricity",{"$f":"IFERROR(B4/_data!B4-1,\"\")","v":0},{"$f":"IFERROR(C4/_data!C4-1,\"\")","v":0},{"$f":"IFERROR(D4/_data!D4-1,\"\")","v":0},{"$f":"IFERROR(E4/_data!E4-1,\"\")","v":0},{"$f":"IFERROR(F4/_data!F4-1,\"\")","v":0},{"$f":"IFERROR(G4/_data!G4-1,\"\")","v":0},{"$f":"IFERROR(H4/_data!H4-1,\"\")","v":0},{"$f":"IFERROR(I4/_data!I4-1,\"\")","v":0},{"$f":"IFERROR(J4/_data!J4-1,\"\")","v":0},{"$f":"IFERROR(K4/_data!K4-1,\"\")","v":0},null,"Electricity",{"$f":"_data!Z4","v":0.60899999999999999},{"$f":"_data!AA4","v":0.65200000000000002},{"$f":"_data!AB4","v":0.375},{"$f":"_data!AC4","v":0.33600000000000002},{"$f":"_data!AD4","v":0.374},{"$f":"_data!AE4","v":0.35699999999999998},{"$f":"_data!AF4","v":0.26500000000000001},{"$f":"_data!AG4","v":0.254},{"$f":"_data!AH4","v":0.252},{"$f":"_data!AI4","v":0.252},null,null,null,{"$f":"'DATA-OUTPUT EC per capita'!$B$37","v":0},{"$f":"IF(AM3=Z3,Z4,IF(AM3=AA3,AA4,IF(AM3=AB3,AB4,IF(AM3=AC3,AC4,IF(AM3=AD3,AD4,IF(AM3=AE3,AE4,IF(AM3=AF3,AF4,IF(AM3=AG3,AG4,IF(AM3=AH3,AH4,IF(AM3=AI3,AI4,\"Fehler\"))))))))))","v":"Fehler"},{"$f":"AN4*AM4","v":{"$error":"#VALUE!"}},{"$f":"AO4/'DATA-OUTPUT Co2 per capita'!$B$37-1","v":{"$error":"#VALUE!"}}]
["Heat and Cold",9.6532829722734595E-2,6.6413479997492059E-2,5.063593838357671E-2,4.4291182431532176E-2,4.217532833629159E-2,7.1212201270251713E-2,6.1168508164511873E-2,7.463595814444382E-2,6.1977246285451933E-2,3.8357905623776799E-2,null,"Heat and Cold",{"$f":"IFERROR(B5/_data!B5-1,\"\")","v":0},{"$f":"IFERROR(C5/_data!C5-1,\"\")","v":0},{"$f":"IFERROR(D5/_data!D5-1,\"\")","v":0},{"$f":"IFERROR(E5/_data!E5-1,\"\")","v":0},{"$f":"IFERROR(F5/_data!F5-1,\"\")","v":0},{"$f":"IFERROR(G5/_data!G5-1,\"\")","v":0},{"$f":"IFERROR(H5/_data!H5-1,\"\")","v":0},{"$f":"IFERROR(I5/_data!I5-1,\"\")","v":0},{"$f":"IFERROR(J5/_data!J5-1,\"\")","v":0},{"$f":"IFERROR(K5/_data!K5-1,\"\")","v":0},null,"Heat and Cold",{"$f":"_data!Z5","v":"n.a."},{"$f":"_data!AA5","v":"n.a."},{"$f":"_data!AB5","v":"n.a."},{"$f":"_data!AC5","v":"n.a."},{"$f":"_data!AD5","v":"n.a."},{"$f":"_data!AE5","v":"n.a."},{"$f":"_data!AF5","v":"n.a."},{"$f":"_data!AG5","v":"n.a."},{"$f":"_data!AH5","v":"n.a."},{"$f":"_data!AI5","v":"n.a."},null,null,null,{"$f":"'DATA-OUTPUT EC per capita'!$C$37","v":0},{"$f":"IF(AM3=Z3,Z5,IF(AM3=AA3,AA5,IF(AM3=AB3,AB5,IF(AM3=AC3,AC5,IF(AM3=AD3,AD5,IF(AM3=AE3,AE5,IF(AM3=AF3,AF5,IF(AM3=AG3, AG5,IF(AM3=AH3,AH5,IF(AM3=AI3,AI5,\"Fehler\"))))))))))","v":"Fehler"},{"$f":"AM5*AN5","v":{"$error":"#VALUE!"}},{"$f":"AO5/'DATA-OUTPUT Co2 per capita'!$C$37-1","v":{"$error":"#VALUE!"}}]
["natural gas",0.52239702520675357,0.58023455102856636,0.57995391076960345,0.71737193839924263,1.1049029027800088,1.2371534457319175,1.2661700218136311,1.8127682715421691,2.0048331065525451,1.8779166189894105,null,"natural gas",{"$f":"IFERROR(B6/_data!B6-1,\"\")","v":0},{"$f":"IFERROR(C6/_data!C6-1,\"\")","v":0},{"$f":"IFERROR(D6/_data!D6-1,\"\")","v":0},{"$f":"IFERROR(E6/_data!E6-1,\"\")","v":0},{"$f":"IFERROR(F6/_data!F6-1,\"\")","v":0},{"$f":"IFERROR(G6/_data!G6-1,\"\")","v":0},{"$f":"IFERROR(H6/_data!H6-1,\"\")","v":0},{"$f":"IFERROR(I6/_data!I6-1,\"\")","v":0},{"$f":"IFERROR(J6/_data!J6-1,\"\")","v":0},{"$f":"IFERROR(K6/_data!K6-1,\"\")","v":0},null,"natural gas",{"$f":"_data!Z6","v":0.20200000000000001},{"$f":"_data!AA6","v":0.20200000000000001},{"$f":"_data!AB6","v":0.20200000000000001},{"$f":"_data!AC6","v":0.20200000000000001},{"$f":"_data!AD6","v":0.20200000000000001},{"$f":"_data!AE6","v":0.20200000000000001},{"$f":"_data!AF6","v":0.20200000000000001},{"$f":"_data!AG6","v":0.20200000000000001},{"$f":"_data!AH6","v":0.20200000000000001},{"$f":"_data!AI6","v":0.20200000000000001},null,null,null,{"$f":"'DATA-OUTPUT EC per capita'!$D$37","v":0},{"$f":"IF(AM3=Z3,Z6,IF(AM3=AA3,AA6,IF(AM3=AB3,AB6,IF(AM3=AC3,AC6,IF(AM3=AD3,AD6,IF(AM3=AE3,AE6,IF(AM3=AF3,AF6,IF(AM3=AG3, AG6,IF(AM3=AH3,AH6,IF(AM3=AI3,AI6,\"Fehler\"))))))))))","v":"Fehler"},{"$f":"AM6*AN6","v":{"$error":"#VALUE!"}},{"$f":"AO6/'DATA-OUTPUT Co2 per capita'!$D$37-1","v":{"$error":"#VALUE!"}}]
["Liquid gas",0,0,0,0,0,0,0,0,0,0,null,"Liquid gas",{"$f":"IFERROR(B7/_data!B7-1,\"\")","v":""},{"$f":"IFERROR(C7/_data!C7-1,\"\")","v":""},{"$f":"IFERROR(D7/_data!D7-1,\"\")","v":""},{"$f":"IFERROR(E7/_data!E7-1,\"\")","v":""},{"$f":"IFERROR(F7/_data!F7-1,\"\")","v":""},{"$f":"IFERROR(G7/_data!G7-1,\"\")","v":""},{"$f":"IFERROR(H7/_data!H7-1,\"\")","v":""},{"$f":"IFERROR(I7/_data!I7-1,\"\")","v":""},{"$f":"IFERROR(J7/_data!J7-1,\"\")","v":""},{"$f":"IFERROR(K7/_data!K7-1,\"\")","v":""},null,"Liquid gas",{"$f":"_data!Z7","v":0.23100000000000001},{"$f":"_data!AA7","v":0.23100000000000001},{"$f":"_data!AB7","v":0.23100000000000001},{"$f":"_data!AC7","v":0.23100000000000001},{"$f":"_data!AD7","v":0.23100000000000001},{"$f":"_data!AE7","v":0.23100000000000001},{"$f":"_data!AF7","v":0.23100000000000001},{"$f":"_data!AG7","v":0.23100000000000001},{"$f":"_data!AH7","v":0.23100000000000001},{"$f":"_data!AI7","v":0.23100000000000001},null,null,null,{"$f":"'DATA-OUTPUT EC per capita'!$E$37","v":0},{"$f":"IF(AM3=Z3,Z7,IF(AM3=AA3,AA7,IF(AM3=AB3,AB7,IF(AM3=AC3,AC7,IF(AM3=AD3,AD7,IF(AM3=AE3,AE7,IF(AM3=AF3,AF7,IF(AM3=AG3, AG7,IF(AM3=AH3,AH7,IF(AM3=AI3,AI7,\"Fehler\"))))))))))","v":"Fehler"},{"$error":"#VALUE!"},{"$f":"AO7/'DATA-OUTPUT Co2 per capita'!$E$37-1","v":{"$error":"#VALUE!"}}]
["heating oil / diesel",0,0,0,0,0,0,0,0,0,0,null,"heating oil / diesel",{"$f":"IFERROR(B8/_data!B8-1,\"\")","v":""},{"$f":"IFERROR(C8/_data!C8-1,\"\")","v":""},{"$f":"IFERROR(D8/_data!D8-1,\"\")","v":""},{"$f":"IFERROR(E8/_data!E8-1,\"\")","v":""},{"$f":"IFERROR(F8/_data!F8-1,\"\")","v":""},{"$f":"IFERROR(G8/_data!G8-1,\"\")","v":""},{"$f":"IFERROR(H8/_data!H8-1,\"\")","v":""},{"$f":"IFERROR(I8/_data!I8-1,\"\")","v":""},{"$f":"IFERROR(J8/_data!J8-1,\"\")","v":""},{"$f":"IFERROR(K8/_data!K8-1,\"\")","v":""},null,"heating oil / diesel",{"$f":"_data!Z8","v":0.26700000000000002},{"$f":"_data!AA8","v":0.26700000000000002},{"$f":"_data!AB8","v":0.26700000000000002},{"$f":"_data!AC8","v":0.26700000000000002},{"$f":"_data!AD8","v":0.26700000000000002},{"$f":"_data!AE8","v":0.26700000000000002},{"$f":"_data!AF8","v":0.26700000000000002},{"$f":"_data!AG8","v":0.26700000000000002},{"$f":"_data!AH8","v":0.26700000000000002},{"$f":"_data!AI8","v":0.26700000000000002},null,null,null,{"$f":"'DATA-OUTPUT EC per capita'!$F$37","v":0},{"$f":"IF(AM3=Z3,Z8,IF(AM3=AA3,AA8,IF(AM3=AB3,AB8,IF(AM3=AC3,AC8,IF(AM3=AD3,AD8,IF(AM3=AE3,AE8,IF(AM3=AF3,AF8,IF(AM3=AG3, AG8,IF(AM3=AH3,AH8,IF(AM3=AI3,AI8,\"Fehler\"))))))))))","v":"Fehler"},{"$error":"#VALUE!"},{"$f":"AO8/'DATA-OUTPUT Co2 per capita'!$F$37-1","v":{"$error":"#VALUE!"}}]
["gasoline",0,0,2.3503061005997073E-2,1.1798880565777017E-2,0,0,0,0,0,0,null,"gasoline",{"$f":"IFERROR(B9/_data!B9-1,\"\")","v":""},{"$f":"IFERROR(C9/_data!C9-1,\"\")","v":""},{"$f":"IFERROR(D9/_data!D9-1,\"\")","v":0},{"$f":"IFERROR(E9/_data!E9-1,\"\")","v":0},{"$f":"IFERROR(F9/_data!F9-1,\"\")","v":""},{"$f":"IFERROR(G9/_data!G9-1,\"\")","v":""},{"$f":"IFERROR(H9/_data!H9-1,\"\")","v":""},{"$f":"IFERROR(I9/_data!I9-1,\"\")","v":""},{"$f":"IFERROR(J9/_data!J9-1,\"\")","v":""},{"$f":"IFERROR(K9/_data!K9-1,\"\")","v":""},null,"gasoline",{"$f":"_data!Z9","v":0.249},{"$f":"_data!AA9","v":0.249},{"$f":"_data!AB9","v":0.249},{"$f":"_data!AC9","v":0.249},{"$f":"_data!AD9","v":0.249},{"$f":"_data!AE9","v":0.249},{"$f":"_data!AF9","v":0.249},{"$f":"_data!AG9","v":0.249},{"$f":"_data!AH9","v":0.249},{"$f":"_data!AI9","v":0.249},null,null,null,{"$f":"'DATA-OUTPUT EC per capita'!$G$37","v":0},{"$f":"IF(AM3=Z3,Z9,IF(AM3=AA3,AA9,IF(AM3=AB3,AB9,IF(AM3=AC3,AC9,IF(AM3=AD3,AD9,IF(AM3=AE3,AE9,IF(AM3=AF3,AF9,IF(AM3=AG3, AG9,IF(AM3=AH3,AH9,IF(AM3=AI3,AI9,\"Fehler\"))))))))))","v":"Fehler"},{"$error":"#VALUE!"},{"$f":"AO9/'DATA-OUTPUT Co2 per capita'!$G$37-1","v":{"$error":"#VALUE!"}}]
["Lignite / Coal",0,0,4.7913576104889784E-2,7.1791650211766311E-2,0,1.3046510156381993E-2,1.8278163682294967E-2,2.0240259835781375E-2,1.8313509455526553E-2,1.4136599020969386E-2,null,"Lignite / Coal",{"$f":"IFERROR(B10/_data!B10-1,\"\")","v":""},{"$f":"IFERROR(C10/_data!C10-1,\"\")","v":""},{"$f":"IFERROR(D10/_data!D10-1,\"\")","v":0},{"$f":"IFERROR(E10/_data!E10-1,\"\")","v":0},{"$f":"IFERROR(F10/_data!F10-1,\"\")","v":""},{"$f":"IFERROR(G10/_data!G10-1,\"\")","v":0},{"$f":"IFERROR(H10/_data!H10-1,\"\")","v":0},{"$f":"IFERROR(I10/_data!I10-1,\"\")","v":0},{"$f":"IFERROR(J10/_data!J10-1,\"\")","v":0},{"$f":"IFERROR(K10/_data!K10-1,\"\")","v":0},null,"Lignite / Coal",{"$f":"_data!Z10","v":0.36399999999999999},{"$f":"_data!AA10","v":0.36399999999999999},{"$f":"_data!AB10","v":0.36399999999999999},{"$f":"_data!AC10","v":0.36399999999999999},{"$f":"_data!AD10","v":0.36399999999999999},{"$f":"_data!AE10","v":0.36399999999999999},{"$f":"_data!AF10","v":0.36399999999999999},{"$f":"_data!AG10","v":0.36399999999999999},{"$f":"_data!AH10","v":0.36399999999999999},{"$f":"_data!AI10","v":0.36399999999999999},null,null,null,{"$f":"'DATA-OUTPUT EC per capita'!$H$37","v":0},{"$f":"IF(AM3=Z3,Z10,IF(AM3=AA3,AA10,IF(AM3=AB3,AB10,IF(AM3=AC3,AC10,IF(AM3=AD3,AD10,IF(AM3=AE3,AE10,IF(AM3=AF3,AF10,IF(AM3=AG3, AG10,IF(AM3=AH3,AH10,IF(AM3=AI3,AI10,\"Fehler\"))))))))))","v":"Fehler"},{"$error":"#VALUE!"},{"$f":"AO10/'DATA-OUTPUT Co2 per capita'!$H$37-1","v":{"$error":"#VALUE!"}}]
["other fossil fuels",0,0,0,0,0,0,0,0,0,0,null,"other fossil fuels",{"$f":"IFERROR(B11/_data!B11-1,\"\")","v":""},{"$f":"IFERROR(C11/_data!C11-1,\"\")","v":""},{"$f":"IFERROR(D11/_data!D11-1,\"\")","v":""},{"$f":"IFERROR(E11/_data!E11-1,\"\")","v":""},{"$f":"IFERROR(F11/_data!F11-1,\"\")","v":""},{"$f":"IFERROR(G11/_data!G11-1,\"\")","v":""},{"$f":"IFERROR(H11/_data!H11-1,\"\")","v":""},{"$f":"IFERROR(I11/_data!I11-1,\"\")","v":""},{"$f":"IFERROR(J11/_data!J11-1,\"\")","v":""},{"$f":"IFERROR(K11/_data!K11-1,\"\")","v":""},null,"other fossil fuels",{"$f":"_data!Z11","v":0.38200000000000001},{"$f":"_data!AA11","v":0.38200000000000001},{"$f":"_data!AB11","v":0.38200000000000001},{"$f":"_data!AC11","v":0.38200000000000001},{"$f":"_data!AD11","v":0.38200000000000001},{"$f":"_data!AE11","v":0.38200000000000001},{"$f":"_data!AF11","v":0.38200000000000001},{"$f":"_data!AG11","v":0.38200000000000001},{"$f":"_data!AH11","v":0.38200000000000001},{"$f":"_data!AI11","v":0.38200000000000001},null,null,null,{"$f":"'DATA-OUTPUT EC per capita'!$I$37","v":0},{"$f":"IF(AM3=Z3,Z11,IF(AM3=AA3,AA11,IF(AM3=AB3,AB11,IF(AM3=AC3,AC11,IF(AM3=AD3,AD11,IF(AM3=AE3,AE11,IF(AM3=AF3,AF11,IF(AM3=AG3, AG11,IF(AM3=AH3,AH11,IF(AM3=AI3,AI11,\"Fehler\"))))))))))","v":"Fehler"},{"$error":"#VALUE!"},{"$f":"AO11/'DATA-OUTPUT Co2 per capita'!$I$37-1","v":{"$error":"#VALUE!"}}]
["Plant oil, biofuel",0,0,0,0,0,0,0,0,0,0,null,"Plant oil, biofuel",{"$f":"IFERROR(B12/_data!B12-1,\"\")","v":""},{"$f":"IFERROR(C12/_data!C12-1,\"\")","v":""},{"$f":"IFERROR(D12/_data!D12-1,\"\")","v":""},{"$f":"IFERROR(E12/_data!E12-1,\"\")","v":""},{"$f":"IFERROR(F12/_data!F12-1,\"\")","v":""},{"$f":"IFERROR(G12/_data!G12-1,\"\")","v":""},{"$f":"IFERROR(H12/_data!H12-1,\"\")","v":""},{"$f":"IFERROR(I12/_data!I12-1,\"\")","v":""},{"$f":"IFERROR(J12/_data!J12-1,\"\")","v":""},{"$f":"IFERROR(K12/_data!K12-1,\"\")","v":""},null,"Plant oil, biofuel",{"$f":"_data!Z12","v":0},{"$f":"_data!AA12","v":0},{"$f":"_data!AB12","v":0},{"$f":"_data!AC12","v":0},{"$f":"_data!AD12","v":0},{"$f":"_data!AE12","v":0},{"$f":"_data!AF12","v":0},{"$f":"_data!AG12","v":0},{"$f":"_data!AH12","v":0},{"$f":"_data!AI12","v":0},null,null,null,{"$f":"'DATA-OUTPUT EC per capita'!$J$37","v":0},{"$f":"IF(AM3=Z3,Z12,IF(AM3=AA3,AA12,IF(AM3=AB3,AB12,IF(AM3=AC3,AC12,IF(AM3=AD3,AD12,IF(AM3=AE3,AE12,IF(AM3=AF3,AF12,IF(AM3=AG3, AG12,IF(AM3=AH3,AH12,IF(AM3=AI3,AI12,\"Fehler\"))))))))))","v":"Fehler"},{"$error":"#VALUE!"},{"$f":"AO12/'DATA-OUTPUT Co2 per capita'!$J$37-1","v":{"$error":"#VALUE!"}}]
["Summe",1.1254156691005581,1.1283949248141418,1.1907612606976588,1.3683978637709235,1.6838386463725878,1.87298961432559,1.9020148544645556,2.4824136538768826,2.6670965199171777,2.4869609233068433,null,"Summe",{"$f":"IFERROR(B13/_data!B13-1,\"\")","v":0},{"$f":"IFERROR(C13/_data!C13-1,\"\")","v":0},{"$f":"IFERROR(D13/_data!D13-1,\"\")","v":0},{"$f":"IFERROR(E13/_data!E13-1,\"\")","v":0},{"$f":"IFERROR(F13/_data!F13-1,\"\")","v":0},{"$f":"IFERROR(G13/_data!G13-1,\"\")","v":0},{"$f":"IFERROR(H13/_data!H13-1,\"\")","v":0},{"$f":"IFERROR(I13/_data!I13-1,\"\")","v":0},{"$f":"IFERROR(J13/_data!J13-1,\"\")","v":0},{"$f":"IFERROR(K13/_data!K13-1,\"\")","v":0},null,null,null,null,null,null,null,null,null,null,null,null,null,null,"Total",null,null,{"$f":"SUM(AO4:AO12)","v":{"$error":"#VALUE!"}},{"$f":"AO13/'DATA-OUTPUT Co2 per capita'!$K$37-1","v":{"$error":"#VALUE!"}}]
[]
["Energy consumption (MWh /Einwohner and  Year) - Primary sector (Agriculture)",null,null,null,null,null,null,null,null,null,null,null,"Test:",{"$f":"A15","v":"Energy consumption (MWh /Einwohner and  Year) - Primary sector (Agriculture)"}]
["Energieträger",2000,2001,2002,2003,2004,2005,2006,2007,2008,2009,null,"Energieträger",2000,2001,2002,2003,2004,2005,2006,2007,2008,2009]
["Electricity",0.15468731273624356,0.12784368386966069,7.5137198891758988E-2,0.1072790525288341,0.11908861528075455,7.4655030339296963E-2,7.3927028358589053E-2,5.647393927394357E-2,7.2442108831467095E-2,4.0158746263390735E-2,null,"Electricity",{"$f":"IFERROR(B17/_data!B17-1,\"\")","v":0},{"$f":"IFERROR(C17/_data!C17-1,\"\")","v":0},{"$f":"IFERROR(D17/_data!D17-1,\"\")","v":0},{"$f":"IFERROR(E17/_data!E17-1,\"\")","v":0},{"$f":"IFERROR(F17/_data!F17-1,\"\")","v":0},{"$f":"IFERROR(G17/_data!G17-1,\"\")","v":0},{"$f":"IFERROR(H17/_data!H17-1,\"\")","v":0},{"$f":"IFERROR(I17/_data!I17-1,\"\")","v":0},{"$f":"IFERROR(J17/_data!J17-1,\"\")","v":0},{"$f":"IFERROR(K17/_data!K17-1,\"\")","v":0}]
["Heat and Cold",0,0,0,0,0,0,0,0,0,0,null,"Heat and Cold",{"$f":"IFERROR(B18/_data!B18-1,\"\")","v":""},{"$f":"IFERROR(C18/_data!C18-1,\"\")","v":""},{"$f":"IFERROR(D18/_data!D18-1,\"\")","v":""},{"$f":"IFERROR(E18/_data!E18-1,\"\")","v":""},{"$f":"IFERROR(F18/_data!F18-1,\"\")","v":""},{"$f":"IFERROR(G18/_data!G18-1,\"\")","v":""},{"$f":"IFERROR(H18/_data!H18-1,\"\")","v":""},{"$f":"IFERROR(I18/_data!I18-1,\"\")","v":""},{"$f":"IFERROR(J18/_data!J18-1,\"\")","v":""},{"$f":"IFERROR(K18/_data!K18-1,\"\")","v":""}]
["natural gas",0,8.6799609601087832E-2,8.3576521955688432E-2,7.2880777648607259E-2,8.5257652980890525E-2,0.14731684384914667,0,0,0,0,null,"natural gas",{"$f":"IFERROR(B19/_data!B19-1,\"\")","v":""},{"$f":"IFERROR(C19/_data!C19-1,\"\")","v":0},{"$f":"IFERROR(D19/_data!D19-1,\"\")","v":0},{"$f":"IFERROR(E19/_data!E19-1,\"\")","v":0},{"$f":"IFERROR(F19/_data!F19-1,\"\")","v":0},{"$f":"IFERROR(G19/_data!G19-1,\"\")","v":0},{"$f":"IFERROR(H19/_data!H19-1,\"\")","v":""},{"$f":"IFERROR(I19/_data!I19-1,\"\")","v":""},{"$f":"IFERROR(J19/_data!J19-1,\"\")","v":""},{"$f":"IFERROR(K19/_data!K19-1,\"\")","v":""}]
["Liquid gas",0,0,0,0,0,0,0,0,0,0,null,"Liquid gas",{"$f":"IFERROR(B20/_data!B20-1,\"\")","v":""},{"$f":"IFERROR(C20/_data!C20-1,\"\")","v":""},{"$f":"IFERROR(D20/_data!D20-1,\"\")","v":""},{"$f":"IFERROR(E20/_data!E20-1,\"\")","v":""},{"$f":"IFERROR(F20/_data!F20-1,\"\")","v":""},{"$f":"IFERROR(G20/_data!G20-1,\"\")","v":""},{"$f":"IFERROR(H20/_data!H20-1,\"\")","v":""},{"$f":"IFERROR(I20/_data!I20-1,\"\")","v":""},{"$f":"IFERROR(J20/_data!J20-1,\"\")","v":""},{"$f":"IFERROR(K20/_data!K20-1,\"\")","v":""}]
["heating oil / diesel",0,0,0,0,0,0,0,0,0,0,null,"heating oil / diesel",{"$f":"IFERROR(B21/_data!B21-1,\"\")","v":""},{"$f":"IFERROR(C21/_data!C21-1,\"\")","v":""},{"$f":"IFERROR(D21/_data!D21-1,\"\")","v":""},{"$f":"IFERROR(E21/_data!E21-1,\"\")","v":""},{"$f":"IFERROR(F21/_data!F21-1,\"\")","v":""},{"$f":"IFERROR(G21/_data!G21-1,\"\")","v":""},{"$f":"IFERROR(H21/_data!H21-1,\"\")","v":""},{"$f":"IFERROR(I21/_data!I21-1,\"\")","v":""},{"$f":"IFERROR(J21/_data!J21-1,\"\")","v":""},{"$f":"IFERROR(K21/_data!K21-1,\"\")","v":""}]
["gasoline",0,0,0,0,0,0,0,0,0,0,null,"gasoline",{"$f":"IFERROR(B22/_data!B22-1,\"\")","v":""},{"$f":"IFERROR(C22/_data!C22-1,\"\")","v":""},{"$f":"IFERROR(D22/_data!D22-1,\"\")","v":""},{"$f":"IFERROR(E22/_data!E22-1,\"\")","v":""},{"$f":"IFERROR(F22/_data!F22-1,\"\")","v":""},{"$f":"IFERROR(G22/_data!G22-1,\"\")","v":""},{"$f":"IFERROR(H22/_data!H22-1,\"\")","v":""},{"$f":"IFERROR(I22/_data!I22-1,\"\")","v":""},{"$f":"IFERROR(J22/_data!J22-1,\"\")","v":""},{"$f":"IFERROR(K22/_data!K22-1,\"\")","v":""}]
["Lignite / Coal",0,0,0,0,0,0,0,0,0,0,null,"Lignite / Coal",{"$f":"IFERROR(B23/_data!B23-1,\"\")","v":""},{"$f":"IFERROR(C23/_data!C23-1,\"\")","v":""},{"$f":"IFERROR(D23/_data!D23-1,\"\")","v":""},{"$f":"IFERROR(E23/_data!E23-1,\"\")","v":""},{"$f":"IFERROR(F23/_data!F23-1,\"\")","v":""},{"$f":"IFERROR(G23/_data!G23-1,\"\")","v":""},{"$f":"IFERROR(H23/_data!H23-1,\"\")","v":""},{"$f":"IFERROR(I23/_data!I23-1,\"\")","v":""},{"$f":"IFERROR(J23/_data!J23-1,\"\")","v":""},{"$f":"IFERROR(K23/_data!K23-1,\"\")","v":""}]
["other fossil fuels",0,0,0,0,0,0,0,0,0,0,null,"other fossil fuels",{"$f":"IFERROR(B24/_data!B24-1,\"\")","v":""},{"$f":"IFERROR(C24/_data!C24-1,\"\")","v":""},{"$f":"IFERROR(D24/_data!D24-1,\"\")","v":""},{"$f":"IFERROR(E24/_data!E24-1,\"\")","v":""},{"$f":"IFERROR(F24/_data!F24-1,\"\")","v":""},{"$f":"IFERROR(G24/_data!G24-1,\"\")","v":""},{"$f":"IFERROR(H24/_data!H24-1,\"\")","v":""},{"$f":"IFERROR(I24/_data!I24-1,\"\")","v":""},{"$f":"IFERROR(J24/_data!J24-1,\"\")","v":""},{"$f":"IFERROR(K24/_data!K24-1,\"\")","v":""}]
["Plant oil, biofuel",0,0,0,0,0,0,0,0,0,0,null,"Plant oil, biofuel",{"$f":"IFERROR(B25/_data!B25-1,\"\")","v":""},{"$f":"IFERROR(C25/_data!C25-1,\"\")","v":""},{"$f":"IFERROR(D25/_data!D25-1,\"\")","v":""},{"$f":"IFERROR(E25/_data!E25-1,\"\")","v":""},{"$f":"IFERROR(F25/_data!F25-1,\"\")","v":""},{"$f":"IFERROR(G25/_data!G25-1,\"\")","v":""},{"$f":"IFERROR(H25/_data!H25-1,\"\")","v":""},{"$f":"IFERROR(I25/_data!I25-1,\"\")","v":""},{"$f":"IFERROR(J25/_data!J25-1,\"\")","v":""},{"$f":"IFERROR(K25/_data!K25-1,\"\")","v":""}]
["Summe",0.15468731273624356,0.21464329347074851,0.15871372084744742,0.18015983017744136,0.20434626826164509,0.22197187418844364,7.3927028358589053E-2,5.647393927394357E-2,7.2442108831467095E-2,4.0158746263390735E-2,null,"Summe",{"$f":"IFERROR(B26/_data!B26-1,\"\")","v":0},{"$f":"IFERROR(C26/_data!C26-1,\"\")","v":0},{"$f":"IFERROR(D26/_data!D26-1,\"\")","v":0},{"$f":"IFERROR(E26/_data!E26-1,\"\")","v":0},{"$f":"IFERROR(F26/_data!F26-1,\"\")","v":0},{"$f":"IFERROR(G26/_data!G26-1,\"\")","v":0},{"$f":"IFERROR(H26/_data!H26-1,\"\")","v":0},{"$f":"IFERROR(I26/_data!I26-1,\"\")","v":0},{"$f":"IFERROR(J26/_data!J26-1,\"\")","v":0},{"$f":"IFERROR(K26/_data!K26-1,\"\")","v":0}]
[]
["Energy consumption (MWh /Einwohner and  Year) - Secondary sector (Industrie)",null,null,null,null,null,null,null,null,null,null,null,"Test:",{"$f":"A28","v":"Energy consumption (MWh /Einwohner and  Year) - Secondary sector (Industrie)"}]
["Energieträger",2000,2001,2002,2003,2004,2005,2006,2007,2008,2009,null,"Energieträger",2000,2001,2002,2003,2004,2005,2006,2007,2008,2009]
["Electricity",0.22626067179914294,0.25242558700274603,0.2509110566856444,0.25975689368656785,0.29749478912480953,0.31085122462879594,0.33841748599892663,0.39360076716367709,0.38034362494827556,0.32703266015389049,null,"Electricity",{"$f":"IFERROR(B30/_data!B30-1,\"\")","v":0},{"$f":"IFERROR(C30/_data!C30-1,\"\")","v":0},{"$f":"IFERROR(D30/_data!D30-1,\"\")","v":0},{"$f":"IFERROR(E30/_data!E30-1,\"\")","v":0},{"$f":"IFERROR(F30/_data!F30-1,\"\")","v":0},{"$f":"IFERROR(G30/_data!G30-1,\"\")","v":0},{"$f":"IFERROR(H30/_data!H30-1,\"\")","v":0},{"$f":"IFERROR(I30/_data!I30-1,\"\")","v":0},{"$f":"IFERROR(J30/_data!J30-1,\"\")","v":0},{"$f":"IFERROR(K30/_data!K30-1,\"\")","v":0}]
["Heat and Cold",0.11477383215864891,7.9007577841491233E-2,6.0164206358980926E-2,5.2641159447312846E-2,5.0156895849396241E-2,8.4621114486533214E-2,7.2750710893886891E-2,8.8822211690058439E-2,7.27127518283468E-2,4.5021015990348356E-2,null,"Heat and Cold",{"$f":"IFERROR(B31/_data!B31-1,\"\")","v":0},{"$f":"IFERROR(C31/_data!C31-1,\"\")","v":0},{"$f":"IFERROR(D31/_data!D31-1,\"\")","v":0},{"$f":"IFERROR(E31/_data!E31-1,\"\")","v":0},{"$f":"IFERROR(F31/_data!F31-1,\"\")","v":0},{"$f":"IFERROR(G31/_data!G31-1,\"\")","v":0},{"$f":"IFERROR(H31/_data!H31-1,\"\")","v":0},{"$f":"IFERROR(I31/_data!I31-1,\"\")","v":0},{"$f":"IFERROR(J31/_data!J31-1,\"\")","v":0},{"$f":"IFERROR(K31/_data!K31-1,\"\")","v":0}]
["natural gas",1.2929439251357473,1.4361801793182083,1.3826878013450865,1.775731525149441,1.9710843772135247,2.4383383877688098,2.5750494161918325,2.094505459792019,2.4021370259719483,1.7151206251683111,null,"natural gas",{"$f":"IFERROR(B32/_data!B32-1,\"\")","v":0},{"$f":"IFERROR(C32/_data!C32-1,\"\")","v":0},{"$f":"IFERROR(D32/_data!D32-1,\"\")","v":0},{"$f":"IFERROR(E32/_data!E32-1,\"\")","v":0},{"$f":"IFERROR(F32/_data!F32-1,\"\")","v":0},{"$f":"IFERROR(G32/_data!G32-1,\"\")","v":0},{"$f":"IFERROR(H32/_data!H32-1,\"\")","v":0},{"$f":"IFERROR(I32/_data!I32-1,\"\")","v":0},{"$f":"IFERROR(J32/_data!J32-1,\"\")","v":0},{"$f":"IFERROR(K32/_data!K32-1,\"\")","v":0}]
["Liquid gas",0,0,0,0,0,0,0,0,0,0,null,"Liquid gas",{"$f":"IFERROR(B33/_data!B33-1,\"\")","v":""},{"$f":"IFERROR(C33/_data!C33-1,\"\")","v":""},{"$f":"IFERROR(D33/_data!D33-1,\"\")","v":""},{"$f":"IFERROR(E33/_data!E33-1,\"\")","v":""},{"$f":"IFERROR(F33/_data!F33-1,\"\")","v":""},{"$f":"IFERROR(G33/_data!G33-1,\"\")","v":""},{"$f":"IFERROR(H33/_data!H33-1,\"\")","v":""},{"$f":"IFERROR(I33/_data!I33-1,\"\")","v":""},{"$f":"IFERROR(J33/_data!J33-1,\"\")","v":""},{"$f":"IFERROR(K33/_data!K33-1,\"\")","v":""}]
["heating oil / diesel",0,0,0,0,0,0,0,0,0,0,null,"heating oil / diesel",{"$f":"IFERROR(B34/_data!B34-1,\"\")","v":""},{"$f":"IFERROR(C34/_data!C34-1,\"\")","v":""},{"$f":"IFERROR(D34/_data!D34-1,\"\")","v":""},{"$f":"IFERROR(E34/_data!E34-1,\"\")","v":""},{"$f":"IFERROR(F34/_data!F34-1,\"\")","v":""},{"$f":"IFERROR(G34/_data!G34-1,\"\")","v":""},{"$f":"IFERROR(H34/_data!H34-1,\"\")","v":""},{"$f":"IFERROR(I34/_data!I34-1,\"\")","v":""},{"$f":"IFERROR(J34/_data!J34-1,\"\")","v":""},{"$f":"IFERROR(K34/_data!K34-1,\"\")","v":""}]
["gasoline",0,0,0,0,0,0,0,0,0,0,null,"gasoline",{"$f":"IFERROR(B35/_data!B35-1,\"\")","v":""},{"$f":"IFERROR(C35/_data!C35-1,\"\")","v":""},{"$f":"IFERROR(D35/_data!D35-1,\"\")","v":""},{"$f":"IFERROR(E35/_data!E35-1,\"\")","v":""},{"$f":"IFERROR(F35/_data!F35-1,\"\")","v":""},{"$f":"IFERROR(G35/_data!G35-1,\"\")","v":""},{"$f":"IFERROR(H35/_data!H35-1,\"\")","v":""},{"$f":"IFERROR(I35/_data!I35-1,\"\")","v":""},{"$f":"IFERROR(J35/_data!J35-1,\"\")","v":""},{"$f":"IFERROR(K35/_data!K35-1,\"\")","v":""}]
["Lignite / Coal",0,0,0,0,0,0,0,0,0,0,null,"Lignite / Coal",{"$f":"IFERROR(B36/_data!B36-1,\"\")","v":""},{"$f":"IFERROR(C36/_data!C36-1,\"\")","v":""},{"$f":"IFERROR(D36/_data!D36-1,\"\")","v":""},{"$f":"IFERROR(E36/_data!E36-1,\"\")","v":""},{"$f":"IFERROR(F36/_data!F36-1,\"\")","v":""},{"$f":"IFERROR(G36/_data!G36-1,\"\")","v":""},{"$f":"IFERROR(H36/_data!H36-1,\"\")","v":""},{"$f":"IFERROR(I36/_data!I36-1,\"\")","v":""},{"$f":"IFERROR(J36/_data!J36-1,\"\")","v":""},{"$f":"IFERROR(K36/_data!K36-1,\"\")","v":""}]
["other fossil fuels",0,0,0,0,0,0,0,0,0,0,null,"other fossil fuels",{"$f":"IFERROR(B37/_data!B37-1,\"\")","v":""},{"$f":"IFERROR(C37/_data!C37-1,\"\")","v":""},{"$f":"IFERROR(D37/_data!D37-1,\"\")","v":""},{"$f":"IFERROR(E37/_data!E37-1,\"\")","v":""},{"$f":"IFERROR(F37/_data!F37-1,\"\")","v":""},{"$f":"IFERROR(G37/_data!G37-1,\"\")","v":""},{"$f":"IFERROR(H37/_data!H37-1,\"\")","v":""},{"$f":"IFERROR(I37/_data!I37-1,\"\")","v":""},{"$f":"IFERROR(J37/_data!J37-1,\"\")","v":""},{"$f":"IFERROR(K37/_data!K37-1,\"\")","v":""}]
["Plant oil, biofuel",0,0,0,0,0,0,0,0,0,0,null,"Plant oil, biofuel",{"$f":"IFERROR(B38/_data!B38-1,\"\")","v":""},{"$f":"IFERROR(C38/_data!C38-1,\"\")","v":""},{"$f":"IFERROR(D38/_data!D38-1,\"\")","v":""},{"$f":"IFERROR(E38/_data!E38-1,\"\")","v":""},{"$f":"IFERROR(F38/_data!F38-1,\"\")","v":""},{"$f":"IFERROR(G38/_data!G38-1,\"\")","v":""},{"$f":"IFERROR(H38/_data!H38-1,\"\")","v":""},{"$f":"IFERROR(I38/_data!I38-1,\"\")","v":""},{"$f":"IFERROR(J38/_data!J38-1,\"\")","v":""},{"$f":"IFERROR(K38/_data!K38-1,\"\")","v":""}]
["Summe",1.6339784290935391,1.7676133441624455,1.6937630643897119,2.0881295782833216,2.3187360621877304,2.8338107268841388,2.9862176130846461,2.5769284386457545,2.8551934027485708,2.0871743013125501,null,"Summe",{"$f":"IFERROR(B39/_data!B39-1,\"\")","v":0},{"$f":"IFERROR(C39/_data!C39-1,\"\")","v":0},{"$f":"IFERROR(D39/_data!D39-1,\"\")","v":0},{"$f":"IFERROR(E39/_data!E39-1,\"\")","v":0},{"$f":"IFERROR(F39/_data!F39-1,\"\")","v":0},{"$f":"IFERROR(G39/_data!G39-1,\"\")","v":0},{"$f":"IFERROR(H39/_data!H39-1,\"\")","v":0},{"$f":"IFERROR(I39/_data!I39-1,\"\")","v":0},{"$f":"IFERROR(J39/_data!J39-1,\"\")","v":0},{"$f":"IFERROR(K39/_data!K39-1,\"\")","v":0}]
[]
["Energy consumption (MWh /Einwohner and  Year) - Tertiary sector (Services)",null,null,null,null,null,null,null,null,null,null,null,"Test:",{"$f":"A41","v":"Energy consumption (MWh /Einwohner and  Year) - Tertiary sector (Services)"}]
["Energieträger",2000,2001,2002,2003,2004,2005,2006,2007,2008,2009,null,"Energieträger",2000,2001,2002,2003,2004,2005,2006,2007,2008,2009]
["Electricity",0.19776136304283329,0.23385155780835881,0.26098379711678604,0.30486492169573076,0.33894452041445516,0.41585751123467607,0.46871726670439573,0.48305548697360368,0.51837155335692398,0.49207970477450752,null,"Electricity",{"$f":"IFERROR(B43/_data!B43-1,\"\")","v":0},{"$f":"IFERROR(C43/_data!C43-1,\"\")","v":0},{"$f":"IFERROR(D43/_data!D43-1,\"\")","v":0},{"$f":"IFERROR(E43/_data!E43-1,\"\")","v":0},{"$f":"IFERROR(F43/_data!F43-1,\"\")","v":0},{"$f":"IFERROR(G43/_data!G43-1,\"\")","v":0},{"$f":"IFERROR(H43/_data!H43-1,\"\")","v":0},{"$f":"IFERROR(I43/_data!I43-1,\"\")","v":0},{"$f":"IFERROR(J43/_data!J43-1,\"\")","v":0},{"$f":"IFERROR(K43/_data!K43-1,\"\")","v":0}]
["Heat and Cold",0,0,0,0,0,0,0,0,0,0,null,"Heat and Cold",{"$f":"IFERROR(B44/_data!B44-1,\"\")","v":""},{"$f":"IFERROR(C44/_data!C44-1,\"\")","v":""},{"$f":"IFERROR(D44/_data!D44-1,\"\")","v":""},{"$f":"IFERROR(E44/_data!E44-1,\"\")","v":""},{"$f":"IFERROR(F44/_data!F44-1,\"\")","v":""},{"$f":"IFERROR(G44/_data!G44-1,\"\")","v":""},{"$f":"IFERROR(H44/_data!H44-1,\"\")","v":""},{"$f":"IFERROR(I44/_data!I44-1,\"\")","v":""},{"$f":"IFERROR(J44/_data!J44-1,\"\")","v":""},{"$f":"IFERROR(K44/_data!K44-1,\"\")","v":""}]
["natural gas",2.7451805646128452E-2,3.0533891895163468E-2,3.04904575212935E-2,3.7756417810486456E-2,5.8138463362500878E-2,6.5141950016935096E-2,6.6597665693906419E-2,9.261726040926746E-2,0.12142849126669331,0.12110653301403707,null,"natural gas",{"$f":"IFERROR(B45/_data!B45-1,\"\")","v":0},{"$f":"IFERROR(C45/_data!C45-1,\"\")","v":0},{"$f":"IFERROR(D45/_data!D45-1,\"\")","v":0},{"$f":"IFERROR(E45/_data!E45-1,\"\")","v":0},{"$f":"IFERROR(F45/_data!F45-1,\"\")","v":0},{"$f":"IFERROR(G45/_data!G45-1,\"\")","v":0},{"$f":"IFERROR(H45/_data!H45-1,\"\")","v":0},{"$f":"IFERROR(I45/_data!I45-1,\"\")","v":0},{"$f":"IFERROR(J45/_data!J45-1,\"\")","v":0},{"$f":"IFERROR(K45/_data!K45-1,\"\")","v":0}]
["Liquid gas",0,0,0,0,0,0,0,0,0,0,null,"Liquid gas",{"$f":"IFERROR(B46/_data!B46-1,\"\")","v":""},{"$f":"IFERROR(C46/_data!C46-1,\"\")","v":""},{"$f":"IFERROR(D46/_data!D46-1,\"\")","v":""},{"$f":"IFERROR(E46/_data!E46-1,\"\")","v":""},{"$f":"IFERROR(F46/_data!F46-1,\"\")","v":""},{"$f":"IFERROR(G46/_data!G46-1,\"\")","v":""},{"$f":"IFERROR(H46/_data!H46-1,\"\")","v":""},{"$f":"IFERROR(I46/_data!I46-1,\"\")","v":""},{"$f":"IFERROR(J46/_data!J46-1,\"\")","v":""},{"$f":"IFERROR(K46/_data!K46-1,\"\")","v":""}]
["heating oil / diesel",0.2667520851271824,0.25414708239149414,0.254540873057227,0.42040319062060882,0.42002999037713201,0.44666177132613349,0.43451357426921011,0.46498382640594171,0.49825375725553273,0.45399192524667281,null,"heating oil / diesel",{"$f":"IFERROR(B47/_data!B47-1,\"\")","v":0},{"$f":"IFERROR(C47/_data!C47-1,\"\")","v":0},{"$f":"IFERROR(D47/_data!D47-1,\"\")","v":0},{"$f":"IFERROR(E47/_data!E47-1,\"\")","v":0},{"$f":"IFERROR(F47/_data!F47-1,\"\")","v":0},{"$f":"IFERROR(G47/_data!G47-1,\"\")","v":0},{"$f":"IFERROR(H47/_data!H47-1,\"\")","v":0},{"$f":"IFERROR(I47/_data!I47-1,\"\")","v":0},{"$f":"IFERROR(J47/_data!J47-1,\"\")","v":0},{"$f":"IFERROR(K47/_data!K47-1,\"\")","v":0}]
["gasoline",0,0,0,0,0,0,0,0,0,0,null,"gasoline",{"$f":"IFERROR(B48/_data!B48-1,\"\")","v":""},{"$f":"IFERROR(C48/_data!C48-1,\"\")","v":""},{"$f":"IFERROR(D48/_data!D48-1,\"\")","v":""},{"$f":"IFERROR(E48/_data!E48-1,\"\")","v":""},{"$f":"IFERROR(F48/_data!F48-1,\"\")","v":""},{"$f":"IFERROR(G48/_data!G48-1,\"\")","v":""},{"$f":"IFERROR(H48/_data!H48-1,\"\")","v":""},{"$f":"IFERROR(I48/_data!I48-1,\"\")","v":""},{"$f":"IFERROR(J48/_data!J48-1,\"\")","v":""},{"$f":"IFERROR(K48/_data!K48-1,\"\")","v":""}]
["Lignite / Coal",0,0,0,0,0,0,0,0,0,0,null,"Lignite / Coal",{"$f":"IFERROR(B49/_data!B49-1,\"\")","v":""},{"$f":"IFERROR(C49/_data!C49-1,\"\")","v":""},{"$f":"IFERROR(D49/_data!D49-1,\"\")","v":""},{"$f":"IFERROR(E49/_data!E49-1,\"\")","v":""},{"$f":"IFERROR(F49/_data!F49-1,\"\")","v":""},{"$f":"IFERROR(G49/_data!G49-1,\"\")","v":""},{"$f":"IFERROR(H49/_data!H49-1,\"\")","v":""},{"$f":"IFERROR(I49/_data!I49-1,\"\")","v":""},{"$f":"IFERROR(J49/_data!J49-1,\"\")","v":""},{"$f":"IFERROR(K49/_data!K49-1,\"\")","v":""}]
["other fossil fuels",0,4.167830941179583E-3,4.1742888273199434E-3,0,0,8.2537296892111076E-2,6.1801909876274569E-2,4.6895959173082737E-2,3.6987876240226043E-2,3.0794374937398276E-2,null,"other fossil fuels",{"$f":"IFERROR(B50/_data!B50-1,\"\")","v":""},{"$f":"IFERROR(C50/_data!C50-1,\"\")","v":0},{"$f":"IFERROR(D50/_data!D50-1,\"\")","v":0},{"$f":"IFERROR(E50/_data!E50-1,\"\")","v":""},{"$f":"IFERROR(F50/_data!F50-1,\"\")","v":""},{"$f":"IFERROR(G50/_data!G50-1,\"\")","v":0},{"$f":"IFERROR(H50/_data!H50-1,\"\")","v":0},{"$f":"IFERROR(I50/_data!I50-1,\"\")","v":0},{"$f":"IFERROR(J50/_data!J50-1,\"\")","v":0},{"$f":"IFERROR(K50/_data!K50-1,\"\")","v":0}]
["Plant oil, biofuel",0,3.8597738716141354E-2,4.1924379091778569E-2,5.0281383334157437E-2,5.26964855126568E-2,3.2072670801105735E-2,5.2119912282187632E-2,3.2980780535983044E-2,3.2928231287030506E-2,3.2865341672954303E-2,null,"Plant oil, biofuel",{"$f":"IFERROR(B51/_data!B51-1,\"\")","v":""},{"$f":"IFERROR(C51/_data!C51-1,\"\")","v":0},{"$f":"IFERROR(D51/_data!D51-1,\"\")","v":0},{"$f":"IFERROR(E51/_data!E51-1,\"\")","v":0},{"$f":"IFERROR(F51/_data!F51-1,\"\")","v":0},{"$f":"IFERROR(G51/_data!G51-1,\"\")","v":0},{"$f":"IFERROR(H51/_data!H51-1,\"\")","v":0},{"$f":"IFERROR(I51/_data!I51-1,\"\")","v":0},{"$f":"IFERROR(J51/_data!J51-1,\"\")","v":0},{"$f":"IFERROR(K51/_data!K51-1,\"\")","v":0}]
["Summe",0.49196525381614414,0.56129810175233741,0.59211379561440503,0.81330591346098347,0.86980945966674494,1.0422712002709613,1.0837503288259744,1.1205333134978783,1.2079699094064065,1.13083787964557,null,"Summe",{"$f":"IFERROR(B52/_data!B52-1,\"\")","v":0},{"$f":"IFERROR(C52/_data!C52-1,\"\")","v":0},{"$f":"IFERROR(D52/_data!D52-1,\"\")","v":0},{"$f":"IFERROR(E52/_data!E52-1,\"\")","v":0},{"$f":"IFERROR(F52/_data!F52-1,\"\")","v":0},{"$f":"IFERROR(G52/_data!G52-1,\"\")","v":0},{"$f":"IFERROR(H52/_data!H52-1,\"\")","v":0},{"$f":"IFERROR(I52/_data!I52-1,\"\")","v":0},{"$f":"IFERROR(J52/_data!J52-1,\"\")","v":0},{"$f":"IFERROR(K52/_data!K52-1,\"\")","v":0}]
[]
["Energy consumption (MWh /Einwohner and  Year) - Road",null,null,null,null,null,null,null,null,null,null,null,"Test:",{"$f":"A54","v":"Energy consumption (MWh /Einwohner and  Year) - Road"}]
["Energieträger",2000,2001,2002,2003,2004,2005,2006,2007,2008,2009,null,"Energieträger",2000,2001,2002,2003,2004,2005,2006,2007,2008,2009]
["Electricity",0,0,0,0,0,0,0,0,0,0,null,"Electricity",{"$f":"IFERROR(B56/_data!B56-1,\"\")","v":""},{"$f":"IFERROR(C56/_data!C56-1,\"\")","v":""},{"$f":"IFERROR(D56/_data!D56-1,\"\")","v":""},{"$f":"IFERROR(E56/_data!E56-1,\"\")","v":""},{"$f":"IFERROR(F56/_data!F56-1,\"\")","v":""},{"$f":"IFERROR(G56/_data!G56-1,\"\")","v":""},{"$f":"IFERROR(H56/_data!H56-1,\"\")","v":""},{"$f":"IFERROR(I56/_data!I56-1,\"\")","v":""},{"$f":"IFERROR(J56/_data!J56-1,\"\")","v":""},{"$f":"IFERROR(K56/_data!K56-1,\"\")","v":""}]
["Heat and Cold",0,0,0,0,0,0,0,0,0,0,null,"Heat and Cold",{"$f":"IFERROR(B57/_data!B57-1,\"\")","v":""},{"$f":"IFERROR(C57/_data!C57-1,\"\")","v":""},{"$f":"IFERROR(D57/_data!D57-1,\"\")","v":""},{"$f":"IFERROR(E57/_data!E57-1,\"\")","v":""},{"$f":"IFERROR(F57/_data!F57-1,\"\")","v":""},{"$f":"IFERROR(G57/_data!G57-1,\"\")","v":""},{"$f":"IFERROR(H57/_data!H57-1,\"\")","v":""},{"$f":"IFERROR(I57/_data!I57-1,\"\")","v":""},{"$f":"IFERROR(J57/_data!J57-1,\"\")","v":""},{"$f":"IFERROR(K57/_data!K57-1,\"\")","v":""}]
["natural gas",0,0,0,0,5.0066196218565506E-2,0.19832507453000126,0.25191290936390687,0.97297820496291887,1.1698092468463686,1.0372842084176261,null,"natural gas",{"$f":"IFERROR(B58/_data!B58-1,\"\")","v":""},{"$f":"IFERROR(C58/_data!C58-1,\"\")","v":""},{"$f":"IFERROR(D58/_data!D58-1,\"\")","v":""},{"$f":"IFERROR(E58/_data!E58-1,\"\")","v":""},{"$f":"IFERROR(F58/_data!F58-1,\"\")","v":0},{"$f":"IFERROR(G58/_data!G58-1,\"\")","v":0},{"$f":"IFERROR(H58/_data!H58-1,\"\")","v":0},{"$f":"IFERROR(I58/_data!I58-1,\"\")","v":0},{"$f":"IFERROR(J58/_data!J58-1,\"\")","v":0},{"$f":"IFERROR(K58/_data!K58-1,\"\")","v":0}]
["Liquid gas",0,0,0,0,0,0,0,0,0,0,null,"Liquid gas",{"$f":"IFERROR(B59/_data!B59-1,\"\")","v":""},{"$f":"IFERROR(C59/_data!C59-1,\"\")","v":""},{"$f":"IFERROR(D59/_data!D59-1,\"\")","v":""},{"$f":"IFERROR(E59/_data!E59-1,\"\")","v":""},{"$f":"IFERROR(F59/_data!F59-1,\"\")","v":""},{"$f":"IFERROR(G59/_data!G59-1,\"\")","v":""},{"$f":"IFERROR(H59/_data!H59-1,\"\")","v":""},{"$f":"IFERROR(I59/_data!I59-1,\"\")","v":""},{"$f":"IFERROR(J59/_data!J59-1,\"\")","v":""},{"$f":"IFERROR(K59/_data!K59-1,\"\")","v":""}]
["heating oil / diesel",0,0,0,0,0,0,0,0,0,0,null,"heating oil / diesel",{"$f":"IFERROR(B60/_data!B60-1,\"\")","v":""},{"$f":"IFERROR(C60/_data!C60-1,\"\")","v":""},{"$f":"IFERROR(D60/_data!D60-1,\"\")","v":""},{"$f":"IFERROR(E60/_data!E60-1,\"\")","v":""},{"$f":"IFERROR(F60/_data!F60-1,\"\")","v":""},{"$f":"IFERROR(G60/_data!G60-1,\"\")","v":""},{"$f":"IFERROR(H60/_data!H60-1,\"\")","v":""},{"$f":"IFERROR(I60/_data!I60-1,\"\")","v":""},{"$f":"IFERROR(J60/_data!J60-1,\"\")","v":""},{"$f":"IFERROR(K60/_data!K60-1,\"\")","v":""}]
["gasoline",0.74607506002734636,0.74087725230490098,0.7460180097695055,0.76611039119787527,0.75761401632912628,0.7328695878817636,0.6841643346625359,0.67082004027161124,0.78522554828031099,0.72834999669185574,null,"gasoline",{"$f":"IFERROR(B61/_data!B61-1,\"\")","v":0},{"$f":"IFERROR(C61/_data!C61-1,\"\")","v":0},{"$f":"IFERROR(D61/_data!D61-1,\"\")","v":0},{"$f":"IFERROR(E61/_data!E61-1,\"\")","v":0},{"$f":"IFERROR(F61/_data!F61-1,\"\")","v":0},{"$f":"IFERROR(G61/_data!G61-1,\"\")","v":0},{"$f":"IFERROR(H61/_data!H61-1,\"\")","v":0},{"$f":"IFERROR(I61/_data!I61-1,\"\")","v":0},{"$f":"IFERROR(J61/_data!J61-1,\"\")","v":0},{"$f":"IFERROR(K61/_data!K61-1,\"\")","v":0}]
["Lignite / Coal",0,0,0,0,0,0,0,0,0,0,null,"Lignite / Coal",{"$f":"IFERROR(B62/_data!B62-1,\"\")","v":""},{"$f":"IFERROR(C62/_data!C62-1,\"\")","v":""},{"$f":"IFERROR(D62/_data!D62-1,\"\")","v":""},{"$f":"IFERROR(E62/_data!E62-1,\"\")","v":""},{"$f":"IFERROR(F62/_data!F62-1,\"\")","v":""},{"$f":"IFERROR(G62/_data!G62-1,\"\")","v":""},{"$f":"IFERROR(H62/_data!H62-1,\"\")","v":""},{"$f":"IFERROR(I62/_data!I62-1,\"\")","v":""},{"$f":"IFERROR(J62/_data!J62-1,\"\")","v":""},{"$f":"IFERROR(K62/_data!K62-1,\"\")","v":""}]
["other fossil fuels",0,0,0,0,0,0,0,0,0,0,null,"other fossil fuels",{"$f":"IFERROR(B63/_data!B63-1,\"\")","v":""},{"$f":"IFERROR(C63/_data!C63-1,\"\")","v":""},{"$f":"IFERROR(D63/_data!D63-1,\"\")","v":""},{"$f":"IFERROR(E63/_data!E63-1,\"\")","v":""},{"$f":"IFERROR(F63/_data!F63-1,\"\")","v":""},{"$f":"IFERROR(G63/_data!G63-1,\"\")","v":""},{"$f":"IFERROR(H63/_data!H63-1,\"\")","v":""},{"$f":"IFERROR(I63/_data!I63-1,\"\")","v":""},{"$f":"IFERROR(J63/_data!J63-1,\"\")","v":""},{"$f":"IFERROR(K63/_data!K63-1,\"\")","v":""}]
["Plant oil, biofuel",0,0,0,0,0,0,0,0,0,0,null,"Plant oil, biofuel",{"$f":"IFERROR(B64/_data!B64-1,\"\")","v":""},{"$f":"IFERROR(C64/_data!C64-1,\"\")","v":""},{"$f":"IFERROR(D64/_data!D64-1,\"\")","v":""},{"$f":"IFERROR(E64/_data!E64-1,\"\")","v":""},{"$f":"IFERROR(F64/_data!F64-1,\"\")","v":""},{"$f":"IFERROR(G64/_data!G64-1,\"\")","v":""},{"$f":"IFERROR(H64/_data!H64-1,\"\")","v":""},{"$f":"IFERROR(I64/_data!I64-1,\"\")","v":""},{"$f":"IFERROR(J64/_data!J64-1,\"\")","v":""},{"$f":"IFERROR(K64/_data!K64-1,\"\")","v":""}]
["Summe",0.74607506002734636,0.74087725230490098,0.7460180097695055,0.76611039119787527,0.80768021254769184,0.93119466241176485,0.93607724402644277,1.6437982452345301,1.9550347951266795,1.7656342051094818,null,"Summe",{"$f":"IFERROR(B65/_data!B65-1,\"\")","v":0},{"$f":"IFERROR(C65/_data!C65-1,\"\")","v":0},{"$f":"IFERROR(D65/_data!D65-1,\"\")","v":0},{"$f":"IFERROR(E65/_data!E65-1,\"\")","v":0},{"$f":"IFERROR(F65/_data!F65-1,\"\")","v":0},{"$f":"IFERROR(G65/_data!G65-1,\"\")","v":0},{"$f":"IFERROR(H65/_data!H65-1,\"\")","v":0},{"$f":"IFERROR(I65/_data!I65-1,\"\")","v":0},{"$f":"IFERROR(J65/_data!J65-1,\"\")","v":0},{"$f":"IFERROR(K65/_data!K65-1,\"\")","v":0}]
[]
["Energy consumption (MWh /Einwohner and  Year) - Rail",null,null,null,null,null,null,null,null,null,null,null,"Test:",{"$f":"A67","v":"Energy consumption (MWh /Einwohner and  Year) - Rail"}]
["Energieträger",2000,2001,2002,2003,2004,2005,2006,2007,2008,2009,null,"Energieträger",2000,2001,2002,2003,2004,2005,2006,2007,2008,2009]
["Electricity",2.2105927704513965E-2,2.0839154705897915E-2,2.3503061005997073E-2,2.4142324849974511E-2,2.4126101800975405E-2,2.7089628727487616E-2,2.2169059911694391E-2,2.3131725526607284E-2,2.1741654082669454E-2,2.1430003611405818E-2,null,"Electricity",{"$f":"IFERROR(B69/_data!B69-1,\"\")","v":0},{"$f":"IFERROR(C69/_data!C69-1,\"\")","v":0},{"$f":"IFERROR(D69/_data!D69-1,\"\")","v":0},{"$f":"IFERROR(E69/_data!E69-1,\"\")","v":0},{"$f":"IFERROR(F69/_data!F69-1,\"\")","v":0},{"$f":"IFERROR(G69/_data!G69-1,\"\")","v":0},{"$f":"IFERROR(H69/_data!H69-1,\"\")","v":0},{"$f":"IFERROR(I69/_data!I69-1,\"\")","v":0},{"$f":"IFERROR(J69/_data!J69-1,\"\")","v":0},{"$f":"IFERROR(K69/_data!K69-1,\"\")","v":0}]
["Heat and Cold",0,0,0,0,0,0,0,0,0,0,null,"Heat and Cold",{"$f":"IFERROR(B70/_data!B70-1,\"\")","v":""},{"$f":"IFERROR(C70/_data!C70-1,\"\")","v":""},{"$f":"IFERROR(D70/_data!D70-1,\"\")","v":""},{"$f":"IFERROR(E70/_data!E70-1,\"\")","v":""},{"$f":"IFERROR(F70/_data!F70-1,\"\")","v":""},{"$f":"IFERROR(G70/_data!G70-1,\"\")","v":""},{"$f":"IFERROR(H70/_data!H70-1,\"\")","v":""},{"$f":"IFERROR(I70/_data!I70-1,\"\")","v":""},{"$f":"IFERROR(J70/_data!J70-1,\"\")","v":""},{"$f":"IFERROR(K70/_data!K70-1,\"\")","v":""}]
["natural gas",0,0,0,0,0,0,0,0,0,0,null,"natural gas",{"$f":"IFERROR(B71/_data!B71-1,\"\")","v":""},{"$f":"IFERROR(C71/_data!C71-1,\"\")","v":""},{"$f":"IFERROR(D71/_data!D71-1,\"\")","v":""},{"$f":"IFERROR(E71/_data!E71-1,\"\")","v":""},{"$f":"IFERROR(F71/_data!F71-1,\"\")","v":""},{"$f":"IFERROR(G71/_data!G71-1,\"\")","v":""},{"$f":"IFERROR(H71/_data!H71-1,\"\")","v":""},{"$f":"IFERROR(I71/_data!I71-1,\"\")","v":""},{"$f":"IFERROR(J71/_data!J71-1,\"\")","v":""},{"$f":"IFERROR(K71/_data!K71-1,\"\")","v":""}]
["Liquid gas",0,0,0,0,0,0,0,0,0,0,null,"Liquid gas",{"$f":"IFERROR(B72/_data!B72-1,\"\")","v":""},{"$f":"IFERROR(C72/_data!C72-1,\"\")","v":""},{"$f":"IFERROR(D72/_data!D72-1,\"\")","v":""},{"$f":"IFERROR(E72/_data!E72-1,\"\")","v":""},{"$f":"IFERROR(F72/_data!F72-1,\"\")","v":""},{"$f":"IFERROR(G72/_data!G72-1,\"\")","v":""},{"$f":"IFERROR(H72/_data!H72-1,\"\")","v":""},{"$f":"IFERROR(I72/_data!I72-1,\"\")","v":""},{"$f":"IFERROR(J72/_data!J72-1,\"\")","v":""},{"$f":"IFERROR(K72/_data!K72-1,\"\")","v":""}]
["heating oil / diesel",0,0,0,0,0,0,0,0,0,0,null,"heating oil / diesel",{"$f":"IFERROR(B73/_data!B73-1,\"\")","v":""},{"$f":"IFERROR(C73/_data!C73-1,\"\")","v":""},{"$f":"IFERROR(D73/_data!D73-1,\"\")","v":""},{"$f":"IFERROR(E73/_data!E73-1,\"\")","v":""},{"$f":"IFERROR(F73/_data!F73-1,\"\")","v":""},{"$f":"IFERROR(G73/_data!G73-1,\"\")","v":""},{"$f":"IFERROR(H73/_data!H73-1,\"\")","v":""},{"$f":"IFERROR(I73/_data!I73-1,\"\")","v":""},{"$f":"IFERROR(J73/_data!J73-1,\"\")","v":""},{"$f":"IFERROR(K73/_data!K73-1,\"\")","v":""}]
["gasoline",0,0,0,0,0,0,0,0,0,0,null,"gasoline",{"$f":"IFERROR(B74/_data!B74-1,\"\")","v":""},{"$f":"IFERROR(C74/_data!C74-1,\"\")","v":""},{"$f":"IFERROR(D74/_data!D74-1,\"\")","v":""},{"$f":"IFERROR(E74/_data!E74-1,\"\")","v":""},{"$f":"IFERROR(F74/_data!F74-1,\"\")","v":""},{"$f":"IFERROR(G74/_data!G74-1,\"\")","v":""},{"$f":"IFERROR(H74/_data!H74-1,\"\")","v":""},{"$f":"IFERROR(I74/_data!I74-1,\"\")","v":""},{"$f":"IFERROR(J74/_data!J74-1,\"\")","v":""},{"$f":"IFERROR(K74/_data!K74-1,\"\")","v":""}]
["Lignite / Coal",0,0,0,0,0,0,0,0,0,0,null,"Lignite / Coal",{"$f":"IFERROR(B75/_data!B75-1,\"\")","v":""},{"$f":"IFERROR(C75/_data!C75-1,\"\")","v":""},{"$f":"IFERROR(D75/_data!D75-1,\"\")","v":""},{"$f":"IFERROR(E75/_data!E75-1,\"\")","v":""},{"$f":"IFERROR(F75/_data!F75-1,\"\")","v":""},{"$f":"IFERROR(G75/_data!G75-1,\"\")","v":""},{"$f":"IFERROR(H75/_data!H75-1,\"\")","v":""},{"$f":"IFERROR(I75/_data!I75-1,\"\")","v":""},{"$f":"IFERROR(J75/_data!J75-1,\"\")","v":""},{"$f":"IFERROR(K75/_data!K75-1,\"\")","v":""}]
["other fossil fuels",0,0,0,0,0,0,0,0,0,0,null,"other fossil fuels",{"$f":"IFERROR(B76/_data!B76-1,\"\")","v":""},{"$f":"IFERROR(C76/_data!C76-1,\"\")","v":""},{"$f":"IFERROR(D76/_data!D76-1,\"\")","v":""},{"$f":"IFERROR(E76/_data!E76-1,\"\")","v":""},{"$f":"IFERROR(F76/_data!F76-1,\"\")","v":""},{"$f":"IFERROR(G76/_data!G76-1,\"\")","v":""},{"$f":"IFERROR(H76/_data!H76-1,\"\")","v":""},{"$f":"IFERROR(I76/_data!I76-1,\"\")","v":""},{"$f":"IFERROR(J76/_data!J76-1,\"\")","v":""},{"$f":"IFERROR(K76/_data!K76-1,\"\")","v":""}]
["Plant oil, biofuel",0,0,0,0,0,0,0,0,0,0,null,"Plant oil, biofuel",{"$f":"IFERROR(B77/_data!B77-1,\"\")","v":""},{"$f":"IFERROR(C77/_data!C77-1,\"\")","v":""},{"$f":"IFERROR(D77/_data!D77-1,\"\")","v":""},{"$f":"IFERROR(E77/_data!E77-1,\"\")","v":""},{"$f":"IFERROR(F77/_data!F77-1,\"\")","v":""},{"$f":"IFERROR(G77/_data!G77-1,\"\")","v":""},{"$f":"IFERROR(H77/_data!H77-1,\"\")","v":""},{"$f":"IFERROR(I77/_data!I77-1,\"\")","v":""},{"$f":"IFERROR(J77/_data!J77-1,\"\")","v":""},{"$f":"IFERROR(K77/_data!K77-1,\"\")","v":""}]
["Summe",2.2105927704513965E-2,2.0839154705897915E-2,2.3503061005997073E-2,2.4142324849974511E-2,2.4126101800975405E-2,2.7089628727487616E-2,2.2169059911694391E-2,2.3131725526607284E-2,2.1741654082669454E-2,2.1430003611405818E-2,null,"Summe",{"$f":"IFERROR(B78/_data!B78-1,\"\")","v":0},{"$f":"IFERROR(C78/_data!C78-1,\"\")","v":0},{"$f":"IFERROR(D78/_data!D78-1,\"\")","v":0},{"$f":"IFERROR(E78/_data!E78-1,\"\")","v":0},{"$f":"IFERROR(F78/_data!F78-1,\"\")","v":0},{"$f":"IFERROR(G78/_data!G78-1,\"\")","v":0},{"$f":"IFERROR(H78/_data!H78-1,\"\")","v":0},{"$f":"IFERROR(I78/_data!I78-1,\"\")","v":0},{"$f":"IFERROR(J78/_data!J78-1,\"\")","v":0},{"$f":"IFERROR(K78/_data!K78-1,\"\")","v":0}]
[]
["Quelle:","P:\\KB-Projekte\\COMO EAST\\WP 2 Training\\Tool\\Tool-Daten\\Energiedaten\\Endberechnung"]
["Azerbaijan",null,null,null,null,null,null,null,null,null,null,null,"Azerbaijan",null,null,null,null,null,null,null,null,null,null,null,"Azerbaijan",null,null,null,null,null,null,null,null,null,null,null,"Azerbaijan"]
["Energy consumption (MWh /Einwohner and  Year) - Residential building (Households)",null,null,null,null,null,null,null,null,null,null,null,"Test:",{"$f":"A82","v":"Energy consumption (MWh /Einwohner and  Year) - Residential building (Households)"},null,null,null,null,null,null,null,null,null,null,"CO2 emission Factor (t /Mwh)"]
["Energieträger",2000,2001,2002,2003,2004,2005,2006,2007,2008,2009,null,"Energieträger",2000,2001,2002,2003,2004,2005,2006,2007,2008,2009,null,"Energieträger",2000,2001,2002,2003,2004,2005,2006,2007,2008,2009,null,null,"Year:",{"$f":"'DATA-OUTPUT Co2 absolute'!$B$8","v":0},null,"CO2","Test"]
["Electricity",1.4014859727157518,1.2540615993249389,1.2734958540427246,1.4669349277867512,1.4330811880923238,1.3409505121702072,1.6258964824298283,0.97120094468980989,0.84939762091324267,0.65352223273942844,null,"Electricity",{"$f":"IFERROR(B84/_data!B84-1,\"\")","v":0},{"$f":"IFERROR(C84/_data!C84-1,\"\")","v":0},{"$f":"IFERROR(D84/_data!D84-1,\"\")","v":0},{"$f":"IFERROR(E84/_data!E84-1,\"\")","v":0},{"$f":"IFERROR(F84/_data!F84-1,\"\")","v":0},{"$f":"IFERROR(G84/_data!G84-1,\"\")","v":0},{"$f":"IFERROR(H84/_data!H84-1,\"\")","v":0},{"$f":"IFERROR(I84/_data!I84-1,\"\")","v":0},{"$f":"IFERROR(J84/_data!J84-1,\"\")","v":0},{"$f":"IFERROR(K84/_data!K84-1,\"\")","v":0},null,"Electricity",{"$f":"_data!Z84","v":0.874},{"$f":"_data!AA84","v":0.81},{"$f":"_data!AB84","v":0.77800000000000002},{"$f":"_data!AC84","v":0.73699999999999999},{"$f":"_data!AD84","v":0.70099999999999996},{"$f":"_data!AE84","v":0.68},{"$f":"_data!AF84","v":0.71299999999999997},{"$f":"_data!AG84","v":0.9},{"$f":"_data!AH84","v":0.89100000000000001},{"$f":"_data!AI84","v":0.89100000000000001},null,null,null,{"$f":"'DATA-OUTPUT EC per capita'!$B$37","v":0},{"$f":"IF(AM83=Z83,Z84,IF(AM83=AA83,AA84,IF(AM83=AB83,AB84,IF(AM83=AC83,AC84,IF(AM83=AD83,AD84,IF(AM83=AE83,AE84,IF(AM83=AF83,AF84,IF(AM83=AG83,AG84,IF(AM83=AH83,AH84,IF(AM83=AI83,AI84,\"Fehler\"))))))))))","v":"Fehler"},{"$f":"AN84*AM84","v":{"$error":"#VALUE!"}},{"$f":"AO84/'DATA-OUTPUT Co2 per capita'!$B$37-1","v":{"$error":"#VALUE!"}}]
["Heat and Cold",0.34464240847959748,0,0,0,0,0,3.6864392074745005E-2,3.868230273320411E-2,4.4313090048763416E-2,4.7780081529025201E-2,null,"Heat and Cold",{"$f":"IFERROR(B85/_data!B85-1,\"\")","v":0},{"$f":"IFERROR(C85/_data!C85-1,\"\")","v":""},{"$f":"IFERROR(D85/_data!D85-1,\"\")","v":""},{"$f":"IFERROR(E85/_data!E85-1,\"\")","v":""},{"$f":"IFERROR(F85/_data!F85-1,\"\")","v":""},{"$f":"IFERROR(G85/_data!G85-1,\"\")","v":""},{"$f":"IFERROR(H85/_data!H85-1,\"\")","v":0},{"$f":"IFERROR(I85/_data!I85-1,\"\")","v":0},{"$f":"IFERROR(J85/_data!J85-1,\"\")","v":0},{"$f":"IFERROR(K85/_data!K85-1,\"\")","v":0},null,"Heat and Cold",{"$f":"_data!Z85","v":"n.a."},{"$f":"_data!AA85","v":"n.a."},{"$f":"_data!AB85","v":"n.a."},{"$f":"_data!AC85","v":"n.a."},{"$f":"_data!AD85","v":"n.a."},{"$f":"_data!AE85","v":"n.a."},{"$f":"_data!AF85","v":"n.a."},{"$f":"_data!AG85","v":"n.a."},{"$f":"_data!AH85","v":"n.a."},{"$f":"_data!AI85","v":"n.a."},null,null,null,{"$f":"'DATA-OUTPUT EC per capita'!$C$37","v":0},{"$f":"IF(AM83=Z83,Z85,IF(AM83=AA83,AA85,IF(AM83=AB83,AB85,IF(AM83=AC83,AC85,IF(AM83=AD83,AD85,IF(AM83=AE83,AE85,IF(AM83=AF83,AF85,IF(AM83=AG83, AG85,IF(AM83=AH83,AH85,IF(AM83=AI83,AI85,\"Fehler\"))))))))))","v":"Fehler"},{"$f":"AM85*AN85","v":{"$error":"#VALUE!"}},{"$f":"AO85/'DATA-OUTPUT Co2 per capita'!$C$37-1","v":{"$error":"#VALUE!"}}]
["natural gas",3.0521871298528107,2.6118549385760153,3.0717202680442788,3.2717938545533545,3.5101025301470732,3.5777437500537888,3.5616371980704797,3.1285081126014314,3.8060126333513371,3.3829167015781034,null,"natural gas",{"$f":"IFERROR(B86/_data!B86-1,\"\")","v":0},{"$f":"IFERROR(C86/_data!C86-1,\"\")","v":0},{"$f":"IFERROR(D86/_data!D86-1,\"\")","v":0},{"$f":"IFERROR(E86/_data!E86-1,\"\")","v":0},{"$f":"IFERROR(F86/_data!F86-1,\"\")","v":0},{"$f":"IFERROR(G86/_data!G86-1,\"\")","v":0},{"$f":"IFERROR(H86/_data!H86-1,\"\")","v":0},{"$f":"IFERROR(I86/_data!I86-1,\"\")","v":0},{"$f":"IFERROR(J86/_data!J86-1,\"\")","v":0},{"$f":"IFERROR(K86/_data!K86-1,\"\")","v":0},null,"natural gas",{"$f":"_data!Z86","v":0.20200000000000001},{"$f":"_data!AA86","v":0.20200000000000001},{"$f":"_data!AB86","v":0.20200000000000001},{"$f":"_data!AC86","v":0.20200000000000001},{"$f":"_data!AD86","v":0.20200000000000001},{"$f":"_data!AE86","v":0.20200000000000001},{"$f":"_data!AF86","v":0.20200000000000001},{"$f":"_data!AG86","v":0.20200000000000001},{"$f":"_data!AH86","v":0.20200000000000001},{"$f":"_data!AI86","v":0.20200000000000001},null,null,null,{"$f":"'DATA-OUTPUT EC per capita'!$D$37","v":0},{"$f":"IF(AM83=Z83,Z86,IF(AM83=AA83,AA86,IF(AM83=AB83,AB86,IF(AM83=AC83,AC86,IF(AM83=AD83,AD86,IF(AM83=AE83,AE86,IF(AM83=AF83,AF86,IF(AM83=AG83, AG86,IF(AM83=AH83,AH86,IF(AM83=AI83,AI86,\"Fehler\"))))))))))","v":"Fehler"},{"$f":"AM86*AN86","v":{"$error":"#VALUE!"}},{"$f":"AO86/'DATA-OUTPUT Co2 per capita'!$D$37-1","v":{"$error":"#VALUE!"}}]
["Liquid gas",0,0,0,0,0,0,0,0,0,0,null,"Liquid gas",{"$f":"IFERROR(B87/_data!B87-1,\"\")","v":""},{"$f":"IFERROR(C87/_data!C87-1,\"\")","v":""},{"$f":"IFERROR(D87/_data!D87-1,\"\")","v":""},{"$f":"IFERROR(E87/_data!E87-1,\"\")","v":""},{"$f":"IFERROR(F87/_data!F87-1,\"\")","v":""},{"$f":"IFERROR(G87/_data!G87-1,\"\")","v":""},{"$f":"IFERROR(H87/_data!H87-1,\"\")","v":""},{"$f":"IFERROR(I87/_data!I87-1,\"\")","v":""},{"$f":"IFERROR(J87/_data!J87-1,\"\")","v":""},{"$f":"IFERROR(K87/_data!K87-1,\"\")","v":""},null,"Liquid gas",{"$f":"_data!Z87","v":0.23100000000000001},{"$f":"_data!AA87","v":0.23100000000000001},{"$f":"_data!AB87","v":0.23100000000000001},{"$f":"_data!AC87","v":0.23100000000000001},{"$f":"_data!AD87","v":0.23100000000000001},{"$f":"_data!AE87","v":0.23100000000000001},{"$f":"_data!AF87","v":0.23100000000000001},{"$f":"_data!AG87","v":0.23100000000000001},{"$f":"_data!AH87","v":0.23100000000000001},{"$f":"_data!AI87","v":0.23100000000000001},null,null,null,{"$f":"'DATA-OUTPUT EC per capita'!$E$37","v":0},{"$f":"IF(AM83=Z83,Z87,IF(AM83=AA83,AA87,IF(AM83=AB83,AB87,IF(AM83=AC83,AC87,IF(AM83=AD83,AD87,IF(AM83=AE83,AE87,IF(AM83=AF83,AF87,IF(AM83=AG83, AG87,IF(AM83=AH83,AH87,IF(AM83=AI83,AI87,\"Fehler\"))))))))))","v":"Fehler"},{"$error":"#VALUE!"},{"$f":"AO87/'DATA-OUTPUT Co2 per capita'!$E$37-1","v":{"$error":"#VALUE!"}}]
["heating oil / diesel",7.0025981053985928E-2,0,0,0,0,0,0,2.2011686910944597E-2,2.0191300687455147E-2,1.5833555282522969E-2,null,"heating oil / diesel",{"$f":"IFERROR(B88/_data!B88-1,\"\")","v":0},{"$f":"IFERROR(C88/_data!C88-1,\"\")","v":""},{"$f":"IFERROR(D88/_data!D88-1,\"\")","v":""},{"$f":"IFERROR(E88/_data!E88-1,\"\")","v":""},{"$f":"IFERROR(F88/_data!F88-1,\"\")","v":""},{"$f":"IFERROR(G88/_data!G88-1,\"\")","v":""},{"$f":"IFERROR(H88/_data!H88-1,\"\")","v":""},{"$f":"IFERROR(I88/_data!I88-1,\"\")","v":0},{"$f":"IFERROR(J88/_data!J88-1,\"\")","v":0},{"$f":"IFERROR(K88/_data!K88-1,\"\")","v":0},null,"heating oil / diesel",{"$f":"_data!Z88","v":0.26700000000000002},{"$f":"_data!AA88","v":0.26700000000000002},{"$f":"_data!AB88","v":0.26700000000000002},{"$f":"_data!AC88","v":0.26700000000000002},{"$f":"_data!AD88","v":0.26700000000000002},{"$f":"_data!AE88","v":0.26700000000000002},{"$f":"_data!AF88","v":0.26700000000000002},{"$f":"_data!AG88","v":0.26700000000000002},{"$f":"_data!AH88","v":0.26700000000000002},{"$f":"_data!AI88","v":0.26700000000000002},null,null,null,{"$f":"'DATA-OUTPUT EC per capita'!$F$37","v":0},{"$f":"IF(AM83=Z83,Z88,IF(AM83=AA83,AA88,IF(AM83=AB83,AB88,IF(AM83=AC83,AC88,IF(AM83=AD83,AD88,IF(AM83=AE83,AE88,IF(AM83=AF83,AF88,IF(AM83=AG83, AG88,IF(AM83=AH83,AH88,IF(AM83=AI83,AI88,\"Fehler\"))))))))))","v":"Fehler"},{"$error":"#VALUE!"},{"$f":"AO88/'DATA-OUTPUT Co2 per capita'!$F$37-1","v":{"$error":"#VALUE!"}}]
["gasoline",0,0,0,0,0,0,0,1.1232434350143788E-2,1.3725012869180656E-2,5.4020365081548947E-3,null,"gasoline",{"$f":"IFERROR(B89/_data!B89-1,\"\")","v":""},{"$f":"IFERROR(C89/_data!C89-1,\"\")","v":""},{"$f":"IFERROR(D89/_data!D89-1,\"\")","v":""},{"$f":"IFERROR(E89/_data!E89-1,\"\")","v":""},{"$f":"IFERROR(F89/_data!F89-1,\"\")","v":""},{"$f":"IFERROR(G89/_data!G89-1,\"\")","v":""},{"$f":"IFERROR(H89/_data!H89-1,\"\")","v":""},{"$f":"IFERROR(I89/_data!I89-1,\"\")","v":0},{"$f":"IFERROR(J89/_data!J89-1,\"\")","v":0},{"$f":"IFERROR(K89/_data!K89-1,\"\")","v":0},null,"gasoline",{"$f":"_data!Z89","v":0.249},{"$f":"_data!AA89","v":0.249},{"$f":"_data!AB89","v":0.249},{"$f":"_data!AC89","v":0.249},{"$f":"_data!AD89","v":0.249},{"$f":"_data!AE89","v":0.249},{"$f":"_data!AF89","v":0.249},{"$f":"_data!AG89","v":0.249},{"$f":"_data!AH89","v":0.249},{"$f":"_data!AI89","v":0.249},null,null,null,{"$f":"'DATA-OUTPUT EC per capita'!$G$37","v":0},{"$f":"IF(AM83=Z83,Z89,IF(AM83=AA83,AA89,IF(AM83=AB83,AB89,IF(AM83=AC83,AC89,IF(AM83=AD83,AD89,IF(AM83=AE83,AE89,IF(AM83=AF83,AF89,IF(AM83=AG83, AG89,IF(AM83=AH83,AH89,IF(AM83=AI83,AI89,\"Fehler\"))))))))))","v":"Fehler"},{"$error":"#VALUE!"},{"$f":"AO89/'DATA-OUTPUT Co2 per capita'!$G$37-1","v":{"$error":"#VALUE!"}}]
["Lignite / Coal",0,0,0,0,0,0,0,0,0,0,null,"Lignite / Coal",{"$f":"IFERROR(B90/_data!B90-1,\"\")","v":""},{"$f":"IFERROR(C90/_data!C90-1,\"\")","v":""},{"$f":"IFERROR(D90/_data!D90-1,\"\")","v":""},{"$f":"IFERROR(E90/_data!E90-1,\"\")","v":""},{"$f":"IFERROR(F90/_data!F90-1,\"\")","v":""},{"$f":"IFERROR(G90/_data!G90-1,\"\")","v":""},{"$f":"IFERROR(H90/_data!H90-1,\"\")","v":""},{"$f":"IFERROR(I90/_data!I90-1,\"\")","v":""},{"$f":"IFERROR(J90/_data!J90-1,\"\")","v":""},{"$f":"IFERROR(K90/_data!K90-1,\"\")","v":""},null,"Lignite / Coal",{"$f":"_data!Z90","v":0.36399999999999999},{"$f":"_data!AA90","v":0.36399999999999999},{"$f":"_data!AB90","v":0.36399999999999999},{"$f":"_data!AC90","v":0.36399999999999999},{"$f":"_data!AD90","v":0.36399999999999999},{"$f":"_data!AE90","v":0.36399999999999999},{"$f":"_data!AF90","v":0.36399999999999999},{"$f":"_data!AG90","v":0.36399999999999999},{"$f":"_data!AH90","v":0.36399999999999999},{"$f":"_data!AI90","v":0.36399999999999999},null,null,null,{"$f":"'DATA-OUTPUT EC per capita'!$H$37","v":0},{"$f":"IF(AM83=Z83,Z90,IF(AM83=AA83,AA90,IF(AM83=AB83,AB90,IF(AM83=AC83,AC90,IF(AM83=AD83,AD90,IF(AM83=AE83,AE90,IF(AM83=AF83,AF90,IF(AM83=AG83, AG90,IF(AM83=AH83,AH90,IF(AM83=AI83,AI90,\"Fehler\"))))))))))","v":"Fehler"},{"$error":"#VALUE!"},{"$f":"AO90/'DATA-OUTPUT Co2 per capita'!$H$37-1","v":{"$error":"#VALUE!"}}]
["other fossil fuels",0,4.5239230255010907E-2,4.6432546019547896E-2,8.4506301032697365E-2,9.898539965355109E-2,9.6489120065566245E-2,9.094962804941531E-2,0.11795674574041487,0.12127459408195196,8.0595901006724771E-2,null,"other fossil fuels",{"$f":"IFERROR(B91/_data!B91-1,\"\")","v":""},{"$f":"IFERROR(C91/_data!C91-1,\"\")","v":0},{"$f":"IFERROR(D91/_data!D91-1,\"\")","v":0},{"$f":"IFERROR(E91/_data!E91-1,\"\")","v":0},{"$f":"IFERROR(F91/_data!F91-1,\"\")","v":0},{"$f":"IFERROR(G91/_data!G91-1,\"\")","v":0},{"$f":"IFERROR(H91/_data!H91-1,\"\")","v":0},{"$f":"IFERROR(I91/_data!I91-1,\"\")","v":0},{"$f":"IFERROR(J91/_data!J91-1,\"\")","v":0},{"$f":"IFERROR(K91/_data!K91-1,\"\")","v":0},null,"other fossil fuels",{"$f":"_data!Z91","v":0.38200000000000001},{"$f":"_data!AA91","v":0.38200000000000001},{"$f":"_data!AB91","v":0.38200000000000001},{"$f":"_data!AC91","v":0.38200000000000001},{"$f":"_data!AD91","v":0.38200000000000001},{"$f":"_data!AE91","v":0.38200000000000001},{"$f":"_data!AF91","v":0.38200000000000001},{"$f":"_data!AG91","v":0.38200000000000001},{"$f":"_data!AH91","v":0.38200000000000001},{"$f":"_data!AI91","v":0.38200000000000001},null,null,null,{"$f":"'DATA-OUTPUT EC per capita'!$I$37","v":0},{"$f":"IF(AM83=Z83,Z91,IF(AM83=AA83,AA91,IF(AM83=AB83,AB91,IF(AM83=AC83,AC91,IF(AM83=AD83,AD91,IF(AM83=AE83,AE91,IF(AM83=AF83,AF91,IF(AM83=AG83, AG91,IF(AM83=AH83,AH91,IF(AM83=AI83,AI91,\"Fehler\"))))))))))","v":"Fehler"},{"$error":"#VALUE!"},{"$f":"AO91/'DATA-OUTPUT Co2 per capita'!$I$37-1","v":{"$error":"#VALUE!"}}]
["Plant oil, biofuel",0,0,0,0,0,0,0,8.5748468569253306E-2,7.8895050880809836E-2,6.2868528327664736E-2,null,"Plant oil, biofuel",{"$f":"IFERROR(B92/_data!B92-1,\"\")","v":""},{"$f":"IFERROR(C92/_data!C92-1,\"\")","v":""},{"$f":"IFERROR(D92/_data!D92-1,\"\")","v":""},{"$f":"IFERROR(E92/_data!E92-1,\"\")","v":""},{"$f":"IFERROR(F92/_data!F92-1,\"\")","v":""},{"$f":"IFERROR(G92/_data!G92-1,\"\")","v":""},{"$f":"IFERROR(H92/_data!H92-1,\"\")","v":""},{"$f":"IFERROR(I92/_data!I92-1,\"\")","v":0},{"$f":"IFERROR(J92/_data!J92-1,\"\")","v":0},{"$f":"IFERROR(K92/_data!K92-1,\"\")","v":0},null,"Plant oil, biofuel",{"$f":"_data!Z92","v":0},{"$f":"_data!AA92","v":0},{"$f":"_data!AB92","v":0},{"$f":"_data!AC92","v":0},{"$f":"_data!AD92","v":0},{"$f":"_data!AE92","v":0},{"$f":"_data!AF92","v":0},{"$f":"_data!AG92","v":0},{"$f":"_data!AH92","v":0},{"$f":"_data!AI92","v":0},null,null,null,{"$f":"'DATA-OUTPUT EC per capita'!$J$37","v":0},{"$f":"IF(AM83=Z83,Z92,IF(AM83=AA83,AA92,IF(AM83=AB83,AB92,IF(AM83=AC83,AC92,IF(AM83=AD83,AD92,IF(AM83=AE83,AE92,IF(AM83=AF83,AF92,IF(AM83=AG83, AG92,IF(AM83=AH83,AH92,IF(AM83=AI83,AI92,\"Fehler\"))))))))))","v":"Fehler"},{"$error":"#VALUE!"},{"$f":"AO92/'DATA-OUTPUT Co2 per capita'!$J$37-1","v":{"$error":"#VALUE!"}}]
["Summe",4.8683414921021457,3.9111557681559654,4.3916486681065514,4.8232350833728033,5.0421691178929482,5.0151833822895622,5.3153477006244678,4.3753406955952023,4.9338093028327403,4.2489190369716248,null,"Summe",{"$f":"IFERROR(B93/_data!B93-1,\"\")","v":0},{"$f":"IFERROR(C93/_data!C93-1,\"\")","v":0},{"$f":"IFERROR(D93/_data!D93-1,\"\")","v":0},{"$f":"IFERROR(E93/_data!E93-1,\"\")","v":0},{"$f":"IFERROR(F93/_data!F93-1,\"\")","v":0},{"$f":"IFERROR(G93/_data!G93-1,\"\")","v":0},{"$f":"IFERROR(H93/_data!H93-1,\"\")","v":0},{"$f":"IFERROR(I93/_data!I93-1,\"\")","v":0},{"$f":"IFERROR(J93/_data!J93-1,\"\")","v":0},{"$f":"IFERROR(K93/_data!K93-1,\"\")","v":0},null,null,null,null,null,null,null,null,null,null,null,null,null,null,"Total",null,null,{"$f":"SUM(AO84:AO92)","v":{"$error":"#VALUE!"}},{"$f":"AO93/'DATA-OUTPUT Co2 per capita'!$K$37-1","v":{"$error":"#VALUE!"}}]
[]
["Energy consumption (MWh /Einwohner and  Year) - Primary sector (Agriculture)",null,null,null,null,null,null,null,null,null,null,null,"Test:",{"$f":"A95","v":"Energy consumption (MWh /Einwohner and  Year) - Primary sector (Agriculture)"}]
["Energieträger",2000,2001,2002,2003,2004,2005,2006,2007,2008,2009,null,"Energieträger",2000,2001,2002,2003,2004,2005,2006,2007,2008,2009]
["Electricity",9.9775806420440261E-2,0.10195093752397234,0.10584988894939397,0,5.862209648401185E-2,5.9449214283964665E-2,6.0109257414948346E-2,7.1084800671226966E-2,7.3031015359335413E-2,7.1126814024039461E-2,null,"Electricity",{"$f":"IFERROR(B97/_data!B97-1,\"\")","v":0},{"$f":"IFERROR(C97/_data!C97-1,\"\")","v":0},{"$f":"IFERROR(D97/_data!D97-1,\"\")","v":0},{"$f":"IFERROR(E97/_data!E97-1,\"\")","v":""},{"$f":"IFERROR(F97/_data!F97-1,\"\")","v":0},{"$f":"IFERROR(G97/_data!G97-1,\"\")","v":0},{"$f":"IFERROR(H97/_data!H97-1,\"\")","v":0},{"$f":"IFERROR(I97/_data!I97-1,\"\")","v":0},{"$f":"IFERROR(J97/_data!J97-1,\"\")","v":0},{"$f":"IFERROR(K97/_data!K97-1,\"\")","v":0}]
["Heat and Cold",0,0,0,0,0,0,0,2.9133115029191382E-4,4.4376485027373952E-4,4.495487852763385E-2,null,"Heat and Cold",{"$f":"IFERROR(B98/_data!B98-1,\"\")","v":""},{"$f":"IFERROR(C98/_data!C98-1,\"\")","v":""},{"$f":"IFERROR(D98/_data!D98-1,\"\")","v":""},{"$f":"IFERROR(E98/_data!E98-1,\"\")","v":""},{"$f":"IFERROR(F98/_data!F98-1,\"\")","v":""},{"$f":"IFERROR(G98/_data!G98-1,\"\")","v":""},{"$f":"IFERROR(H98/_data!H98-1,\"\")","v":""},{"$f":"IFERROR(I98/_data!I98-1,\"\")","v":0},{"$f":"IFERROR(J98/_data!J98-1,\"\")","v":0},{"$f":"IFERROR(K98/_data!K98-1,\"\")","v":0}]
["natural gas",5.8326223746296806E-3,2.5684650031232532E-3,7.6821049783439427E-3,2.9113348419647831E-2,3.9159426687266324E-2,3.9919683979098772E-2,4.9108870437049298E-2,2.0166589625762475E-2,1.4802727505559742E-2,7.2648077178634803E-3,null,"natural gas",{"$f":"IFERROR(B99/_data!B99-1,\"\")","v":0},{"$f":"IFERROR(C99/_data!C99-1,\"\")","v":0},{"$f":"IFERROR(D99/_data!D99-1,\"\")","v":0},{"$f":"IFERROR(E99/_data!E99-1,\"\")","v":0},{"$f":"IFERROR(F99/_data!F99-1,\"\")","v":0},{"$f":"IFERROR(G99/_data!G99-1,\"\")","v":0},{"$f":"IFERROR(H99/_data!H99-1,\"\")","v":0},{"$f":"IFERROR(I99/_data!I99-1,\"\")","v":0},{"$f":"IFERROR(J99/_data!J99-1,\"\")","v":0},{"$f":"IFERROR(K99/_data!K99-1,\"\")","v":0}]
["Liquid gas",0,0,0,0,0,0,0,0,0,0,null,"Liquid gas",{"$f":"IFERROR(B100/_data!B100-1,\"\")","v":""},{"$f":"IFERROR(C100/_data!C100-1,\"\")","v":""},{"$f":"IFERROR(D100/_data!D100-1,\"\")","v":""},{"$f":"IFERROR(E100/_data!E100-1,\"\")","v":""},{"$f":"IFERROR(F100/_data!F100-1,\"\")","v":""},{"$f":"IFERROR(G100/_data!G100-1,\"\")","v":""},{"$f":"IFERROR(H100/_data!H100-1,\"\")","v":""},{"$f":"IFERROR(I100/_data!I100-1,\"\")","v":""},{"$f":"IFERROR(J100/_data!J100-1,\"\")","v":""},{"$f":"IFERROR(K100/_data!K100-1,\"\")","v":""}]
["heating oil / diesel",0.13511666625251598,0.10914263953271745,8.6678618118482542E-2,8.0289419743640608E-2,0.11369944554799789,2.9526001749051494E-2,3.4670862528556813E-2,0.24620719212447742,0.30033371116740587,0.39360355661142393,null,"heating oil / diesel",{"$f":"IFERROR(B101/_data!B101-1,\"\")","v":0},{"$f":"IFERROR(C101/_data!C101-1,\"\")","v":0},{"$f":"IFERROR(D101/_data!D101-1,\"\")","v":0},{"$f":"IFERROR(E101/_data!E101-1,\"\")","v":0},{"$f":"IFERROR(F101/_data!F101-1,\"\")","v":0},{"$f":"IFERROR(G101/_data!G101-1,\"\")","v":0},{"$f":"IFERROR(H101/_data!H101-1,\"\")","v":0},{"$f":"IFERROR(I101/_data!I101-1,\"\")","v":0},{"$f":"IFERROR(J101/_data!J101-1,\"\")","v":0},{"$f":"IFERROR(K101/_data!K101-1,\"\")","v":0}]
["gasoline",0,0,0,0,2.9428091788893567E-3,0,1.4077876191954134E-3,0,0,0,null,"gasoline",{"$f":"IFERROR(B102/_data!B102-1,\"\")","v":""},{"$f":"IFERROR(C102/_data!C102-1,\"\")","v":""},{"$f":"IFERROR(D102/_data!D102-1,\"\")","v":""},{"$f":"IFERROR(E102/_data!E102-1,\"\")","v":""},{"$f":"IFERROR(F102/_data!F102-1,\"\")","v":0},{"$f":"IFERROR(G102/_data!G102-1,\"\")","v":""},{"$f":"IFERROR(H102/_data!H102-1,\"\")","v":0},{"$f":"IFERROR(I102/_data!I102-1,\"\")","v":""},{"$f":"IFERROR(J102/_data!J102-1,\"\")","v":""},{"$f":"IFERROR(K102/_data!K102-1,\"\")","v":""}]
["Lignite / Coal",0,0,0,0,0,0,0,0,0,0,null,"Lignite / Coal",{"$f":"IFERROR(B103/_data!B103-1,\"\")","v":""},{"$f":"IFERROR(C103/_data!C103-1,\"\")","v":""},{"$f":"IFERROR(D103/_data!D103-1,\"\")","v":""},{"$f":"IFERROR(E103/_data!E103-1,\"\")","v":""},{"$f":"IFERROR(F103/_data!F103-1,\"\")","v":""},{"$f":"IFERROR(G103/_data!G103-1,\"\")","v":""},{"$f":"IFERROR(H103/_data!H103-1,\"\")","v":""},{"$f":"IFERROR(I103/_data!I103-1,\"\")","v":""},{"$f":"IFERROR(J103/_data!J103-1,\"\")","v":""},{"$f":"IFERROR(K103/_data!K103-1,\"\")","v":""}]
["other fossil fuels",0,0,0,0,0,0,0,0,0,0,null,"other fossil fuels",{"$f":"IFERROR(B104/_data!B104-1,\"\")","v":""},{"$f":"IFERROR(C104/_data!C104-1,\"\")","v":""},{"$f":"IFERROR(D104/_data!D104-1,\"\")","v":""},{"$f":"IFERROR(E104/_data!E104-1,\"\")","v":""},{"$f":"IFERROR(F104/_data!F104-1,\"\")","v":""},{"$f":"IFERROR(G104/_data!G104-1,\"\")","v":""},{"$f":"IFERROR(H104/_data!H104-1,\"\")","v":""},{"$f":"IFERROR(I104/_data!I104-1,\"\")","v":""},{"$f":"IFERROR(J104/_data!J104-1,\"\")","v":""},{"$f":"IFERROR(K104/_data!K104-1,\"\")","v":""}]
["Plant oil, biofuel",0,0,0,0,0,0,0,5.5029217277361504E-4,1.0143196577685474E-3,2.1173499417020913E-2,null,"Plant oil, biofuel",{"$f":"IFERROR(B105/_data!B105-1,\"\")","v":""},{"$f":"IFERROR(C105/_data!C105-1,\"\")","v":""},{"$f":"IFERROR(D105/_data!D105-1,\"\")","v":""},{"$f":"IFERROR(E105/_data!E105-1,\"\")","v":""},{"$f":"IFERROR(F105/_data!F105-1,\"\")","v":""},{"$f":"IFERROR(G105/_data!G105-1,\"\")","v":""},{"$f":"IFERROR(H105/_data!H105-1,\"\")","v":""},{"$f":"IFERROR(I105/_data!I105-1,\"\")","v":0},{"$f":"IFERROR(J105/_data!J105-1,\"\")","v":0},{"$f":"IFERROR(K105/_data!K105-1,\"\")","v":0}]
["Summe",0.24072509504758594,0.21366204205981304,0.20021061204622045,0.10940276816328844,0.21442377789816544,0.12889490001211493,0.14529677799974985,0.3383002057445324,0.38962553854034332,0.5381235562979817,null,"Summe",{"$f":"IFERROR(B106/_data!B106-1,\"\")","v":0},{"$f":"IFERROR(C106/_data!C106-1,\"\")","v":0},{"$f":"IFERROR(D106/_data!D106-1,\"\")","v":0},{"$f":"IFERROR(E106/_data!E106-1,\"\")","v":0},{"$f":"IFERROR(F106/_data!F106-1,\"\")","v":0},{"$f":"IFERROR(G106/_data!G106-1,\"\")","v":0},{"$f":"IFERROR(H106/_data!H106-1,\"\")","v":0},{"$f":"IFERROR(I106/_data!I106-1,\"\")","v":0},{"$f":"IFERROR(J106/_data!J106-1,\"\")","v":0},{"$f":"IFERROR(K106/_data!K106-1,\"\")","v":0}]
[]
["Energy consumption (MWh /Einwohner and  Year) - Secondary sector (Industrie)",null,null,null,null,null,null,null,null,null,null,null,"Test:",{"$f":"A108","v":"Energy consumption (MWh /Einwohner and  Year) - Secondary sector (Industrie)"}]
["Energieträger",2000,2001,2002,2003,2004,2005,2006,2007,2008,2009,null,"Energieträger",2000,2001,2002,2003,2004,2005,2006,2007,2008,2009]
["Electricity",9.1941455656884427E-2,0.22708655247613724,0.25514106180287449,0.53314873513802363,0.47432733401553001,0.51941930431178929,0.54334054251551345,0.34500082220124639,0.36201702535545566,0.23085944525655061,null,"Electricity",{"$f":"IFERROR(B110/_data!B110-1,\"\")","v":0},{"$f":"IFERROR(C110/_data!C110-1,\"\")","v":0},{"$f":"IFERROR(D110/_data!D110-1,\"\")","v":0},{"$f":"IFERROR(E110/_data!E110-1,\"\")","v":0},{"$f":"IFERROR(F110/_data!F110-1,\"\")","v":0},{"$f":"IFERROR(G110/_data!G110-1,\"\")","v":0},{"$f":"IFERROR(H110/_data!H110-1,\"\")","v":0},{"$f":"IFERROR(I110/_data!I110-1,\"\")","v":0},{"$f":"IFERROR(J110/_data!J110-1,\"\")","v":0},{"$f":"IFERROR(K110/_data!K110-1,\"\")","v":0}]
["Heat and Cold",0.14750667472880033,0.46451545736485084,0.50144430371915849,0.53976080499926449,0.60755633138706644,0.54235822719530125,0.55208192145330826,0.44104299141414727,0.5354973843231825,0.28335854718350423,null,"Heat and Cold",{"$f":"IFERROR(B111/_data!B111-1,\"\")","v":0},{"$f":"IFERROR(C111/_data!C111-1,\"\")","v":0},{"$f":"IFERROR(D111/_data!D111-1,\"\")","v":0},{"$f":"IFERROR(E111/_data!E111-1,\"\")","v":0},{"$f":"IFERROR(F111/_data!F111-1,\"\")","v":0},{"$f":"IFERROR(G111/_data!G111-1,\"\")","v":0},{"$f":"IFERROR(H111/_data!H111-1,\"\")","v":0},{"$f":"IFERROR(I111/_data!I111-1,\"\")","v":0},{"$f":"IFERROR(J111/_data!J111-1,\"\")","v":0},{"$f":"IFERROR(K111/_data!K111-1,\"\")","v":0}]
["natural gas",1.5581729879868689,1.2394384719071572,1.1418123377325282,1.0012225582233232,0.5036551027642342,0.50793329242062235,1.0907734909007811,0.46282808743042037,0.60675334028142291,0.39493854264504841,null,"natural gas",{"$f":"IFERROR(B112/_data!B112-1,\"\")","v":0},{"$f":"IFERROR(C112/_data!C112-1,\"\")","v":0},{"$f":"IFERROR(D112/_data!D112-1,\"\")","v":0},{"$f":"IFERROR(E112/_data!E112-1,\"\")","v":0},{"$f":"IFERROR(F112/_data!F112-1,\"\")","v":0},{"$f":"IFERROR(G112/_data!G112-1,\"\")","v":0},{"$f":"IFERROR(H112/_data!H112-1,\"\")","v":0},{"$f":"IFERROR(I112/_data!I112-1,\"\")","v":0},{"$f":"IFERROR(J112/_data!J112-1,\"\")","v":0},{"$f":"IFERROR(K112/_data!K112-1,\"\")","v":0}]
["Liquid gas",0,0,0,0,0,0,0,0,0,0,null,"Liquid gas",{"$f":"IFERROR(B113/_data!B113-1,\"\")","v":""},{"$f":"IFERROR(C113/_data!C113-1,\"\")","v":""},{"$f":"IFERROR(D113/_data!D113-1,\"\")","v":""},{"$f":"IFERROR(E113/_data!E113-1,\"\")","v":""},{"$f":"IFERROR(F113/_data!F113-1,\"\")","v":""},{"$f":"IFERROR(G113/_data!G113-1,\"\")","v":""},{"$f":"IFERROR(H113/_data!H113-1,\"\")","v":""},{"$f":"IFERROR(I113/_data!I113-1,\"\")","v":""},{"$f":"IFERROR(J113/_data!J113-1,\"\")","v":""},{"$f":"IFERROR(K113/_data!K113-1,\"\")","v":""}]
["heating oil / diesel",0.44476334048433541,0.17318303361059056,8.6678618118482525E-3,0.10896421250922653,0.10657650969454978,3.5153154548758614E-2,0.10604242089706845,8.5716098441443081E-2,9.5472837787464529E-2,0.13343651098879164,null,"heating oil / diesel",{"$f":"IFERROR(B114/_data!B114-1,\"\")","v":0},{"$f":"IFERROR(C114/_data!C114-1,\"\")","v":0},{"$f":"IFERROR(D114/_data!D114-1,\"\")","v":0},{"$f":"IFERROR(E114/_data!E114-1,\"\")","v":0},{"$f":"IFERROR(F114/_data!F114-1,\"\")","v":0},{"$f":"IFERROR(G114/_data!G114-1,\"\")","v":0},{"$f":"IFERROR(H114/_data!H114-1,\"\")","v":0},{"$f":"IFERROR(I114/_data!I114-1,\"\")","v":0},{"$f":"IFERROR(J114/_data!J114-1,\"\")","v":0},{"$f":"IFERROR(K114/_data!K114-1,\"\")","v":0}]
["gasoline",0.71423739670391262,0.50023424400828487,0.37951638089915973,0.46001114606062327,3.6751673722720493E-2,0.3973100885581447,2.12150320288053E-2,3.7905419665759006E-2,3.8353962059373199E-2,5.3709903213264194E-3,null,"gasoline",{"$f":"IFERROR(B115/_data!B115-1,\"\")","v":0},{"$f":"IFERROR(C115/_data!C115-1,\"\")","v":0},{"$f":"IFERROR(D115/_data!D115-1,\"\")","v":0},{"$f":"IFERROR(E115/_data!E115-1,\"\")","v":0},{"$f":"IFERROR(F115/_data!F115-1,\"\")","v":0},{"$f":"IFERROR(G115/_data!G115-1,\"\")","v":0},{"$f":"IFERROR(H115/_data!H115-1,\"\")","v":0},{"$f":"IFERROR(I115/_data!I115-1,\"\")","v":0},{"$f":"IFERROR(J115/_data!J115-1,\"\")","v":0},{"$f":"IFERROR(K115/_data!K115-1,\"\")","v":0}]
["Lignite / Coal",0,0,0,0,0,0,0,0,0,0,null,"Lignite / Coal",{"$f":"IFERROR(B116/_data!B116-1,\"\")","v":""},{"$f":"IFERROR(C116/_data!C116-1,\"\")","v":""},{"$f":"IFERROR(D116/_data!D116-1,\"\")","v":""},{"$f":"IFERROR(E116/_data!E116-1,\"\")","v":""},{"$f":"IFERROR(F116/_data!F116-1,\"\")","v":""},{"$f":"IFERROR(G116/_data!G116-1,\"\")","v":""},{"$f":"IFERROR(H116/_data!H116-1,\"\")","v":""},{"$f":"IFERROR(I116/_data!I116-1,\"\")","v":""},{"$f":"IFERROR(J116/_data!J116-1,\"\")","v":""},{"$f":"IFERROR(K116/_data!K116-1,\"\")","v":""}]
["other fossil fuels",5.0284797632162391E-2,2.8081884034147572E-2,3.8716449426255531E-2,2.7662741256212309E-2,2.8926476587946521E-2,1.8106191655528212E-2,1.3423091252793477E-2,2.9456816307293506E-3,1.458084508042287E-3,8.4756090041740607E-3,null,"other fossil fuels",{"$f":"IFERROR(B117/_data!B117-1,\"\")","v":0},{"$f":"IFERROR(C117/_data!C117-1,\"\")","v":0},{"$f":"IFERROR(D117/_data!D117-1,\"\")","v":0},{"$f":"IFERROR(E117/_data!E117-1,\"\")","v":0},{"$f":"IFERROR(F117/_data!F117-1,\"\")","v":0},{"$f":"IFERROR(G117/_data!G117-1,\"\")","v":0},{"$f":"IFERROR(H117/_data!H117-1,\"\")","v":0},{"$f":"IFERROR(I117/_data!I117-1,\"\")","v":0},{"$f":"IFERROR(J117/_data!J117-1,\"\")","v":0},{"$f":"IFERROR(K117/_data!K117-1,\"\")","v":0}]
["Plant oil, biofuel",0,0,0,0,0,0,0,9.7110383430637932E-5,1.2678995722106842E-4,3.104618682847641E-5,null,"Plant oil, biofuel",{"$f":"IFERROR(B118/_data!B118-1,\"\")","v":""},{"$f":"IFERROR(C118/_data!C118-1,\"\")","v":""},{"$f":"IFERROR(D118/_data!D118-1,\"\")","v":""},{"$f":"IFERROR(E118/_data!E118-1,\"\")","v":""},{"$f":"IFERROR(F118/_data!F118-1,\"\")","v":""},{"$f":"IFERROR(G118/_data!G118-1,\"\")","v":""},{"$f":"IFERROR(H118/_data!H118-1,\"\")","v":""},{"$f":"IFERROR(I118/_data!I118-1,\"\")","v":0},{"$f":"IFERROR(J118/_data!J118-1,\"\")","v":0},{"$f":"IFERROR(K118/_data!K118-1,\"\")","v":0}]
["Summe",3.006906653192964,2.6325396434011683,2.3252983953918247,2.6707701981866734,1.7577934281720473,2.0202802586901445,2.3268764990482693,1.3755362111671763,1.6396794242721622,1.0564706915862236,null,"Summe",{"$f":"IFERROR(B119/_data!B119-1,\"\")","v":0},{"$f":"IFERROR(C119/_data!C119-1,\"\")","v":0},{"$f":"IFERROR(D119/_data!D119-1,\"\")","v":0},{"$f":"IFERROR(E119/_data!E119-1,\"\")","v":0},{"$f":"IFERROR(F119/_data!F119-1,\"\")","v":0},{"$f":"IFERROR(G119/_data!G119-1,\"\")","v":0},{"$f":"IFERROR(H119/_data!H119-1,\"\")","v":0},{"$f":"IFERROR(I119/_data!I119-1,\"\")","v":0},{"$f":"IFERROR(J119/_data!J119-1,\"\")","v":0},{"$f":"IFERROR(K119/_data!K119-1,\"\")","v":0}]
[]
["Energy consumption (MWh /Einwohner and  Year) - Tertiary sector (Services)",null,null,null,null,null,null,null,null,null,null,null,"Test:",{"$f":"A121","v":"Energy consumption (MWh /Einwohner and  Year) - Tertiary sector (Services)"}]
["Energieträger",2000,2001,2002,2003,2004,2005,2006,2007,2008,2009,null,"Energieträger",2000,2001,2002,2003,2004,2005,2006,2007,2008,2009]
["Electricity",0.19955161284088052,0.19479238583686753,0.18552623438850102,7.1417101511465186E-2,0.17840780647016724,0.17861245004246848,0.12964741795381016,0.41443474635415245,0.44557160716413974,0.38025369627517908,null,"Electricity",{"$f":"IFERROR(B123/_data!B123-1,\"\")","v":0},{"$f":"IFERROR(C123/_data!C123-1,\"\")","v":0},{"$f":"IFERROR(D123/_data!D123-1,\"\")","v":0},{"$f":"IFERROR(E123/_data!E123-1,\"\")","v":0},{"$f":"IFERROR(F123/_data!F123-1,\"\")","v":0},{"$f":"IFERROR(G123/_data!G123-1,\"\")","v":0},{"$f":"IFERROR(H123/_data!H123-1,\"\")","v":0},{"$f":"IFERROR(I123/_data!I123-1,\"\")","v":0},{"$f":"IFERROR(J123/_data!J123-1,\"\")","v":0},{"$f":"IFERROR(K123/_data!K123-1,\"\")","v":0}]
["Heat and Cold",0,0,0,0,0,0,0,0,0,0,null,"Heat and Cold",{"$f":"IFERROR(B124/_data!B124-1,\"\")","v":""},{"$f":"IFERROR(C124/_data!C124-1,\"\")","v":""},{"$f":"IFERROR(D124/_data!D124-1,\"\")","v":""},{"$f":"IFERROR(E124/_data!E124-1,\"\")","v":""},{"$f":"IFERROR(F124/_data!F124-1,\"\")","v":""},{"$f":"IFERROR(G124/_data!G124-1,\"\")","v":""},{"$f":"IFERROR(H124/_data!H124-1,\"\")","v":""},{"$f":"IFERROR(I124/_data!I124-1,\"\")","v":""},{"$f":"IFERROR(J124/_data!J124-1,\"\")","v":""},{"$f":"IFERROR(K124/_data!K124-1,\"\")","v":""}]
["natural gas",0.52276172253559627,1.0755019123078104,0.81375926186528302,0.38589524052416174,2.6083990449246572E-2,2.7473746022099482E-2,4.4328940381176497E-2,4.0883471424298566E-2,5.7657733046280871E-2,5.1878178190384081E-2,null,"natural gas",{"$f":"IFERROR(B125/_data!B125-1,\"\")","v":0},{"$f":"IFERROR(C125/_data!C125-1,\"\")","v":0},{"$f":"IFERROR(D125/_data!D125-1,\"\")","v":0},{"$f":"IFERROR(E125/_data!E125-1,\"\")","v":0},{"$f":"IFERROR(F125/_data!F125-1,\"\")","v":0},{"$f":"IFERROR(G125/_data!G125-1,\"\")","v":0},{"$f":"IFERROR(H125/_data!H125-1,\"\")","v":0},{"$f":"IFERROR(I125/_data!I125-1,\"\")","v":0},{"$f":"IFERROR(J125/_data!J125-1,\"\")","v":0},{"$f":"IFERROR(K125/_data!K125-1,\"\")","v":0}]
["Liquid gas",0,0,0,0,0,0,0,0,0,0,null,"Liquid gas",{"$f":"IFERROR(B126/_data!B126-1,\"\")","v":""},{"$f":"IFERROR(C126/_data!C126-1,\"\")","v":""},{"$f":"IFERROR(D126/_data!D126-1,\"\")","v":""},{"$f":"IFERROR(E126/_data!E126-1,\"\")","v":""},{"$f":"IFERROR(F126/_data!F126-1,\"\")","v":""},{"$f":"IFERROR(G126/_data!G126-1,\"\")","v":""},{"$f":"IFERROR(H126/_data!H126-1,\"\")","v":""},{"$f":"IFERROR(I126/_data!I126-1,\"\")","v":""},{"$f":"IFERROR(J126/_data!J126-1,\"\")","v":""},{"$f":"IFERROR(K126/_data!K126-1,\"\")","v":""}]
["heating oil / diesel",1.8602268993641407E-2,0.11496449353979682,0.20078846950034365,7.1686981913964817E-2,6.3939217614050581E-2,0.47122439562723889,6.7770241203128035E-3,1.4987369176128454E-2,1.5975534609854621E-2,1.6951218008348121E-2,null,"heating oil / diesel",{"$f":"IFERROR(B127/_data!B127-1,\"\")","v":0},{"$f":"IFERROR(C127/_data!C127-1,\"\")","v":0},{"$f":"IFERROR(D127/_data!D127-1,\"\")","v":0},{"$f":"IFERROR(E127/_data!E127-1,\"\")","v":0},{"$f":"IFERROR(F127/_data!F127-1,\"\")","v":0},{"$f":"IFERROR(G127/_data!G127-1,\"\")","v":0},{"$f":"IFERROR(H127/_data!H127-1,\"\")","v":0},{"$f":"IFERROR(I127/_data!I127-1,\"\")","v":0},{"$f":"IFERROR(J127/_data!J127-1,\"\")","v":0},{"$f":"IFERROR(K127/_data!K127-1,\"\")","v":0}]
["gasoline",0.26091494172899637,0.11982745394571019,0.2100001971513667,0.20841514083034102,0.20659858076339144,0.16874838219357008,3.3950599095480087E-2,9.8081487264944315E-3,5.5153631391164767E-3,2.7010182540774474E-3,null,"gasoline",{"$f":"IFERROR(B128/_data!B128-1,\"\")","v":0},{"$f":"IFERROR(C128/_data!C128-1,\"\")","v":0},{"$f":"IFERROR(D128/_data!D128-1,\"\")","v":0},{"$f":"IFERROR(E128/_data!E128-1,\"\")","v":0},{"$f":"IFERROR(F128/_data!F128-1,\"\")","v":0},{"$f":"IFERROR(G128/_data!G128-1,\"\")","v":0},{"$f":"IFERROR(H128/_data!H128-1,\"\")","v":0},{"$f":"IFERROR(I128/_data!I128-1,\"\")","v":0},{"$f":"IFERROR(J128/_data!J128-1,\"\")","v":0},{"$f":"IFERROR(K128/_data!K128-1,\"\")","v":0}]
["Lignite / Coal",0,0,0,0,0,0,0,0,0,0,null,"Lignite / Coal",{"$f":"IFERROR(B129/_data!B129-1,\"\")","v":""},{"$f":"IFERROR(C129/_data!C129-1,\"\")","v":""},{"$f":"IFERROR(D129/_data!D129-1,\"\")","v":""},{"$f":"IFERROR(E129/_data!E129-1,\"\")","v":""},{"$f":"IFERROR(F129/_data!F129-1,\"\")","v":""},{"$f":"IFERROR(G129/_data!G129-1,\"\")","v":""},{"$f":"IFERROR(H129/_data!H129-1,\"\")","v":""},{"$f":"IFERROR(I129/_data!I129-1,\"\")","v":""},{"$f":"IFERROR(J129/_data!J129-1,\"\")","v":""},{"$f":"IFERROR(K129/_data!K129-1,\"\")","v":""}]
["other fossil fuels",0,0,0,0,0,0,0,1.4728408153646753E-2,2.8844715267793068E-3,0,null,"other fossil fuels",{"$f":"IFERROR(B130/_data!B130-1,\"\")","v":""},{"$f":"IFERROR(C130/_data!C130-1,\"\")","v":""},{"$f":"IFERROR(D130/_data!D130-1,\"\")","v":""},{"$f":"IFERROR(E130/_data!E130-1,\"\")","v":""},{"$f":"IFERROR(F130/_data!F130-1,\"\")","v":""},{"$f":"IFERROR(G130/_data!G130-1,\"\")","v":""},{"$f":"IFERROR(H130/_data!H130-1,\"\")","v":""},{"$f":"IFERROR(I130/_data!I130-1,\"\")","v":0},{"$f":"IFERROR(J130/_data!J130-1,\"\")","v":0},{"$f":"IFERROR(K130/_data!K130-1,\"\")","v":""}]
["Plant oil, biofuel",8.421064256861786E-3,8.2190880099944109E-3,8.1579875876218854E-3,6.2409843078039956E-3,1.2373174956693886E-2,2.178039142474875E-2,1.9447112693071523E-2,2.1105323332258646E-2,2.2536914896044914E-2,2.1173499417020913E-2,null,"Plant oil, biofuel",{"$f":"IFERROR(B131/_data!B131-1,\"\")","v":0},{"$f":"IFERROR(C131/_data!C131-1,\"\")","v":0},{"$f":"IFERROR(D131/_data!D131-1,\"\")","v":0},{"$f":"IFERROR(E131/_data!E131-1,\"\")","v":0},{"$f":"IFERROR(F131/_data!F131-1,\"\")","v":0},{"$f":"IFERROR(G131/_data!G131-1,\"\")","v":0},{"$f":"IFERROR(H131/_data!H131-1,\"\")","v":0},{"$f":"IFERROR(I131/_data!I131-1,\"\")","v":0},{"$f":"IFERROR(J131/_data!J131-1,\"\")","v":0},{"$f":"IFERROR(K131/_data!K131-1,\"\")","v":0}]
["Summe",1.0102516103559764,1.5133053336401796,1.4182321504931164,0.74365544908773673,0.48740277025354972,0.86783936531012573,0.23415109424385108,0.51594746716697926,0.55014162438221592,0.47295761014500964,null,"Summe",{"$f":"IFERROR(B132/_data!B132-1,\"\")","v":0},{"$f":"IFERROR(C132/_data!C132-1,\"\")","v":0},{"$f":"IFERROR(D132/_data!D132-1,\"\")","v":0},{"$f":"IFERROR(E132/_data!E132-1,\"\")","v":0},{"$f":"IFERROR(F132/_data!F132-1,\"\")","v":0},{"$f":"IFERROR(G132/_data!G132-1,\"\")","v":0},{"$f":"IFERROR(H132/_data!H132-1,\"\")","v":0},{"$f":"IFERROR(I132/_data!I132-1,\"\")","v":0},{"$f":"IFERROR(J132/_data!J132-1,\"\")","v":0},{"$f":"IFERROR(K132/_data!K132-1,\"\")","v":0}]
[]
["Energy consumption (MWh /Einwohner and  Year) - Road",null,null,null,null,null,null,null,null,null,null,null,"Test:",{"$f":"A134","v":"Energy consumption (MWh /Einwohner and  Year) - Road"}]
["Energieträger",2000,2001,2002,2003,2004,2005,2006,2007,2008,2009,null,"Energieträger",2000,2001,2002,2003,2004,2005,2006,2007,2008,2009]
["Electricity",0,0,0,0,0,0,0,0,0,0,null,"Electricity",{"$f":"IFERROR(B136/_data!B136-1,\"\")","v":""},{"$f":"IFERROR(C136/_data!C136-1,\"\")","v":""},{"$f":"IFERROR(D136/_data!D136-1,\"\")","v":""},{"$f":"IFERROR(E136/_data!E136-1,\"\")","v":""},{"$f":"IFERROR(F136/_data!F136-1,\"\")","v":""},{"$f":"IFERROR(G136/_data!G136-1,\"\")","v":""},{"$f":"IFERROR(H136/_data!H136-1,\"\")","v":""},{"$f":"IFERROR(I136/_data!I136-1,\"\")","v":""},{"$f":"IFERROR(J136/_data!J136-1,\"\")","v":""},{"$f":"IFERROR(K136/_data!K136-1,\"\")","v":""}]
["Heat and Cold",0,0,0,0,0,0,0,0,0,0,null,"Heat and Cold",{"$f":"IFERROR(B137/_data!B137-1,\"\")","v":""},{"$f":"IFERROR(C137/_data!C137-1,\"\")","v":""},{"$f":"IFERROR(D137/_data!D137-1,\"\")","v":""},{"$f":"IFERROR(E137/_data!E137-1,\"\")","v":""},{"$f":"IFERROR(F137/_data!F137-1,\"\")","v":""},{"$f":"IFERROR(G137/_data!G137-1,\"\")","v":""},{"$f":"IFERROR(H137/_data!H137-1,\"\")","v":""},{"$f":"IFERROR(I137/_data!I137-1,\"\")","v":""},{"$f":"IFERROR(J137/_data!J137-1,\"\")","v":""},{"$f":"IFERROR(K137/_data!K137-1,\"\")","v":""}]
["natural gas",0,0,0,0,0,0,0,0,0,0,null,"natural gas",{"$f":"IFERROR(B138/_data!B138-1,\"\")","v":""},{"$f":"IFERROR(C138/_data!C138-1,\"\")","v":""},{"$f":"IFERROR(D138/_data!D138-1,\"\")","v":""},{"$f":"IFERROR(E138/_data!E138-1,\"\")","v":""},{"$f":"IFERROR(F138/_data!F138-1,\"\")","v":""},{"$f":"IFERROR(G138/_data!G138-1,\"\")","v":""},{"$f":"IFERROR(H138/_data!H138-1,\"\")","v":""},{"$f":"IFERROR(I138/_data!I138-1,\"\")","v":""},{"$f":"IFERROR(J138/_data!J138-1,\"\")","v":""},{"$f":"IFERROR(K138/_data!K138-1,\"\")","v":""}]
["Liquid gas",0,0,0,0,0,0,0,0,0,0,null,"Liquid gas",{"$f":"IFERROR(B139/_data!B139-1,\"\")","v":""},{"$f":"IFERROR(C139/_data!C139-1,\"\")","v":""},{"$f":"IFERROR(D139/_data!D139-1,\"\")","v":""},{"$f":"IFERROR(E139/_data!E139-1,\"\")","v":""},{"$f":"IFERROR(F139/_data!F139-1,\"\")","v":""},{"$f":"IFERROR(G139/_data!G139-1,\"\")","v":""},{"$f":"IFERROR(H139/_data!H139-1,\"\")","v":""},{"$f":"IFERROR(I139/_data!I139-1,\"\")","v":""},{"$f":"IFERROR(J139/_data!J139-1,\"\")","v":""},{"$f":"IFERROR(K139/_data!K139-1,\"\")","v":""}]
["heating oil / diesel",0.50453909168468214,0.37691367765832701,0.494034131660402,0.4673653870287382,0.7517539811526448,0.56546265457292222,0.92521111903400888,0.44981529605071491,0.72469969798632183,0.42483602056087122,null,"heating oil / diesel",{"$f":"IFERROR(B140/_data!B140-1,\"\")","v":0},{"$f":"IFERROR(C140/_data!C140-1,\"\")","v":0},{"$f":"IFERROR(D140/_data!D140-1,\"\")","v":0},{"$f":"IFERROR(E140/_data!E140-1,\"\")","v":0},{"$f":"IFERROR(F140/_data!F140-1,\"\")","v":0},{"$f":"IFERROR(G140/_data!G140-1,\"\")","v":0},{"$f":"IFERROR(H140/_data!H140-1,\"\")","v":0},{"$f":"IFERROR(I140/_data!I140-1,\"\")","v":0},{"$f":"IFERROR(J140/_data!J140-1,\"\")","v":0},{"$f":"IFERROR(K140/_data!K140-1,\"\")","v":0}]
["gasoline",0.48704122456079318,0.59468526372313724,0.59475128675258382,0.66886484254502621,0.6409639037701399,0.8381809599657869,1.0377031715818097,1.1042745401175944,1.3098670480508579,1.3361657887239677,null,"gasoline",{"$f":"IFERROR(B141/_data!B141-1,\"\")","v":0},{"$f":"IFERROR(C141/_data!C141-1,\"\")","v":0},{"$f":"IFERROR(D141/_data!D141-1,\"\")","v":0},{"$f":"IFERROR(E141/_data!E141-1,\"\")","v":0},{"$f":"IFERROR(F141/_data!F141-1,\"\")","v":0},{"$f":"IFERROR(G141/_data!G141-1,\"\")","v":0},{"$f":"IFERROR(H141/_data!H141-1,\"\")","v":0},{"$f":"IFERROR(I141/_data!I141-1,\"\")","v":0},{"$f":"IFERROR(J141/_data!J141-1,\"\")","v":0},{"$f":"IFERROR(K141/_data!K141-1,\"\")","v":0}]
["Lignite / Coal",0,0,0,0,0,0,0,0,0,0,null,"Lignite / Coal",{"$f":"IFERROR(B142/_data!B142-1,\"\")","v":""},{"$f":"IFERROR(C142/_data!C142-1,\"\")","v":""},{"$f":"IFERROR(D142/_data!D142-1,\"\")","v":""},{"$f":"IFERROR(E142/_data!E142-1,\"\")","v":""},{"$f":"IFERROR(F142/_data!F142-1,\"\")","v":""},{"$f":"IFERROR(G142/_data!G142-1,\"\")","v":""},{"$f":"IFERROR(H142/_data!H142-1,\"\")","v":""},{"$f":"IFERROR(I142/_data!I142-1,\"\")","v":""},{"$f":"IFERROR(J142/_data!J142-1,\"\")","v":""},{"$f":"IFERROR(K142/_data!K142-1,\"\")","v":""}]
["other fossil fuels",7.544445272745845E-2,7.1745789087242884E-2,7.2776047604576885E-2,0.10754734039610346,0.12640703063865646,0.12363185709944768,0.11628980519493275,7.2250125272394619E-2,1.588044214193882E-2,4.1012012800417337E-2,null,"other fossil fuels",{"$f":"IFERROR(B143/_data!B143-1,\"\")","v":0},{"$f":"IFERROR(C143/_data!C143-1,\"\")","v":0},{"$f":"IFERROR(D143/_data!D143-1,\"\")","v":0},{"$f":"IFERROR(E143/_data!E143-1,\"\")","v":0},{"$f":"IFERROR(F143/_data!F143-1,\"\")","v":0},{"$f":"IFERROR(G143/_data!G143-1,\"\")","v":0},{"$f":"IFERROR(H143/_data!H143-1,\"\")","v":0},{"$f":"IFERROR(I143/_data!I143-1,\"\")","v":0},{"$f":"IFERROR(J143/_data!J143-1,\"\")","v":0},{"$f":"IFERROR(K143/_data!K143-1,\"\")","v":0}]
["Plant oil, biofuel",0,0,0,0,0,0,0,0,0,0,null,"Plant oil, biofuel",{"$f":"IFERROR(B144/_data!B144-1,\"\")","v":""},{"$f":"IFERROR(C144/_data!C144-1,\"\")","v":""},{"$f":"IFERROR(D144/_data!D144-1,\"\")","v":""},{"$f":"IFERROR(E144/_data!E144-1,\"\")","v":""},{"$f":"IFERROR(F144/_data!F144-1,\"\")","v":""},{"$f":"IFERROR(G144/_data!G144-1,\"\")","v":""},{"$f":"IFERROR(H144/_data!H144-1,\"\")","v":""},{"$f":"IFERROR(I144/_data!I144-1,\"\")","v":""},{"$f":"IFERROR(J144/_data!J144-1,\"\")","v":""},{"$f":"IFERROR(K144/_data!K144-1,\"\")","v":""}]
["Summe",1.0670247689729337,1.0433447304687071,1.1615614660175626,1.2437775699698677,1.519124915561441,1.5272754716381567,2.0792040958107512,1.6263399614407039,2.0504471881791182,1.8020138220852564,null,"Summe",{"$f":"IFERROR(B145/_data!B145-1,\"\")","v":0},{"$f":"IFERROR(C145/_data!C145-1,\"\")","v":0},{"$f":"IFERROR(D145/_data!D145-1,\"\")","v":0},{"$f":"IFERROR(E145/_data!E145-1,\"\")","v":0},{"$f":"IFERROR(F145/_data!F145-1,\"\")","v":0},{"$f":"IFERROR(G145/_data!G145-1,\"\")","v":0},{"$f":"IFERROR(H145/_data!H145-1,\"\")","v":0},{"$f":"IFERROR(I145/_data!I145-1,\"\")","v":0},{"$f":"IFERROR(J145/_data!J145-1,\"\")","v":0},{"$f":"IFERROR(K145/_data!K145-1,\"\")","v":0}]
[]
["Energy consumption (MWh /Einwohner and  Year) - Rail",null,null,null,null,null,null,null,null,null,null,null,"Test:",{"$f":"A147","v":"Energy consumption (MWh /Einwohner and  Year) - Rail"}]
["Energieträger",2000,2001,2002,2003,2004,2005,2006,2007,2008,2009,null,"Energieträger",2000,2001,2002,2003,2004,2005,2006,2007,2008,2009]
["Electricity",4.7454767840921952E-2,5.8321278670918679E-2,5.0783472732946235E-2,5.2829088789303022E-2,5.2970565220008425E-2,6.0045030462757186E-2,4.079310170970895E-2,5.3184119992179375E-2,5.1762000035501181E-2,4.5048017088119272E-2,null,"Electricity",{"$f":"IFERROR(B149/_data!B149-1,\"\")","v":0},{"$f":"IFERROR(C149/_data!C149-1,\"\")","v":0},{"$f":"IFERROR(D149/_data!D149-1,\"\")","v":0},{"$f":"IFERROR(E149/_data!E149-1,\"\")","v":0},{"$f":"IFERROR(F149/_data!F149-1,\"\")","v":0},{"$f":"IFERROR(G149/_data!G149-1,\"\")","v":0},{"$f":"IFERROR(H149/_data!H149-1,\"\")","v":0},{"$f":"IFERROR(I149/_data!I149-1,\"\")","v":0},{"$f":"IFERROR(J149/_data!J149-1,\"\")","v":0},{"$f":"IFERROR(K149/_data!K149-1,\"\")","v":0}]
["Heat and Cold",0,0,0,0,0,0,0,0,0,0,null,"Heat and Cold",{"$f":"IFERROR(B150/_data!B150-1,\"\")","v":""},{"$f":"IFERROR(C150/_data!C150-1,\"\")","v":""},{"$f":"IFERROR(D150/_data!D150-1,\"\")","v":""},{"$f":"IFERROR(E150/_data!E150-1,\"\")","v":""},{"$f":"IFERROR(F150/_data!F150-1,\"\")","v":""},{"$f":"IFERROR(G150/_data!G150-1,\"\")","v":""},{"$f":"IFERROR(H150/_data!H150-1,\"\")","v":""},{"$f":"IFERROR(I150/_data!I150-1,\"\")","v":""},{"$f":"IFERROR(J150/_data!J150-1,\"\")","v":""},{"$f":"IFERROR(K150/_data!K150-1,\"\")","v":""}]
["natural gas",0,0,0,0,0,0,0,0,0,0,null,"natural gas",{"$f":"IFERROR(B151/_data!B151-1,\"\")","v":""},{"$f":"IFERROR(C151/_data!C151-1,\"\")","v":""},{"$f":"IFERROR(D151/_data!D151-1,\"\")","v":""},{"$f":"IFERROR(E151/_data!E151-1,\"\")","v":""},{"$f":"IFERROR(F151/_data!F151-1,\"\")","v":""},{"$f":"IFERROR(G151/_data!G151-1,\"\")","v":""},{"$f":"IFERROR(H151/_data!H151-1,\"\")","v":""},{"$f":"IFERROR(I151/_data!I151-1,\"\")","v":""},{"$f":"IFERROR(J151/_data!J151-1,\"\")","v":""},{"$f":"IFERROR(K151/_data!K151-1,\"\")","v":""}]
["Liquid gas",0,0,0,0,0,0,0,0,0,0,null,"Liquid gas",{"$f":"IFERROR(B152/_data!B152-1,\"\")","v":""},{"$f":"IFERROR(C152/_data!C152-1,\"\")","v":""},{"$f":"IFERROR(D152/_data!D152-1,\"\")","v":""},{"$f":"IFERROR(E152/_data!E152-1,\"\")","v":""},{"$f":"IFERROR(F152/_data!F152-1,\"\")","v":""},{"$f":"IFERROR(G152/_data!G152-1,\"\")","v":""},{"$f":"IFERROR(H152/_data!H152-1,\"\")","v":""},{"$f":"IFERROR(I152/_data!I152-1,\"\")","v":""},{"$f":"IFERROR(J152/_data!J152-1,\"\")","v":""},{"$f":"IFERROR(K152/_data!K152-1,\"\")","v":""}]
["heating oil / diesel",1.5737726643971207E-2,0,0,0,0,0,0.24318712640426818,0.24614245186885694,0.14365302153147055,1.4467523062070005E-2,null,"heating oil / diesel",{"$f":"IFERROR(B153/_data!B153-1,\"\")","v":0},{"$f":"IFERROR(C153/_data!C153-1,\"\")","v":""},{"$f":"IFERROR(D153/_data!D153-1,\"\")","v":""},{"$f":"IFERROR(E153/_data!E153-1,\"\")","v":""},{"$f":"IFERROR(F153/_data!F153-1,\"\")","v":""},{"$f":"IFERROR(G153/_data!G153-1,\"\")","v":""},{"$f":"IFERROR(H153/_data!H153-1,\"\")","v":0},{"$f":"IFERROR(I153/_data!I153-1,\"\")","v":0},{"$f":"IFERROR(J153/_data!J153-1,\"\")","v":0},{"$f":"IFERROR(K153/_data!K153-1,\"\")","v":0}]
["gasoline",0,0,0,0,0,0,0,0,0,0,null,"gasoline",{"$f":"IFERROR(B154/_data!B154-1,\"\")","v":""},{"$f":"IFERROR(C154/_data!C154-1,\"\")","v":""},{"$f":"IFERROR(D154/_data!D154-1,\"\")","v":""},{"$f":"IFERROR(E154/_data!E154-1,\"\")","v":""},{"$f":"IFERROR(F154/_data!F154-1,\"\")","v":""},{"$f":"IFERROR(G154/_data!G154-1,\"\")","v":""},{"$f":"IFERROR(H154/_data!H154-1,\"\")","v":""},{"$f":"IFERROR(I154/_data!I154-1,\"\")","v":""},{"$f":"IFERROR(J154/_data!J154-1,\"\")","v":""},{"$f":"IFERROR(K154/_data!K154-1,\"\")","v":""}]
["Lignite / Coal",0,0,0,0,0,0,0,0,0,0,null,"Lignite / Coal",{"$f":"IFERROR(B155/_data!B155-1,\"\")","v":""},{"$f":"IFERROR(C155/_data!C155-1,\"\")","v":""},{"$f":"IFERROR(D155/_data!D155-1,\"\")","v":""},{"$f":"IFERROR(E155/_data!E155-1,\"\")","v":""},{"$f":"IFERROR(F155/_data!F155-1,\"\")","v":""},{"$f":"IFERROR(G155/_data!G155-1,\"\")","v":""},{"$f":"IFERROR(H155/_data!H155-1,\"\")","v":""},{"$f":"IFERROR(I155/_data!I155-1,\"\")","v":""},{"$f":"IFERROR(J155/_data!J155-1,\"\")","v":""},{"$f":"IFERROR(K155/_data!K155-1,\"\")","v":""}]
["other fossil fuels",0,0,0,0,0,0,0,0,0,0,null,"other fossil fuels",{"$f":"IFERROR(B156/_data!B156-1,\"\")","v":""},{"$f":"IFERROR(C156/_data!C156-1,\"\")","v":""},{"$f":"IFERROR(D156/_data!D156-1,\"\")","v":""},{"$f":"IFERROR(E156/_data!E156-1,\"\")","v":""},{"$f":"IFERROR(F156/_data!F156-1,\"\")","v":""},{"$f":"IFERROR(G156/_data!G156-1,\"\")","v":""},{"$f":"IFERROR(H156/_data!H156-1,\"\")","v":""},{"$f":"IFERROR(I156/_data!I156-1,\"\")","v":""},{"$f":"IFERROR(J156/_data!J156-1,\"\")","v":""},{"$f":"IFERROR(K156/_data!K156-1,\"\")","v":""}]
["Plant oil, biofuel",0,0,0,0,0,0,0,0,0,0,null,"Plant oil, biofuel",{"$f":"IFERROR(B157/_data!B157-1,\"\")","v":""},{"$f":"IFERROR(C157/_data!C157-1,\"\")","v":""},{"$f":"IFERROR(D157/_data!D157-1,\"\")","v":""},{"$f":"IFERROR(E157/_data!E157-1,\"\")","v":""},{"$f":"IFERROR(F157/_data!F157-1,\"\")","v":""},{"$f":"IFERROR(G157/_data!G157-1,\"\")","v":""},{"$f":"IFERROR(H157/_data!H157-1,\"\")","v":""},{"$f":"IFERROR(I157/_data!I157-1,\"\")","v":""},{"$f":"IFERROR(J157/_data!J157-1,\"\")","v":""},{"$f":"IFERROR(K157/_data!K157-1,\"\")","v":""}]
["Summe",6.3192494484893155E-2,5.8321278670918679E-2,5.0783472732946235E-2,5.2829088789303022E-2,5.2970565220008425E-2,6.0045030462757186E-2,0.28398022811397711,0.29932657186103634,0.19541502156697174,5.9515540150189276E-2,null,"Summe",{"$f":"IFERROR(B158/_data!B158-1,\"\")","v":0},{"$f":"IFERROR(C158/_data!C158-1,\"\")","v":0},{"$f":"IFERROR(D158/_data!D158-1,\"\")","v":0},{"$f":"IFERROR(E158/_data!E158-1,\"\")","v":0},{"$f":"IFERROR(F158/_data!F158-1,\"\")","v":0},{"$f":"IFERROR(G158/_data!G158-1,\"\")","v":0},{"$f":"IFERROR(H158/_data!H158-1,\"\")","v":0},{"$f":"IFERROR(I158/_data!I158-1,\"\")","v":0},{"$f":"IFERROR(J158/_data!J158-1,\"\")","v":0},{"$f":"IFERROR(K158/_data!K158-1,\"\")","v":0}]
[]
["Quelle:","P:\\KB-Projekte\\COMO EAST\\WP 2 Training\\Tool\\Tool-Daten\\Energiedaten\\Endberechnung"]
["Belarus",null,null,null,null,null,null,null,null,null,null,null,"Belarus",null,null,null,null,null,null,null,null,null,null,null,"Belarus",null,null,null,null,null,null,null,null,null,null,null,"Belarus"]
["Energy consumption (MWh /Einwohner and  Year) - Residential building (Households)",null,null,null,null,null,null,null,null,null,null,null,"Test:",{"$f":"A162","v":"Energy consumption (MWh /Einwohner and  Year) - Residential building (Households)"},null,null,null,null,null,null,null,null,null,null,"CO2 emission Factor (t /Mwh)"]
["Energieträger",2000,2001,2002,2003,2004,2005,2006,2007,2008,2009,null,"Energieträger",2000,2001,2002,2003,2004,2005,2006,2007,2008,2009,null,"Energieträger",2000,2001,2002,2003,2004,2005,2006,2007,2008,2009,null,null,"Year:",{"$f":"'DATA-OUTPUT Co2 absolute'!$B$8","v":0},null,"CO2","Test"]
["Electricity",0.55622188905547232,0.55927439315635807,0.58217184438846914,0.61353809892391342,0.61600728186372655,0.6095681467124483,0.58957673316779413,0.61934538125014316,0.65871693397208919,0.68014211750406128,null,"Electricity",{"$f":"IFERROR(B164/_data!B164-1,\"\")","v":0},{"$f":"IFERROR(C164/_data!C164-1,\"\")","v":0},{"$f":"IFERROR(D164/_data!D164-1,\"\")","v":0},{"$f":"IFERROR(E164/_data!E164-1,\"\")","v":0},{"$f":"IFERROR(F164/_data!F164-1,\"\")","v":0},{"$f":"IFERROR(G164/_data!G164-1,\"\")","v":0},{"$f":"IFERROR(H164/_data!H164-1,\"\")","v":0},{"$f":"IFERROR(I164/_data!I164-1,\"\")","v":0},{"$f":"IFERROR(J164/_data!J164-1,\"\")","v":0},{"$f":"IFERROR(K164/_data!K164-1,\"\")","v":0},null,"Electricity",{"$f":"_data!Z164","v":0.78},{"$f":"_data!AA164","v":0.752},{"$f":"_data!AB164","v":0.80500000000000005},{"$f":"_data!AC164","v":0.80100000000000005},{"$f":"_data!AD164","v":0.90200000000000002},{"$f":"_data!AE164","v":0.90100000000000002},{"$f":"_data!AF164","v":0.89800000000000002},{"$f":"_data!AG164","v":0.89900000000000002},{"$f":"_data!AH164","v":0.96099999999999997},{"$f":"_data!AI164","v":0.96099999999999997},null,null,null,{"$f":"'DATA-OUTPUT EC per capita'!$B$37","v":0},{"$f":"IF(AM163=Z163,Z164,IF(AM163=AA163,AA164,IF(AM163=AB163,AB164,IF(AM163=AC163,AC164,IF(AM163=AD163,AD164,IF(AM163=AE163,AE164,IF(AM163=AF163,AF164,IF(AM163=AG163,AG164,IF(AM163=AH163,AH164,IF(AM163=AI163,AI164,\"Fehler\"))))))))))","v":"Fehler"},{"$f":"AN164*AM164","v":{"$error":"#VALUE!"}},{"$f":"AO164/'DATA-OUTPUT Co2 per capita'!$B$37-1","v":{"$error":"#VALUE!"}}]
["Heat and Cold",2.7381864623243932,3.1213662766400607,2.810635320458998,3.1438728584091016,2.9914537309288107,2.903802837996075,2.9271341724462712,2.673503744932316,2.5408190423291441,2.6999696130336708,null,"Heat and Cold",{"$f":"IFERROR(B165/_data!B165-1,\"\")","v":0},{"$f":"IFERROR(C165/_data!C165-1,\"\")","v":0},{"$f":"IFERROR(D165/_data!D165-1,\"\")","v":0},{"$f":"IFERROR(E165/_data!E165-1,\"\")","v":0},{"$f":"IFERROR(F165/_data!F165-1,\"\")","v":0},{"$f":"IFERROR(G165/_data!G165-1,\"\")","v":0},{"$f":"IFERROR(H165/_data!H165-1,\"\")","v":0},{"$f":"IFERROR(I165/_data!I165-1,\"\")","v":0},{"$f":"IFERROR(J165/_data!J165-1,\"\")","v":0},{"$f":"IFERROR(K165/_data!K165-1,\"\")","v":0},null,"Heat and Cold",{"$f":"_data!Z165","v":0.18753537859007835},{"$f":"_data!AA165","v":0.18753537859007835},{"$f":"_data!AB165","v":0.18753537859007835},{"$f":"_data!AC165","v":0.18753537859007835},{"$f":"_data!AD165","v":0.18753537859007835},{"$f":"_data!AE165","v":0.18753537859007835},{"$f":"_data!AF165","v":0.18753537859007835},{"$f":"_data!AG165","v":0.18753537859007835},{"$f":"_data!AH165","v":0.17525979112271542},{"$f":"_data!AI165","v":0.17525979112271542},null,null,null,{"$f":"'DATA-OUTPUT EC per capita'!$C$37","v":0},{"$f":"IF(AM163=Z163,Z165,IF(AM163=AA163,AA165,IF(AM163=AB163,AB165,IF(AM163=AC163,AC165,IF(AM163=AD163,AD165,IF(AM163=AE163,AE165,IF(AM163=AF163,AF165,IF(AM163=AG163, AG165,IF(AM163=AH163,AH165,IF(AM163=AI163,AI165,\"Fehler\"))))))))))","v":"Fehler"},{"$f":"AM165*AN165","v":{"$error":"#VALUE!"}},{"$f":"AO165/'DATA-OUTPUT Co2 per capita'!$C$37-1","v":{"$error":"#VALUE!"}}]
["natural gas",1.2964073518796155,1.4311172538239838,1.4776378393506855,1.4657227975622364,1.4910616430148935,1.5397477701802831,1.5807289436881011,1.5978664192949907,1.6122798491055106,1.7603987704965931,null,"natural gas",{"$f":"IFERROR(B166/_data!B166-1,\"\")","v":0},{"$f":"IFERROR(C166/_data!C166-1,\"\")","v":0},{"$f":"IFERROR(D166/_data!D166-1,\"\")","v":0},{"$f":"IFERROR(E166/_data!E166-1,\"\")","v":0},{"$f":"IFERROR(F166/_data!F166-1,\"\")","v":0},{"$f":"IFERROR(G166/_data!G166-1,\"\")","v":0},{"$f":"IFERROR(H166/_data!H166-1,\"\")","v":0},{"$f":"IFERROR(I166/_data!I166-1,\"\")","v":0},{"$f":"IFERROR(J166/_data!J166-1,\"\")","v":0},{"$f":"IFERROR(K166/_data!K166-1,\"\")","v":0},null,"natural gas",{"$f":"_data!Z166","v":0.20200000000000001},{"$f":"_data!AA166","v":0.20200000000000001},{"$f":"_data!AB166","v":0.20200000000000001},{"$f":"_data!AC166","v":0.20200000000000001},{"$f":"_data!AD166","v":0.20200000000000001},{"$f":"_data!AE166","v":0.20200000000000001},{"$f":"_data!AF166","v":0.20200000000000001},{"$f":"_data!AG166","v":0.20200000000000001},{"$f":"_data!AH166","v":0.20200000000000001},{"$f":"_data!AI166","v":0.20200000000000001},null,null,null,{"$f":"'DATA-OUTPUT EC per capita'!$D$37","v":0},{"$f":"IF(AM163=Z163,Z166,IF(AM163=AA163,AA166,IF(AM163=AB163,AB166,IF(AM163=AC163,AC166,IF(AM163=AD163,AD166,IF(AM163=AE163,AE166,IF(AM163=AF163,AF166,IF(AM163=AG163, AG166,IF(AM163=AH163,AH166,IF(AM163=AI163,AI166,\"Fehler\"))))))))))","v":"Fehler"},{"$f":"AM166*AN166","v":{"$error":"#VALUE!"}},{"$f":"AO166/'DATA-OUTPUT Co2 per capita'!$D$37-1","v":{"$error":"#VALUE!"}}]
["Liquid gas",0,0,0,0,0,0,0,0,0,0,null,"Liquid gas",{"$f":"IFERROR(B167/_data!B167-1,\"\")","v":""},{"$f":"IFERROR(C167/_data!C167-1,\"\")","v":""},{"$f":"IFERROR(D167/_data!D167-1,\"\")","v":""},{"$f":"IFERROR(E167/_data!E167-1,\"\")","v":""},{"$f":"IFERROR(F167/_data!F167-1,\"\")","v":""},{"$f":"IFERROR(G167/_data!G167-1,\"\")","v":""},{"$f":"IFERROR(H167/_data!H167-1,\"\")","v":""},{"$f":"IFERROR(I167/_data!I167-1,\"\")","v":""},{"$f":"IFERROR(J167/_data!J167-1,\"\")","v":""},{"$f":"IFERROR(K167/_data!K167-1,\"\")","v":""},null,"Liquid gas",{"$f":"_data!Z167","v":0.23100000000000001},{"$f":"_data!AA167","v":0.23100000000000001},{"$f":"_data!AB167","v":0.23100000000000001},{"$f":"_data!AC167","v":0.23100000000000001},{"$f":"_data!AD167","v":0.23100000000000001},{"$f":"_data!AE167","v":0.23100000000000001},{"$f":"_data!AF167","v":0.23100000000000001},{"$f":"_data!AG167","v":0.23100000000000001},{"$f":"_data!AH167","v":0.23100000000000001},{"$f":"_data!AI167","v":0.23100000000000001},null,null,null,{"$f":"'DATA-OUTPUT EC per capita'!$E$37","v":0},{"$f":"IF(AM163=Z163,Z167,IF(AM163=AA163,AA167,IF(AM163=AB163,AB167,IF(AM163=AC163,AC167,IF(AM163=AD163,AD167,IF(AM163=AE163,AE167,IF(AM163=AF163,AF167,IF(AM163=AG163, AG167,IF(AM163=AH163,AH167,IF(AM163=AI163,AI167,\"Fehler\"))))))))))","v":"Fehler"},{"$error":"#VALUE!"},{"$f":"AO167/'DATA-OUTPUT Co2 per capita'!$E$37-1","v":{"$error":"#VALUE!"}}]
["heating oil / diesel",0.14276195235715475,0.17641354276507223,0.15222502099076404,0.26661014092814561,0.24030136726303819,0.36709914634430912,0.54216970631047179,0.48546691403834263,0.64665347497049219,0.39108610030036345,null,"heating oil / diesel",{"$f":"IFERROR(B168/_data!B168-1,\"\")","v":0},{"$f":"IFERROR(C168/_data!C168-1,\"\")","v":0},{"$f":"IFERROR(D168/_data!D168-1,\"\")","v":0},{"$f":"IFERROR(E168/_data!E168-1,\"\")","v":0},{"$f":"IFERROR(F168/_data!F168-1,\"\")","v":0},{"$f":"IFERROR(G168/_data!G168-1,\"\")","v":0},{"$f":"IFERROR(H168/_data!H168-1,\"\")","v":0},{"$f":"IFERROR(I168/_data!I168-1,\"\")","v":0},{"$f":"IFERROR(J168/_data!J168-1,\"\")","v":0},{"$f":"IFERROR(K168/_data!K168-1,\"\")","v":0},null,"heating oil / diesel",{"$f":"_data!Z168","v":0.26700000000000002},{"$f":"_data!AA168","v":0.26700000000000002},{"$f":"_data!AB168","v":0.26700000000000002},{"$f":"_data!AC168","v":0.26700000000000002},{"$f":"_data!AD168","v":0.26700000000000002},{"$f":"_data!AE168","v":0.26700000000000002},{"$f":"_data!AF168","v":0.26700000000000002},{"$f":"_data!AG168","v":0.26700000000000002},{"$f":"_data!AH168","v":0.26700000000000002},{"$f":"_data!AI168","v":0.26700000000000002},null,null,null,{"$f":"'DATA-OUTPUT EC per capita'!$F$37","v":0},{"$f":"IF(AM163=Z163,Z168,IF(AM163=AA163,AA168,IF(AM163=AB163,AB168,IF(AM163=AC163,AC168,IF(AM163=AD163,AD168,IF(AM163=AE163,AE168,IF(AM163=AF163,AF168,IF(AM163=AG163, AG168,IF(AM163=AH163,AH168,IF(AM163=AI163,AI168,\"Fehler\"))))))))))","v":"Fehler"},{"$error":"#VALUE!"},{"$f":"AO168/'DATA-OUTPUT Co2 per capita'!$F$37-1","v":{"$error":"#VALUE!"}}]
["gasoline",0,0,2.4069409459837672E-3,4.8668939939399795E-3,0.49714306866525476,0.58331227464633306,0.7050831977623655,0.7009723081151652,0.75534032261797301,0.78342858478547972,null,"gasoline",{"$f":"IFERROR(B169/_data!B169-1,\"\")","v":""},{"$f":"IFERROR(C169/_data!C169-1,\"\")","v":""},{"$f":"IFERROR(D169/_data!D169-1,\"\")","v":0},{"$f":"IFERROR(E169/_data!E169-1,\"\")","v":0},{"$f":"IFERROR(F169/_data!F169-1,\"\")","v":0},{"$f":"IFERROR(G169/_data!G169-1,\"\")","v":0},{"$f":"IFERROR(H169/_data!H169-1,\"\")","v":0},{"$f":"IFERROR(I169/_data!I169-1,\"\")","v":0},{"$f":"IFERROR(J169/_data!J169-1,\"\")","v":0},{"$f":"IFERROR(K169/_data!K169-1,\"\")","v":0},null,"gasoline",{"$f":"_data!Z169","v":0.249},{"$f":"_data!AA169","v":0.249},{"$f":"_data!AB169","v":0.249},{"$f":"_data!AC169","v":0.249},{"$f":"_data!AD169","v":0.249},{"$f":"_data!AE169","v":0.249},{"$f":"_data!AF169","v":0.249},{"$f":"_data!AG169","v":0.249},{"$f":"_data!AH169","v":0.249},{"$f":"_data!AI169","v":0.249},null,null,null,{"$f":"'DATA-OUTPUT EC per capita'!$G$37","v":0},{"$f":"IF(AM163=Z163,Z169,IF(AM163=AA163,AA169,IF(AM163=AB163,AB169,IF(AM163=AC163,AC169,IF(AM163=AD163,AD169,IF(AM163=AE163,AE169,IF(AM163=AF163,AF169,IF(AM163=AG163, AG169,IF(AM163=AH163,AH169,IF(AM163=AI163,AI169,\"Fehler\"))))))))))","v":"Fehler"},{"$error":"#VALUE!"},{"$f":"AO169/'DATA-OUTPUT Co2 per capita'!$G$37-1","v":{"$error":"#VALUE!"}}]
["Lignite / Coal",0.57218612915764333,0.42442891826960044,0.39476630282675618,0.36783028306800714,0.3263959270131207,0.37605001182139386,0.39292747666752287,0.35734327400994065,0.32270476058228603,0.28777041478209037,null,"Lignite / Coal",{"$f":"IFERROR(B170/_data!B170-1,\"\")","v":0},{"$f":"IFERROR(C170/_data!C170-1,\"\")","v":0},{"$f":"IFERROR(D170/_data!D170-1,\"\")","v":0},{"$f":"IFERROR(E170/_data!E170-1,\"\")","v":0},{"$f":"IFERROR(F170/_data!F170-1,\"\")","v":0},{"$f":"IFERROR(G170/_data!G170-1,\"\")","v":0},{"$f":"IFERROR(H170/_data!H170-1,\"\")","v":0},{"$f":"IFERROR(I170/_data!I170-1,\"\")","v":0},{"$f":"IFERROR(J170/_data!J170-1,\"\")","v":0},{"$f":"IFERROR(K170/_data!K170-1,\"\")","v":0},null,"Lignite / Coal",{"$f":"_data!Z170","v":0.36399999999999999},{"$f":"_data!AA170","v":0.36399999999999999},{"$f":"_data!AB170","v":0.36399999999999999},{"$f":"_data!AC170","v":0.36399999999999999},{"$f":"_data!AD170","v":0.36399999999999999},{"$f":"_data!AE170","v":0.36399999999999999},{"$f":"_data!AF170","v":0.36399999999999999},{"$f":"_data!AG170","v":0.36399999999999999},{"$f":"_data!AH170","v":0.36399999999999999},{"$f":"_data!AI170","v":0.36399999999999999},null,null,null,{"$f":"'DATA-OUTPUT EC per capita'!$H$37","v":0},{"$f":"IF(AM163=Z163,Z170,IF(AM163=AA163,AA170,IF(AM163=AB163,AB170,IF(AM163=AC163,AC170,IF(AM163=AD163,AD170,IF(AM163=AE163,AE170,IF(AM163=AF163,AF170,IF(AM163=AG163, AG170,IF(AM163=AH163,AH170,IF(AM163=AI163,AI170,\"Fehler\"))))))))))","v":"Fehler"},{"$error":"#VALUE!"},{"$f":"AO170/'DATA-OUTPUT Co2 per capita'!$H$37-1","v":{"$error":"#VALUE!"}}]
["other fossil fuels",0.30093286689988341,0.27534665874087316,0.24346487545479986,0.22677475424942298,0.22534438134914858,0.23942854765052624,0.24568313497160144,0.26469341945532421,0.26218496146636117,0.23818706683963864,null,"other fossil fuels",{"$f":"IFERROR(B171/_data!B171-1,\"\")","v":0},{"$f":"IFERROR(C171/_data!C171-1,\"\")","v":0},{"$f":"IFERROR(D171/_data!D171-1,\"\")","v":0},{"$f":"IFERROR(E171/_data!E171-1,\"\")","v":0},{"$f":"IFERROR(F171/_data!F171-1,\"\")","v":0},{"$f":"IFERROR(G171/_data!G171-1,\"\")","v":0},{"$f":"IFERROR(H171/_data!H171-1,\"\")","v":0},{"$f":"IFERROR(I171/_data!I171-1,\"\")","v":0},{"$f":"IFERROR(J171/_data!J171-1,\"\")","v":0},{"$f":"IFERROR(K171/_data!K171-1,\"\")","v":0},null,"other fossil fuels",{"$f":"_data!Z171","v":0.38200000000000001},{"$f":"_data!AA171","v":0.38200000000000001},{"$f":"_data!AB171","v":0.38200000000000001},{"$f":"_data!AC171","v":0.38200000000000001},{"$f":"_data!AD171","v":0.38200000000000001},{"$f":"_data!AE171","v":0.38200000000000001},{"$f":"_data!AF171","v":0.38200000000000001},{"$f":"_data!AG171","v":0.38200000000000001},{"$f":"_data!AH171","v":0.38200000000000001},{"$f":"_data!AI171","v":0.38200000000000001},null,null,null,{"$f":"'DATA-OUTPUT EC per capita'!$I$37","v":0},{"$f":"IF(AM163=Z163,Z171,IF(AM163=AA163,AA171,IF(AM163=AB163,AB171,IF(AM163=AC163,AC171,IF(AM163=AD163,AD171,IF(AM163=AE163,AE171,IF(AM163=AF163,AF171,IF(AM163=AG163, AG171,IF(AM163=AH163,AH171,IF(AM163=AI163,AI171,\"Fehler\"))))))))))","v":"Fehler"},{"$error":"#VALUE!"},{"$f":"AO171/'DATA-OUTPUT Co2 per capita'!$I$37-1","v":{"$error":"#VALUE!"}}]
["Plant oil, biofuel",0.58015436726081404,0.64096177587701386,0.65866218863699966,0.60189131214072766,0.60732714070008942,0.66730833290113434,0.73936124668207892,0.76278659611992949,0.79760582286097803,0.74541565863749515,null,"Plant oil, biofuel",{"$f":"IFERROR(B172/_data!B172-1,\"\")","v":0},{"$f":"IFERROR(C172/_data!C172-1,\"\")","v":0},{"$f":"IFERROR(D172/_data!D172-1,\"\")","v":0},{"$f":"IFERROR(E172/_data!E172-1,\"\")","v":0},{"$f":"IFERROR(F172/_data!F172-1,\"\")","v":0},{"$f":"IFERROR(G172/_data!G172-1,\"\")","v":0},{"$f":"IFERROR(H172/_data!H172-1,\"\")","v":0},{"$f":"IFERROR(I172/_data!I172-1,\"\")","v":0},{"$f":"IFERROR(J172/_data!J172-1,\"\")","v":0},{"$f":"IFERROR(K172/_data!K172-1,\"\")","v":0},null,"Plant oil, biofuel",{"$f":"_data!Z172","v":0},{"$f":"_data!AA172","v":0},{"$f":"_data!AB172","v":0},{"$f":"_data!AC172","v":0},{"$f":"_data!AD172","v":0},{"$f":"_data!AE172","v":0},{"$f":"_data!AF172","v":0},{"$f":"_data!AG172","v":0},{"$f":"_data!AH172","v":0},{"$f":"_data!AI172","v":0},null,null,null,{"$f":"'DATA-OUTPUT EC per capita'!$J$37","v":0},{"$f":"IF(AM163=Z163,Z172,IF(AM163=AA163,AA172,IF(AM163=AB163,AB172,IF(AM163=AC163,AC172,IF(AM163=AD163,AD172,IF(AM163=AE163,AE172,IF(AM163=AF163,AF172,IF(AM163=AG163, AG172,IF(AM163=AH163,AH172,IF(AM163=AI163,AI172,\"Fehler\"))))))))))","v":"Fehler"},{"$error":"#VALUE!"},{"$f":"AO172/'DATA-OUTPUT Co2 per capita'!$J$37-1","v":{"$error":"#VALUE!"}}]
["Summe",6.186851018934977,6.6289088192729624,6.3219703330534571,6.6911071392754939,6.9950345407980832,7.2863170682525018,7.7226646116962065,7.461978057216152,7.5963051679048341,7.5863983263793919,null,"Summe",{"$f":"IFERROR(B173/_data!B173-1,\"\")","v":0},{"$f":"IFERROR(C173/_data!C173-1,\"\")","v":0},{"$f":"IFERROR(D173/_data!D173-1,\"\")","v":0},{"$f":"IFERROR(E173/_data!E173-1,\"\")","v":0},{"$f":"IFERROR(F173/_data!F173-1,\"\")","v":0},{"$f":"IFERROR(G173/_data!G173-1,\"\")","v":0},{"$f":"IFERROR(H173/_data!H173-1,\"\")","v":0},{"$f":"IFERROR(I173/_data!I173-1,\"\")","v":0},{"$f":"IFERROR(J173/_data!J173-1,\"\")","v":0},{"$f":"IFERROR(K173/_data!K173-1,\"\")","v":0},null,null,null,null,null,null,null,null,null,null,null,null,null,null,"Total",null,null,{"$f":"SUM(AO164:AO172)","v":{"$error":"#VALUE!"}},{"$f":"AO173/'DATA-OUTPUT Co2 per capita'!$K$37-1","v":{"$error":"#VALUE!"}}]
[]
["Energy consumption (MWh /Einwohner and  Year) - Primary sector (Agriculture)",null,null,null,null,null,null,null,null,null,null,null,"Test:",{"$f":"A175","v":"Energy consumption (MWh /Einwohner and  Year) - Primary sector (Agriculture)"}]
["Energieträger",2000,2001,2002,2003,2004,2005,2006,2007,2008,2009,null,"Energieträger",2000,2001,2002,2003,2004,2005,2006,2007,2008,2009]
["Electricity",0.1842967405186296,0.1730145452575961,0.15888609012034702,0.14603495215342446,0.14015459201351688,0.14454937359342832,0.15843251419927504,0.14699145651526602,0.14924552755213033,0.15441838177717004,null,"Electricity",{"$f":"IFERROR(B177/_data!B177-1,\"\")","v":0},{"$f":"IFERROR(C177/_data!C177-1,\"\")","v":0},{"$f":"IFERROR(D177/_data!D177-1,\"\")","v":0},{"$f":"IFERROR(E177/_data!E177-1,\"\")","v":0},{"$f":"IFERROR(F177/_data!F177-1,\"\")","v":0},{"$f":"IFERROR(G177/_data!G177-1,\"\")","v":0},{"$f":"IFERROR(H177/_data!H177-1,\"\")","v":0},{"$f":"IFERROR(I177/_data!I177-1,\"\")","v":0},{"$f":"IFERROR(J177/_data!J177-1,\"\")","v":0},{"$f":"IFERROR(K177/_data!K177-1,\"\")","v":0}]
["Heat and Cold",0,0,0,0,0.1911610241281799,0.19538460641407768,0.19722008162799323,0.18813417622941433,0.19466430604735124,0.20292065495599731,null,"Heat and Cold",{"$f":"IFERROR(B178/_data!B178-1,\"\")","v":""},{"$f":"IFERROR(C178/_data!C178-1,\"\")","v":""},{"$f":"IFERROR(D178/_data!D178-1,\"\")","v":""},{"$f":"IFERROR(E178/_data!E178-1,\"\")","v":""},{"$f":"IFERROR(F178/_data!F178-1,\"\")","v":0},{"$f":"IFERROR(G178/_data!G178-1,\"\")","v":0},{"$f":"IFERROR(H178/_data!H178-1,\"\")","v":0},{"$f":"IFERROR(I178/_data!I178-1,\"\")","v":0},{"$f":"IFERROR(J178/_data!J178-1,\"\")","v":0},{"$f":"IFERROR(K178/_data!K178-1,\"\")","v":0}]
["natural gas",2.6819923371647507E-2,2.7972077848410059E-2,2.5944584382871536E-2,2.4981513679876891E-2,3.1666964505777467E-2,3.2933501866479933E-2,3.8587778634015468E-2,5.3081838796124513E-2,7.5967969635955479E-2,9.8202494068697924E-2,null,"natural gas",{"$f":"IFERROR(B179/_data!B179-1,\"\")","v":0},{"$f":"IFERROR(C179/_data!C179-1,\"\")","v":0},{"$f":"IFERROR(D179/_data!D179-1,\"\")","v":0},{"$f":"IFERROR(E179/_data!E179-1,\"\")","v":0},{"$f":"IFERROR(F179/_data!F179-1,\"\")","v":0},{"$f":"IFERROR(G179/_data!G179-1,\"\")","v":0},{"$f":"IFERROR(H179/_data!H179-1,\"\")","v":0},{"$f":"IFERROR(I179/_data!I179-1,\"\")","v":0},{"$f":"IFERROR(J179/_data!J179-1,\"\")","v":0},{"$f":"IFERROR(K179/_data!K179-1,\"\")","v":0}]
["Liquid gas",0,0,0,0,0,0,0,0,0,0,null,"Liquid gas",{"$f":"IFERROR(B180/_data!B180-1,\"\")","v":""},{"$f":"IFERROR(C180/_data!C180-1,\"\")","v":""},{"$f":"IFERROR(D180/_data!D180-1,\"\")","v":""},{"$f":"IFERROR(E180/_data!E180-1,\"\")","v":""},{"$f":"IFERROR(F180/_data!F180-1,\"\")","v":""},{"$f":"IFERROR(G180/_data!G180-1,\"\")","v":""},{"$f":"IFERROR(H180/_data!H180-1,\"\")","v":""},{"$f":"IFERROR(I180/_data!I180-1,\"\")","v":""},{"$f":"IFERROR(J180/_data!J180-1,\"\")","v":""},{"$f":"IFERROR(K180/_data!K180-1,\"\")","v":""}]
["heating oil / diesel",0.69723471597534559,0.64051600571209888,0.6291071928351526,0.65508955805136626,0.69687113765526554,0.7595164550380864,0.82233067899648937,0.86508509127556732,0.98029345738156404,0.83605062936082186,null,"heating oil / diesel",{"$f":"IFERROR(B181/_data!B181-1,\"\")","v":0},{"$f":"IFERROR(C181/_data!C181-1,\"\")","v":0},{"$f":"IFERROR(D181/_data!D181-1,\"\")","v":0},{"$f":"IFERROR(E181/_data!E181-1,\"\")","v":0},{"$f":"IFERROR(F181/_data!F181-1,\"\")","v":0},{"$f":"IFERROR(G181/_data!G181-1,\"\")","v":0},{"$f":"IFERROR(H181/_data!H181-1,\"\")","v":0},{"$f":"IFERROR(I181/_data!I181-1,\"\")","v":0},{"$f":"IFERROR(J181/_data!J181-1,\"\")","v":0},{"$f":"IFERROR(K181/_data!K181-1,\"\")","v":0}]
["gasoline",8.4207896051974013E-2,5.2656600730572725E-2,5.535964175762665E-2,4.3295663911408259E-2,4.2269742800122606E-2,4.1230812086507668E-2,4.266917829722864E-2,4.4063079777365489E-2,4.3249091624430094E-2,8.9699987143975774E-3,null,"gasoline",{"$f":"IFERROR(B182/_data!B182-1,\"\")","v":0},{"$f":"IFERROR(C182/_data!C182-1,\"\")","v":0},{"$f":"IFERROR(D182/_data!D182-1,\"\")","v":0},{"$f":"IFERROR(E182/_data!E182-1,\"\")","v":0},{"$f":"IFERROR(F182/_data!F182-1,\"\")","v":0},{"$f":"IFERROR(G182/_data!G182-1,\"\")","v":0},{"$f":"IFERROR(H182/_data!H182-1,\"\")","v":0},{"$f":"IFERROR(I182/_data!I182-1,\"\")","v":0},{"$f":"IFERROR(J182/_data!J182-1,\"\")","v":0},{"$f":"IFERROR(K182/_data!K182-1,\"\")","v":0}]
["Lignite / Coal",1.8879449164306734E-3,8.3581905921544008E-4,2.1830394626364399E-3,4.4167766303385946E-3,4.1280150159317061E-3,3.7792543125468774E-3,4.5095185090047668E-3,4.2946471517900098E-3,4.51294869124488E-3,5.8436473709430475E-3,null,"Lignite / Coal",{"$f":"IFERROR(B183/_data!B183-1,\"\")","v":0},{"$f":"IFERROR(C183/_data!C183-1,\"\")","v":0},{"$f":"IFERROR(D183/_data!D183-1,\"\")","v":0},{"$f":"IFERROR(E183/_data!E183-1,\"\")","v":0},{"$f":"IFERROR(F183/_data!F183-1,\"\")","v":0},{"$f":"IFERROR(G183/_data!G183-1,\"\")","v":0},{"$f":"IFERROR(H183/_data!H183-1,\"\")","v":0},{"$f":"IFERROR(I183/_data!I183-1,\"\")","v":0},{"$f":"IFERROR(J183/_data!J183-1,\"\")","v":0},{"$f":"IFERROR(K183/_data!K183-1,\"\")","v":0}]
["other fossil fuels",1.2771392081736908E-3,3.816907037083843E-3,1.2874335292471313E-3,0,0,0,0,0,0,0,null,"other fossil fuels",{"$f":"IFERROR(B184/_data!B184-1,\"\")","v":0},{"$f":"IFERROR(C184/_data!C184-1,\"\")","v":0},{"$f":"IFERROR(D184/_data!D184-1,\"\")","v":0},{"$f":"IFERROR(E184/_data!E184-1,\"\")","v":""},{"$f":"IFERROR(F184/_data!F184-1,\"\")","v":""},{"$f":"IFERROR(G184/_data!G184-1,\"\")","v":""},{"$f":"IFERROR(H184/_data!H184-1,\"\")","v":""},{"$f":"IFERROR(I184/_data!I184-1,\"\")","v":""},{"$f":"IFERROR(J184/_data!J184-1,\"\")","v":""},{"$f":"IFERROR(K184/_data!K184-1,\"\")","v":""}]
["Plant oil, biofuel",1.3826420123271699E-2,1.6326332290008263E-2,1.8052057094878251E-2,2.8863775940938842E-2,2.9122297715134637E-2,3.1654806798324976E-2,3.4563461483574504E-2,3.4786641929499075E-2,3.4396769191603602E-2,3.8918691490480696E-2,null,"Plant oil, biofuel",{"$f":"IFERROR(B185/_data!B185-1,\"\")","v":0},{"$f":"IFERROR(C185/_data!C185-1,\"\")","v":0},{"$f":"IFERROR(D185/_data!D185-1,\"\")","v":0},{"$f":"IFERROR(E185/_data!E185-1,\"\")","v":0},{"$f":"IFERROR(F185/_data!F185-1,\"\")","v":0},{"$f":"IFERROR(G185/_data!G185-1,\"\")","v":0},{"$f":"IFERROR(H185/_data!H185-1,\"\")","v":0},{"$f":"IFERROR(I185/_data!I185-1,\"\")","v":0},{"$f":"IFERROR(J185/_data!J185-1,\"\")","v":0},{"$f":"IFERROR(K185/_data!K185-1,\"\")","v":0}]
["Summe",1.0095507801654726,0.91513828793498531,0.89082003918275954,0.90268224036735323,1.1353737738339289,1.2090488101094516,1.2983132117475811,1.3364369316750269,1.4823300701242799,1.3453244977385086,null,"Summe",{"$f":"IFERROR(B186/_data!B186-1,\"\")","v":0},{"$f":"IFERROR(C186/_data!C186-1,\"\")","v":0},{"$f":"IFERROR(D186/_data!D186-1,\"\")","v":0},{"$f":"IFERROR(E186/_data!E186-1,\"\")","v":0},{"$f":"IFERROR(F186/_data!F186-1,\"\")","v":0},{"$f":"IFERROR(G186/_data!G186-1,\"\")","v":0},{"$f":"IFERROR(H186/_data!H186-1,\"\")","v":0},{"$f":"IFERROR(I186/_data!I186-1,\"\")","v":0},{"$f":"IFERROR(J186/_data!J186-1,\"\")","v":0},{"$f":"IFERROR(K186/_data!K186-1,\"\")","v":0}]
[]
["Energy consumption (MWh /Einwohner and  Year) - Secondary sector (Industrie)",null,null,null,null,null,null,null,null,null,null,null,"Test:",{"$f":"A188","v":"Energy consumption (MWh /Einwohner and  Year) - Secondary sector (Industrie)"}]
["Energieträger",2000,2001,2002,2003,2004,2005,2006,2007,2008,2009,null,"Energieträger",2000,2001,2002,2003,2004,2005,2006,2007,2008,2009]
["Electricity",1.2918540729635182,1.2910339794994758,1.2249930030786453,1.2566432821693927,1.3252624645667872,1.3606452143007119,1.4299454862003025,1.4548546691403834,1.5119824573584206,1.297143625165083,null,"Electricity",{"$f":"IFERROR(B190/_data!B190-1,\"\")","v":0},{"$f":"IFERROR(C190/_data!C190-1,\"\")","v":0},{"$f":"IFERROR(D190/_data!D190-1,\"\")","v":0},{"$f":"IFERROR(E190/_data!E190-1,\"\")","v":0},{"$f":"IFERROR(F190/_data!F190-1,\"\")","v":0},{"$f":"IFERROR(G190/_data!G190-1,\"\")","v":0},{"$f":"IFERROR(H190/_data!H190-1,\"\")","v":0},{"$f":"IFERROR(I190/_data!I190-1,\"\")","v":0},{"$f":"IFERROR(J190/_data!J190-1,\"\")","v":0},{"$f":"IFERROR(K190/_data!K190-1,\"\")","v":0}]
["Heat and Cold",2.463296129712921,2.4666134862859921,2.4079485026588299,2.3268254464669118,2.3831935457388189,2.4066746109433863,2.4473271113394408,2.3739377906044572,2.4093360179592214,2.0018582798639599,null,"Heat and Cold",{"$f":"IFERROR(B191/_data!B191-1,\"\")","v":0},{"$f":"IFERROR(C191/_data!C191-1,\"\")","v":0},{"$f":"IFERROR(D191/_data!D191-1,\"\")","v":0},{"$f":"IFERROR(E191/_data!E191-1,\"\")","v":0},{"$f":"IFERROR(F191/_data!F191-1,\"\")","v":0},{"$f":"IFERROR(G191/_data!G191-1,\"\")","v":0},{"$f":"IFERROR(H191/_data!H191-1,\"\")","v":0},{"$f":"IFERROR(I191/_data!I191-1,\"\")","v":0},{"$f":"IFERROR(J191/_data!J191-1,\"\")","v":0},{"$f":"IFERROR(K191/_data!K191-1,\"\")","v":0}]
["natural gas",2.735410072741407,1.3805502007414494,1.5651833193394906,1.8362537848118516,1.8924404181256234,2.0423601783030589,2.0503182350087052,2.2436668270001605,2.3999340415191281,2.2208197468531958,null,"natural gas",{"$f":"IFERROR(B192/_data!B192-1,\"\")","v":0},{"$f":"IFERROR(C192/_data!C192-1,\"\")","v":0},{"$f":"IFERROR(D192/_data!D192-1,\"\")","v":0},{"$f":"IFERROR(E192/_data!E192-1,\"\")","v":0},{"$f":"IFERROR(F192/_data!F192-1,\"\")","v":0},{"$f":"IFERROR(G192/_data!G192-1,\"\")","v":0},{"$f":"IFERROR(H192/_data!H192-1,\"\")","v":0},{"$f":"IFERROR(I192/_data!I192-1,\"\")","v":0},{"$f":"IFERROR(J192/_data!J192-1,\"\")","v":0},{"$f":"IFERROR(K192/_data!K192-1,\"\")","v":0}]
["Liquid gas",0,0,0,0,0,0,0,0,0,0,null,"Liquid gas",{"$f":"IFERROR(B193/_data!B193-1,\"\")","v":""},{"$f":"IFERROR(C193/_data!C193-1,\"\")","v":""},{"$f":"IFERROR(D193/_data!D193-1,\"\")","v":""},{"$f":"IFERROR(E193/_data!E193-1,\"\")","v":""},{"$f":"IFERROR(F193/_data!F193-1,\"\")","v":""},{"$f":"IFERROR(G193/_data!G193-1,\"\")","v":""},{"$f":"IFERROR(H193/_data!H193-1,\"\")","v":""},{"$f":"IFERROR(I193/_data!I193-1,\"\")","v":""},{"$f":"IFERROR(J193/_data!J193-1,\"\")","v":""},{"$f":"IFERROR(K193/_data!K193-1,\"\")","v":""}]
["heating oil / diesel",0.61013937475706592,0.53116301213141215,0.51483347327176043,0.53735573513437895,0.61654448929730676,0.62337805344852182,0.22587550303964382,0.22790260885498981,0.23548334837649562,0.14124095695569347,null,"heating oil / diesel",{"$f":"IFERROR(B194/_data!B194-1,\"\")","v":0},{"$f":"IFERROR(C194/_data!C194-1,\"\")","v":0},{"$f":"IFERROR(D194/_data!D194-1,\"\")","v":0},{"$f":"IFERROR(E194/_data!E194-1,\"\")","v":0},{"$f":"IFERROR(F194/_data!F194-1,\"\")","v":0},{"$f":"IFERROR(G194/_data!G194-1,\"\")","v":0},{"$f":"IFERROR(H194/_data!H194-1,\"\")","v":0},{"$f":"IFERROR(I194/_data!I194-1,\"\")","v":0},{"$f":"IFERROR(J194/_data!J194-1,\"\")","v":0},{"$f":"IFERROR(K194/_data!K194-1,\"\")","v":0}]
["gasoline",2.9041035038036539E-2,2.0644730762621369E-2,1.4721522530086763E-2,1.3559785578491735E-2,1.1168259803376877E-2,1.3696244952237556E-2,1.3756885578103147E-2,1.3800132847751894E-2,1.2670971325418315E-2,8.9407804775428635E-3,null,"gasoline",{"$f":"IFERROR(B195/_data!B195-1,\"\")","v":0},{"$f":"IFERROR(C195/_data!C195-1,\"\")","v":0},{"$f":"IFERROR(D195/_data!D195-1,\"\")","v":0},{"$f":"IFERROR(E195/_data!E195-1,\"\")","v":0},{"$f":"IFERROR(F195/_data!F195-1,\"\")","v":0},{"$f":"IFERROR(G195/_data!G195-1,\"\")","v":0},{"$f":"IFERROR(H195/_data!H195-1,\"\")","v":0},{"$f":"IFERROR(I195/_data!I195-1,\"\")","v":0},{"$f":"IFERROR(J195/_data!J195-1,\"\")","v":0},{"$f":"IFERROR(K195/_data!K195-1,\"\")","v":0}]
["Lignite / Coal",6.9520795157976559E-2,6.9066514926502523E-2,6.8793730758466273E-2,6.6364178795979265E-2,7.2918840589642944E-2,6.4645139556722908E-2,6.3589919228244432E-2,6.4591493162921731E-2,6.12719572311324E-2,5.7939763682900318E-2,null,"Lignite / Coal",{"$f":"IFERROR(B196/_data!B196-1,\"\")","v":0},{"$f":"IFERROR(C196/_data!C196-1,\"\")","v":0},{"$f":"IFERROR(D196/_data!D196-1,\"\")","v":0},{"$f":"IFERROR(E196/_data!E196-1,\"\")","v":0},{"$f":"IFERROR(F196/_data!F196-1,\"\")","v":0},{"$f":"IFERROR(G196/_data!G196-1,\"\")","v":0},{"$f":"IFERROR(H196/_data!H196-1,\"\")","v":0},{"$f":"IFERROR(I196/_data!I196-1,\"\")","v":0},{"$f":"IFERROR(J196/_data!J196-1,\"\")","v":0},{"$f":"IFERROR(K196/_data!K196-1,\"\")","v":0}]
["other fossil fuels",3.80365372869121E-3,7.6059534388605039E-3,7.6406381192275392E-3,1.0240170021931519E-2,1.0291763464377679E-2,6.4787216786517899E-3,3.9101521248965376E-3,3.9224443986348749E-3,3.9632946839778752E-3,6.6617580028750737E-3,null,"other fossil fuels",{"$f":"IFERROR(B197/_data!B197-1,\"\")","v":0},{"$f":"IFERROR(C197/_data!C197-1,\"\")","v":0},{"$f":"IFERROR(D197/_data!D197-1,\"\")","v":0},{"$f":"IFERROR(E197/_data!E197-1,\"\")","v":0},{"$f":"IFERROR(F197/_data!F197-1,\"\")","v":0},{"$f":"IFERROR(G197/_data!G197-1,\"\")","v":0},{"$f":"IFERROR(H197/_data!H197-1,\"\")","v":0},{"$f":"IFERROR(I197/_data!I197-1,\"\")","v":0},{"$f":"IFERROR(J197/_data!J197-1,\"\")","v":0},{"$f":"IFERROR(K197/_data!K197-1,\"\")","v":0}]
["Plant oil, biofuel",0.17824421122771947,0.16903047440866917,0.15997760985166526,0.17149471553212783,0.16622328957988014,0.17285115776859142,0.18320632474241516,0.19328775281156232,0.23661158554930686,0.30036347486647264,null,"Plant oil, biofuel",{"$f":"IFERROR(B198/_data!B198-1,\"\")","v":0},{"$f":"IFERROR(C198/_data!C198-1,\"\")","v":0},{"$f":"IFERROR(D198/_data!D198-1,\"\")","v":0},{"$f":"IFERROR(E198/_data!E198-1,\"\")","v":0},{"$f":"IFERROR(F198/_data!F198-1,\"\")","v":0},{"$f":"IFERROR(G198/_data!G198-1,\"\")","v":0},{"$f":"IFERROR(H198/_data!H198-1,\"\")","v":0},{"$f":"IFERROR(I198/_data!I198-1,\"\")","v":0},{"$f":"IFERROR(J198/_data!J198-1,\"\")","v":0},{"$f":"IFERROR(K198/_data!K198-1,\"\")","v":0}]
["Summe",7.3813093453273355,5.9357083521949816,5.9640917996081724,6.218737098511065,6.4780430711658141,6.690729320951883,6.417929617261751,6.5759637188208622,6.8712536740031016,6.0349683858677228,null,"Summe",{"$f":"IFERROR(B199/_data!B199-1,\"\")","v":0},{"$f":"IFERROR(C199/_data!C199-1,\"\")","v":0},{"$f":"IFERROR(D199/_data!D199-1,\"\")","v":0},{"$f":"IFERROR(E199/_data!E199-1,\"\")","v":0},{"$f":"IFERROR(F199/_data!F199-1,\"\")","v":0},{"$f":"IFERROR(G199/_data!G199-1,\"\")","v":0},{"$f":"IFERROR(H199/_data!H199-1,\"\")","v":0},{"$f":"IFERROR(I199/_data!I199-1,\"\")","v":0},{"$f":"IFERROR(J199/_data!J199-1,\"\")","v":0},{"$f":"IFERROR(K199/_data!K199-1,\"\")","v":0}]
[]
["Energy consumption (MWh /Einwohner and  Year) - Tertiary sector (Services)",null,null,null,null,null,null,null,null,null,null,null,"Test:",{"$f":"A201","v":"Energy consumption (MWh /Einwohner and  Year) - Tertiary sector (Services)"}]
["Energieträger",2000,2001,2002,2003,2004,2005,2006,2007,2008,2009,null,"Energieträger",2000,2001,2002,2003,2004,2005,2006,2007,2008,2009]
["Electricity",0.45366205785995894,0.45585571489610099,0.46579904841869579,0.4651681629468068,0.47229015634330973,0.50156103662229279,0.53840226046750583,0.54814013147346485,0.55624985535420857,0.61080724144782206,null,"Electricity",{"$f":"IFERROR(B203/_data!B203-1,\"\")","v":0},{"$f":"IFERROR(C203/_data!C203-1,\"\")","v":0},{"$f":"IFERROR(D203/_data!D203-1,\"\")","v":0},{"$f":"IFERROR(E203/_data!E203-1,\"\")","v":0},{"$f":"IFERROR(F203/_data!F203-1,\"\")","v":0},{"$f":"IFERROR(G203/_data!G203-1,\"\")","v":0},{"$f":"IFERROR(H203/_data!H203-1,\"\")","v":0},{"$f":"IFERROR(I203/_data!I203-1,\"\")","v":0},{"$f":"IFERROR(J203/_data!J203-1,\"\")","v":0},{"$f":"IFERROR(K203/_data!K203-1,\"\")","v":0}]
["Heat and Cold",0,0,0,0,0,0,0,0,0,0,null,"Heat and Cold",{"$f":"IFERROR(B204/_data!B204-1,\"\")","v":""},{"$f":"IFERROR(C204/_data!C204-1,\"\")","v":""},{"$f":"IFERROR(D204/_data!D204-1,\"\")","v":""},{"$f":"IFERROR(E204/_data!E204-1,\"\")","v":""},{"$f":"IFERROR(F204/_data!F204-1,\"\")","v":""},{"$f":"IFERROR(G204/_data!G204-1,\"\")","v":""},{"$f":"IFERROR(H204/_data!H204-1,\"\")","v":""},{"$f":"IFERROR(I204/_data!I204-1,\"\")","v":""},{"$f":"IFERROR(J204/_data!J204-1,\"\")","v":""},{"$f":"IFERROR(K204/_data!K204-1,\"\")","v":""}]
["natural gas",0.10186573379976678,0.1657150588071146,5.8382311782815569E-2,5.758689020575225E-2,0.19328157978704893,0.13608157069764659,5.0717812598110562E-2,3.6447238828191203E-2,4.8629915063991294E-2,7.1117188504376899E-2,null,"natural gas",{"$f":"IFERROR(B205/_data!B205-1,\"\")","v":0},{"$f":"IFERROR(C205/_data!C205-1,\"\")","v":0},{"$f":"IFERROR(D205/_data!D205-1,\"\")","v":0},{"$f":"IFERROR(E205/_data!E205-1,\"\")","v":0},{"$f":"IFERROR(F205/_data!F205-1,\"\")","v":0},{"$f":"IFERROR(G205/_data!G205-1,\"\")","v":0},{"$f":"IFERROR(H205/_data!H205-1,\"\")","v":0},{"$f":"IFERROR(I205/_data!I205-1,\"\")","v":0},{"$f":"IFERROR(J205/_data!J205-1,\"\")","v":0},{"$f":"IFERROR(K205/_data!K205-1,\"\")","v":0}]
["Liquid gas",0,0,0,0,0,0,0,0,0,0,null,"Liquid gas",{"$f":"IFERROR(B206/_data!B206-1,\"\")","v":""},{"$f":"IFERROR(C206/_data!C206-1,\"\")","v":""},{"$f":"IFERROR(D206/_data!D206-1,\"\")","v":""},{"$f":"IFERROR(E206/_data!E206-1,\"\")","v":""},{"$f":"IFERROR(F206/_data!F206-1,\"\")","v":""},{"$f":"IFERROR(G206/_data!G206-1,\"\")","v":""},{"$f":"IFERROR(H206/_data!H206-1,\"\")","v":""},{"$f":"IFERROR(I206/_data!I206-1,\"\")","v":""},{"$f":"IFERROR(J206/_data!J206-1,\"\")","v":""},{"$f":"IFERROR(K206/_data!K206-1,\"\")","v":""}]
["heating oil / diesel",3.0401465933699818E-2,3.0451674390749195E-2,2.0011195074167369E-2,1.8961193941708362E-2,1.7869215685402999E-2,4.0349933261778693E-2,6.3218882895225051E-2,5.5143269428983711E-2,6.6565993195861969E-2,9.8816077042646944E-2,null,"heating oil / diesel",{"$f":"IFERROR(B207/_data!B207-1,\"\")","v":0},{"$f":"IFERROR(C207/_data!C207-1,\"\")","v":0},{"$f":"IFERROR(D207/_data!D207-1,\"\")","v":0},{"$f":"IFERROR(E207/_data!E207-1,\"\")","v":0},{"$f":"IFERROR(F207/_data!F207-1,\"\")","v":0},{"$f":"IFERROR(G207/_data!G207-1,\"\")","v":0},{"$f":"IFERROR(H207/_data!H207-1,\"\")","v":0},{"$f":"IFERROR(I207/_data!I207-1,\"\")","v":0},{"$f":"IFERROR(J207/_data!J207-1,\"\")","v":0},{"$f":"IFERROR(K207/_data!K207-1,\"\")","v":0}]
["gasoline",0,0,1.2034704729918836E-3,4.9231586643901527E-3,8.6801411636372172E-3,6.2229826650207981E-3,3.7674458429660072E-3,1.1337868480725623E-2,1.5274595570367283E-2,5.1424096864298814E-3,null,"gasoline",{"$f":"IFERROR(B208/_data!B208-1,\"\")","v":""},{"$f":"IFERROR(C208/_data!C208-1,\"\")","v":""},{"$f":"IFERROR(D208/_data!D208-1,\"\")","v":0},{"$f":"IFERROR(E208/_data!E208-1,\"\")","v":0},{"$f":"IFERROR(F208/_data!F208-1,\"\")","v":0},{"$f":"IFERROR(G208/_data!G208-1,\"\")","v":0},{"$f":"IFERROR(H208/_data!H208-1,\"\")","v":0},{"$f":"IFERROR(I208/_data!I208-1,\"\")","v":0},{"$f":"IFERROR(J208/_data!J208-1,\"\")","v":0},{"$f":"IFERROR(K208/_data!K208-1,\"\")","v":0}]
["Lignite / Coal",0.20856238547392972,0.17975681900193397,0.15519171564511614,0.14966402339746065,0.12779882104117338,0.10689890769775454,0.10326226560493193,8.9070981928124779E-2,8.4791362910504764E-2,8.8618912380351328E-2,null,"Lignite / Coal",{"$f":"IFERROR(B209/_data!B209-1,\"\")","v":0},{"$f":"IFERROR(C209/_data!C209-1,\"\")","v":0},{"$f":"IFERROR(D209/_data!D209-1,\"\")","v":0},{"$f":"IFERROR(E209/_data!E209-1,\"\")","v":0},{"$f":"IFERROR(F209/_data!F209-1,\"\")","v":0},{"$f":"IFERROR(G209/_data!G209-1,\"\")","v":0},{"$f":"IFERROR(H209/_data!H209-1,\"\")","v":0},{"$f":"IFERROR(I209/_data!I209-1,\"\")","v":0},{"$f":"IFERROR(J209/_data!J209-1,\"\")","v":0},{"$f":"IFERROR(K209/_data!K209-1,\"\")","v":0}]
["other fossil fuels",2.4015769892831364E-2,1.0141271251814006E-2,8.9280716484746708E-3,2.3068514884571005E-2,2.4457075265622782E-2,7.757416746806748E-3,9.1046607871678505E-3,1.4344121486978629E-2,3.031775787451688E-2,0,null,"other fossil fuels",{"$f":"IFERROR(B210/_data!B210-1,\"\")","v":0},{"$f":"IFERROR(C210/_data!C210-1,\"\")","v":0},{"$f":"IFERROR(D210/_data!D210-1,\"\")","v":0},{"$f":"IFERROR(E210/_data!E210-1,\"\")","v":0},{"$f":"IFERROR(F210/_data!F210-1,\"\")","v":0},{"$f":"IFERROR(G210/_data!G210-1,\"\")","v":0},{"$f":"IFERROR(H210/_data!H210-1,\"\")","v":0},{"$f":"IFERROR(I210/_data!I210-1,\"\")","v":0},{"$f":"IFERROR(J210/_data!J210-1,\"\")","v":0},{"$f":"IFERROR(K210/_data!K210-1,\"\")","v":""}]
["Plant oil, biofuel",0.37781109445277361,0.34926092421082522,0.35272879932829554,0.39233354704905754,0.39484746368141288,0.15463685690887299,0.17484373662128605,0.17550791360315168,0.17178134185007751,0.1945934574524035,null,"Plant oil, biofuel",{"$f":"IFERROR(B211/_data!B211-1,\"\")","v":0},{"$f":"IFERROR(C211/_data!C211-1,\"\")","v":0},{"$f":"IFERROR(D211/_data!D211-1,\"\")","v":0},{"$f":"IFERROR(E211/_data!E211-1,\"\")","v":0},{"$f":"IFERROR(F211/_data!F211-1,\"\")","v":0},{"$f":"IFERROR(G211/_data!G211-1,\"\")","v":0},{"$f":"IFERROR(H211/_data!H211-1,\"\")","v":0},{"$f":"IFERROR(I211/_data!I211-1,\"\")","v":0},{"$f":"IFERROR(J211/_data!J211-1,\"\")","v":0},{"$f":"IFERROR(K211/_data!K211-1,\"\")","v":0}]
["Summe",1.1963185074129603,1.191181462558538,1.0622446123705569,1.1117054910897468,1.239224452967608,0.95350870460017312,0.94331706481719324,0.92999152522962047,0.97361082181952829,1.0690952865140306,null,"Summe",{"$f":"IFERROR(B212/_data!B212-1,\"\")","v":0},{"$f":"IFERROR(C212/_data!C212-1,\"\")","v":0},{"$f":"IFERROR(D212/_data!D212-1,\"\")","v":0},{"$f":"IFERROR(E212/_data!E212-1,\"\")","v":0},{"$f":"IFERROR(F212/_data!F212-1,\"\")","v":0},{"$f":"IFERROR(G212/_data!G212-1,\"\")","v":0},{"$f":"IFERROR(H212/_data!H212-1,\"\")","v":0},{"$f":"IFERROR(I212/_data!I212-1,\"\")","v":0},{"$f":"IFERROR(J212/_data!J212-1,\"\")","v":0},{"$f":"IFERROR(K212/_data!K212-1,\"\")","v":0}]
[]
["Energy consumption (MWh /Einwohner and  Year) - Road",null,null,null,null,null,null,null,null,null,null,null,"Test:",{"$f":"A214","v":"Energy consumption (MWh /Einwohner and  Year) - Road"}]
["Energieträger",2000,2001,2002,2003,2004,2005,2006,2007,2008,2009,null,"Energieträger",2000,2001,2002,2003,2004,2005,2006,2007,2008,2009]
["Electricity",0,0,0,0,0,0,0,0,0,0,null,"Electricity",{"$f":"IFERROR(B216/_data!B216-1,\"\")","v":""},{"$f":"IFERROR(C216/_data!C216-1,\"\")","v":""},{"$f":"IFERROR(D216/_data!D216-1,\"\")","v":""},{"$f":"IFERROR(E216/_data!E216-1,\"\")","v":""},{"$f":"IFERROR(F216/_data!F216-1,\"\")","v":""},{"$f":"IFERROR(G216/_data!G216-1,\"\")","v":""},{"$f":"IFERROR(H216/_data!H216-1,\"\")","v":""},{"$f":"IFERROR(I216/_data!I216-1,\"\")","v":""},{"$f":"IFERROR(J216/_data!J216-1,\"\")","v":""},{"$f":"IFERROR(K216/_data!K216-1,\"\")","v":""}]
["Heat and Cold",0,0,0,0,0,0,0,0,0,0,null,"Heat and Cold",{"$f":"IFERROR(B217/_data!B217-1,\"\")","v":""},{"$f":"IFERROR(C217/_data!C217-1,\"\")","v":""},{"$f":"IFERROR(D217/_data!D217-1,\"\")","v":""},{"$f":"IFERROR(E217/_data!E217-1,\"\")","v":""},{"$f":"IFERROR(F217/_data!F217-1,\"\")","v":""},{"$f":"IFERROR(G217/_data!G217-1,\"\")","v":""},{"$f":"IFERROR(H217/_data!H217-1,\"\")","v":""},{"$f":"IFERROR(I217/_data!I217-1,\"\")","v":""},{"$f":"IFERROR(J217/_data!J217-1,\"\")","v":""},{"$f":"IFERROR(K217/_data!K217-1,\"\")","v":""}]
["natural gas",0,0,0,0,0,0,0,0,0,0,null,"natural gas",{"$f":"IFERROR(B218/_data!B218-1,\"\")","v":""},{"$f":"IFERROR(C218/_data!C218-1,\"\")","v":""},{"$f":"IFERROR(D218/_data!D218-1,\"\")","v":""},{"$f":"IFERROR(E218/_data!E218-1,\"\")","v":""},{"$f":"IFERROR(F218/_data!F218-1,\"\")","v":""},{"$f":"IFERROR(G218/_data!G218-1,\"\")","v":""},{"$f":"IFERROR(H218/_data!H218-1,\"\")","v":""},{"$f":"IFERROR(I218/_data!I218-1,\"\")","v":""},{"$f":"IFERROR(J218/_data!J218-1,\"\")","v":""},{"$f":"IFERROR(K218/_data!K218-1,\"\")","v":""}]
["Liquid gas",0,0,0,0,0,0,0,0,0,0,null,"Liquid gas",{"$f":"IFERROR(B219/_data!B219-1,\"\")","v":""},{"$f":"IFERROR(C219/_data!C219-1,\"\")","v":""},{"$f":"IFERROR(D219/_data!D219-1,\"\")","v":""},{"$f":"IFERROR(E219/_data!E219-1,\"\")","v":""},{"$f":"IFERROR(F219/_data!F219-1,\"\")","v":""},{"$f":"IFERROR(G219/_data!G219-1,\"\")","v":""},{"$f":"IFERROR(H219/_data!H219-1,\"\")","v":""},{"$f":"IFERROR(I219/_data!I219-1,\"\")","v":""},{"$f":"IFERROR(J219/_data!J219-1,\"\")","v":""},{"$f":"IFERROR(K219/_data!K219-1,\"\")","v":""}]
["heating oil / diesel",0.82236659448053739,0.70682431774319043,0.73741953540442207,0.76750636961081231,0.81703595832451037,0.89116521616612909,0.96546507977281149,1.0159417302274445,1.0669652155800875,1.0132007994109604,null,"heating oil / diesel",{"$f":"IFERROR(B220/_data!B220-1,\"\")","v":0},{"$f":"IFERROR(C220/_data!C220-1,\"\")","v":0},{"$f":"IFERROR(D220/_data!D220-1,\"\")","v":0},{"$f":"IFERROR(E220/_data!E220-1,\"\")","v":0},{"$f":"IFERROR(F220/_data!F220-1,\"\")","v":0},{"$f":"IFERROR(G220/_data!G220-1,\"\")","v":0},{"$f":"IFERROR(H220/_data!H220-1,\"\")","v":0},{"$f":"IFERROR(I220/_data!I220-1,\"\")","v":0},{"$f":"IFERROR(J220/_data!J220-1,\"\")","v":0},{"$f":"IFERROR(K220/_data!K220-1,\"\")","v":0}]
["gasoline",1.1060858459659058,1.0162445334647463,1.0125944584382871,1.1291475389293004,0.64510130550340961,0.65454979766554378,0.64865713388703372,0.6154515678325202,0.62822560114790893,0.61139160618491639,null,"gasoline",{"$f":"IFERROR(B221/_data!B221-1,\"\")","v":0},{"$f":"IFERROR(C221/_data!C221-1,\"\")","v":0},{"$f":"IFERROR(D221/_data!D221-1,\"\")","v":0},{"$f":"IFERROR(E221/_data!E221-1,\"\")","v":0},{"$f":"IFERROR(F221/_data!F221-1,\"\")","v":0},{"$f":"IFERROR(G221/_data!G221-1,\"\")","v":0},{"$f":"IFERROR(H221/_data!H221-1,\"\")","v":0},{"$f":"IFERROR(I221/_data!I221-1,\"\")","v":0},{"$f":"IFERROR(J221/_data!J221-1,\"\")","v":0},{"$f":"IFERROR(K221/_data!K221-1,\"\")","v":0}]
["Lignite / Coal",0,0,0,0,0,0,0,0,0,0,null,"Lignite / Coal",{"$f":"IFERROR(B222/_data!B222-1,\"\")","v":""},{"$f":"IFERROR(C222/_data!C222-1,\"\")","v":""},{"$f":"IFERROR(D222/_data!D222-1,\"\")","v":""},{"$f":"IFERROR(E222/_data!E222-1,\"\")","v":""},{"$f":"IFERROR(F222/_data!F222-1,\"\")","v":""},{"$f":"IFERROR(G222/_data!G222-1,\"\")","v":""},{"$f":"IFERROR(H222/_data!H222-1,\"\")","v":""},{"$f":"IFERROR(I222/_data!I222-1,\"\")","v":""},{"$f":"IFERROR(J222/_data!J222-1,\"\")","v":""},{"$f":"IFERROR(K222/_data!K222-1,\"\")","v":""}]
["other fossil fuels",2.1489255372313842E-2,1.9028813914804852E-2,2.1662468513853905E-2,0,0,3.8815499179992746E-2,4.6807660473214031E-2,4.9560228131656704E-2,5.6643291906778678E-2,6.6529925318186606E-2,null,"other fossil fuels",{"$f":"IFERROR(B223/_data!B223-1,\"\")","v":0},{"$f":"IFERROR(C223/_data!C223-1,\"\")","v":0},{"$f":"IFERROR(D223/_data!D223-1,\"\")","v":0},{"$f":"IFERROR(E223/_data!E223-1,\"\")","v":""},{"$f":"IFERROR(F223/_data!F223-1,\"\")","v":""},{"$f":"IFERROR(G223/_data!G223-1,\"\")","v":0},{"$f":"IFERROR(H223/_data!H223-1,\"\")","v":0},{"$f":"IFERROR(I223/_data!I223-1,\"\")","v":0},{"$f":"IFERROR(J223/_data!J223-1,\"\")","v":0},{"$f":"IFERROR(K223/_data!K223-1,\"\")","v":0}]
["Plant oil, biofuel",0,0,0,0,0,0,0,0,0.1112615427341526,0.5286455594123628,null,"Plant oil, biofuel",{"$f":"IFERROR(B224/_data!B224-1,\"\")","v":""},{"$f":"IFERROR(C224/_data!C224-1,\"\")","v":""},{"$f":"IFERROR(D224/_data!D224-1,\"\")","v":""},{"$f":"IFERROR(E224/_data!E224-1,\"\")","v":""},{"$f":"IFERROR(F224/_data!F224-1,\"\")","v":""},{"$f":"IFERROR(G224/_data!G224-1,\"\")","v":""},{"$f":"IFERROR(H224/_data!H224-1,\"\")","v":""},{"$f":"IFERROR(I224/_data!I224-1,\"\")","v":""},{"$f":"IFERROR(J224/_data!J224-1,\"\")","v":0},{"$f":"IFERROR(K224/_data!K224-1,\"\")","v":0}]
["Summe",1.949941695818757,1.7420976651227416,1.7716764623565631,1.8966539085401126,1.46213726382792,1.5845305130116656,1.6609298741330591,1.6809535261916215,1.8630956513689279,2.219767890326426,null,"Summe",{"$f":"IFERROR(B225/_data!B225-1,\"\")","v":0},{"$f":"IFERROR(C225/_data!C225-1,\"\")","v":0},{"$f":"IFERROR(D225/_data!D225-1,\"\")","v":0},{"$f":"IFERROR(E225/_data!E225-1,\"\")","v":0},{"$f":"IFERROR(F225/_data!F225-1,\"\")","v":0},{"$f":"IFERROR(G225/_data!G225-1,\"\")","v":0},{"$f":"IFERROR(H225/_data!H225-1,\"\")","v":0},{"$f":"IFERROR(I225/_data!I225-1,\"\")","v":0},{"$f":"IFERROR(J225/_data!J225-1,\"\")","v":0},{"$f":"IFERROR(K225/_data!K225-1,\"\")","v":0}]
[]
["Energy consumption (MWh /Einwohner and  Year) - Rail",null,null,null,null,null,null,null,null,null,null,null,"Test:",{"$f":"A227","v":"Energy consumption (MWh /Einwohner and  Year) - Rail"}]
["Energieträger",2000,2001,2002,2003,2004,2005,2006,2007,2008,2009,null,"Energieträger",2000,2001,2002,2003,2004,2005,2006,2007,2008,2009]
["Electricity",6.8354711533122323E-2,7.1601832739456028E-2,7.4055415617128459E-2,7.2103175181896934E-2,7.5011122173060399E-2,7.2430971749488648E-2,7.9829894111938818E-2,7.2465012941203416E-2,7.7790506607419763E-2,7.4272758084686141E-2,null,"Electricity",{"$f":"IFERROR(B229/_data!B229-1,\"\")","v":0},{"$f":"IFERROR(C229/_data!C229-1,\"\")","v":0},{"$f":"IFERROR(D229/_data!D229-1,\"\")","v":0},{"$f":"IFERROR(E229/_data!E229-1,\"\")","v":0},{"$f":"IFERROR(F229/_data!F229-1,\"\")","v":0},{"$f":"IFERROR(G229/_data!G229-1,\"\")","v":0},{"$f":"IFERROR(H229/_data!H229-1,\"\")","v":0},{"$f":"IFERROR(I229/_data!I229-1,\"\")","v":0},{"$f":"IFERROR(J229/_data!J229-1,\"\")","v":0},{"$f":"IFERROR(K229/_data!K229-1,\"\")","v":0}]
["Heat and Cold",0,0,0,0,0,0,0,0,0,0,null,"Heat and Cold",{"$f":"IFERROR(B230/_data!B230-1,\"\")","v":""},{"$f":"IFERROR(C230/_data!C230-1,\"\")","v":""},{"$f":"IFERROR(D230/_data!D230-1,\"\")","v":""},{"$f":"IFERROR(E230/_data!E230-1,\"\")","v":""},{"$f":"IFERROR(F230/_data!F230-1,\"\")","v":""},{"$f":"IFERROR(G230/_data!G230-1,\"\")","v":""},{"$f":"IFERROR(H230/_data!H230-1,\"\")","v":""},{"$f":"IFERROR(I230/_data!I230-1,\"\")","v":""},{"$f":"IFERROR(J230/_data!J230-1,\"\")","v":""},{"$f":"IFERROR(K230/_data!K230-1,\"\")","v":""}]
["natural gas",0,0,0,0,0,0,0,0,0,0,null,"natural gas",{"$f":"IFERROR(B231/_data!B231-1,\"\")","v":""},{"$f":"IFERROR(C231/_data!C231-1,\"\")","v":""},{"$f":"IFERROR(D231/_data!D231-1,\"\")","v":""},{"$f":"IFERROR(E231/_data!E231-1,\"\")","v":""},{"$f":"IFERROR(F231/_data!F231-1,\"\")","v":""},{"$f":"IFERROR(G231/_data!G231-1,\"\")","v":""},{"$f":"IFERROR(H231/_data!H231-1,\"\")","v":""},{"$f":"IFERROR(I231/_data!I231-1,\"\")","v":""},{"$f":"IFERROR(J231/_data!J231-1,\"\")","v":""},{"$f":"IFERROR(K231/_data!K231-1,\"\")","v":""}]
["Liquid gas",0,0,0,0,0,0,0,0,0,0,null,"Liquid gas",{"$f":"IFERROR(B232/_data!B232-1,\"\")","v":""},{"$f":"IFERROR(C232/_data!C232-1,\"\")","v":""},{"$f":"IFERROR(D232/_data!D232-1,\"\")","v":""},{"$f":"IFERROR(E232/_data!E232-1,\"\")","v":""},{"$f":"IFERROR(F232/_data!F232-1,\"\")","v":""},{"$f":"IFERROR(G232/_data!G232-1,\"\")","v":""},{"$f":"IFERROR(H232/_data!H232-1,\"\")","v":""},{"$f":"IFERROR(I232/_data!I232-1,\"\")","v":""},{"$f":"IFERROR(J232/_data!J232-1,\"\")","v":""},{"$f":"IFERROR(K232/_data!K232-1,\"\")","v":""}]
["heating oil / diesel",0.26075850963407182,0.29245308881948251,0.25096557514693535,0.26300920201933453,0.27996989512161474,0.30671632368143609,0.33353312212803604,0.35041457660505276,0.4401282140294846,0.25577644542617717,null,"heating oil / diesel",{"$f":"IFERROR(B233/_data!B233-1,\"\")","v":0},{"$f":"IFERROR(C233/_data!C233-1,\"\")","v":0},{"$f":"IFERROR(D233/_data!D233-1,\"\")","v":0},{"$f":"IFERROR(E233/_data!E233-1,\"\")","v":0},{"$f":"IFERROR(F233/_data!F233-1,\"\")","v":0},{"$f":"IFERROR(G233/_data!G233-1,\"\")","v":0},{"$f":"IFERROR(H233/_data!H233-1,\"\")","v":0},{"$f":"IFERROR(I233/_data!I233-1,\"\")","v":0},{"$f":"IFERROR(J233/_data!J233-1,\"\")","v":0},{"$f":"IFERROR(K233/_data!K233-1,\"\")","v":0}]
["gasoline",0,0,0,0,0,0,0,0,0,0,null,"gasoline",{"$f":"IFERROR(B234/_data!B234-1,\"\")","v":""},{"$f":"IFERROR(C234/_data!C234-1,\"\")","v":""},{"$f":"IFERROR(D234/_data!D234-1,\"\")","v":""},{"$f":"IFERROR(E234/_data!E234-1,\"\")","v":""},{"$f":"IFERROR(F234/_data!F234-1,\"\")","v":""},{"$f":"IFERROR(G234/_data!G234-1,\"\")","v":""},{"$f":"IFERROR(H234/_data!H234-1,\"\")","v":""},{"$f":"IFERROR(I234/_data!I234-1,\"\")","v":""},{"$f":"IFERROR(J234/_data!J234-1,\"\")","v":""},{"$f":"IFERROR(K234/_data!K234-1,\"\")","v":""}]
["Lignite / Coal",8.9399744572158362E-3,1.3818875112361942E-2,1.2314581584102995E-2,1.1281066425259723E-2,1.13379042560864E-2,9.2634353826337012E-3,9.1332020435539573E-3,8.990128037747085E-3,8.8233932745492832E-3,9.4959269777824522E-3,null,"Lignite / Coal",{"$f":"IFERROR(B235/_data!B235-1,\"\")","v":0},{"$f":"IFERROR(C235/_data!C235-1,\"\")","v":0},{"$f":"IFERROR(D235/_data!D235-1,\"\")","v":0},{"$f":"IFERROR(E235/_data!E235-1,\"\")","v":0},{"$f":"IFERROR(F235/_data!F235-1,\"\")","v":0},{"$f":"IFERROR(G235/_data!G235-1,\"\")","v":0},{"$f":"IFERROR(H235/_data!H235-1,\"\")","v":0},{"$f":"IFERROR(I235/_data!I235-1,\"\")","v":0},{"$f":"IFERROR(J235/_data!J235-1,\"\")","v":0},{"$f":"IFERROR(K235/_data!K235-1,\"\")","v":0}]
["other fossil fuels",0,0,0,0,0,0,0,0,0,0,null,"other fossil fuels",{"$f":"IFERROR(B236/_data!B236-1,\"\")","v":""},{"$f":"IFERROR(C236/_data!C236-1,\"\")","v":""},{"$f":"IFERROR(D236/_data!D236-1,\"\")","v":""},{"$f":"IFERROR(E236/_data!E236-1,\"\")","v":""},{"$f":"IFERROR(F236/_data!F236-1,\"\")","v":""},{"$f":"IFERROR(G236/_data!G236-1,\"\")","v":""},{"$f":"IFERROR(H236/_data!H236-1,\"\")","v":""},{"$f":"IFERROR(I236/_data!I236-1,\"\")","v":""},{"$f":"IFERROR(J236/_data!J236-1,\"\")","v":""},{"$f":"IFERROR(K236/_data!K236-1,\"\")","v":""}]
["Plant oil, biofuel",0,0,0,0,0,0,0,0,0,0,null,"Plant oil, biofuel",{"$f":"IFERROR(B237/_data!B237-1,\"\")","v":""},{"$f":"IFERROR(C237/_data!C237-1,\"\")","v":""},{"$f":"IFERROR(D237/_data!D237-1,\"\")","v":""},{"$f":"IFERROR(E237/_data!E237-1,\"\")","v":""},{"$f":"IFERROR(F237/_data!F237-1,\"\")","v":""},{"$f":"IFERROR(G237/_data!G237-1,\"\")","v":""},{"$f":"IFERROR(H237/_data!H237-1,\"\")","v":""},{"$f":"IFERROR(I237/_data!I237-1,\"\")","v":""},{"$f":"IFERROR(J237/_data!J237-1,\"\")","v":""},{"$f":"IFERROR(K237/_data!K237-1,\"\")","v":""}]
["Summe",0.33805319562441,0.3778737966713005,0.3373355723481668,0.34639344362649116,0.36631892155076151,0.38841073081355842,0.42249621828352879,0.43186971758400322,0.52674211391145365,0.33954513048864576,null,"Summe",{"$f":"IFERROR(B238/_data!B238-1,\"\")","v":0},{"$f":"IFERROR(C238/_data!C238-1,\"\")","v":0},{"$f":"IFERROR(D238/_data!D238-1,\"\")","v":0},{"$f":"IFERROR(E238/_data!E238-1,\"\")","v":0},{"$f":"IFERROR(F238/_data!F238-1,\"\")","v":0},{"$f":"IFERROR(G238/_data!G238-1,\"\")","v":0},{"$f":"IFERROR(H238/_data!H238-1,\"\")","v":0},{"$f":"IFERROR(I238/_data!I238-1,\"\")","v":0},{"$f":"IFERROR(J238/_data!J238-1,\"\")","v":0},{"$f":"IFERROR(K238/_data!K238-1,\"\")","v":0}]
[]
["Quelle:","P:\\KB-Projekte\\COMO EAST\\WP 2 Training\\Tool\\Tool-Daten\\Energiedaten\\Endberechnung"]
["Georgia",null,null,null,null,null,null,null,null,null,null,null,"Georgia",null,null,null,null,null,null,null,null,null,null,null,"Georgia",null,null,null,null,null,null,null,null,null,null,null,"Georgia"]
["Energy consumption (MWh /Einwohner and  Year) - Residential building (Households)",null,null,null,null,null,null,null,null,null,null,null,"Test:",{"$f":"A242","v":"Energy consumption (MWh /Einwohner and  Year) - Residential building (Households)"},null,null,null,null,null,null,null,null,null,null,"CO2 emission Factor (t /Mwh)"]
["Energieträger",2000,2001,2002,2003,2004,2005,2006,2007,2008,2009,null,"Energieträger",2000,2001,2002,2003,2004,2005,2006,2007,2008,2009,null,"Energieträger",2000,2001,2002,2003,2004,2005,2006,2007,2008,2009,null,null,"Year:",{"$f":"'DATA-OUTPUT Co2 absolute'!$B$8","v":0},null,"CO2","Test"]
["Electricity",0.60272050336102112,0.58729507366202605,0.56530997373320069,0.61492398633473733,0.65329206194824607,0.67896705290083259,0.61776817745439849,0.63690638957250933,0.65267037231359604,0.66087784528883653,null,"Electricity",{"$f":"IFERROR(B244/_data!B244-1,\"\")","v":0},{"$f":"IFERROR(C244/_data!C244-1,\"\")","v":0},{"$f":"IFERROR(D244/_data!D244-1,\"\")","v":0},{"$f":"IFERROR(E244/_data!E244-1,\"\")","v":0},{"$f":"IFERROR(F244/_data!F244-1,\"\")","v":0},{"$f":"IFERROR(G244/_data!G244-1,\"\")","v":0},{"$f":"IFERROR(H244/_data!H244-1,\"\")","v":0},{"$f":"IFERROR(I244/_data!I244-1,\"\")","v":0},{"$f":"IFERROR(J244/_data!J244-1,\"\")","v":0},{"$f":"IFERROR(K244/_data!K244-1,\"\")","v":0},null,"Electricity",{"$f":"_data!Z244","v":0.20100000000000001},{"$f":"_data!AA244","v":0.215},{"$f":"_data!AB244","v":7.4000000000000003E-3},{"$f":"_data!AC244","v":0.09},{"$f":"_data!AD244","v":0.121},{"$f":"_data!AE244","v":0.13500000000000001},{"$f":"_data!AF244","v":0.28199999999999997},{"$f":"_data!AG244","v":0.21099999999999999},{"$f":"_data!AH244","v":0.17399999999999999},{"$f":"_data!AI244","v":0.17399999999999999},null,null,null,{"$f":"'DATA-OUTPUT EC per capita'!$B$37","v":0},{"$f":"IF(AM243=Z243,Z244,IF(AM243=AA243,AA244,IF(AM243=AB243,AB244,IF(AM243=AC243,AC244,IF(AM243=AD243,AD244,IF(AM243=AE243,AE244,IF(AM243=AF243,AF244,IF(AM243=AG243,AG244,IF(AM243=AH243,AH244,IF(AM243=AI243,AI244,\"Fehler\"))))))))))","v":"Fehler"},{"$f":"AN244*AM244","v":{"$error":"#VALUE!"}},{"$f":"AO244/'DATA-OUTPUT Co2 per capita'!$B$37-1","v":{"$error":"#VALUE!"}}]
["Heat and Cold",0,1.0765598719273716E-3,3.8252620304490853E-4,3.8500927872361722E-4,3.8595434931956246E-4,3.1528019811061174E-2,0,2.5762363402505598E-2,2.7247403892703526E-2,2.6387251493808127E-2,null,"Heat and Cold",{"$f":"IFERROR(B245/_data!B245-1,\"\")","v":""},{"$f":"IFERROR(C245/_data!C245-1,\"\")","v":0},{"$f":"IFERROR(D245/_data!D245-1,\"\")","v":0},{"$f":"IFERROR(E245/_data!E245-1,\"\")","v":0},{"$f":"IFERROR(F245/_data!F245-1,\"\")","v":0},{"$f":"IFERROR(G245/_data!G245-1,\"\")","v":0},{"$f":"IFERROR(H245/_data!H245-1,\"\")","v":""},{"$f":"IFERROR(I245/_data!I245-1,\"\")","v":0},{"$f":"IFERROR(J245/_data!J245-1,\"\")","v":0},{"$f":"IFERROR(K245/_data!K245-1,\"\")","v":0},null,"Heat and Cold",{"$f":"_data!Z245","v":"n.a."},{"$f":"_data!AA245","v":"n.a."},{"$f":"_data!AB245","v":"n.a."},{"$f":"_data!AC245","v":"n.a."},{"$f":"_data!AD245","v":"n.a."},{"$f":"_data!AE245","v":"n.a."},{"$f":"_data!AF245","v":"n.a."},{"$f":"_data!AG245","v":"n.a."},{"$f":"_data!AH245","v":"n.a."},{"$f":"_data!AI245","v":"n.a."},null,null,null,{"$f":"'DATA-OUTPUT EC per capita'!$C$37","v":0},{"$f":"IF(AM243=Z243,Z245,IF(AM243=AA243,AA245,IF(AM243=AB243,AB245,IF(AM243=AC243,AC245,IF(AM243=AD243,AD245,IF(AM243=AE243,AE245,IF(AM243=AF243,AF245,IF(AM243=AG243, AG245,IF(AM243=AH243,AH245,IF(AM243=AI243,AI245,\"Fehler\"))))))))))","v":"Fehler"},{"$f":"AM245*AN245","v":{"$error":"#VALUE!"}},{"$f":"AO245/'DATA-OUTPUT Co2 per capita'!$C$37-1","v":{"$error":"#VALUE!"}}]
["natural gas",0.70162732272593531,0.39205777453543278,0.33012011322775608,0.37718075672290369,0.44294694156908454,0.52215496244662529,0.53149158708503863,0.55385916405878122,0.56775985785726413,0.58801376419495577,null,"natural gas",{"$f":"IFERROR(B246/_data!B246-1,\"\")","v":0},{"$f":"IFERROR(C246/_data!C246-1,\"\")","v":0},{"$f":"IFERROR(D246/_data!D246-1,\"\")","v":0},{"$f":"IFERROR(E246/_data!E246-1,\"\")","v":0},{"$f":"IFERROR(F246/_data!F246-1,\"\")","v":0},{"$f":"IFERROR(G246/_data!G246-1,\"\")","v":0},{"$f":"IFERROR(H246/_data!H246-1,\"\")","v":0},{"$f":"IFERROR(I246/_data!I246-1,\"\")","v":0},{"$f":"IFERROR(J246/_data!J246-1,\"\")","v":0},{"$f":"IFERROR(K246/_data!K246-1,\"\")","v":0},null,"natural gas",{"$f":"_data!Z246","v":0.20200000000000001},{"$f":"_data!AA246","v":0.20200000000000001},{"$f":"_data!AB246","v":0.20200000000000001},{"$f":"_data!AC246","v":0.20200000000000001},{"$f":"_data!AD246","v":0.20200000000000001},{"$f":"_data!AE246","v":0.20200000000000001},{"$f":"_data!AF246","v":0.20200000000000001},{"$f":"_data!AG246","v":0.20200000000000001},{"$f":"_data!AH246","v":0.20200000000000001},{"$f":"_data!AI246","v":0.20200000000000001},null,null,null,{"$f":"'DATA-OUTPUT EC per capita'!$D$37","v":0},{"$f":"IF(AM243=Z243,Z246,IF(AM243=AA243,AA246,IF(AM243=AB243,AB246,IF(AM243=AC243,AC246,IF(AM243=AD243,AD246,IF(AM243=AE243,AE246,IF(AM243=AF243,AF246,IF(AM243=AG243, AG246,IF(AM243=AH243,AH246,IF(AM243=AI243,AI246,\"Fehler\"))))))))))","v":"Fehler"},{"$f":"AM246*AN246","v":{"$error":"#VALUE!"}},{"$f":"AO246/'DATA-OUTPUT Co2 per capita'!$D$37-1","v":{"$error":"#VALUE!"}}]
["Liquid gas",0,0,0,0,0,0,0,0,0,0,null,"Liquid gas",{"$f":"IFERROR(B247/_data!B247-1,\"\")","v":""},{"$f":"IFERROR(C247/_data!C247-1,\"\")","v":""},{"$f":"IFERROR(D247/_data!D247-1,\"\")","v":""},{"$f":"IFERROR(E247/_data!E247-1,\"\")","v":""},{"$f":"IFERROR(F247/_data!F247-1,\"\")","v":""},{"$f":"IFERROR(G247/_data!G247-1,\"\")","v":""},{"$f":"IFERROR(H247/_data!H247-1,\"\")","v":""},{"$f":"IFERROR(I247/_data!I247-1,\"\")","v":""},{"$f":"IFERROR(J247/_data!J247-1,\"\")","v":""},{"$f":"IFERROR(K247/_data!K247-1,\"\")","v":""},null,"Liquid gas",{"$f":"_data!Z247","v":0.23100000000000001},{"$f":"_data!AA247","v":0.23100000000000001},{"$f":"_data!AB247","v":0.23100000000000001},{"$f":"_data!AC247","v":0.23100000000000001},{"$f":"_data!AD247","v":0.23100000000000001},{"$f":"_data!AE247","v":0.23100000000000001},{"$f":"_data!AF247","v":0.23100000000000001},{"$f":"_data!AG247","v":0.23100000000000001},{"$f":"_data!AH247","v":0.23100000000000001},{"$f":"_data!AI247","v":0.23100000000000001},null,null,null,{"$f":"'DATA-OUTPUT EC per capita'!$E$37","v":0},{"$f":"IF(AM243=Z243,Z247,IF(AM243=AA243,AA247,IF(AM243=AB243,AB247,IF(AM243=AC243,AC247,IF(AM243=AD243,AD247,IF(AM243=AE243,AE247,IF(AM243=AF243,AF247,IF(AM243=AG243, AG247,IF(AM243=AH243,AH247,IF(AM243=AI243,AI247,\"Fehler\"))))))))))","v":"Fehler"},{"$error":"#VALUE!"},{"$f":"AO247/'DATA-OUTPUT Co2 per capita'!$E$37-1","v":{"$error":"#VALUE!"}}]
["heating oil / diesel",0,0,2.6776834213143598E-3,2.6950649510653207E-3,2.7016804452369373E-3,5.4139023917983836E-3,5.3686018897478646E-3,8.038870152624597E-3,8.0474890566822055E-3,2.676511189706075E-2,null,"heating oil / diesel",{"$f":"IFERROR(B248/_data!B248-1,\"\")","v":""},{"$f":"IFERROR(C248/_data!C248-1,\"\")","v":""},{"$f":"IFERROR(D248/_data!D248-1,\"\")","v":0},{"$f":"IFERROR(E248/_data!E248-1,\"\")","v":0},{"$f":"IFERROR(F248/_data!F248-1,\"\")","v":0},{"$f":"IFERROR(G248/_data!G248-1,\"\")","v":0},{"$f":"IFERROR(H248/_data!H248-1,\"\")","v":0},{"$f":"IFERROR(I248/_data!I248-1,\"\")","v":0},{"$f":"IFERROR(J248/_data!J248-1,\"\")","v":0},{"$f":"IFERROR(K248/_data!K248-1,\"\")","v":0},null,"heating oil / diesel",{"$f":"_data!Z248","v":0.26700000000000002},{"$f":"_data!AA248","v":0.26700000000000002},{"$f":"_data!AB248","v":0.26700000000000002},{"$f":"_data!AC248","v":0.26700000000000002},{"$f":"_data!AD248","v":0.26700000000000002},{"$f":"_data!AE248","v":0.26700000000000002},{"$f":"_data!AF248","v":0.26700000000000002},{"$f":"_data!AG248","v":0.26700000000000002},{"$f":"_data!AH248","v":0.26700000000000002},{"$f":"_data!AI248","v":0.26700000000000002},null,null,null,{"$f":"'DATA-OUTPUT EC per capita'!$F$37","v":0},{"$f":"IF(AM243=Z243,Z248,IF(AM243=AA243,AA248,IF(AM243=AB243,AB248,IF(AM243=AC243,AC248,IF(AM243=AD243,AD248,IF(AM243=AE243,AE248,IF(AM243=AF243,AF248,IF(AM243=AG243, AG248,IF(AM243=AH243,AH248,IF(AM243=AI243,AI248,\"Fehler\"))))))))))","v":"Fehler"},{"$error":"#VALUE!"},{"$f":"AO248/'DATA-OUTPUT Co2 per capita'!$F$37-1","v":{"$error":"#VALUE!"}}]
["gasoline",0.16239277550188988,0.18326848643281252,7.7142784280723214E-2,7.2060903334437029E-2,7.2237789047644774E-2,7.1527204541053935E-2,2.5642969026325093E-2,2.7218221776602967E-3,0,0,null,"gasoline",{"$f":"IFERROR(B249/_data!B249-1,\"\")","v":0},{"$f":"IFERROR(C249/_data!C249-1,\"\")","v":0},{"$f":"IFERROR(D249/_data!D249-1,\"\")","v":0},{"$f":"IFERROR(E249/_data!E249-1,\"\")","v":0},{"$f":"IFERROR(F249/_data!F249-1,\"\")","v":0},{"$f":"IFERROR(G249/_data!G249-1,\"\")","v":0},{"$f":"IFERROR(H249/_data!H249-1,\"\")","v":0},{"$f":"IFERROR(I249/_data!I249-1,\"\")","v":0},{"$f":"IFERROR(J249/_data!J249-1,\"\")","v":""},{"$f":"IFERROR(K249/_data!K249-1,\"\")","v":""},null,"gasoline",{"$f":"_data!Z249","v":0.249},{"$f":"_data!AA249","v":0.249},{"$f":"_data!AB249","v":0.249},{"$f":"_data!AC249","v":0.249},{"$f":"_data!AD249","v":0.249},{"$f":"_data!AE249","v":0.249},{"$f":"_data!AF249","v":0.249},{"$f":"_data!AG249","v":0.249},{"$f":"_data!AH249","v":0.249},{"$f":"_data!AI249","v":0.249},null,null,null,{"$f":"'DATA-OUTPUT EC per capita'!$G$37","v":0},{"$f":"IF(AM243=Z243,Z249,IF(AM243=AA243,AA249,IF(AM243=AB243,AB249,IF(AM243=AC243,AC249,IF(AM243=AD243,AD249,IF(AM243=AE243,AE249,IF(AM243=AF243,AF249,IF(AM243=AG243, AG249,IF(AM243=AH243,AH249,IF(AM243=AI243,AI249,\"Fehler\"))))))))))","v":"Fehler"},{"$error":"#VALUE!"},{"$f":"AO249/'DATA-OUTPUT Co2 per capita'!$G$37-1","v":{"$error":"#VALUE!"}}]
["Lignite / Coal",1.5088759628514737E-3,1.1145561027012786E-2,5.6103843113253253E-3,1.1293605509226104E-2,1.1321327580040497E-2,1.4076146218675796E-2,1.2379364357536254E-2,1.3988900029370359E-2,2.1734557058598392E-2,4.3202039438549819E-2,null,"Lignite / Coal",{"$f":"IFERROR(B250/_data!B250-1,\"\")","v":0},{"$f":"IFERROR(C250/_data!C250-1,\"\")","v":0},{"$f":"IFERROR(D250/_data!D250-1,\"\")","v":0},{"$f":"IFERROR(E250/_data!E250-1,\"\")","v":0},{"$f":"IFERROR(F250/_data!F250-1,\"\")","v":0},{"$f":"IFERROR(G250/_data!G250-1,\"\")","v":0},{"$f":"IFERROR(H250/_data!H250-1,\"\")","v":0},{"$f":"IFERROR(I250/_data!I250-1,\"\")","v":0},{"$f":"IFERROR(J250/_data!J250-1,\"\")","v":0},{"$f":"IFERROR(K250/_data!K250-1,\"\")","v":0},null,"Lignite / Coal",{"$f":"_data!Z250","v":0.36399999999999999},{"$f":"_data!AA250","v":0.36399999999999999},{"$f":"_data!AB250","v":0.36399999999999999},{"$f":"_data!AC250","v":0.36399999999999999},{"$f":"_data!AD250","v":0.36399999999999999},{"$f":"_data!AE250","v":0.36399999999999999},{"$f":"_data!AF250","v":0.36399999999999999},{"$f":"_data!AG250","v":0.36399999999999999},{"$f":"_data!AH250","v":0.36399999999999999},{"$f":"_data!AI250","v":0.36399999999999999},null,null,null,{"$f":"'DATA-OUTPUT EC per capita'!$H$37","v":0},{"$f":"IF(AM243=Z243,Z250,IF(AM243=AA243,AA250,IF(AM243=AB243,AB250,IF(AM243=AC243,AC250,IF(AM243=AD243,AD250,IF(AM243=AE243,AE250,IF(AM243=AF243,AF250,IF(AM243=AG243, AG250,IF(AM243=AH243,AH250,IF(AM243=AI243,AI250,\"Fehler\"))))))))))","v":"Fehler"},{"$error":"#VALUE!"},{"$f":"AO250/'DATA-OUTPUT Co2 per capita'!$H$37-1","v":{"$error":"#VALUE!"}}]
["other fossil fuels",6.5447494888682678E-2,6.0540661033092184E-2,6.0949175018488767E-2,4.6778627364919494E-2,4.3934470097543525E-2,7.254629205009834E-2,5.7538780253650647E-2,5.1904515946080074E-2,3.1746393837777824E-2,2.8654413913323861E-2,null,"other fossil fuels",{"$f":"IFERROR(B251/_data!B251-1,\"\")","v":0},{"$f":"IFERROR(C251/_data!C251-1,\"\")","v":0},{"$f":"IFERROR(D251/_data!D251-1,\"\")","v":0},{"$f":"IFERROR(E251/_data!E251-1,\"\")","v":0},{"$f":"IFERROR(F251/_data!F251-1,\"\")","v":0},{"$f":"IFERROR(G251/_data!G251-1,\"\")","v":0},{"$f":"IFERROR(H251/_data!H251-1,\"\")","v":0},{"$f":"IFERROR(I251/_data!I251-1,\"\")","v":0},{"$f":"IFERROR(J251/_data!J251-1,\"\")","v":0},{"$f":"IFERROR(K251/_data!K251-1,\"\")","v":0},null,"other fossil fuels",{"$f":"_data!Z251","v":0.38200000000000001},{"$f":"_data!AA251","v":0.38200000000000001},{"$f":"_data!AB251","v":0.38200000000000001},{"$f":"_data!AC251","v":0.38200000000000001},{"$f":"_data!AD251","v":0.38200000000000001},{"$f":"_data!AE251","v":0.38200000000000001},{"$f":"_data!AF251","v":0.38200000000000001},{"$f":"_data!AG251","v":0.38200000000000001},{"$f":"_data!AH251","v":0.38200000000000001},{"$f":"_data!AI251","v":0.38200000000000001},null,null,null,{"$f":"'DATA-OUTPUT EC per capita'!$I$37","v":0},{"$f":"IF(AM243=Z243,Z251,IF(AM243=AA243,AA251,IF(AM243=AB243,AB251,IF(AM243=AC243,AC251,IF(AM243=AD243,AD251,IF(AM243=AE243,AE251,IF(AM243=AF243,AF251,IF(AM243=AG243, AG251,IF(AM243=AH243,AH251,IF(AM243=AI243,AI251,\"Fehler\"))))))))))","v":"Fehler"},{"$error":"#VALUE!"},{"$f":"AO251/'DATA-OUTPUT Co2 per capita'!$I$37-1","v":{"$error":"#VALUE!"}}]
["Plant oil, biofuel",1.5725631024501632,1.584189515066772,1.5948792492285722,1.6052320194250016,1.6091723337630293,1.5937891711761287,0.87047142640594199,0.92535624221432256,0.87857036040077752,0.87556553107020141,null,"Plant oil, biofuel",{"$f":"IFERROR(B252/_data!B252-1,\"\")","v":0},{"$f":"IFERROR(C252/_data!C252-1,\"\")","v":0},{"$f":"IFERROR(D252/_data!D252-1,\"\")","v":0},{"$f":"IFERROR(E252/_data!E252-1,\"\")","v":0},{"$f":"IFERROR(F252/_data!F252-1,\"\")","v":0},{"$f":"IFERROR(G252/_data!G252-1,\"\")","v":0},{"$f":"IFERROR(H252/_data!H252-1,\"\")","v":0},{"$f":"IFERROR(I252/_data!I252-1,\"\")","v":0},{"$f":"IFERROR(J252/_data!J252-1,\"\")","v":0},{"$f":"IFERROR(K252/_data!K252-1,\"\")","v":0},null,"Plant oil, biofuel",{"$f":"_data!Z252","v":0},{"$f":"_data!AA252","v":0},{"$f":"_data!AB252","v":0},{"$f":"_data!AC252","v":0},{"$f":"_data!AD252","v":0},{"$f":"_data!AE252","v":0},{"$f":"_data!AF252","v":0},{"$f":"_data!AG252","v":0},{"$f":"_data!AH252","v":0},{"$f":"_data!AI252","v":0},null,null,null,{"$f":"'DATA-OUTPUT EC per capita'!$J$37","v":0},{"$f":"IF(AM243=Z243,Z252,IF(AM243=AA243,AA252,IF(AM243=AB243,AB252,IF(AM243=AC243,AC252,IF(AM243=AD243,AD252,IF(AM243=AE243,AE252,IF(AM243=AF243,AF252,IF(AM243=AG243, AG252,IF(AM243=AH243,AH252,IF(AM243=AI243,AI252,\"Fehler\"))))))))))","v":"Fehler"},{"$error":"#VALUE!"},{"$f":"AO252/'DATA-OUTPUT Co2 per capita'!$J$37-1","v":{"$error":"#VALUE!"}}]
["Summe",3.1062600748905438,2.8195736316290754,2.6370718894244254,2.7305499729210143,2.8359925588001449,2.9900027515362742,2.1206609064726392,2.2185382675538539,2.1877764344173993,2.2494659572967359,null,"Summe",{"$f":"IFERROR(B253/_data!B253-1,\"\")","v":0},{"$f":"IFERROR(C253/_data!C253-1,\"\")","v":0},{"$f":"IFERROR(D253/_data!D253-1,\"\")","v":0},{"$f":"IFERROR(E253/_data!E253-1,\"\")","v":0},{"$f":"IFERROR(F253/_data!F253-1,\"\")","v":0},{"$f":"IFERROR(G253/_data!G253-1,\"\")","v":0},{"$f":"IFERROR(H253/_data!H253-1,\"\")","v":0},{"$f":"IFERROR(I253/_data!I253-1,\"\")","v":0},{"$f":"IFERROR(J253/_data!J253-1,\"\")","v":0},{"$f":"IFERROR(K253/_data!K253-1,\"\")","v":0},null,null,null,null,null,null,null,null,null,null,null,null,null,null,"Total",null,null,{"$f":"SUM(AO244:AO252)","v":{"$error":"#VALUE!"}},{"$f":"AO253/'DATA-OUTPUT Co2 per capita'!$K$37-1","v":{"$error":"#VALUE!"}}]
[]
["Energy consumption (MWh /Einwohner and  Year) - Primary sector (Agriculture)",null,null,null,null,null,null,null,null,null,null,null,"Test:",{"$f":"A255","v":"Energy consumption (MWh /Einwohner and  Year) - Primary sector (Agriculture)"}]
["Energieträger",2000,2001,2002,2003,2004,2005,2006,2007,2008,2009,null,"Energieträger",2000,2001,2002,2003,2004,2005,2006,2007,2008,2009]
["Electricity",2.5147932714191228E-4,2.533082051593815E-4,2.5501746869660574E-4,2.5667285248241148E-4,2.5730289954637499E-4,2.547718772611004E-4,2.5264008892931128E-4,2.5319276071258571E-4,4.4356238895098762E-4,4.7169573672702352E-2,null,"Electricity",{"$f":"IFERROR(B257/_data!B257-1,\"\")","v":0},{"$f":"IFERROR(C257/_data!C257-1,\"\")","v":0},{"$f":"IFERROR(D257/_data!D257-1,\"\")","v":0},{"$f":"IFERROR(E257/_data!E257-1,\"\")","v":0},{"$f":"IFERROR(F257/_data!F257-1,\"\")","v":0},{"$f":"IFERROR(G257/_data!G257-1,\"\")","v":0},{"$f":"IFERROR(H257/_data!H257-1,\"\")","v":0},{"$f":"IFERROR(I257/_data!I257-1,\"\")","v":0},{"$f":"IFERROR(J257/_data!J257-1,\"\")","v":0},{"$f":"IFERROR(K257/_data!K257-1,\"\")","v":0}]
["Heat and Cold",0,0,0,0,0,4.9043586372761834E-3,9.5371633570815011E-3,7.9755719624464497E-3,1.5904879946671127E-2,1.8452183025503058E-2,null,"Heat and Cold",{"$f":"IFERROR(B258/_data!B258-1,\"\")","v":""},{"$f":"IFERROR(C258/_data!C258-1,\"\")","v":""},{"$f":"IFERROR(D258/_data!D258-1,\"\")","v":""},{"$f":"IFERROR(E258/_data!E258-1,\"\")","v":""},{"$f":"IFERROR(F258/_data!F258-1,\"\")","v":""},{"$f":"IFERROR(G258/_data!G258-1,\"\")","v":0},{"$f":"IFERROR(H258/_data!H258-1,\"\")","v":0},{"$f":"IFERROR(I258/_data!I258-1,\"\")","v":0},{"$f":"IFERROR(J258/_data!J258-1,\"\")","v":0},{"$f":"IFERROR(K258/_data!K258-1,\"\")","v":0}]
["natural gas",0.18112798537396232,0.17820232232962488,0.17513324662739396,0.17197081116321572,0.16808311912866947,0.14936001304432012,0.15335253398009197,0.16166357771498599,0.19098529147118237,0.10813105206412543,null,"natural gas",{"$f":"IFERROR(B259/_data!B259-1,\"\")","v":0},{"$f":"IFERROR(C259/_data!C259-1,\"\")","v":0},{"$f":"IFERROR(D259/_data!D259-1,\"\")","v":0},{"$f":"IFERROR(E259/_data!E259-1,\"\")","v":0},{"$f":"IFERROR(F259/_data!F259-1,\"\")","v":0},{"$f":"IFERROR(G259/_data!G259-1,\"\")","v":0},{"$f":"IFERROR(H259/_data!H259-1,\"\")","v":0},{"$f":"IFERROR(I259/_data!I259-1,\"\")","v":0},{"$f":"IFERROR(J259/_data!J259-1,\"\")","v":0},{"$f":"IFERROR(K259/_data!K259-1,\"\")","v":0}]
["Liquid gas",0,0,0,0,0,0,0,0,0,0,null,"Liquid gas",{"$f":"IFERROR(B260/_data!B260-1,\"\")","v":""},{"$f":"IFERROR(C260/_data!C260-1,\"\")","v":""},{"$f":"IFERROR(D260/_data!D260-1,\"\")","v":""},{"$f":"IFERROR(E260/_data!E260-1,\"\")","v":""},{"$f":"IFERROR(F260/_data!F260-1,\"\")","v":""},{"$f":"IFERROR(G260/_data!G260-1,\"\")","v":""},{"$f":"IFERROR(H260/_data!H260-1,\"\")","v":""},{"$f":"IFERROR(I260/_data!I260-1,\"\")","v":""},{"$f":"IFERROR(J260/_data!J260-1,\"\")","v":""},{"$f":"IFERROR(K260/_data!K260-1,\"\")","v":""}]
["heating oil / diesel",2.9234471780247302E-2,5.3827993596368577E-2,8.1286818147043083E-2,6.2692344218829008E-2,7.1079925999686086E-2,0.12993365740316121,0.14760497195695013,0.18831211577998561,0.17235567113524089,0,null,"heating oil / diesel",{"$f":"IFERROR(B261/_data!B261-1,\"\")","v":0},{"$f":"IFERROR(C261/_data!C261-1,\"\")","v":0},{"$f":"IFERROR(D261/_data!D261-1,\"\")","v":0},{"$f":"IFERROR(E261/_data!E261-1,\"\")","v":0},{"$f":"IFERROR(F261/_data!F261-1,\"\")","v":0},{"$f":"IFERROR(G261/_data!G261-1,\"\")","v":0},{"$f":"IFERROR(H261/_data!H261-1,\"\")","v":0},{"$f":"IFERROR(I261/_data!I261-1,\"\")","v":0},{"$f":"IFERROR(J261/_data!J261-1,\"\")","v":0},{"$f":"IFERROR(K261/_data!K261-1,\"\")","v":""}]
["gasoline",0,0,0,2.7592331641859238E-3,0,0,0,0,0,0,null,"gasoline",{"$f":"IFERROR(B262/_data!B262-1,\"\")","v":""},{"$f":"IFERROR(C262/_data!C262-1,\"\")","v":""},{"$f":"IFERROR(D262/_data!D262-1,\"\")","v":""},{"$f":"IFERROR(E262/_data!E262-1,\"\")","v":0},{"$f":"IFERROR(F262/_data!F262-1,\"\")","v":""},{"$f":"IFERROR(G262/_data!G262-1,\"\")","v":""},{"$f":"IFERROR(H262/_data!H262-1,\"\")","v":""},{"$f":"IFERROR(I262/_data!I262-1,\"\")","v":""},{"$f":"IFERROR(J262/_data!J262-1,\"\")","v":""},{"$f":"IFERROR(K262/_data!K262-1,\"\")","v":""}]
["Lignite / Coal",0,0,0,0,0,0,0,2.1711279231104223E-2,1.7108835002395236E-2,3.8604737865642919E-2,null,"Lignite / Coal",{"$f":"IFERROR(B263/_data!B263-1,\"\")","v":""},{"$f":"IFERROR(C263/_data!C263-1,\"\")","v":""},{"$f":"IFERROR(D263/_data!D263-1,\"\")","v":""},{"$f":"IFERROR(E263/_data!E263-1,\"\")","v":""},{"$f":"IFERROR(F263/_data!F263-1,\"\")","v":""},{"$f":"IFERROR(G263/_data!G263-1,\"\")","v":""},{"$f":"IFERROR(H263/_data!H263-1,\"\")","v":""},{"$f":"IFERROR(I263/_data!I263-1,\"\")","v":0},{"$f":"IFERROR(J263/_data!J263-1,\"\")","v":0},{"$f":"IFERROR(K263/_data!K263-1,\"\")","v":0}]
["other fossil fuels",0,0,0,0,0,0,0,0,0,0,null,"other fossil fuels",{"$f":"IFERROR(B264/_data!B264-1,\"\")","v":""},{"$f":"IFERROR(C264/_data!C264-1,\"\")","v":""},{"$f":"IFERROR(D264/_data!D264-1,\"\")","v":""},{"$f":"IFERROR(E264/_data!E264-1,\"\")","v":""},{"$f":"IFERROR(F264/_data!F264-1,\"\")","v":""},{"$f":"IFERROR(G264/_data!G264-1,\"\")","v":""},{"$f":"IFERROR(H264/_data!H264-1,\"\")","v":""},{"$f":"IFERROR(I264/_data!I264-1,\"\")","v":""},{"$f":"IFERROR(J264/_data!J264-1,\"\")","v":""},{"$f":"IFERROR(K264/_data!K264-1,\"\")","v":""}]
["Plant oil, biofuel",0,0,0,0,0,0,5.2864938608458388E-2,0,0,0,null,"Plant oil, biofuel",{"$f":"IFERROR(B265/_data!B265-1,\"\")","v":""},{"$f":"IFERROR(C265/_data!C265-1,\"\")","v":""},{"$f":"IFERROR(D265/_data!D265-1,\"\")","v":""},{"$f":"IFERROR(E265/_data!E265-1,\"\")","v":""},{"$f":"IFERROR(F265/_data!F265-1,\"\")","v":""},{"$f":"IFERROR(G265/_data!G265-1,\"\")","v":""},{"$f":"IFERROR(H265/_data!H265-1,\"\")","v":0},{"$f":"IFERROR(I265/_data!I265-1,\"\")","v":""},{"$f":"IFERROR(J265/_data!J265-1,\"\")","v":""},{"$f":"IFERROR(K265/_data!K265-1,\"\")","v":""}]
["Summe",0.21061393648135154,0.23228362413115283,0.25667508224313362,0.23767906139871303,0.23942034802790191,0.28445280096201864,0.36361224799151132,0.37991573744923485,0.39679823994444063,0.21235754662797376,null,"Summe",{"$f":"IFERROR(B266/_data!B266-1,\"\")","v":0},{"$f":"IFERROR(C266/_data!C266-1,\"\")","v":0},{"$f":"IFERROR(D266/_data!D266-1,\"\")","v":0},{"$f":"IFERROR(E266/_data!E266-1,\"\")","v":0},{"$f":"IFERROR(F266/_data!F266-1,\"\")","v":0},{"$f":"IFERROR(G266/_data!G266-1,\"\")","v":0},{"$f":"IFERROR(H266/_data!H266-1,\"\")","v":0},{"$f":"IFERROR(I266/_data!I266-1,\"\")","v":0},{"$f":"IFERROR(J266/_data!J266-1,\"\")","v":0},{"$f":"IFERROR(K266/_data!K266-1,\"\")","v":0}]
[]
["Energy consumption (MWh /Einwohner and  Year) - Secondary sector (Industrie)",null,null,null,null,null,null,null,null,null,null,null,"Test:",{"$f":"A268","v":"Energy consumption (MWh /Einwohner and  Year) - Secondary sector (Industrie)"}]
["Energieträger",2000,2001,2002,2003,2004,2005,2006,2007,2008,2009,null,"Energieträger",2000,2001,2002,2003,2004,2005,2006,2007,2008,2009]
["Electricity",0.20279292940723809,0.1413459784789349,0.15237293754622191,0.15939384139157753,0.16280840968796875,0.16897744759342487,0.15417361426911222,0.15881515915696939,0.16221710224493263,0.29743911409368917,null,"Electricity",{"$f":"IFERROR(B270/_data!B270-1,\"\")","v":0},{"$f":"IFERROR(C270/_data!C270-1,\"\")","v":0},{"$f":"IFERROR(D270/_data!D270-1,\"\")","v":0},{"$f":"IFERROR(E270/_data!E270-1,\"\")","v":0},{"$f":"IFERROR(F270/_data!F270-1,\"\")","v":0},{"$f":"IFERROR(G270/_data!G270-1,\"\")","v":0},{"$f":"IFERROR(H270/_data!H270-1,\"\")","v":0},{"$f":"IFERROR(I270/_data!I270-1,\"\")","v":0},{"$f":"IFERROR(J270/_data!J270-1,\"\")","v":0},{"$f":"IFERROR(K270/_data!K270-1,\"\")","v":0}]
["Heat and Cold",0,0,0,0,0,7.2418906111467785E-2,2.854833004901218E-2,3.4434215456911658E-2,5.0376014173719307E-2,5.5356549076509172E-2,null,"Heat and Cold",{"$f":"IFERROR(B271/_data!B271-1,\"\")","v":""},{"$f":"IFERROR(C271/_data!C271-1,\"\")","v":""},{"$f":"IFERROR(D271/_data!D271-1,\"\")","v":""},{"$f":"IFERROR(E271/_data!E271-1,\"\")","v":""},{"$f":"IFERROR(F271/_data!F271-1,\"\")","v":""},{"$f":"IFERROR(G271/_data!G271-1,\"\")","v":0},{"$f":"IFERROR(H271/_data!H271-1,\"\")","v":0},{"$f":"IFERROR(I271/_data!I271-1,\"\")","v":0},{"$f":"IFERROR(J271/_data!J271-1,\"\")","v":0},{"$f":"IFERROR(K271/_data!K271-1,\"\")","v":0}]
["natural gas",0.57664209713640491,0.44778557967049665,0.37710708183510572,0.43082538289172767,0.23330940416367552,0.27496254853404262,0.44161487544843614,0.48233220915747571,0.52790260890723961,0.52994921556180286,null,"natural gas",{"$f":"IFERROR(B272/_data!B272-1,\"\")","v":0},{"$f":"IFERROR(C272/_data!C272-1,\"\")","v":0},{"$f":"IFERROR(D272/_data!D272-1,\"\")","v":0},{"$f":"IFERROR(E272/_data!E272-1,\"\")","v":0},{"$f":"IFERROR(F272/_data!F272-1,\"\")","v":0},{"$f":"IFERROR(G272/_data!G272-1,\"\")","v":0},{"$f":"IFERROR(H272/_data!H272-1,\"\")","v":0},{"$f":"IFERROR(I272/_data!I272-1,\"\")","v":0},{"$f":"IFERROR(J272/_data!J272-1,\"\")","v":0},{"$f":"IFERROR(K272/_data!K272-1,\"\")","v":0}]
["Liquid gas",0,0,0,0,0,0,0,0,0,0,null,"Liquid gas",{"$f":"IFERROR(B273/_data!B273-1,\"\")","v":""},{"$f":"IFERROR(C273/_data!C273-1,\"\")","v":""},{"$f":"IFERROR(D273/_data!D273-1,\"\")","v":""},{"$f":"IFERROR(E273/_data!E273-1,\"\")","v":""},{"$f":"IFERROR(F273/_data!F273-1,\"\")","v":""},{"$f":"IFERROR(G273/_data!G273-1,\"\")","v":""},{"$f":"IFERROR(H273/_data!H273-1,\"\")","v":""},{"$f":"IFERROR(I273/_data!I273-1,\"\")","v":""},{"$f":"IFERROR(J273/_data!J273-1,\"\")","v":""},{"$f":"IFERROR(K273/_data!K273-1,\"\")","v":""}]
["heating oil / diesel",4.8472640306603594E-2,8.2261839625509148E-2,6.4455665213067087E-2,6.2050662087622971E-2,4.8179967940058709E-2,4.7706034017141047E-2,4.7306856652013535E-2,6.3171593797790138E-2,7.9017471288840221E-2,0.13067672279153189,null,"heating oil / diesel",{"$f":"IFERROR(B274/_data!B274-1,\"\")","v":0},{"$f":"IFERROR(C274/_data!C274-1,\"\")","v":0},{"$f":"IFERROR(D274/_data!D274-1,\"\")","v":0},{"$f":"IFERROR(E274/_data!E274-1,\"\")","v":0},{"$f":"IFERROR(F274/_data!F274-1,\"\")","v":0},{"$f":"IFERROR(G274/_data!G274-1,\"\")","v":0},{"$f":"IFERROR(H274/_data!H274-1,\"\")","v":0},{"$f":"IFERROR(I274/_data!I274-1,\"\")","v":0},{"$f":"IFERROR(J274/_data!J274-1,\"\")","v":0},{"$f":"IFERROR(K274/_data!K274-1,\"\")","v":0}]
["gasoline",0,2.7863902567531965E-3,0,8.470204131919578E-3,2.8303318950101243E-3,0,0,0,0,0,null,"gasoline",{"$f":"IFERROR(B275/_data!B275-1,\"\")","v":""},{"$f":"IFERROR(C275/_data!C275-1,\"\")","v":0},{"$f":"IFERROR(D275/_data!D275-1,\"\")","v":""},{"$f":"IFERROR(E275/_data!E275-1,\"\")","v":0},{"$f":"IFERROR(F275/_data!F275-1,\"\")","v":0},{"$f":"IFERROR(G275/_data!G275-1,\"\")","v":""},{"$f":"IFERROR(H275/_data!H275-1,\"\")","v":""},{"$f":"IFERROR(I275/_data!I275-1,\"\")","v":""},{"$f":"IFERROR(J275/_data!J275-1,\"\")","v":""},{"$f":"IFERROR(K275/_data!K275-1,\"\")","v":""}]
["Lignite / Coal",1.2699706020666571E-2,4.1225910389689341E-2,3.4172340805345161E-2,7.3921781514934504E-2,8.6518099972468593E-2,1.4076146218675796E-2,0.10231923601637108,0.16001782477035417,0.22032377519751201,0.22759791622582953,null,"Lignite / Coal",{"$f":"IFERROR(B276/_data!B276-1,\"\")","v":0},{"$f":"IFERROR(C276/_data!C276-1,\"\")","v":0},{"$f":"IFERROR(D276/_data!D276-1,\"\")","v":0},{"$f":"IFERROR(E276/_data!E276-1,\"\")","v":0},{"$f":"IFERROR(F276/_data!F276-1,\"\")","v":0},{"$f":"IFERROR(G276/_data!G276-1,\"\")","v":0},{"$f":"IFERROR(H276/_data!H276-1,\"\")","v":0},{"$f":"IFERROR(I276/_data!I276-1,\"\")","v":0},{"$f":"IFERROR(J276/_data!J276-1,\"\")","v":0},{"$f":"IFERROR(K276/_data!K276-1,\"\")","v":0}]
["other fossil fuels",0,0,0,0,0,0,0,0,0,0,null,"other fossil fuels",{"$f":"IFERROR(B277/_data!B277-1,\"\")","v":""},{"$f":"IFERROR(C277/_data!C277-1,\"\")","v":""},{"$f":"IFERROR(D277/_data!D277-1,\"\")","v":""},{"$f":"IFERROR(E277/_data!E277-1,\"\")","v":""},{"$f":"IFERROR(F277/_data!F277-1,\"\")","v":""},{"$f":"IFERROR(G277/_data!G277-1,\"\")","v":""},{"$f":"IFERROR(H277/_data!H277-1,\"\")","v":""},{"$f":"IFERROR(I277/_data!I277-1,\"\")","v":""},{"$f":"IFERROR(J277/_data!J277-1,\"\")","v":""},{"$f":"IFERROR(K277/_data!K277-1,\"\")","v":""}]
["Plant oil, biofuel",9.4367617510002583E-2,9.5053903986057911E-2,9.5695305128401298E-2,9.6316487894024916E-2,9.6552913054777215E-2,9.5603146942227935E-2,0,0,0,0,null,"Plant oil, biofuel",{"$f":"IFERROR(B278/_data!B278-1,\"\")","v":0},{"$f":"IFERROR(C278/_data!C278-1,\"\")","v":0},{"$f":"IFERROR(D278/_data!D278-1,\"\")","v":0},{"$f":"IFERROR(E278/_data!E278-1,\"\")","v":0},{"$f":"IFERROR(F278/_data!F278-1,\"\")","v":0},{"$f":"IFERROR(G278/_data!G278-1,\"\")","v":0},{"$f":"IFERROR(H278/_data!H278-1,\"\")","v":""},{"$f":"IFERROR(I278/_data!I278-1,\"\")","v":""},{"$f":"IFERROR(J278/_data!J278-1,\"\")","v":""},{"$f":"IFERROR(K278/_data!K278-1,\"\")","v":""}]
["Summe",0.93497499038091569,0.81045960240744119,0.72380333052814116,0.83097835991180713,0.63019912671395883,0.67374422941697998,0.77396291243494508,0.89877100233950113,1.0398369718122438,1.2410195177493626,null,"Summe",{"$f":"IFERROR(B279/_data!B279-1,\"\")","v":0},{"$f":"IFERROR(C279/_data!C279-1,\"\")","v":0},{"$f":"IFERROR(D279/_data!D279-1,\"\")","v":0},{"$f":"IFERROR(E279/_data!E279-1,\"\")","v":0},{"$f":"IFERROR(F279/_data!F279-1,\"\")","v":0},{"$f":"IFERROR(G279/_data!G279-1,\"\")","v":0},{"$f":"IFERROR(H279/_data!H279-1,\"\")","v":0},{"$f":"IFERROR(I279/_data!I279-1,\"\")","v":0},{"$f":"IFERROR(J279/_data!J279-1,\"\")","v":0},{"$f":"IFERROR(K279/_data!K279-1,\"\")","v":0}]
[]
["Energy consumption (MWh /Einwohner and  Year) - Tertiary sector (Services)",null,null,null,null,null,null,null,null,null,null,null,"Test:",{"$f":"A281","v":"Energy consumption (MWh /Einwohner and  Year) - Tertiary sector (Services)"}]
["Energieträger",2000,2001,2002,2003,2004,2005,2006,2007,2008,2009,null,"Energieträger",2000,2001,2002,2003,2004,2005,2006,2007,2008,2009]
["Electricity",0.49994090235812155,0.40421656838308306,0.4356335909009767,0.45668517277933063,0.4677766713753097,0.48610474181417956,0.44224647567075942,0.45600016204336685,0.4673880258432121,0.17318601815745191,null,"Electricity",{"$f":"IFERROR(B283/_data!B283-1,\"\")","v":0},{"$f":"IFERROR(C283/_data!C283-1,\"\")","v":0},{"$f":"IFERROR(D283/_data!D283-1,\"\")","v":0},{"$f":"IFERROR(E283/_data!E283-1,\"\")","v":0},{"$f":"IFERROR(F283/_data!F283-1,\"\")","v":0},{"$f":"IFERROR(G283/_data!G283-1,\"\")","v":0},{"$f":"IFERROR(H283/_data!H283-1,\"\")","v":0},{"$f":"IFERROR(I283/_data!I283-1,\"\")","v":0},{"$f":"IFERROR(J283/_data!J283-1,\"\")","v":0},{"$f":"IFERROR(K283/_data!K283-1,\"\")","v":0}]
["Heat and Cold",0,0,0,0,0,0,0,0,0,0,null,"Heat and Cold",{"$f":"IFERROR(B284/_data!B284-1,\"\")","v":""},{"$f":"IFERROR(C284/_data!C284-1,\"\")","v":""},{"$f":"IFERROR(D284/_data!D284-1,\"\")","v":""},{"$f":"IFERROR(E284/_data!E284-1,\"\")","v":""},{"$f":"IFERROR(F284/_data!F284-1,\"\")","v":""},{"$f":"IFERROR(G284/_data!G284-1,\"\")","v":""},{"$f":"IFERROR(H284/_data!H284-1,\"\")","v":""},{"$f":"IFERROR(I284/_data!I284-1,\"\")","v":""},{"$f":"IFERROR(J284/_data!J284-1,\"\")","v":""},{"$f":"IFERROR(K284/_data!K284-1,\"\")","v":""}]
["natural gas",4.8032551484105249E-2,0.11170891847528726,9.4037691581873362E-2,0.1074817569770098,0.12627139795238351,0.14891416225911319,8.9876711636602491E-2,8.2161050851234069E-2,0.20955154575155943,8.4388823393085663E-2,null,"natural gas",{"$f":"IFERROR(B285/_data!B285-1,\"\")","v":0},{"$f":"IFERROR(C285/_data!C285-1,\"\")","v":0},{"$f":"IFERROR(D285/_data!D285-1,\"\")","v":0},{"$f":"IFERROR(E285/_data!E285-1,\"\")","v":0},{"$f":"IFERROR(F285/_data!F285-1,\"\")","v":0},{"$f":"IFERROR(G285/_data!G285-1,\"\")","v":0},{"$f":"IFERROR(H285/_data!H285-1,\"\")","v":0},{"$f":"IFERROR(I285/_data!I285-1,\"\")","v":0},{"$f":"IFERROR(J285/_data!J285-1,\"\")","v":0},{"$f":"IFERROR(K285/_data!K285-1,\"\")","v":0}]
["Liquid gas",0,0,0,0,0,0,0,0,0,0,null,"Liquid gas",{"$f":"IFERROR(B286/_data!B286-1,\"\")","v":""},{"$f":"IFERROR(C286/_data!C286-1,\"\")","v":""},{"$f":"IFERROR(D286/_data!D286-1,\"\")","v":""},{"$f":"IFERROR(E286/_data!E286-1,\"\")","v":""},{"$f":"IFERROR(F286/_data!F286-1,\"\")","v":""},{"$f":"IFERROR(G286/_data!G286-1,\"\")","v":""},{"$f":"IFERROR(H286/_data!H286-1,\"\")","v":""},{"$f":"IFERROR(I286/_data!I286-1,\"\")","v":""},{"$f":"IFERROR(J286/_data!J286-1,\"\")","v":""},{"$f":"IFERROR(K286/_data!K286-1,\"\")","v":""}]
["heating oil / diesel",6.2869831785478071E-4,2.6597361541735058E-3,2.6776834213143598E-3,2.6950649510653207E-3,2.7016804452369373E-3,5.4139023917983836E-3,5.3686018897478646E-3,8.038870152624597E-3,8.0474890566822055E-3,0,null,"heating oil / diesel",{"$f":"IFERROR(B287/_data!B287-1,\"\")","v":0},{"$f":"IFERROR(C287/_data!C287-1,\"\")","v":0},{"$f":"IFERROR(D287/_data!D287-1,\"\")","v":0},{"$f":"IFERROR(E287/_data!E287-1,\"\")","v":0},{"$f":"IFERROR(F287/_data!F287-1,\"\")","v":0},{"$f":"IFERROR(G287/_data!G287-1,\"\")","v":0},{"$f":"IFERROR(H287/_data!H287-1,\"\")","v":0},{"$f":"IFERROR(I287/_data!I287-1,\"\")","v":0},{"$f":"IFERROR(J287/_data!J287-1,\"\")","v":0},{"$f":"IFERROR(K287/_data!K287-1,\"\")","v":""}]
["gasoline",0,0,0,0,0,0,0,0,0,0,null,"gasoline",{"$f":"IFERROR(B288/_data!B288-1,\"\")","v":""},{"$f":"IFERROR(C288/_data!C288-1,\"\")","v":""},{"$f":"IFERROR(D288/_data!D288-1,\"\")","v":""},{"$f":"IFERROR(E288/_data!E288-1,\"\")","v":""},{"$f":"IFERROR(F288/_data!F288-1,\"\")","v":""},{"$f":"IFERROR(G288/_data!G288-1,\"\")","v":""},{"$f":"IFERROR(H288/_data!H288-1,\"\")","v":""},{"$f":"IFERROR(I288/_data!I288-1,\"\")","v":""},{"$f":"IFERROR(J288/_data!J288-1,\"\")","v":""},{"$f":"IFERROR(K288/_data!K288-1,\"\")","v":""}]
["Lignite / Coal",0,0,0,0,0,0,0,7.7856773919120102E-3,3.8843392060993631E-2,0.21292433723285267,null,"Lignite / Coal",{"$f":"IFERROR(B289/_data!B289-1,\"\")","v":""},{"$f":"IFERROR(C289/_data!C289-1,\"\")","v":""},{"$f":"IFERROR(D289/_data!D289-1,\"\")","v":""},{"$f":"IFERROR(E289/_data!E289-1,\"\")","v":""},{"$f":"IFERROR(F289/_data!F289-1,\"\")","v":""},{"$f":"IFERROR(G289/_data!G289-1,\"\")","v":""},{"$f":"IFERROR(H289/_data!H289-1,\"\")","v":""},{"$f":"IFERROR(I289/_data!I289-1,\"\")","v":0},{"$f":"IFERROR(J289/_data!J289-1,\"\")","v":0},{"$f":"IFERROR(K289/_data!K289-1,\"\")","v":0}]
["other fossil fuels",0,0,0,0,0,0,0,0,0,0,null,"other fossil fuels",{"$f":"IFERROR(B290/_data!B290-1,\"\")","v":""},{"$f":"IFERROR(C290/_data!C290-1,\"\")","v":""},{"$f":"IFERROR(D290/_data!D290-1,\"\")","v":""},{"$f":"IFERROR(E290/_data!E290-1,\"\")","v":""},{"$f":"IFERROR(F290/_data!F290-1,\"\")","v":""},{"$f":"IFERROR(G290/_data!G290-1,\"\")","v":""},{"$f":"IFERROR(H290/_data!H290-1,\"\")","v":""},{"$f":"IFERROR(I290/_data!I290-1,\"\")","v":""},{"$f":"IFERROR(J290/_data!J290-1,\"\")","v":""},{"$f":"IFERROR(K290/_data!K290-1,\"\")","v":""}]
["Plant oil, biofuel",3.1434915892739036E-2,3.166352564492269E-2,3.1877183587075711E-2,3.2084106560301431E-2,3.2162862443296872E-2,3.184648465763755E-2,6.3475822343489474E-2,0.11931708848580601,0.12470439735079195,0.13187328073516519,null,"Plant oil, biofuel",{"$f":"IFERROR(B291/_data!B291-1,\"\")","v":0},{"$f":"IFERROR(C291/_data!C291-1,\"\")","v":0},{"$f":"IFERROR(D291/_data!D291-1,\"\")","v":0},{"$f":"IFERROR(E291/_data!E291-1,\"\")","v":0},{"$f":"IFERROR(F291/_data!F291-1,\"\")","v":0},{"$f":"IFERROR(G291/_data!G291-1,\"\")","v":0},{"$f":"IFERROR(H291/_data!H291-1,\"\")","v":0},{"$f":"IFERROR(I291/_data!I291-1,\"\")","v":0},{"$f":"IFERROR(J291/_data!J291-1,\"\")","v":0},{"$f":"IFERROR(K291/_data!K291-1,\"\")","v":0}]
["Summe",0.58003706805282063,0.55024874865746654,0.56422614949124006,0.5989461012677072,0.62891261221622707,0.67227929112272866,0.6009676115405993,0.67330284892494363,0.84853485006323925,0.60237245951855534,null,"Summe",{"$f":"IFERROR(B292/_data!B292-1,\"\")","v":0},{"$f":"IFERROR(C292/_data!C292-1,\"\")","v":0},{"$f":"IFERROR(D292/_data!D292-1,\"\")","v":0},{"$f":"IFERROR(E292/_data!E292-1,\"\")","v":0},{"$f":"IFERROR(F292/_data!F292-1,\"\")","v":0},{"$f":"IFERROR(G292/_data!G292-1,\"\")","v":0},{"$f":"IFERROR(H292/_data!H292-1,\"\")","v":0},{"$f":"IFERROR(I292/_data!I292-1,\"\")","v":0},{"$f":"IFERROR(J292/_data!J292-1,\"\")","v":0},{"$f":"IFERROR(K292/_data!K292-1,\"\")","v":0}]
[]
["Energy consumption (MWh /Einwohner and  Year) - Road",null,null,null,null,null,null,null,null,null,null,null,"Test:",{"$f":"A294","v":"Energy consumption (MWh /Einwohner and  Year) - Road"}]
["Energieträger",2000,2001,2002,2003,2004,2005,2006,2007,2008,2009,null,"Energieträger",2000,2001,2002,2003,2004,2005,2006,2007,2008,2009]
["Electricity",0,0,0,0,0,0,0,0,0,0,null,"Electricity",{"$f":"IFERROR(B296/_data!B296-1,\"\")","v":""},{"$f":"IFERROR(C296/_data!C296-1,\"\")","v":""},{"$f":"IFERROR(D296/_data!D296-1,\"\")","v":""},{"$f":"IFERROR(E296/_data!E296-1,\"\")","v":""},{"$f":"IFERROR(F296/_data!F296-1,\"\")","v":""},{"$f":"IFERROR(G296/_data!G296-1,\"\")","v":""},{"$f":"IFERROR(H296/_data!H296-1,\"\")","v":""},{"$f":"IFERROR(I296/_data!I296-1,\"\")","v":""},{"$f":"IFERROR(J296/_data!J296-1,\"\")","v":""},{"$f":"IFERROR(K296/_data!K296-1,\"\")","v":""}]
["Heat and Cold",0,0,0,0,0,0,0,0,0,0,null,"Heat and Cold",{"$f":"IFERROR(B297/_data!B297-1,\"\")","v":""},{"$f":"IFERROR(C297/_data!C297-1,\"\")","v":""},{"$f":"IFERROR(D297/_data!D297-1,\"\")","v":""},{"$f":"IFERROR(E297/_data!E297-1,\"\")","v":""},{"$f":"IFERROR(F297/_data!F297-1,\"\")","v":""},{"$f":"IFERROR(G297/_data!G297-1,\"\")","v":""},{"$f":"IFERROR(H297/_data!H297-1,\"\")","v":""},{"$f":"IFERROR(I297/_data!I297-1,\"\")","v":""},{"$f":"IFERROR(J297/_data!J297-1,\"\")","v":""},{"$f":"IFERROR(K297/_data!K297-1,\"\")","v":""}]
["natural gas",0,2.0327983464040369E-2,1.7086170402672581E-2,1.9507136788663271E-2,2.2899958059627374E-2,2.700581898967664E-2,3.701177302814411E-2,4.2409787419358108E-2,4.7778005895577812E-2,0,null,"natural gas",{"$f":"IFERROR(B298/_data!B298-1,\"\")","v":""},{"$f":"IFERROR(C298/_data!C298-1,\"\")","v":0},{"$f":"IFERROR(D298/_data!D298-1,\"\")","v":0},{"$f":"IFERROR(E298/_data!E298-1,\"\")","v":0},{"$f":"IFERROR(F298/_data!F298-1,\"\")","v":0},{"$f":"IFERROR(G298/_data!G298-1,\"\")","v":0},{"$f":"IFERROR(H298/_data!H298-1,\"\")","v":0},{"$f":"IFERROR(I298/_data!I298-1,\"\")","v":0},{"$f":"IFERROR(J298/_data!J298-1,\"\")","v":0},{"$f":"IFERROR(K298/_data!K298-1,\"\")","v":""}]
["Liquid gas",0,0,0,0,0,0,0,0,0,0,null,"Liquid gas",{"$f":"IFERROR(B299/_data!B299-1,\"\")","v":""},{"$f":"IFERROR(C299/_data!C299-1,\"\")","v":""},{"$f":"IFERROR(D299/_data!D299-1,\"\")","v":""},{"$f":"IFERROR(E299/_data!E299-1,\"\")","v":""},{"$f":"IFERROR(F299/_data!F299-1,\"\")","v":""},{"$f":"IFERROR(G299/_data!G299-1,\"\")","v":""},{"$f":"IFERROR(H299/_data!H299-1,\"\")","v":""},{"$f":"IFERROR(I299/_data!I299-1,\"\")","v":""},{"$f":"IFERROR(J299/_data!J299-1,\"\")","v":""},{"$f":"IFERROR(K299/_data!K299-1,\"\")","v":""}]
["heating oil / diesel",0,0.15337811822400552,0.17608956213500623,0.18544613591854231,0.25151358430658155,0.38706217452892677,0.4428780758930827,0.56759487132743902,0.52238976207313459,0.81359642493677131,null,"heating oil / diesel",{"$f":"IFERROR(B300/_data!B300-1,\"\")","v":""},{"$f":"IFERROR(C300/_data!C300-1,\"\")","v":0},{"$f":"IFERROR(D300/_data!D300-1,\"\")","v":0},{"$f":"IFERROR(E300/_data!E300-1,\"\")","v":0},{"$f":"IFERROR(F300/_data!F300-1,\"\")","v":0},{"$f":"IFERROR(G300/_data!G300-1,\"\")","v":0},{"$f":"IFERROR(H300/_data!H300-1,\"\")","v":0},{"$f":"IFERROR(I300/_data!I300-1,\"\")","v":0},{"$f":"IFERROR(J300/_data!J300-1,\"\")","v":0},{"$f":"IFERROR(K300/_data!K300-1,\"\")","v":0}]
["gasoline",0.73758886650722866,0.86580744523476605,0.90531201387295035,0.92241806360866629,0.82008866657918356,0.93520386845618431,0.8857561517861654,1.0685367483972898,1.1337454661587243,1.2873703938816843,null,"gasoline",{"$f":"IFERROR(B301/_data!B301-1,\"\")","v":0},{"$f":"IFERROR(C301/_data!C301-1,\"\")","v":0},{"$f":"IFERROR(D301/_data!D301-1,\"\")","v":0},{"$f":"IFERROR(E301/_data!E301-1,\"\")","v":0},{"$f":"IFERROR(F301/_data!F301-1,\"\")","v":0},{"$f":"IFERROR(G301/_data!G301-1,\"\")","v":0},{"$f":"IFERROR(H301/_data!H301-1,\"\")","v":0},{"$f":"IFERROR(I301/_data!I301-1,\"\")","v":0},{"$f":"IFERROR(J301/_data!J301-1,\"\")","v":0},{"$f":"IFERROR(K301/_data!K301-1,\"\")","v":0}]
["Lignite / Coal",0,0,0,0,0,0,0,0,0,0,null,"Lignite / Coal",{"$f":"IFERROR(B302/_data!B302-1,\"\")","v":""},{"$f":"IFERROR(C302/_data!C302-1,\"\")","v":""},{"$f":"IFERROR(D302/_data!D302-1,\"\")","v":""},{"$f":"IFERROR(E302/_data!E302-1,\"\")","v":""},{"$f":"IFERROR(F302/_data!F302-1,\"\")","v":""},{"$f":"IFERROR(G302/_data!G302-1,\"\")","v":""},{"$f":"IFERROR(H302/_data!H302-1,\"\")","v":""},{"$f":"IFERROR(I302/_data!I302-1,\"\")","v":""},{"$f":"IFERROR(J302/_data!J302-1,\"\")","v":""},{"$f":"IFERROR(K302/_data!K302-1,\"\")","v":""}]
["other fossil fuels",0,0,0,0,0,0,0,0,0,0,null,"other fossil fuels",{"$f":"IFERROR(B303/_data!B303-1,\"\")","v":""},{"$f":"IFERROR(C303/_data!C303-1,\"\")","v":""},{"$f":"IFERROR(D303/_data!D303-1,\"\")","v":""},{"$f":"IFERROR(E303/_data!E303-1,\"\")","v":""},{"$f":"IFERROR(F303/_data!F303-1,\"\")","v":""},{"$f":"IFERROR(G303/_data!G303-1,\"\")","v":""},{"$f":"IFERROR(H303/_data!H303-1,\"\")","v":""},{"$f":"IFERROR(I303/_data!I303-1,\"\")","v":""},{"$f":"IFERROR(J303/_data!J303-1,\"\")","v":""},{"$f":"IFERROR(K303/_data!K303-1,\"\")","v":""}]
["Plant oil, biofuel",0,0,0,0,0,0,0,0,0,0,null,"Plant oil, biofuel",{"$f":"IFERROR(B304/_data!B304-1,\"\")","v":""},{"$f":"IFERROR(C304/_data!C304-1,\"\")","v":""},{"$f":"IFERROR(D304/_data!D304-1,\"\")","v":""},{"$f":"IFERROR(E304/_data!E304-1,\"\")","v":""},{"$f":"IFERROR(F304/_data!F304-1,\"\")","v":""},{"$f":"IFERROR(G304/_data!G304-1,\"\")","v":""},{"$f":"IFERROR(H304/_data!H304-1,\"\")","v":""},{"$f":"IFERROR(I304/_data!I304-1,\"\")","v":""},{"$f":"IFERROR(J304/_data!J304-1,\"\")","v":""},{"$f":"IFERROR(K304/_data!K304-1,\"\")","v":""}]
["Summe",0.73758886650722866,1.0395135469228118,1.0984877464106291,1.1273713363158719,1.0945022089453924,1.3492718619747877,1.3656460007073923,1.6785414071440869,1.7039132341274366,2.1009668188184554,null,"Summe",{"$f":"IFERROR(B305/_data!B305-1,\"\")","v":0},{"$f":"IFERROR(C305/_data!C305-1,\"\")","v":0},{"$f":"IFERROR(D305/_data!D305-1,\"\")","v":0},{"$f":"IFERROR(E305/_data!E305-1,\"\")","v":0},{"$f":"IFERROR(F305/_data!F305-1,\"\")","v":0},{"$f":"IFERROR(G305/_data!G305-1,\"\")","v":0},{"$f":"IFERROR(H305/_data!H305-1,\"\")","v":0},{"$f":"IFERROR(I305/_data!I305-1,\"\")","v":0},{"$f":"IFERROR(J305/_data!J305-1,\"\")","v":0},{"$f":"IFERROR(K305/_data!K305-1,\"\")","v":0}]
[]
["Energy consumption (MWh /Einwohner and  Year) - Rail",null,null,null,null,null,null,null,null,null,null,null,"Test:",{"$f":"A307","v":"Energy consumption (MWh /Einwohner and  Year) - Rail"}]
["Energieträger",2000,2001,2002,2003,2004,2005,2006,2007,2008,2009,null,"Energieträger",2000,2001,2002,2003,2004,2005,2006,2007,2008,2009]
["Electricity",0.10247782581032926,6.7949926034004099E-2,7.3062504781577539E-2,7.6681014679120432E-2,8.2658556479272963E-2,7.7960194441896724E-2,7.4591986256379167E-2,7.6780704686091619E-2,7.8954105233275784E-2,7.8909847545922632E-2,null,"Electricity",{"$f":"IFERROR(B309/_data!B309-1,\"\")","v":0},{"$f":"IFERROR(C309/_data!C309-1,\"\")","v":0},{"$f":"IFERROR(D309/_data!D309-1,\"\")","v":0},{"$f":"IFERROR(E309/_data!E309-1,\"\")","v":0},{"$f":"IFERROR(F309/_data!F309-1,\"\")","v":0},{"$f":"IFERROR(G309/_data!G309-1,\"\")","v":0},{"$f":"IFERROR(H309/_data!H309-1,\"\")","v":0},{"$f":"IFERROR(I309/_data!I309-1,\"\")","v":0},{"$f":"IFERROR(J309/_data!J309-1,\"\")","v":0},{"$f":"IFERROR(K309/_data!K309-1,\"\")","v":0}]
["Heat and Cold",0,0,0,0,0,0,0,0,0,0,null,"Heat and Cold",{"$f":"IFERROR(B310/_data!B310-1,\"\")","v":""},{"$f":"IFERROR(C310/_data!C310-1,\"\")","v":""},{"$f":"IFERROR(D310/_data!D310-1,\"\")","v":""},{"$f":"IFERROR(E310/_data!E310-1,\"\")","v":""},{"$f":"IFERROR(F310/_data!F310-1,\"\")","v":""},{"$f":"IFERROR(G310/_data!G310-1,\"\")","v":""},{"$f":"IFERROR(H310/_data!H310-1,\"\")","v":""},{"$f":"IFERROR(I310/_data!I310-1,\"\")","v":""},{"$f":"IFERROR(J310/_data!J310-1,\"\")","v":""},{"$f":"IFERROR(K310/_data!K310-1,\"\")","v":""}]
["natural gas",0,0,0,0,0,0,0,0,0,0,null,"natural gas",{"$f":"IFERROR(B311/_data!B311-1,\"\")","v":""},{"$f":"IFERROR(C311/_data!C311-1,\"\")","v":""},{"$f":"IFERROR(D311/_data!D311-1,\"\")","v":""},{"$f":"IFERROR(E311/_data!E311-1,\"\")","v":""},{"$f":"IFERROR(F311/_data!F311-1,\"\")","v":""},{"$f":"IFERROR(G311/_data!G311-1,\"\")","v":""},{"$f":"IFERROR(H311/_data!H311-1,\"\")","v":""},{"$f":"IFERROR(I311/_data!I311-1,\"\")","v":""},{"$f":"IFERROR(J311/_data!J311-1,\"\")","v":""},{"$f":"IFERROR(K311/_data!K311-1,\"\")","v":""}]
["Liquid gas",0,0,0,0,0,0,0,0,0,0,null,"Liquid gas",{"$f":"IFERROR(B312/_data!B312-1,\"\")","v":""},{"$f":"IFERROR(C312/_data!C312-1,\"\")","v":""},{"$f":"IFERROR(D312/_data!D312-1,\"\")","v":""},{"$f":"IFERROR(E312/_data!E312-1,\"\")","v":""},{"$f":"IFERROR(F312/_data!F312-1,\"\")","v":""},{"$f":"IFERROR(G312/_data!G312-1,\"\")","v":""},{"$f":"IFERROR(H312/_data!H312-1,\"\")","v":""},{"$f":"IFERROR(I312/_data!I312-1,\"\")","v":""},{"$f":"IFERROR(J312/_data!J312-1,\"\")","v":""},{"$f":"IFERROR(K312/_data!K312-1,\"\")","v":""}]
["heating oil / diesel",0,0,0,0,0,0,0,0,0,0,null,"heating oil / diesel",{"$f":"IFERROR(B313/_data!B313-1,\"\")","v":""},{"$f":"IFERROR(C313/_data!C313-1,\"\")","v":""},{"$f":"IFERROR(D313/_data!D313-1,\"\")","v":""},{"$f":"IFERROR(E313/_data!E313-1,\"\")","v":""},{"$f":"IFERROR(F313/_data!F313-1,\"\")","v":""},{"$f":"IFERROR(G313/_data!G313-1,\"\")","v":""},{"$f":"IFERROR(H313/_data!H313-1,\"\")","v":""},{"$f":"IFERROR(I313/_data!I313-1,\"\")","v":""},{"$f":"IFERROR(J313/_data!J313-1,\"\")","v":""},{"$f":"IFERROR(K313/_data!K313-1,\"\")","v":""}]
["gasoline",0,0,0,0,0,0,0,0,0,0,null,"gasoline",{"$f":"IFERROR(B314/_data!B314-1,\"\")","v":""},{"$f":"IFERROR(C314/_data!C314-1,\"\")","v":""},{"$f":"IFERROR(D314/_data!D314-1,\"\")","v":""},{"$f":"IFERROR(E314/_data!E314-1,\"\")","v":""},{"$f":"IFERROR(F314/_data!F314-1,\"\")","v":""},{"$f":"IFERROR(G314/_data!G314-1,\"\")","v":""},{"$f":"IFERROR(H314/_data!H314-1,\"\")","v":""},{"$f":"IFERROR(I314/_data!I314-1,\"\")","v":""},{"$f":"IFERROR(J314/_data!J314-1,\"\")","v":""},{"$f":"IFERROR(K314/_data!K314-1,\"\")","v":""}]
["Lignite / Coal",0,0,0,0,0,0,0,0,0,6.1717199197928322E-3,null,"Lignite / Coal",{"$f":"IFERROR(B315/_data!B315-1,\"\")","v":""},{"$f":"IFERROR(C315/_data!C315-1,\"\")","v":""},{"$f":"IFERROR(D315/_data!D315-1,\"\")","v":""},{"$f":"IFERROR(E315/_data!E315-1,\"\")","v":""},{"$f":"IFERROR(F315/_data!F315-1,\"\")","v":""},{"$f":"IFERROR(G315/_data!G315-1,\"\")","v":""},{"$f":"IFERROR(H315/_data!H315-1,\"\")","v":""},{"$f":"IFERROR(I315/_data!I315-1,\"\")","v":""},{"$f":"IFERROR(J315/_data!J315-1,\"\")","v":""},{"$f":"IFERROR(K315/_data!K315-1,\"\")","v":0}]
["other fossil fuels",0,0,0,0,0,0,0,0,0,0,null,"other fossil fuels",{"$f":"IFERROR(B316/_data!B316-1,\"\")","v":""},{"$f":"IFERROR(C316/_data!C316-1,\"\")","v":""},{"$f":"IFERROR(D316/_data!D316-1,\"\")","v":""},{"$f":"IFERROR(E316/_data!E316-1,\"\")","v":""},{"$f":"IFERROR(F316/_data!F316-1,\"\")","v":""},{"$f":"IFERROR(G316/_data!G316-1,\"\")","v":""},{"$f":"IFERROR(H316/_data!H316-1,\"\")","v":""},{"$f":"IFERROR(I316/_data!I316-1,\"\")","v":""},{"$f":"IFERROR(J316/_data!J316-1,\"\")","v":""},{"$f":"IFERROR(K316/_data!K316-1,\"\")","v":""}]
["Plant oil, biofuel",0,0,0,0,0,0,0,0,0,0,null,"Plant oil, biofuel",{"$f":"IFERROR(B317/_data!B317-1,\"\")","v":""},{"$f":"IFERROR(C317/_data!C317-1,\"\")","v":""},{"$f":"IFERROR(D317/_data!D317-1,\"\")","v":""},{"$f":"IFERROR(E317/_data!E317-1,\"\")","v":""},{"$f":"IFERROR(F317/_data!F317-1,\"\")","v":""},{"$f":"IFERROR(G317/_data!G317-1,\"\")","v":""},{"$f":"IFERROR(H317/_data!H317-1,\"\")","v":""},{"$f":"IFERROR(I317/_data!I317-1,\"\")","v":""},{"$f":"IFERROR(J317/_data!J317-1,\"\")","v":""},{"$f":"IFERROR(K317/_data!K317-1,\"\")","v":""}]
["Summe",0.10247782581032926,6.7949926034004099E-2,7.3062504781577539E-2,7.6681014679120432E-2,8.2658556479272963E-2,7.7960194441896724E-2,7.4591986256379167E-2,7.6780704686091619E-2,7.8954105233275784E-2,8.5081567465715463E-2,null,"Summe",{"$f":"IFERROR(B318/_data!B318-1,\"\")","v":0},{"$f":"IFERROR(C318/_data!C318-1,\"\")","v":0},{"$f":"IFERROR(D318/_data!D318-1,\"\")","v":0},{"$f":"IFERROR(E318/_data!E318-1,\"\")","v":0},{"$f":"IFERROR(F318/_data!F318-1,\"\")","v":0},{"$f":"IFERROR(G318/_data!G318-1,\"\")","v":0},{"$f":"IFERROR(H318/_data!H318-1,\"\")","v":0},{"$f":"IFERROR(I318/_data!I318-1,\"\")","v":0},{"$f":"IFERROR(J318/_data!J318-1,\"\")","v":0},{"$f":"IFERROR(K318/_data!K318-1,\"\")","v":0}]
[]
["Quelle:","P:\\KB-Projekte\\COMO EAST\\WP 2 Training\\Tool\\Tool-Daten\\Energiedaten\\Endberechnung"]
["Kazakhstan",null,null,null,null,null,null,null,null,null,null,null,"Kazakhstan",null,null,null,null,null,null,null,null,null,null,null,"Kazakhstan",null,null,null,null,null,null,null,null,null,null,null,"Kazakhstan"]
["Energy consumption (MWh /Einwohner and  Year) - Residential building (Households)",null,null,null,null,null,null,null,null,null,null,null,"Test:",{"$f":"A322","v":"Energy consumption (MWh /Einwohner and  Year) - Residential building (Households)"},null,null,null,null,null,null,null,null,null,null,"CO2 emission Factor (t /Mwh)"]
["Energieträger",2000,2001,2002,2003,2004,2005,2006,2007,2008,2009,null,"Energieträger",2000,2001,2002,2003,2004,2005,2006,2007,2008,2009,null,"Energieträger",2000,2001,2002,2003,2004,2005,2006,2007,2008,2009,null,null,"Year:",{"$f":"'DATA-OUTPUT Co2 absolute'!$B$8","v":0},null,"CO2","Test"]
["Electricity",0.3967447179874044,0.41579729865799608,0.36603458662678467,0.37984092417854964,0.3918645057874941,0.41122842564630258,0.43355811288246987,0.50043869831172905,0.47371446176562854,0.52405622431150156,null,"Electricity",{"$f":"IFERROR(B324/_data!B324-1,\"\")","v":0},{"$f":"IFERROR(C324/_data!C324-1,\"\")","v":0},{"$f":"IFERROR(D324/_data!D324-1,\"\")","v":0},{"$f":"IFERROR(E324/_data!E324-1,\"\")","v":0},{"$f":"IFERROR(F324/_data!F324-1,\"\")","v":0},{"$f":"IFERROR(G324/_data!G324-1,\"\")","v":0},{"$f":"IFERROR(H324/_data!H324-1,\"\")","v":0},{"$f":"IFERROR(I324/_data!I324-1,\"\")","v":0},{"$f":"IFERROR(J324/_data!J324-1,\"\")","v":0},{"$f":"IFERROR(K324/_data!K324-1,\"\")","v":0},null,"Electricity",{"$f":"_data!Z324","v":1.3979999999999999},{"$f":"_data!AA324","v":1.409},{"$f":"_data!AB324","v":1.4059999999999999},{"$f":"_data!AC324","v":1.4830000000000001},{"$f":"_data!AD324","v":1.538},{"$f":"_data!AE324","v":1.4750000000000001},{"$f":"_data!AF324","v":1.4590000000000001},{"$f":"_data!AG324","v":1.5069999999999999},{"$f":"_data!AH324","v":1.508},{"$f":"_data!AI324","v":1.508},null,null,null,{"$f":"'DATA-OUTPUT EC per capita'!$B$37","v":0},{"$f":"IF(AM323=Z323,Z324,IF(AM323=AA323,AA324,IF(AM323=AB323,AB324,IF(AM323=AC323,AC324,IF(AM323=AD323,AD324,IF(AM323=AE323,AE324,IF(AM323=AF323,AF324,IF(AM323=AG323,AG324,IF(AM323=AH323,AH324,IF(AM323=AI323,AI324,\"Fehler\"))))))))))","v":"Fehler"},{"$f":"AN324*AM324","v":{"$error":"#VALUE!"}},{"$f":"AO324/'DATA-OUTPUT Co2 per capita'!$B$37-1","v":{"$error":"#VALUE!"}}]
["Heat and Cold",1.0641821347089,1.1167319741934596,1.3135930693822409,1.4057859131367991,1.4356646960465094,1.482413922008512,1.3544766993679773,1.5185917784193497,1.6270399291350104,1.66130069132409,null,"Heat and Cold",{"$f":"IFERROR(B325/_data!B325-1,\"\")","v":0},{"$f":"IFERROR(C325/_data!C325-1,\"\")","v":0},{"$f":"IFERROR(D325/_data!D325-1,\"\")","v":0},{"$f":"IFERROR(E325/_data!E325-1,\"\")","v":0},{"$f":"IFERROR(F325/_data!F325-1,\"\")","v":0},{"$f":"IFERROR(G325/_data!G325-1,\"\")","v":0},{"$f":"IFERROR(H325/_data!H325-1,\"\")","v":0},{"$f":"IFERROR(I325/_data!I325-1,\"\")","v":0},{"$f":"IFERROR(J325/_data!J325-1,\"\")","v":0},{"$f":"IFERROR(K325/_data!K325-1,\"\")","v":0},null,"Heat and Cold",{"$f":"_data!Z325","v":"n.a."},{"$f":"_data!AA325","v":"n.a."},{"$f":"_data!AB325","v":"n.a."},{"$f":"_data!AC325","v":"n.a."},{"$f":"_data!AD325","v":"n.a."},{"$f":"_data!AE325","v":"n.a."},{"$f":"_data!AF325","v":"n.a."},{"$f":"_data!AG325","v":"n.a."},{"$f":"_data!AH325","v":"n.a."},{"$f":"_data!AI325","v":"n.a."},null,null,null,{"$f":"'DATA-OUTPUT EC per capita'!$C$37","v":0},{"$f":"IF(AM323=Z323,Z325,IF(AM323=AA323,AA325,IF(AM323=AB323,AB325,IF(AM323=AC323,AC325,IF(AM323=AD323,AD325,IF(AM323=AE323,AE325,IF(AM323=AF323,AF325,IF(AM323=AG323, AG325,IF(AM323=AH323,AH325,IF(AM323=AI323,AI325,\"Fehler\"))))))))))","v":"Fehler"},{"$f":"AM325*AN325","v":{"$error":"#VALUE!"}},{"$f":"AO325/'DATA-OUTPUT Co2 per capita'!$C$37-1","v":{"$error":"#VALUE!"}}]
["natural gas",0,0,0,0,0,0,0,0,0.83005477911398218,0.73987860191478905,null,"natural gas",{"$f":"IFERROR(B326/_data!B326-1,\"\")","v":""},{"$f":"IFERROR(C326/_data!C326-1,\"\")","v":""},{"$f":"IFERROR(D326/_data!D326-1,\"\")","v":""},{"$f":"IFERROR(E326/_data!E326-1,\"\")","v":""},{"$f":"IFERROR(F326/_data!F326-1,\"\")","v":""},{"$f":"IFERROR(G326/_data!G326-1,\"\")","v":""},{"$f":"IFERROR(H326/_data!H326-1,\"\")","v":""},{"$f":"IFERROR(I326/_data!I326-1,\"\")","v":""},{"$f":"IFERROR(J326/_data!J326-1,\"\")","v":0},{"$f":"IFERROR(K326/_data!K326-1,\"\")","v":0},null,"natural gas",{"$f":"_data!Z326","v":0.20200000000000001},{"$f":"_data!AA326","v":0.20200000000000001},{"$f":"_data!AB326","v":0.20200000000000001},{"$f":"_data!AC326","v":0.20200000000000001},{"$f":"_data!AD326","v":0.20200000000000001},{"$f":"_data!AE326","v":0.20200000000000001},{"$f":"_data!AF326","v":0.20200000000000001},{"$f":"_data!AG326","v":0.20200000000000001},{"$f":"_data!AH326","v":0.20200000000000001},{"$f":"_data!AI326","v":0.20200000000000001},null,null,null,{"$f":"'DATA-OUTPUT EC per capita'!$D$37","v":0},{"$f":"IF(AM323=Z323,Z326,IF(AM323=AA323,AA326,IF(AM323=AB323,AB326,IF(AM323=AC323,AC326,IF(AM323=AD323,AD326,IF(AM323=AE323,AE326,IF(AM323=AF323,AF326,IF(AM323=AG323, AG326,IF(AM323=AH323,AH326,IF(AM323=AI323,AI326,\"Fehler\"))))))))))","v":"Fehler"},{"$f":"AM326*AN326","v":{"$error":"#VALUE!"}},{"$f":"AO326/'DATA-OUTPUT Co2 per capita'!$D$37-1","v":{"$error":"#VALUE!"}}]
["Liquid gas",0,0,0,0,0,0,0,0,0,0,null,"Liquid gas",{"$f":"IFERROR(B327/_data!B327-1,\"\")","v":""},{"$f":"IFERROR(C327/_data!C327-1,\"\")","v":""},{"$f":"IFERROR(D327/_data!D327-1,\"\")","v":""},{"$f":"IFERROR(E327/_data!E327-1,\"\")","v":""},{"$f":"IFERROR(F327/_data!F327-1,\"\")","v":""},{"$f":"IFERROR(G327/_data!G327-1,\"\")","v":""},{"$f":"IFERROR(H327/_data!H327-1,\"\")","v":""},{"$f":"IFERROR(I327/_data!I327-1,\"\")","v":""},{"$f":"IFERROR(J327/_data!J327-1,\"\")","v":""},{"$f":"IFERROR(K327/_data!K327-1,\"\")","v":""},null,"Liquid gas",{"$f":"_data!Z327","v":0.23100000000000001},{"$f":"_data!AA327","v":0.23100000000000001},{"$f":"_data!AB327","v":0.23100000000000001},{"$f":"_data!AC327","v":0.23100000000000001},{"$f":"_data!AD327","v":0.23100000000000001},{"$f":"_data!AE327","v":0.23100000000000001},{"$f":"_data!AF327","v":0.23100000000000001},{"$f":"_data!AG327","v":0.23100000000000001},{"$f":"_data!AH327","v":0.23100000000000001},{"$f":"_data!AI327","v":0.23100000000000001},null,null,null,{"$f":"'DATA-OUTPUT EC per capita'!$E$37","v":0},{"$f":"IF(AM323=Z323,Z327,IF(AM323=AA323,AA327,IF(AM323=AB323,AB327,IF(AM323=AC323,AC327,IF(AM323=AD323,AD327,IF(AM323=AE323,AE327,IF(AM323=AF323,AF327,IF(AM323=AG323, AG327,IF(AM323=AH323,AH327,IF(AM323=AI323,AI327,\"Fehler\"))))))))))","v":"Fehler"},{"$error":"#VALUE!"},{"$f":"AO327/'DATA-OUTPUT Co2 per capita'!$E$37-1","v":{"$error":"#VALUE!"}}]
["heating oil / diesel",0,0,0,0,0,0,0.13803526408140243,0.57251937976485956,0.14308905964443266,0.10635776477858747,null,"heating oil / diesel",{"$f":"IFERROR(B328/_data!B328-1,\"\")","v":""},{"$f":"IFERROR(C328/_data!C328-1,\"\")","v":""},{"$f":"IFERROR(D328/_data!D328-1,\"\")","v":""},{"$f":"IFERROR(E328/_data!E328-1,\"\")","v":""},{"$f":"IFERROR(F328/_data!F328-1,\"\")","v":""},{"$f":"IFERROR(G328/_data!G328-1,\"\")","v":""},{"$f":"IFERROR(H328/_data!H328-1,\"\")","v":0},{"$f":"IFERROR(I328/_data!I328-1,\"\")","v":0},{"$f":"IFERROR(J328/_data!J328-1,\"\")","v":0},{"$f":"IFERROR(K328/_data!K328-1,\"\")","v":0},null,"heating oil / diesel",{"$f":"_data!Z328","v":0.26700000000000002},{"$f":"_data!AA328","v":0.26700000000000002},{"$f":"_data!AB328","v":0.26700000000000002},{"$f":"_data!AC328","v":0.26700000000000002},{"$f":"_data!AD328","v":0.26700000000000002},{"$f":"_data!AE328","v":0.26700000000000002},{"$f":"_data!AF328","v":0.26700000000000002},{"$f":"_data!AG328","v":0.26700000000000002},{"$f":"_data!AH328","v":0.26700000000000002},{"$f":"_data!AI328","v":0.26700000000000002},null,null,null,{"$f":"'DATA-OUTPUT EC per capita'!$F$37","v":0},{"$f":"IF(AM323=Z323,Z328,IF(AM323=AA323,AA328,IF(AM323=AB323,AB328,IF(AM323=AC323,AC328,IF(AM323=AD323,AD328,IF(AM323=AE323,AE328,IF(AM323=AF323,AF328,IF(AM323=AG323, AG328,IF(AM323=AH323,AH328,IF(AM323=AI323,AI328,\"Fehler\"))))))))))","v":"Fehler"},{"$error":"#VALUE!"},{"$f":"AO328/'DATA-OUTPUT Co2 per capita'!$F$37-1","v":{"$error":"#VALUE!"}}]
["gasoline",0,0,0,0,0,0,0,0,0,0,null,"gasoline",{"$f":"IFERROR(B329/_data!B329-1,\"\")","v":""},{"$f":"IFERROR(C329/_data!C329-1,\"\")","v":""},{"$f":"IFERROR(D329/_data!D329-1,\"\")","v":""},{"$f":"IFERROR(E329/_data!E329-1,\"\")","v":""},{"$f":"IFERROR(F329/_data!F329-1,\"\")","v":""},{"$f":"IFERROR(G329/_data!G329-1,\"\")","v":""},{"$f":"IFERROR(H329/_data!H329-1,\"\")","v":""},{"$f":"IFERROR(I329/_data!I329-1,\"\")","v":""},{"$f":"IFERROR(J329/_data!J329-1,\"\")","v":""},{"$f":"IFERROR(K329/_data!K329-1,\"\")","v":""},null,"gasoline",{"$f":"_data!Z329","v":0.249},{"$f":"_data!AA329","v":0.249},{"$f":"_data!AB329","v":0.249},{"$f":"_data!AC329","v":0.249},{"$f":"_data!AD329","v":0.249},{"$f":"_data!AE329","v":0.249},{"$f":"_data!AF329","v":0.249},{"$f":"_data!AG329","v":0.249},{"$f":"_data!AH329","v":0.249},{"$f":"_data!AI329","v":0.249},null,null,null,{"$f":"'DATA-OUTPUT EC per capita'!$G$37","v":0},{"$f":"IF(AM323=Z323,Z329,IF(AM323=AA323,AA329,IF(AM323=AB323,AB329,IF(AM323=AC323,AC329,IF(AM323=AD323,AD329,IF(AM323=AE323,AE329,IF(AM323=AF323,AF329,IF(AM323=AG323, AG329,IF(AM323=AH323,AH329,IF(AM323=AI323,AI329,\"Fehler\"))))))))))","v":"Fehler"},{"$error":"#VALUE!"},{"$f":"AO329/'DATA-OUTPUT Co2 per capita'!$G$37-1","v":{"$error":"#VALUE!"}}]
["Lignite / Coal",3.8259792636851022E-3,3.2323795215128598E-2,5.4213498530014074E-4,3.8194628663659525E-3,5.3657257981195184E-4,5.3182413234671667E-4,3.8287683345833989E-2,1.4190099310459482E-2,0,0.76958352128900998,null,"Lignite / Coal",{"$f":"IFERROR(B330/_data!B330-1,\"\")","v":0},{"$f":"IFERROR(C330/_data!C330-1,\"\")","v":0},{"$f":"IFERROR(D330/_data!D330-1,\"\")","v":0},{"$f":"IFERROR(E330/_data!E330-1,\"\")","v":0},{"$f":"IFERROR(F330/_data!F330-1,\"\")","v":0},{"$f":"IFERROR(G330/_data!G330-1,\"\")","v":0},{"$f":"IFERROR(H330/_data!H330-1,\"\")","v":0},{"$f":"IFERROR(I330/_data!I330-1,\"\")","v":0},{"$f":"IFERROR(J330/_data!J330-1,\"\")","v":""},{"$f":"IFERROR(K330/_data!K330-1,\"\")","v":0},null,"Lignite / Coal",{"$f":"_data!Z330","v":0.36399999999999999},{"$f":"_data!AA330","v":0.36399999999999999},{"$f":"_data!AB330","v":0.36399999999999999},{"$f":"_data!AC330","v":0.36399999999999999},{"$f":"_data!AD330","v":0.36399999999999999},{"$f":"_data!AE330","v":0.36399999999999999},{"$f":"_data!AF330","v":0.36399999999999999},{"$f":"_data!AG330","v":0.36399999999999999},{"$f":"_data!AH330","v":0.36399999999999999},{"$f":"_data!AI330","v":0.36399999999999999},null,null,null,{"$f":"'DATA-OUTPUT EC per capita'!$H$37","v":0},{"$f":"IF(AM323=Z323,Z330,IF(AM323=AA323,AA330,IF(AM323=AB323,AB330,IF(AM323=AC323,AC330,IF(AM323=AD323,AD330,IF(AM323=AE323,AE330,IF(AM323=AF323,AF330,IF(AM323=AG323, AG330,IF(AM323=AH323,AH330,IF(AM323=AI323,AI330,\"Fehler\"))))))))))","v":"Fehler"},{"$error":"#VALUE!"},{"$f":"AO330/'DATA-OUTPUT Co2 per capita'!$H$37-1","v":{"$error":"#VALUE!"}}]
["other fossil fuels",0,0,0,0,0,0,0,0,0,0,null,"other fossil fuels",{"$f":"IFERROR(B331/_data!B331-1,\"\")","v":""},{"$f":"IFERROR(C331/_data!C331-1,\"\")","v":""},{"$f":"IFERROR(D331/_data!D331-1,\"\")","v":""},{"$f":"IFERROR(E331/_data!E331-1,\"\")","v":""},{"$f":"IFERROR(F331/_data!F331-1,\"\")","v":""},{"$f":"IFERROR(G331/_data!G331-1,\"\")","v":""},{"$f":"IFERROR(H331/_data!H331-1,\"\")","v":""},{"$f":"IFERROR(I331/_data!I331-1,\"\")","v":""},{"$f":"IFERROR(J331/_data!J331-1,\"\")","v":""},{"$f":"IFERROR(K331/_data!K331-1,\"\")","v":""},null,"other fossil fuels",{"$f":"_data!Z331","v":0.38200000000000001},{"$f":"_data!AA331","v":0.38200000000000001},{"$f":"_data!AB331","v":0.38200000000000001},{"$f":"_data!AC331","v":0.38200000000000001},{"$f":"_data!AD331","v":0.38200000000000001},{"$f":"_data!AE331","v":0.38200000000000001},{"$f":"_data!AF331","v":0.38200000000000001},{"$f":"_data!AG331","v":0.38200000000000001},{"$f":"_data!AH331","v":0.38200000000000001},{"$f":"_data!AI331","v":0.38200000000000001},null,null,null,{"$f":"'DATA-OUTPUT EC per capita'!$I$37","v":0},{"$f":"IF(AM323=Z323,Z331,IF(AM323=AA323,AA331,IF(AM323=AB323,AB331,IF(AM323=AC323,AC331,IF(AM323=AD323,AD331,IF(AM323=AE323,AE331,IF(AM323=AF323,AF331,IF(AM323=AG323, AG331,IF(AM323=AH323,AH331,IF(AM323=AI323,AI331,\"Fehler\"))))))))))","v":"Fehler"},{"$error":"#VALUE!"},{"$f":"AO331/'DATA-OUTPUT Co2 per capita'!$I$37-1","v":{"$error":"#VALUE!"}}]
["Plant oil, biofuel",0,0,0,0,0,0,0,0,0,0,null,"Plant oil, biofuel",{"$f":"IFERROR(B332/_data!B332-1,\"\")","v":""},{"$f":"IFERROR(C332/_data!C332-1,\"\")","v":""},{"$f":"IFERROR(D332/_data!D332-1,\"\")","v":""},{"$f":"IFERROR(E332/_data!E332-1,\"\")","v":""},{"$f":"IFERROR(F332/_data!F332-1,\"\")","v":""},{"$f":"IFERROR(G332/_data!G332-1,\"\")","v":""},{"$f":"IFERROR(H332/_data!H332-1,\"\")","v":""},{"$f":"IFERROR(I332/_data!I332-1,\"\")","v":""},{"$f":"IFERROR(J332/_data!J332-1,\"\")","v":""},{"$f":"IFERROR(K332/_data!K332-1,\"\")","v":""},null,"Plant oil, biofuel",{"$f":"_data!Z332","v":0},{"$f":"_data!AA332","v":0},{"$f":"_data!AB332","v":0},{"$f":"_data!AC332","v":0},{"$f":"_data!AD332","v":0},{"$f":"_data!AE332","v":0},{"$f":"_data!AF332","v":0},{"$f":"_data!AG332","v":0},{"$f":"_data!AH332","v":0},{"$f":"_data!AI332","v":0},null,null,null,{"$f":"'DATA-OUTPUT EC per capita'!$J$37","v":0},{"$f":"IF(AM323=Z323,Z332,IF(AM323=AA323,AA332,IF(AM323=AB323,AB332,IF(AM323=AC323,AC332,IF(AM323=AD323,AD332,IF(AM323=AE323,AE332,IF(AM323=AF323,AF332,IF(AM323=AG323, AG332,IF(AM323=AH323,AH332,IF(AM323=AI323,AI332,\"Fehler\"))))))))))","v":"Fehler"},{"$error":"#VALUE!"},{"$f":"AO332/'DATA-OUTPUT Co2 per capita'!$J$37-1","v":{"$error":"#VALUE!"}}]
["Summe",1.4647528319599894,1.5648530680665842,1.6801697909943256,1.7894463001817147,1.8280657744138153,1.8941741717871612,1.9643577596776836,2.6057399558063974,3.0738982296590538,3.8011768036179783,null,"Summe",{"$f":"IFERROR(B333/_data!B333-1,\"\")","v":0},{"$f":"IFERROR(C333/_data!C333-1,\"\")","v":0},{"$f":"IFERROR(D333/_data!D333-1,\"\")","v":0},{"$f":"IFERROR(E333/_data!E333-1,\"\")","v":0},{"$f":"IFERROR(F333/_data!F333-1,\"\")","v":0},{"$f":"IFERROR(G333/_data!G333-1,\"\")","v":0},{"$f":"IFERROR(H333/_data!H333-1,\"\")","v":0},{"$f":"IFERROR(I333/_data!I333-1,\"\")","v":0},{"$f":"IFERROR(J333/_data!J333-1,\"\")","v":0},{"$f":"IFERROR(K333/_data!K333-1,\"\")","v":0},null,null,null,null,null,null,null,null,null,null,null,null,null,null,"Total",null,null,{"$f":"SUM(AO324:AO332)","v":{"$error":"#VALUE!"}},{"$f":"AO333/'DATA-OUTPUT Co2 per capita'!$K$37-1","v":{"$error":"#VALUE!"}}]
[]
["Energy consumption (MWh /Einwohner and  Year) - Primary sector (Agriculture)",null,null,null,null,null,null,null,null,null,null,null,"Test:",{"$f":"A335","v":"Energy consumption (MWh /Einwohner and  Year) - Primary sector (Agriculture)"}]
["Energieträger",2000,2001,2002,2003,2004,2005,2006,2007,2008,2009,null,"Energieträger",2000,2001,2002,2003,2004,2005,2006,2007,2008,2009]
["Electricity",0.57042551324522661,0.59777521804727407,0.70436420607374839,0.73097066651773357,0.7541435096743222,0.3827116488946079,0.40345419502903929,5.0822441651746791E-2,4.5865058999231073E-2,0.14458925601269512,null,"Electricity",{"$f":"IFERROR(B337/_data!B337-1,\"\")","v":0},{"$f":"IFERROR(C337/_data!C337-1,\"\")","v":0},{"$f":"IFERROR(D337/_data!D337-1,\"\")","v":0},{"$f":"IFERROR(E337/_data!E337-1,\"\")","v":0},{"$f":"IFERROR(F337/_data!F337-1,\"\")","v":0},{"$f":"IFERROR(G337/_data!G337-1,\"\")","v":0},{"$f":"IFERROR(H337/_data!H337-1,\"\")","v":0},{"$f":"IFERROR(I337/_data!I337-1,\"\")","v":0},{"$f":"IFERROR(J337/_data!J337-1,\"\")","v":0},{"$f":"IFERROR(K337/_data!K337-1,\"\")","v":0}]
["Heat and Cold",0,0,0,0,0,0,0,0,0,0,null,"Heat and Cold",{"$f":"IFERROR(B338/_data!B338-1,\"\")","v":""},{"$f":"IFERROR(C338/_data!C338-1,\"\")","v":""},{"$f":"IFERROR(D338/_data!D338-1,\"\")","v":""},{"$f":"IFERROR(E338/_data!E338-1,\"\")","v":""},{"$f":"IFERROR(F338/_data!F338-1,\"\")","v":""},{"$f":"IFERROR(G338/_data!G338-1,\"\")","v":""},{"$f":"IFERROR(H338/_data!H338-1,\"\")","v":""},{"$f":"IFERROR(I338/_data!I338-1,\"\")","v":""},{"$f":"IFERROR(J338/_data!J338-1,\"\")","v":""},{"$f":"IFERROR(K338/_data!K338-1,\"\")","v":""}]
["natural gas",0,0,0,0,0,0,0,0,0,0,null,"natural gas",{"$f":"IFERROR(B339/_data!B339-1,\"\")","v":""},{"$f":"IFERROR(C339/_data!C339-1,\"\")","v":""},{"$f":"IFERROR(D339/_data!D339-1,\"\")","v":""},{"$f":"IFERROR(E339/_data!E339-1,\"\")","v":""},{"$f":"IFERROR(F339/_data!F339-1,\"\")","v":""},{"$f":"IFERROR(G339/_data!G339-1,\"\")","v":""},{"$f":"IFERROR(H339/_data!H339-1,\"\")","v":""},{"$f":"IFERROR(I339/_data!I339-1,\"\")","v":""},{"$f":"IFERROR(J339/_data!J339-1,\"\")","v":""},{"$f":"IFERROR(K339/_data!K339-1,\"\")","v":""}]
["Liquid gas",0,0,0,0,0,0,0,0,0,0,null,"Liquid gas",{"$f":"IFERROR(B340/_data!B340-1,\"\")","v":""},{"$f":"IFERROR(C340/_data!C340-1,\"\")","v":""},{"$f":"IFERROR(D340/_data!D340-1,\"\")","v":""},{"$f":"IFERROR(E340/_data!E340-1,\"\")","v":""},{"$f":"IFERROR(F340/_data!F340-1,\"\")","v":""},{"$f":"IFERROR(G340/_data!G340-1,\"\")","v":""},{"$f":"IFERROR(H340/_data!H340-1,\"\")","v":""},{"$f":"IFERROR(I340/_data!I340-1,\"\")","v":""},{"$f":"IFERROR(J340/_data!J340-1,\"\")","v":""},{"$f":"IFERROR(K340/_data!K340-1,\"\")","v":""}]
["heating oil / diesel",0.3053131452420712,0.34873804276634407,0.35031267205308053,0.27550437758513824,0.36794076972898188,0.53895791122543646,0.64893086815815881,0.35674376092009769,0.32674423986430579,0.53520635674366124,null,"heating oil / diesel",{"$f":"IFERROR(B341/_data!B341-1,\"\")","v":0},{"$f":"IFERROR(C341/_data!C341-1,\"\")","v":0},{"$f":"IFERROR(D341/_data!D341-1,\"\")","v":0},{"$f":"IFERROR(E341/_data!E341-1,\"\")","v":0},{"$f":"IFERROR(F341/_data!F341-1,\"\")","v":0},{"$f":"IFERROR(G341/_data!G341-1,\"\")","v":0},{"$f":"IFERROR(H341/_data!H341-1,\"\")","v":0},{"$f":"IFERROR(I341/_data!I341-1,\"\")","v":0},{"$f":"IFERROR(J341/_data!J341-1,\"\")","v":0},{"$f":"IFERROR(K341/_data!K341-1,\"\")","v":0}]
["gasoline",0,0,0,0,0,0,0,0,0,0,null,"gasoline",{"$f":"IFERROR(B342/_data!B342-1,\"\")","v":""},{"$f":"IFERROR(C342/_data!C342-1,\"\")","v":""},{"$f":"IFERROR(D342/_data!D342-1,\"\")","v":""},{"$f":"IFERROR(E342/_data!E342-1,\"\")","v":""},{"$f":"IFERROR(F342/_data!F342-1,\"\")","v":""},{"$f":"IFERROR(G342/_data!G342-1,\"\")","v":""},{"$f":"IFERROR(H342/_data!H342-1,\"\")","v":""},{"$f":"IFERROR(I342/_data!I342-1,\"\")","v":""},{"$f":"IFERROR(J342/_data!J342-1,\"\")","v":""},{"$f":"IFERROR(K342/_data!K342-1,\"\")","v":""}]
["Lignite / Coal",0,0,0,0,0,0,0,0,0,0,null,"Lignite / Coal",{"$f":"IFERROR(B343/_data!B343-1,\"\")","v":""},{"$f":"IFERROR(C343/_data!C343-1,\"\")","v":""},{"$f":"IFERROR(D343/_data!D343-1,\"\")","v":""},{"$f":"IFERROR(E343/_data!E343-1,\"\")","v":""},{"$f":"IFERROR(F343/_data!F343-1,\"\")","v":""},{"$f":"IFERROR(G343/_data!G343-1,\"\")","v":""},{"$f":"IFERROR(H343/_data!H343-1,\"\")","v":""},{"$f":"IFERROR(I343/_data!I343-1,\"\")","v":""},{"$f":"IFERROR(J343/_data!J343-1,\"\")","v":""},{"$f":"IFERROR(K343/_data!K343-1,\"\")","v":""}]
["other fossil fuels",0,0,0,0,0,0,0,0,0,0,null,"other fossil fuels",{"$f":"IFERROR(B344/_data!B344-1,\"\")","v":""},{"$f":"IFERROR(C344/_data!C344-1,\"\")","v":""},{"$f":"IFERROR(D344/_data!D344-1,\"\")","v":""},{"$f":"IFERROR(E344/_data!E344-1,\"\")","v":""},{"$f":"IFERROR(F344/_data!F344-1,\"\")","v":""},{"$f":"IFERROR(G344/_data!G344-1,\"\")","v":""},{"$f":"IFERROR(H344/_data!H344-1,\"\")","v":""},{"$f":"IFERROR(I344/_data!I344-1,\"\")","v":""},{"$f":"IFERROR(J344/_data!J344-1,\"\")","v":""},{"$f":"IFERROR(K344/_data!K344-1,\"\")","v":""}]
["Plant oil, biofuel",0,0,0,0,0,0,0,0,0,0,null,"Plant oil, biofuel",{"$f":"IFERROR(B345/_data!B345-1,\"\")","v":""},{"$f":"IFERROR(C345/_data!C345-1,\"\")","v":""},{"$f":"IFERROR(D345/_data!D345-1,\"\")","v":""},{"$f":"IFERROR(E345/_data!E345-1,\"\")","v":""},{"$f":"IFERROR(F345/_data!F345-1,\"\")","v":""},{"$f":"IFERROR(G345/_data!G345-1,\"\")","v":""},{"$f":"IFERROR(H345/_data!H345-1,\"\")","v":""},{"$f":"IFERROR(I345/_data!I345-1,\"\")","v":""},{"$f":"IFERROR(J345/_data!J345-1,\"\")","v":""},{"$f":"IFERROR(K345/_data!K345-1,\"\")","v":""}]
["Summe",0.87573865848729782,0.9465132608136182,1.054676878126829,1.0064750441028718,1.1220842794033041,0.92166956012004442,1.052385063187198,0.4075662025718445,0.37260929886353689,0.67979561275635636,null,"Summe",{"$f":"IFERROR(B346/_data!B346-1,\"\")","v":0},{"$f":"IFERROR(C346/_data!C346-1,\"\")","v":0},{"$f":"IFERROR(D346/_data!D346-1,\"\")","v":0},{"$f":"IFERROR(E346/_data!E346-1,\"\")","v":0},{"$f":"IFERROR(F346/_data!F346-1,\"\")","v":0},{"$f":"IFERROR(G346/_data!G346-1,\"\")","v":0},{"$f":"IFERROR(H346/_data!H346-1,\"\")","v":0},{"$f":"IFERROR(I346/_data!I346-1,\"\")","v":0},{"$f":"IFERROR(J346/_data!J346-1,\"\")","v":0},{"$f":"IFERROR(K346/_data!K346-1,\"\")","v":0}]
[]
["Energy consumption (MWh /Einwohner and  Year) - Secondary sector (Industrie)",null,null,null,null,null,null,null,null,null,null,null,"Test:",{"$f":"A348","v":"Energy consumption (MWh /Einwohner and  Year) - Secondary sector (Industrie)"}]
["Energieträger",2000,2001,2002,2003,2004,2005,2006,2007,2008,2009,null,"Energieträger",2000,2001,2002,2003,2004,2005,2006,2007,2008,2009]
["Electricity",0.75377390488640927,0.79005412712049417,0.83047602024046385,0.86181987486157796,0.88923028226766909,1.8302635820896334,1.9294451991291601,1.9160760140980484,3.5908548645151472,3.0734839501507194,null,"Electricity",{"$f":"IFERROR(B350/_data!B350-1,\"\")","v":0},{"$f":"IFERROR(C350/_data!C350-1,\"\")","v":0},{"$f":"IFERROR(D350/_data!D350-1,\"\")","v":0},{"$f":"IFERROR(E350/_data!E350-1,\"\")","v":0},{"$f":"IFERROR(F350/_data!F350-1,\"\")","v":0},{"$f":"IFERROR(G350/_data!G350-1,\"\")","v":0},{"$f":"IFERROR(H350/_data!H350-1,\"\")","v":0},{"$f":"IFERROR(I350/_data!I350-1,\"\")","v":0},{"$f":"IFERROR(J350/_data!J350-1,\"\")","v":0},{"$f":"IFERROR(K350/_data!K350-1,\"\")","v":0}]
["Heat and Cold",2.1415032421086995,2.2472422231547324,2.643394105393972,2.8289364086709301,2.889054789729566,2.9825430892531246,3.0995422063279339,3.1402097772432112,3.5254422166147754,2.8339977465962081,null,"Heat and Cold",{"$f":"IFERROR(B351/_data!B351-1,\"\")","v":0},{"$f":"IFERROR(C351/_data!C351-1,\"\")","v":0},{"$f":"IFERROR(D351/_data!D351-1,\"\")","v":0},{"$f":"IFERROR(E351/_data!E351-1,\"\")","v":0},{"$f":"IFERROR(F351/_data!F351-1,\"\")","v":0},{"$f":"IFERROR(G351/_data!G351-1,\"\")","v":0},{"$f":"IFERROR(H351/_data!H351-1,\"\")","v":0},{"$f":"IFERROR(I351/_data!I351-1,\"\")","v":0},{"$f":"IFERROR(J351/_data!J351-1,\"\")","v":0},{"$f":"IFERROR(K351/_data!K351-1,\"\")","v":0}]
["natural gas",0.36863776788442998,0.36623663867227835,0.40353537216168406,0.49321376096799752,0.43308808191925363,0.70494205680716515,0.75134588465289198,4.248275345017106,4.1879335750032061,4.0841243592842211,null,"natural gas",{"$f":"IFERROR(B352/_data!B352-1,\"\")","v":0},{"$f":"IFERROR(C352/_data!C352-1,\"\")","v":0},{"$f":"IFERROR(D352/_data!D352-1,\"\")","v":0},{"$f":"IFERROR(E352/_data!E352-1,\"\")","v":0},{"$f":"IFERROR(F352/_data!F352-1,\"\")","v":0},{"$f":"IFERROR(G352/_data!G352-1,\"\")","v":0},{"$f":"IFERROR(H352/_data!H352-1,\"\")","v":0},{"$f":"IFERROR(I352/_data!I352-1,\"\")","v":0},{"$f":"IFERROR(J352/_data!J352-1,\"\")","v":0},{"$f":"IFERROR(K352/_data!K352-1,\"\")","v":0}]
["Liquid gas",0,0,0,0,0,0,0,0,0,0,null,"Liquid gas",{"$f":"IFERROR(B353/_data!B353-1,\"\")","v":""},{"$f":"IFERROR(C353/_data!C353-1,\"\")","v":""},{"$f":"IFERROR(D353/_data!D353-1,\"\")","v":""},{"$f":"IFERROR(E353/_data!E353-1,\"\")","v":""},{"$f":"IFERROR(F353/_data!F353-1,\"\")","v":""},{"$f":"IFERROR(G353/_data!G353-1,\"\")","v":""},{"$f":"IFERROR(H353/_data!H353-1,\"\")","v":""},{"$f":"IFERROR(I353/_data!I353-1,\"\")","v":""},{"$f":"IFERROR(J353/_data!J353-1,\"\")","v":""},{"$f":"IFERROR(K353/_data!K353-1,\"\")","v":""}]
["heating oil / diesel",1.746382232394176,1.9179657598094118,1.9381512667578411,1.6250230816662048,2.0542033630504251,1.8060747534494497,2.1783695783415538,2.4634981132872658,2.4718218581826714,1.2762413965422812,null,"heating oil / diesel",{"$f":"IFERROR(B354/_data!B354-1,\"\")","v":0},{"$f":"IFERROR(C354/_data!C354-1,\"\")","v":0},{"$f":"IFERROR(D354/_data!D354-1,\"\")","v":0},{"$f":"IFERROR(E354/_data!E354-1,\"\")","v":0},{"$f":"IFERROR(F354/_data!F354-1,\"\")","v":0},{"$f":"IFERROR(G354/_data!G354-1,\"\")","v":0},{"$f":"IFERROR(H354/_data!H354-1,\"\")","v":0},{"$f":"IFERROR(I354/_data!I354-1,\"\")","v":0},{"$f":"IFERROR(J354/_data!J354-1,\"\")","v":0},{"$f":"IFERROR(K354/_data!K354-1,\"\")","v":0}]
["gasoline",0,0,0,0,0,4.5296745065392767E-2,7.5051117686430996E-2,9.8326086372475877E-2,0.75012764770496665,0,null,"gasoline",{"$f":"IFERROR(B355/_data!B355-1,\"\")","v":""},{"$f":"IFERROR(C355/_data!C355-1,\"\")","v":""},{"$f":"IFERROR(D355/_data!D355-1,\"\")","v":""},{"$f":"IFERROR(E355/_data!E355-1,\"\")","v":""},{"$f":"IFERROR(F355/_data!F355-1,\"\")","v":""},{"$f":"IFERROR(G355/_data!G355-1,\"\")","v":0},{"$f":"IFERROR(H355/_data!H355-1,\"\")","v":0},{"$f":"IFERROR(I355/_data!I355-1,\"\")","v":0},{"$f":"IFERROR(J355/_data!J355-1,\"\")","v":0},{"$f":"IFERROR(K355/_data!K355-1,\"\")","v":""}]
["Lignite / Coal",8.8502179061294139,7.7597299203892405,8.5564790843724445,9.3905686662996857,9.1980196756502384,5.5187023438355105,4.060635641594331,3.8615906539463674,3.0416260996599807,4.0083863080267648,null,"Lignite / Coal",{"$f":"IFERROR(B356/_data!B356-1,\"\")","v":0},{"$f":"IFERROR(C356/_data!C356-1,\"\")","v":0},{"$f":"IFERROR(D356/_data!D356-1,\"\")","v":0},{"$f":"IFERROR(E356/_data!E356-1,\"\")","v":0},{"$f":"IFERROR(F356/_data!F356-1,\"\")","v":0},{"$f":"IFERROR(G356/_data!G356-1,\"\")","v":0},{"$f":"IFERROR(H356/_data!H356-1,\"\")","v":0},{"$f":"IFERROR(I356/_data!I356-1,\"\")","v":0},{"$f":"IFERROR(J356/_data!J356-1,\"\")","v":0},{"$f":"IFERROR(K356/_data!K356-1,\"\")","v":0}]
["other fossil fuels",0,0,0,0,0,6.6753097991105129E-3,9.751564469218571E-2,0.11520710211349026,0.1517374942625257,0.12891693364674942,null,"other fossil fuels",{"$f":"IFERROR(B357/_data!B357-1,\"\")","v":""},{"$f":"IFERROR(C357/_data!C357-1,\"\")","v":""},{"$f":"IFERROR(D357/_data!D357-1,\"\")","v":""},{"$f":"IFERROR(E357/_data!E357-1,\"\")","v":""},{"$f":"IFERROR(F357/_data!F357-1,\"\")","v":""},{"$f":"IFERROR(G357/_data!G357-1,\"\")","v":0},{"$f":"IFERROR(H357/_data!H357-1,\"\")","v":0},{"$f":"IFERROR(I357/_data!I357-1,\"\")","v":0},{"$f":"IFERROR(J357/_data!J357-1,\"\")","v":0},{"$f":"IFERROR(K357/_data!K357-1,\"\")","v":0}]
["Plant oil, biofuel",0,0,0,0,0,0,0,0,0,0,null,"Plant oil, biofuel",{"$f":"IFERROR(B358/_data!B358-1,\"\")","v":""},{"$f":"IFERROR(C358/_data!C358-1,\"\")","v":""},{"$f":"IFERROR(D358/_data!D358-1,\"\")","v":""},{"$f":"IFERROR(E358/_data!E358-1,\"\")","v":""},{"$f":"IFERROR(F358/_data!F358-1,\"\")","v":""},{"$f":"IFERROR(G358/_data!G358-1,\"\")","v":""},{"$f":"IFERROR(H358/_data!H358-1,\"\")","v":""},{"$f":"IFERROR(I358/_data!I358-1,\"\")","v":""},{"$f":"IFERROR(J358/_data!J358-1,\"\")","v":""},{"$f":"IFERROR(K358/_data!K358-1,\"\")","v":""}]
["Summe",13.860515053403129,13.081228669146157,14.372035848926405,15.199561792466397,15.463596192617151,12.894497880299387,12.191905272424489,15.843183092077965,17.719543755943274,15.405150694246943,null,"Summe",{"$f":"IFERROR(B359/_data!B359-1,\"\")","v":0},{"$f":"IFERROR(C359/_data!C359-1,\"\")","v":0},{"$f":"IFERROR(D359/_data!D359-1,\"\")","v":0},{"$f":"IFERROR(E359/_data!E359-1,\"\")","v":0},{"$f":"IFERROR(F359/_data!F359-1,\"\")","v":0},{"$f":"IFERROR(G359/_data!G359-1,\"\")","v":0},{"$f":"IFERROR(H359/_data!H359-1,\"\")","v":0},{"$f":"IFERROR(I359/_data!I359-1,\"\")","v":0},{"$f":"IFERROR(J359/_data!J359-1,\"\")","v":0},{"$f":"IFERROR(K359/_data!K359-1,\"\")","v":0}]
[]
["Energy consumption (MWh /Einwohner and  Year) - Tertiary sector (Services)",null,null,null,null,null,null,null,null,null,null,null,"Test:",{"$f":"A361","v":"Energy consumption (MWh /Einwohner and  Year) - Tertiary sector (Services)"}]
["Energieträger",2000,2001,2002,2003,2004,2005,2006,2007,2008,2009,null,"Energieträger",2000,2001,2002,2003,2004,2005,2006,2007,2008,2009]
["Electricity",0.72604022105306276,0.76145065304348625,0.81862382780321241,0.80126741478504471,0.95017752633320596,0.28507607370102456,0.30056738717554227,0.3128280047734418,0.3283746824562413,0.40551271108538361,null,"Electricity",{"$f":"IFERROR(B363/_data!B363-1,\"\")","v":0},{"$f":"IFERROR(C363/_data!C363-1,\"\")","v":0},{"$f":"IFERROR(D363/_data!D363-1,\"\")","v":0},{"$f":"IFERROR(E363/_data!E363-1,\"\")","v":0},{"$f":"IFERROR(F363/_data!F363-1,\"\")","v":0},{"$f":"IFERROR(G363/_data!G363-1,\"\")","v":0},{"$f":"IFERROR(H363/_data!H363-1,\"\")","v":0},{"$f":"IFERROR(I363/_data!I363-1,\"\")","v":0},{"$f":"IFERROR(J363/_data!J363-1,\"\")","v":0},{"$f":"IFERROR(K363/_data!K363-1,\"\")","v":0}]
["Heat and Cold",0,0,0,0,0,0,0,0,0,0,null,"Heat and Cold",{"$f":"IFERROR(B364/_data!B364-1,\"\")","v":""},{"$f":"IFERROR(C364/_data!C364-1,\"\")","v":""},{"$f":"IFERROR(D364/_data!D364-1,\"\")","v":""},{"$f":"IFERROR(E364/_data!E364-1,\"\")","v":""},{"$f":"IFERROR(F364/_data!F364-1,\"\")","v":""},{"$f":"IFERROR(G364/_data!G364-1,\"\")","v":""},{"$f":"IFERROR(H364/_data!H364-1,\"\")","v":""},{"$f":"IFERROR(I364/_data!I364-1,\"\")","v":""},{"$f":"IFERROR(J364/_data!J364-1,\"\")","v":""},{"$f":"IFERROR(K364/_data!K364-1,\"\")","v":""}]
["natural gas",3.9054476524888635,4.8937179031163316,5.3921493410345516,6.5905111232037168,7.9611828741781849,9.4190638529399617,10.039085010742145,8.9066284146079084,14.387149486654087,5.4298038096571171,null,"natural gas",{"$f":"IFERROR(B365/_data!B365-1,\"\")","v":0},{"$f":"IFERROR(C365/_data!C365-1,\"\")","v":0},{"$f":"IFERROR(D365/_data!D365-1,\"\")","v":0},{"$f":"IFERROR(E365/_data!E365-1,\"\")","v":0},{"$f":"IFERROR(F365/_data!F365-1,\"\")","v":0},{"$f":"IFERROR(G365/_data!G365-1,\"\")","v":0},{"$f":"IFERROR(H365/_data!H365-1,\"\")","v":0},{"$f":"IFERROR(I365/_data!I365-1,\"\")","v":0},{"$f":"IFERROR(J365/_data!J365-1,\"\")","v":0},{"$f":"IFERROR(K365/_data!K365-1,\"\")","v":0}]
["Liquid gas",0,0,0,0,0,0,0,0,0,0,null,"Liquid gas",{"$f":"IFERROR(B366/_data!B366-1,\"\")","v":""},{"$f":"IFERROR(C366/_data!C366-1,\"\")","v":""},{"$f":"IFERROR(D366/_data!D366-1,\"\")","v":""},{"$f":"IFERROR(E366/_data!E366-1,\"\")","v":""},{"$f":"IFERROR(F366/_data!F366-1,\"\")","v":""},{"$f":"IFERROR(G366/_data!G366-1,\"\")","v":""},{"$f":"IFERROR(H366/_data!H366-1,\"\")","v":""},{"$f":"IFERROR(I366/_data!I366-1,\"\")","v":""},{"$f":"IFERROR(J366/_data!J366-1,\"\")","v":""},{"$f":"IFERROR(K366/_data!K366-1,\"\")","v":""}]
["heating oil / diesel",4.2738987872384802E-2,4.8364174795568357E-2,4.8362179550740139E-2,4.0281359595527748E-2,5.4138323052750723E-2,0.10733678091811491,0.1269300213289615,8.1803859488868806E-3,0.17979174016506927,0.12398049730681496,null,"heating oil / diesel",{"$f":"IFERROR(B367/_data!B367-1,\"\")","v":0},{"$f":"IFERROR(C367/_data!C367-1,\"\")","v":0},{"$f":"IFERROR(D367/_data!D367-1,\"\")","v":0},{"$f":"IFERROR(E367/_data!E367-1,\"\")","v":0},{"$f":"IFERROR(F367/_data!F367-1,\"\")","v":0},{"$f":"IFERROR(G367/_data!G367-1,\"\")","v":0},{"$f":"IFERROR(H367/_data!H367-1,\"\")","v":0},{"$f":"IFERROR(I367/_data!I367-1,\"\")","v":0},{"$f":"IFERROR(J367/_data!J367-1,\"\")","v":0},{"$f":"IFERROR(K367/_data!K367-1,\"\")","v":0}]
["gasoline",7.2600289442609992E-3,3.2342490296224679E-3,1.2113912774982454E-2,1.1272073337323907E-2,1.5190554759503875E-2,1.1094951726543571E-2,1.1758492326113945E-2,1.7042470726847669E-2,0.1293897974317566,0.14315665385809873,null,"gasoline",{"$f":"IFERROR(B368/_data!B368-1,\"\")","v":0},{"$f":"IFERROR(C368/_data!C368-1,\"\")","v":0},{"$f":"IFERROR(D368/_data!D368-1,\"\")","v":0},{"$f":"IFERROR(E368/_data!E368-1,\"\")","v":0},{"$f":"IFERROR(F368/_data!F368-1,\"\")","v":0},{"$f":"IFERROR(G368/_data!G368-1,\"\")","v":0},{"$f":"IFERROR(H368/_data!H368-1,\"\")","v":0},{"$f":"IFERROR(I368/_data!I368-1,\"\")","v":0},{"$f":"IFERROR(J368/_data!J368-1,\"\")","v":0},{"$f":"IFERROR(K368/_data!K368-1,\"\")","v":0}]
["Lignite / Coal",0,0,0,0,0,0,0,0,0,0,null,"Lignite / Coal",{"$f":"IFERROR(B369/_data!B369-1,\"\")","v":""},{"$f":"IFERROR(C369/_data!C369-1,\"\")","v":""},{"$f":"IFERROR(D369/_data!D369-1,\"\")","v":""},{"$f":"IFERROR(E369/_data!E369-1,\"\")","v":""},{"$f":"IFERROR(F369/_data!F369-1,\"\")","v":""},{"$f":"IFERROR(G369/_data!G369-1,\"\")","v":""},{"$f":"IFERROR(H369/_data!H369-1,\"\")","v":""},{"$f":"IFERROR(I369/_data!I369-1,\"\")","v":""},{"$f":"IFERROR(J369/_data!J369-1,\"\")","v":""},{"$f":"IFERROR(K369/_data!K369-1,\"\")","v":""}]
["other fossil fuels",0.47259242397577639,0.78418387165632397,0.33460945178921442,0.27153586250935308,0.359818171020794,0.29675786584946789,7.3545014502684899E-2,0.16504287440736692,0.11703742257763601,0.13048761793672856,null,"other fossil fuels",{"$f":"IFERROR(B370/_data!B370-1,\"\")","v":0},{"$f":"IFERROR(C370/_data!C370-1,\"\")","v":0},{"$f":"IFERROR(D370/_data!D370-1,\"\")","v":0},{"$f":"IFERROR(E370/_data!E370-1,\"\")","v":0},{"$f":"IFERROR(F370/_data!F370-1,\"\")","v":0},{"$f":"IFERROR(G370/_data!G370-1,\"\")","v":0},{"$f":"IFERROR(H370/_data!H370-1,\"\")","v":0},{"$f":"IFERROR(I370/_data!I370-1,\"\")","v":0},{"$f":"IFERROR(J370/_data!J370-1,\"\")","v":0},{"$f":"IFERROR(K370/_data!K370-1,\"\")","v":0}]
["Plant oil, biofuel",5.7277709074388193E-2,0.11476910284885741,0.11476436809508841,0.11437893920302722,0.11416044198068079,2.1749773136662275E-2,1.1468159182259279E-2,8.1265676202757833E-3,8.0281575450740633E-3,3.8317792568721872E-2,null,"Plant oil, biofuel",{"$f":"IFERROR(B371/_data!B371-1,\"\")","v":0},{"$f":"IFERROR(C371/_data!C371-1,\"\")","v":0},{"$f":"IFERROR(D371/_data!D371-1,\"\")","v":0},{"$f":"IFERROR(E371/_data!E371-1,\"\")","v":0},{"$f":"IFERROR(F371/_data!F371-1,\"\")","v":0},{"$f":"IFERROR(G371/_data!G371-1,\"\")","v":0},{"$f":"IFERROR(H371/_data!H371-1,\"\")","v":0},{"$f":"IFERROR(I371/_data!I371-1,\"\")","v":0},{"$f":"IFERROR(J371/_data!J371-1,\"\")","v":0},{"$f":"IFERROR(K371/_data!K371-1,\"\")","v":0}]
["Summe",5.2113570234087367,6.6057199544901897,6.7206230810477896,7.8292467726339936,9.4546678913251228,10.141079298271773,10.563354085257707,9.417848718084727,15.149771286829862,6.2712590824128647,null,"Summe",{"$f":"IFERROR(B372/_data!B372-1,\"\")","v":0},{"$f":"IFERROR(C372/_data!C372-1,\"\")","v":0},{"$f":"IFERROR(D372/_data!D372-1,\"\")","v":0},{"$f":"IFERROR(E372/_data!E372-1,\"\")","v":0},{"$f":"IFERROR(F372/_data!F372-1,\"\")","v":0},{"$f":"IFERROR(G372/_data!G372-1,\"\")","v":0},{"$f":"IFERROR(H372/_data!H372-1,\"\")","v":0},{"$f":"IFERROR(I372/_data!I372-1,\"\")","v":0},{"$f":"IFERROR(J372/_data!J372-1,\"\")","v":0},{"$f":"IFERROR(K372/_data!K372-1,\"\")","v":0}]
[]
["Energy consumption (MWh /Einwohner and  Year) - Road",null,null,null,null,null,null,null,null,null,null,null,"Test:",{"$f":"A374","v":"Energy consumption (MWh /Einwohner and  Year) - Road"}]
["Energieträger",2000,2001,2002,2003,2004,2005,2006,2007,2008,2009,null,"Energieträger",2000,2001,2002,2003,2004,2005,2006,2007,2008,2009]
["Electricity",0,0,0,0,0,0,0,0,0,0,null,"Electricity",{"$f":"IFERROR(B376/_data!B376-1,\"\")","v":""},{"$f":"IFERROR(C376/_data!C376-1,\"\")","v":""},{"$f":"IFERROR(D376/_data!D376-1,\"\")","v":""},{"$f":"IFERROR(E376/_data!E376-1,\"\")","v":""},{"$f":"IFERROR(F376/_data!F376-1,\"\")","v":""},{"$f":"IFERROR(G376/_data!G376-1,\"\")","v":""},{"$f":"IFERROR(H376/_data!H376-1,\"\")","v":""},{"$f":"IFERROR(I376/_data!I376-1,\"\")","v":""},{"$f":"IFERROR(J376/_data!J376-1,\"\")","v":""},{"$f":"IFERROR(K376/_data!K376-1,\"\")","v":""}]
["Heat and Cold",0,0,0,0,0,0,0,0,0,0,null,"Heat and Cold",{"$f":"IFERROR(B377/_data!B377-1,\"\")","v":""},{"$f":"IFERROR(C377/_data!C377-1,\"\")","v":""},{"$f":"IFERROR(D377/_data!D377-1,\"\")","v":""},{"$f":"IFERROR(E377/_data!E377-1,\"\")","v":""},{"$f":"IFERROR(F377/_data!F377-1,\"\")","v":""},{"$f":"IFERROR(G377/_data!G377-1,\"\")","v":""},{"$f":"IFERROR(H377/_data!H377-1,\"\")","v":""},{"$f":"IFERROR(I377/_data!I377-1,\"\")","v":""},{"$f":"IFERROR(J377/_data!J377-1,\"\")","v":""},{"$f":"IFERROR(K377/_data!K377-1,\"\")","v":""}]
["natural gas",0,0,0,0,0,0,0,0,0,0,null,"natural gas",{"$f":"IFERROR(B378/_data!B378-1,\"\")","v":""},{"$f":"IFERROR(C378/_data!C378-1,\"\")","v":""},{"$f":"IFERROR(D378/_data!D378-1,\"\")","v":""},{"$f":"IFERROR(E378/_data!E378-1,\"\")","v":""},{"$f":"IFERROR(F378/_data!F378-1,\"\")","v":""},{"$f":"IFERROR(G378/_data!G378-1,\"\")","v":""},{"$f":"IFERROR(H378/_data!H378-1,\"\")","v":""},{"$f":"IFERROR(I378/_data!I378-1,\"\")","v":""},{"$f":"IFERROR(J378/_data!J378-1,\"\")","v":""},{"$f":"IFERROR(K378/_data!K378-1,\"\")","v":""}]
["Liquid gas",0,0,0,0,0,0,0,0,0,0,null,"Liquid gas",{"$f":"IFERROR(B379/_data!B379-1,\"\")","v":""},{"$f":"IFERROR(C379/_data!C379-1,\"\")","v":""},{"$f":"IFERROR(D379/_data!D379-1,\"\")","v":""},{"$f":"IFERROR(E379/_data!E379-1,\"\")","v":""},{"$f":"IFERROR(F379/_data!F379-1,\"\")","v":""},{"$f":"IFERROR(G379/_data!G379-1,\"\")","v":""},{"$f":"IFERROR(H379/_data!H379-1,\"\")","v":""},{"$f":"IFERROR(I379/_data!I379-1,\"\")","v":""},{"$f":"IFERROR(J379/_data!J379-1,\"\")","v":""},{"$f":"IFERROR(K379/_data!K379-1,\"\")","v":""}]
["heating oil / diesel",0.13482377658956671,0.15412224855611345,0.15491974562697469,0.12192470730487215,0.1635436218261325,0.19015463545872777,0.22901841303685816,0.3849804439980537,0.21087648262436268,0.22738675644159548,null,"heating oil / diesel",{"$f":"IFERROR(B380/_data!B380-1,\"\")","v":0},{"$f":"IFERROR(C380/_data!C380-1,\"\")","v":0},{"$f":"IFERROR(D380/_data!D380-1,\"\")","v":0},{"$f":"IFERROR(E380/_data!E380-1,\"\")","v":0},{"$f":"IFERROR(F380/_data!F380-1,\"\")","v":0},{"$f":"IFERROR(G380/_data!G380-1,\"\")","v":0},{"$f":"IFERROR(H380/_data!H380-1,\"\")","v":0},{"$f":"IFERROR(I380/_data!I380-1,\"\")","v":0},{"$f":"IFERROR(J380/_data!J380-1,\"\")","v":0},{"$f":"IFERROR(K380/_data!K380-1,\"\")","v":0}]
["gasoline",1.3480324694473718,1.5705737628819856,1.6510440562668216,1.5316605039912792,1.9594705489594872,1.9292378869956759,2.1458522662298316,2.5126163078663284,8.8823676856316133E-2,2.5039987032982829,null,"gasoline",{"$f":"IFERROR(B381/_data!B381-1,\"\")","v":0},{"$f":"IFERROR(C381/_data!C381-1,\"\")","v":0},{"$f":"IFERROR(D381/_data!D381-1,\"\")","v":0},{"$f":"IFERROR(E381/_data!E381-1,\"\")","v":0},{"$f":"IFERROR(F381/_data!F381-1,\"\")","v":0},{"$f":"IFERROR(G381/_data!G381-1,\"\")","v":0},{"$f":"IFERROR(H381/_data!H381-1,\"\")","v":0},{"$f":"IFERROR(I381/_data!I381-1,\"\")","v":0},{"$f":"IFERROR(J381/_data!J381-1,\"\")","v":0},{"$f":"IFERROR(K381/_data!K381-1,\"\")","v":0}]
["Lignite / Coal",0,0,0,0,0,0,0,0,0,0,null,"Lignite / Coal",{"$f":"IFERROR(B382/_data!B382-1,\"\")","v":""},{"$f":"IFERROR(C382/_data!C382-1,\"\")","v":""},{"$f":"IFERROR(D382/_data!D382-1,\"\")","v":""},{"$f":"IFERROR(E382/_data!E382-1,\"\")","v":""},{"$f":"IFERROR(F382/_data!F382-1,\"\")","v":""},{"$f":"IFERROR(G382/_data!G382-1,\"\")","v":""},{"$f":"IFERROR(H382/_data!H382-1,\"\")","v":""},{"$f":"IFERROR(I382/_data!I382-1,\"\")","v":""},{"$f":"IFERROR(J382/_data!J382-1,\"\")","v":""},{"$f":"IFERROR(K382/_data!K382-1,\"\")","v":""}]
["other fossil fuels",0,0,0,0,0,8.4358310648099879E-4,6.6050790226936358E-3,8.2521437203683461E-4,9.6940445411821466E-3,0,null,"other fossil fuels",{"$f":"IFERROR(B383/_data!B383-1,\"\")","v":""},{"$f":"IFERROR(C383/_data!C383-1,\"\")","v":""},{"$f":"IFERROR(D383/_data!D383-1,\"\")","v":""},{"$f":"IFERROR(E383/_data!E383-1,\"\")","v":""},{"$f":"IFERROR(F383/_data!F383-1,\"\")","v":""},{"$f":"IFERROR(G383/_data!G383-1,\"\")","v":0},{"$f":"IFERROR(H383/_data!H383-1,\"\")","v":0},{"$f":"IFERROR(I383/_data!I383-1,\"\")","v":0},{"$f":"IFERROR(J383/_data!J383-1,\"\")","v":0},{"$f":"IFERROR(K383/_data!K383-1,\"\")","v":""}]
["Plant oil, biofuel",0,0,0,0,0,0,0,0,0,0,null,"Plant oil, biofuel",{"$f":"IFERROR(B384/_data!B384-1,\"\")","v":""},{"$f":"IFERROR(C384/_data!C384-1,\"\")","v":""},{"$f":"IFERROR(D384/_data!D384-1,\"\")","v":""},{"$f":"IFERROR(E384/_data!E384-1,\"\")","v":""},{"$f":"IFERROR(F384/_data!F384-1,\"\")","v":""},{"$f":"IFERROR(G384/_data!G384-1,\"\")","v":""},{"$f":"IFERROR(H384/_data!H384-1,\"\")","v":""},{"$f":"IFERROR(I384/_data!I384-1,\"\")","v":""},{"$f":"IFERROR(J384/_data!J384-1,\"\")","v":""},{"$f":"IFERROR(K384/_data!K384-1,\"\")","v":""}]
["Summe",1.4828562460369386,1.7246960114380991,1.8059638018937962,1.6535852112961513,2.1230141707856198,2.1202361055608847,2.3814757582893833,2.8984219662364188,0.30939420402186096,2.7313854597398786,null,"Summe",{"$f":"IFERROR(B385/_data!B385-1,\"\")","v":0},{"$f":"IFERROR(C385/_data!C385-1,\"\")","v":0},{"$f":"IFERROR(D385/_data!D385-1,\"\")","v":0},{"$f":"IFERROR(E385/_data!E385-1,\"\")","v":0},{"$f":"IFERROR(F385/_data!F385-1,\"\")","v":0},{"$f":"IFERROR(G385/_data!G385-1,\"\")","v":0},{"$f":"IFERROR(H385/_data!H385-1,\"\")","v":0},{"$f":"IFERROR(I385/_data!I385-1,\"\")","v":0},{"$f":"IFERROR(J385/_data!J385-1,\"\")","v":0},{"$f":"IFERROR(K385/_data!K385-1,\"\")","v":0}]
[]
["Energy consumption (MWh /Einwohner and  Year) - Rail",null,null,null,null,null,null,null,null,null,null,null,"Test:",{"$f":"A387","v":"Energy consumption (MWh /Einwohner and  Year) - Rail"}]
["Energieträger",2000,2001,2002,2003,2004,2005,2006,2007,2008,2009,null,"Energieträger",2000,2001,2002,2003,2004,2005,2006,2007,2008,2009]
["Electricity",0.17455797099144763,0.18293136852517833,0.16366868263112869,0.1826448511170021,6.220541425268214E-2,6.0444563455681999E-2,6.3764416719080869E-2,0.11411279609839792,0.12715679996888832,0,null,"Electricity",{"$f":"IFERROR(B389/_data!B389-1,\"\")","v":0},{"$f":"IFERROR(C389/_data!C389-1,\"\")","v":0},{"$f":"IFERROR(D389/_data!D389-1,\"\")","v":0},{"$f":"IFERROR(E389/_data!E389-1,\"\")","v":0},{"$f":"IFERROR(F389/_data!F389-1,\"\")","v":0},{"$f":"IFERROR(G389/_data!G389-1,\"\")","v":0},{"$f":"IFERROR(H389/_data!H389-1,\"\")","v":0},{"$f":"IFERROR(I389/_data!I389-1,\"\")","v":0},{"$f":"IFERROR(J389/_data!J389-1,\"\")","v":0},{"$f":"IFERROR(K389/_data!K389-1,\"\")","v":""}]
["Heat and Cold",0,0,0,0,0,0,0,0,0,0,null,"Heat and Cold",{"$f":"IFERROR(B390/_data!B390-1,\"\")","v":""},{"$f":"IFERROR(C390/_data!C390-1,\"\")","v":""},{"$f":"IFERROR(D390/_data!D390-1,\"\")","v":""},{"$f":"IFERROR(E390/_data!E390-1,\"\")","v":""},{"$f":"IFERROR(F390/_data!F390-1,\"\")","v":""},{"$f":"IFERROR(G390/_data!G390-1,\"\")","v":""},{"$f":"IFERROR(H390/_data!H390-1,\"\")","v":""},{"$f":"IFERROR(I390/_data!I390-1,\"\")","v":""},{"$f":"IFERROR(J390/_data!J390-1,\"\")","v":""},{"$f":"IFERROR(K390/_data!K390-1,\"\")","v":""}]
["natural gas",0,0,0,0,0,0,0,0,0,0,null,"natural gas",{"$f":"IFERROR(B391/_data!B391-1,\"\")","v":""},{"$f":"IFERROR(C391/_data!C391-1,\"\")","v":""},{"$f":"IFERROR(D391/_data!D391-1,\"\")","v":""},{"$f":"IFERROR(E391/_data!E391-1,\"\")","v":""},{"$f":"IFERROR(F391/_data!F391-1,\"\")","v":""},{"$f":"IFERROR(G391/_data!G391-1,\"\")","v":""},{"$f":"IFERROR(H391/_data!H391-1,\"\")","v":""},{"$f":"IFERROR(I391/_data!I391-1,\"\")","v":""},{"$f":"IFERROR(J391/_data!J391-1,\"\")","v":""},{"$f":"IFERROR(K391/_data!K391-1,\"\")","v":""}]
["Liquid gas",0,0,0,0,0,0,0,0,0,0,null,"Liquid gas",{"$f":"IFERROR(B392/_data!B392-1,\"\")","v":""},{"$f":"IFERROR(C392/_data!C392-1,\"\")","v":""},{"$f":"IFERROR(D392/_data!D392-1,\"\")","v":""},{"$f":"IFERROR(E392/_data!E392-1,\"\")","v":""},{"$f":"IFERROR(F392/_data!F392-1,\"\")","v":""},{"$f":"IFERROR(G392/_data!G392-1,\"\")","v":""},{"$f":"IFERROR(H392/_data!H392-1,\"\")","v":""},{"$f":"IFERROR(I392/_data!I392-1,\"\")","v":""},{"$f":"IFERROR(J392/_data!J392-1,\"\")","v":""},{"$f":"IFERROR(K392/_data!K392-1,\"\")","v":""}]
["heating oil / diesel",0.15186338179807649,0.17197605100287333,0.17353927822555884,0.13893529070483368,0.18350782229568752,0.19473932625482013,0.23355486840958736,0.25613936530308529,0.13998767427933781,0.2310114124953935,null,"heating oil / diesel",{"$f":"IFERROR(B393/_data!B393-1,\"\")","v":0},{"$f":"IFERROR(C393/_data!C393-1,\"\")","v":0},{"$f":"IFERROR(D393/_data!D393-1,\"\")","v":0},{"$f":"IFERROR(E393/_data!E393-1,\"\")","v":0},{"$f":"IFERROR(F393/_data!F393-1,\"\")","v":0},{"$f":"IFERROR(G393/_data!G393-1,\"\")","v":0},{"$f":"IFERROR(H393/_data!H393-1,\"\")","v":0},{"$f":"IFERROR(I393/_data!I393-1,\"\")","v":0},{"$f":"IFERROR(J393/_data!J393-1,\"\")","v":0},{"$f":"IFERROR(K393/_data!K393-1,\"\")","v":0}]
["gasoline",0,0,0,0,0,0,0,0,0,0,null,"gasoline",{"$f":"IFERROR(B394/_data!B394-1,\"\")","v":""},{"$f":"IFERROR(C394/_data!C394-1,\"\")","v":""},{"$f":"IFERROR(D394/_data!D394-1,\"\")","v":""},{"$f":"IFERROR(E394/_data!E394-1,\"\")","v":""},{"$f":"IFERROR(F394/_data!F394-1,\"\")","v":""},{"$f":"IFERROR(G394/_data!G394-1,\"\")","v":""},{"$f":"IFERROR(H394/_data!H394-1,\"\")","v":""},{"$f":"IFERROR(I394/_data!I394-1,\"\")","v":""},{"$f":"IFERROR(J394/_data!J394-1,\"\")","v":""},{"$f":"IFERROR(K394/_data!K394-1,\"\")","v":""}]
["Lignite / Coal",0,0,0,0,0,0,0,0,0,0,null,"Lignite / Coal",{"$f":"IFERROR(B395/_data!B395-1,\"\")","v":""},{"$f":"IFERROR(C395/_data!C395-1,\"\")","v":""},{"$f":"IFERROR(D395/_data!D395-1,\"\")","v":""},{"$f":"IFERROR(E395/_data!E395-1,\"\")","v":""},{"$f":"IFERROR(F395/_data!F395-1,\"\")","v":""},{"$f":"IFERROR(G395/_data!G395-1,\"\")","v":""},{"$f":"IFERROR(H395/_data!H395-1,\"\")","v":""},{"$f":"IFERROR(I395/_data!I395-1,\"\")","v":""},{"$f":"IFERROR(J395/_data!J395-1,\"\")","v":""},{"$f":"IFERROR(K395/_data!K395-1,\"\")","v":""}]
["other fossil fuels",0,0,0,0,0,0,0,0,0,0,null,"other fossil fuels",{"$f":"IFERROR(B396/_data!B396-1,\"\")","v":""},{"$f":"IFERROR(C396/_data!C396-1,\"\")","v":""},{"$f":"IFERROR(D396/_data!D396-1,\"\")","v":""},{"$f":"IFERROR(E396/_data!E396-1,\"\")","v":""},{"$f":"IFERROR(F396/_data!F396-1,\"\")","v":""},{"$f":"IFERROR(G396/_data!G396-1,\"\")","v":""},{"$f":"IFERROR(H396/_data!H396-1,\"\")","v":""},{"$f":"IFERROR(I396/_data!I396-1,\"\")","v":""},{"$f":"IFERROR(J396/_data!J396-1,\"\")","v":""},{"$f":"IFERROR(K396/_data!K396-1,\"\")","v":""}]
["Plant oil, biofuel",0,0,0,0,0,0,0,0,0,0,null,"Plant oil, biofuel",{"$f":"IFERROR(B397/_data!B397-1,\"\")","v":""},{"$f":"IFERROR(C397/_data!C397-1,\"\")","v":""},{"$f":"IFERROR(D397/_data!D397-1,\"\")","v":""},{"$f":"IFERROR(E397/_data!E397-1,\"\")","v":""},{"$f":"IFERROR(F397/_data!F397-1,\"\")","v":""},{"$f":"IFERROR(G397/_data!G397-1,\"\")","v":""},{"$f":"IFERROR(H397/_data!H397-1,\"\")","v":""},{"$f":"IFERROR(I397/_data!I397-1,\"\")","v":""},{"$f":"IFERROR(J397/_data!J397-1,\"\")","v":""},{"$f":"IFERROR(K397/_data!K397-1,\"\")","v":""}]
["Summe",0.32642135278952411,0.35490741952805166,0.33720796085668753,0.32158014182183581,0.24571323654836966,0.2551838897105021,0.29731928512866823,0.3702521614014832,0.26714447424822613,0.2310114124953935,null,"Summe",{"$f":"IFERROR(B398/_data!B398-1,\"\")","v":0},{"$f":"IFERROR(C398/_data!C398-1,\"\")","v":0},{"$f":"IFERROR(D398/_data!D398-1,\"\")","v":0},{"$f":"IFERROR(E398/_data!E398-1,\"\")","v":0},{"$f":"IFERROR(F398/_data!F398-1,\"\")","v":0},{"$f":"IFERROR(G398/_data!G398-1,\"\")","v":0},{"$f":"IFERROR(H398/_data!H398-1,\"\")","v":0},{"$f":"IFERROR(I398/_data!I398-1,\"\")","v":0},{"$f":"IFERROR(J398/_data!J398-1,\"\")","v":0},{"$f":"IFERROR(K398/_data!K398-1,\"\")","v":0}]
[]
["Quelle:","P:\\KB-Projekte\\COMO EAST\\WP 2 Training\\Tool\\Tool-Daten\\Energiedaten\\Endberechnung"]
["Kyrgyzstan",null,null,null,null,null,null,null,null,null,null,null,"Kyrgyzstan",null,null,null,null,null,null,null,null,null,null,null,"Kyrgyzstan",null,null,null,null,null,null,null,null,null,null,null,"Kyrgyzstan"]
["Energy consumption (MWh /Einwohner and  Year) - Residential building (Households)",null,null,null,null,null,null,null,null,null,null,null,"Test:",{"$f":"A402","v":"Energy consumption (MWh /Einwohner and  Year) - Residential building (Households)"},null,null,null,null,null,null,null,null,null,null,"CO2 emission Factor (t /Mwh)"]
["Energieträger",2000,2001,2002,2003,2004,2005,2006,2007,2008,2009,null,"Energieträger",2000,2001,2002,2003,2004,2005,2006,2007,2008,2009,null,"Energieträger",2000,2001,2002,2003,2004,2005,2006,2007,2008,2009,null,null,"Year:",{"$f":"'DATA-OUTPUT Co2 absolute'!$B$8","v":0},null,"CO2","Test"]
["Electricity",0.47997532073965193,0.36680529997146449,0.34441839599432722,0.47885313187793704,0.4877857660587302,0.57120227964376258,0.62412702062786385,0.53410691839816427,0.28991002396157789,0.26862911431856129,null,"Electricity",{"$f":"IFERROR(B404/_data!B404-1,\"\")","v":0},{"$f":"IFERROR(C404/_data!C404-1,\"\")","v":0},{"$f":"IFERROR(D404/_data!D404-1,\"\")","v":0},{"$f":"IFERROR(E404/_data!E404-1,\"\")","v":0},{"$f":"IFERROR(F404/_data!F404-1,\"\")","v":0},{"$f":"IFERROR(G404/_data!G404-1,\"\")","v":0},{"$f":"IFERROR(H404/_data!H404-1,\"\")","v":0},{"$f":"IFERROR(I404/_data!I404-1,\"\")","v":0},{"$f":"IFERROR(J404/_data!J404-1,\"\")","v":0},{"$f":"IFERROR(K404/_data!K404-1,\"\")","v":0},null,"Electricity",{"$f":"_data!Z404","v":0.23300000000000001},{"$f":"_data!AA404","v":0.28000000000000003},{"$f":"_data!AB404","v":0.27200000000000002},{"$f":"_data!AC404","v":0.20799999999999999},{"$f":"_data!AD404","v":0.24199999999999999},{"$f":"_data!AE404","v":0.21199999999999999},{"$f":"_data!AF404","v":0.193},{"$f":"_data!AG404","v":0.23100000000000001},{"$f":"_data!AH404","v":0.14899999999999999},{"$f":"_data!AI404","v":0.14899999999999999},null,null,null,{"$f":"'DATA-OUTPUT EC per capita'!$B$37","v":0},{"$f":"IF(AM403=Z403,Z404,IF(AM403=AA403,AA404,IF(AM403=AB403,AB404,IF(AM403=AC403,AC404,IF(AM403=AD403,AD404,IF(AM403=AE403,AE404,IF(AM403=AF403,AF404,IF(AM403=AG403,AG404,IF(AM403=AH403,AH404,IF(AM403=AI403,AI404,\"Fehler\"))))))))))","v":"Fehler"},{"$f":"AN404*AM404","v":{"$error":"#VALUE!"}},{"$f":"AO404/'DATA-OUTPUT Co2 per capita'!$B$37-1","v":{"$error":"#VALUE!"}}]
["Heat and Cold",0,0,0,0,0,0,0,0,0,0,null,"Heat and Cold",{"$f":"IFERROR(B405/_data!B405-1,\"\")","v":""},{"$f":"IFERROR(C405/_data!C405-1,\"\")","v":""},{"$f":"IFERROR(D405/_data!D405-1,\"\")","v":""},{"$f":"IFERROR(E405/_data!E405-1,\"\")","v":""},{"$f":"IFERROR(F405/_data!F405-1,\"\")","v":""},{"$f":"IFERROR(G405/_data!G405-1,\"\")","v":""},{"$f":"IFERROR(H405/_data!H405-1,\"\")","v":""},{"$f":"IFERROR(I405/_data!I405-1,\"\")","v":""},{"$f":"IFERROR(J405/_data!J405-1,\"\")","v":""},{"$f":"IFERROR(K405/_data!K405-1,\"\")","v":""},null,"Heat and Cold",{"$f":"_data!Z405","v":"n.a."},{"$f":"_data!AA405","v":"n.a."},{"$f":"_data!AB405","v":"n.a."},{"$f":"_data!AC405","v":"n.a."},{"$f":"_data!AD405","v":"n.a."},{"$f":"_data!AE405","v":"n.a."},{"$f":"_data!AF405","v":"n.a."},{"$f":"_data!AG405","v":"n.a."},{"$f":"_data!AH405","v":"n.a."},{"$f":"_data!AI405","v":"n.a."},null,null,null,{"$f":"'DATA-OUTPUT EC per capita'!$C$37","v":0},{"$f":"IF(AM403=Z403,Z405,IF(AM403=AA403,AA405,IF(AM403=AB403,AB405,IF(AM403=AC403,AC405,IF(AM403=AD403,AD405,IF(AM403=AE403,AE405,IF(AM403=AF403,AF405,IF(AM403=AG403, AG405,IF(AM403=AH403,AH405,IF(AM403=AI403,AI405,\"Fehler\"))))))))))","v":"Fehler"},{"$f":"AM405*AN405","v":{"$error":"#VALUE!"}},{"$f":"AO405/'DATA-OUTPUT Co2 per capita'!$C$37-1","v":{"$error":"#VALUE!"}}]
["natural gas",0,0,0,0,0,0,0,0,0,0,null,"natural gas",{"$f":"IFERROR(B406/_data!B406-1,\"\")","v":""},{"$f":"IFERROR(C406/_data!C406-1,\"\")","v":""},{"$f":"IFERROR(D406/_data!D406-1,\"\")","v":""},{"$f":"IFERROR(E406/_data!E406-1,\"\")","v":""},{"$f":"IFERROR(F406/_data!F406-1,\"\")","v":""},{"$f":"IFERROR(G406/_data!G406-1,\"\")","v":""},{"$f":"IFERROR(H406/_data!H406-1,\"\")","v":""},{"$f":"IFERROR(I406/_data!I406-1,\"\")","v":""},{"$f":"IFERROR(J406/_data!J406-1,\"\")","v":""},{"$f":"IFERROR(K406/_data!K406-1,\"\")","v":""},null,"natural gas",{"$f":"_data!Z406","v":0.20200000000000001},{"$f":"_data!AA406","v":0.20200000000000001},{"$f":"_data!AB406","v":0.20200000000000001},{"$f":"_data!AC406","v":0.20200000000000001},{"$f":"_data!AD406","v":0.20200000000000001},{"$f":"_data!AE406","v":0.20200000000000001},{"$f":"_data!AF406","v":0.20200000000000001},{"$f":"_data!AG406","v":0.20200000000000001},{"$f":"_data!AH406","v":0.20200000000000001},{"$f":"_data!AI406","v":0.20200000000000001},null,null,null,{"$f":"'DATA-OUTPUT EC per capita'!$D$37","v":0},{"$f":"IF(AM403=Z403,Z406,IF(AM403=AA403,AA406,IF(AM403=AB403,AB406,IF(AM403=AC403,AC406,IF(AM403=AD403,AD406,IF(AM403=AE403,AE406,IF(AM403=AF403,AF406,IF(AM403=AG403, AG406,IF(AM403=AH403,AH406,IF(AM403=AI403,AI406,\"Fehler\"))))))))))","v":"Fehler"},{"$f":"AM406*AN406","v":{"$error":"#VALUE!"}},{"$f":"AO406/'DATA-OUTPUT Co2 per capita'!$D$37-1","v":{"$error":"#VALUE!"}}]
["Liquid gas",0,0,0,0,0,0,0,0,0,0,null,"Liquid gas",{"$f":"IFERROR(B407/_data!B407-1,\"\")","v":""},{"$f":"IFERROR(C407/_data!C407-1,\"\")","v":""},{"$f":"IFERROR(D407/_data!D407-1,\"\")","v":""},{"$f":"IFERROR(E407/_data!E407-1,\"\")","v":""},{"$f":"IFERROR(F407/_data!F407-1,\"\")","v":""},{"$f":"IFERROR(G407/_data!G407-1,\"\")","v":""},{"$f":"IFERROR(H407/_data!H407-1,\"\")","v":""},{"$f":"IFERROR(I407/_data!I407-1,\"\")","v":""},{"$f":"IFERROR(J407/_data!J407-1,\"\")","v":""},{"$f":"IFERROR(K407/_data!K407-1,\"\")","v":""},null,"Liquid gas",{"$f":"_data!Z407","v":0.23100000000000001},{"$f":"_data!AA407","v":0.23100000000000001},{"$f":"_data!AB407","v":0.23100000000000001},{"$f":"_data!AC407","v":0.23100000000000001},{"$f":"_data!AD407","v":0.23100000000000001},{"$f":"_data!AE407","v":0.23100000000000001},{"$f":"_data!AF407","v":0.23100000000000001},{"$f":"_data!AG407","v":0.23100000000000001},{"$f":"_data!AH407","v":0.23100000000000001},{"$f":"_data!AI407","v":0.23100000000000001},null,null,null,{"$f":"'DATA-OUTPUT EC per capita'!$E$37","v":0},{"$f":"IF(AM403=Z403,Z407,IF(AM403=AA403,AA407,IF(AM403=AB403,AB407,IF(AM403=AC403,AC407,IF(AM403=AD403,AD407,IF(AM403=AE403,AE407,IF(AM403=AF403,AF407,IF(AM403=AG403, AG407,IF(AM403=AH403,AH407,IF(AM403=AI403,AI407,\"Fehler\"))))))))))","v":"Fehler"},{"$error":"#VALUE!"},{"$f":"AO407/'DATA-OUTPUT Co2 per capita'!$E$37-1","v":{"$error":"#VALUE!"}}]
["heating oil / diesel",0,0,0,0,0,0,0,0,0,0,null,"heating oil / diesel",{"$f":"IFERROR(B408/_data!B408-1,\"\")","v":""},{"$f":"IFERROR(C408/_data!C408-1,\"\")","v":""},{"$f":"IFERROR(D408/_data!D408-1,\"\")","v":""},{"$f":"IFERROR(E408/_data!E408-1,\"\")","v":""},{"$f":"IFERROR(F408/_data!F408-1,\"\")","v":""},{"$f":"IFERROR(G408/_data!G408-1,\"\")","v":""},{"$f":"IFERROR(H408/_data!H408-1,\"\")","v":""},{"$f":"IFERROR(I408/_data!I408-1,\"\")","v":""},{"$f":"IFERROR(J408/_data!J408-1,\"\")","v":""},{"$f":"IFERROR(K408/_data!K408-1,\"\")","v":""},null,"heating oil / diesel",{"$f":"_data!Z408","v":0.26700000000000002},{"$f":"_data!AA408","v":0.26700000000000002},{"$f":"_data!AB408","v":0.26700000000000002},{"$f":"_data!AC408","v":0.26700000000000002},{"$f":"_data!AD408","v":0.26700000000000002},{"$f":"_data!AE408","v":0.26700000000000002},{"$f":"_data!AF408","v":0.26700000000000002},{"$f":"_data!AG408","v":0.26700000000000002},{"$f":"_data!AH408","v":0.26700000000000002},{"$f":"_data!AI408","v":0.26700000000000002},null,null,null,{"$f":"'DATA-OUTPUT EC per capita'!$F$37","v":0},{"$f":"IF(AM403=Z403,Z408,IF(AM403=AA403,AA408,IF(AM403=AB403,AB408,IF(AM403=AC403,AC408,IF(AM403=AD403,AD408,IF(AM403=AE403,AE408,IF(AM403=AF403,AF408,IF(AM403=AG403, AG408,IF(AM403=AH403,AH408,IF(AM403=AI403,AI408,\"Fehler\"))))))))))","v":"Fehler"},{"$error":"#VALUE!"},{"$f":"AO408/'DATA-OUTPUT Co2 per capita'!$F$37-1","v":{"$error":"#VALUE!"}}]
["gasoline",0,0,0,0,0,0,0,0,0,0,null,"gasoline",{"$f":"IFERROR(B409/_data!B409-1,\"\")","v":""},{"$f":"IFERROR(C409/_data!C409-1,\"\")","v":""},{"$f":"IFERROR(D409/_data!D409-1,\"\")","v":""},{"$f":"IFERROR(E409/_data!E409-1,\"\")","v":""},{"$f":"IFERROR(F409/_data!F409-1,\"\")","v":""},{"$f":"IFERROR(G409/_data!G409-1,\"\")","v":""},{"$f":"IFERROR(H409/_data!H409-1,\"\")","v":""},{"$f":"IFERROR(I409/_data!I409-1,\"\")","v":""},{"$f":"IFERROR(J409/_data!J409-1,\"\")","v":""},{"$f":"IFERROR(K409/_data!K409-1,\"\")","v":""},null,"gasoline",{"$f":"_data!Z409","v":0.249},{"$f":"_data!AA409","v":0.249},{"$f":"_data!AB409","v":0.249},{"$f":"_data!AC409","v":0.249},{"$f":"_data!AD409","v":0.249},{"$f":"_data!AE409","v":0.249},{"$f":"_data!AF409","v":0.249},{"$f":"_data!AG409","v":0.249},{"$f":"_data!AH409","v":0.249},{"$f":"_data!AI409","v":0.249},null,null,null,{"$f":"'DATA-OUTPUT EC per capita'!$G$37","v":0},{"$f":"IF(AM403=Z403,Z409,IF(AM403=AA403,AA409,IF(AM403=AB403,AB409,IF(AM403=AC403,AC409,IF(AM403=AD403,AD409,IF(AM403=AE403,AE409,IF(AM403=AF403,AF409,IF(AM403=AG403, AG409,IF(AM403=AH403,AH409,IF(AM403=AI403,AI409,\"Fehler\"))))))))))","v":"Fehler"},{"$error":"#VALUE!"},{"$f":"AO409/'DATA-OUTPUT Co2 per capita'!$G$37-1","v":{"$error":"#VALUE!"}}]
["Lignite / Coal",0,0,0,0,0,0,0,0,0,0,null,"Lignite / Coal",{"$f":"IFERROR(B410/_data!B410-1,\"\")","v":""},{"$f":"IFERROR(C410/_data!C410-1,\"\")","v":""},{"$f":"IFERROR(D410/_data!D410-1,\"\")","v":""},{"$f":"IFERROR(E410/_data!E410-1,\"\")","v":""},{"$f":"IFERROR(F410/_data!F410-1,\"\")","v":""},{"$f":"IFERROR(G410/_data!G410-1,\"\")","v":""},{"$f":"IFERROR(H410/_data!H410-1,\"\")","v":""},{"$f":"IFERROR(I410/_data!I410-1,\"\")","v":""},{"$f":"IFERROR(J410/_data!J410-1,\"\")","v":""},{"$f":"IFERROR(K410/_data!K410-1,\"\")","v":""},null,"Lignite / Coal",{"$f":"_data!Z410","v":0.36399999999999999},{"$f":"_data!AA410","v":0.36399999999999999},{"$f":"_data!AB410","v":0.36399999999999999},{"$f":"_data!AC410","v":0.36399999999999999},{"$f":"_data!AD410","v":0.36399999999999999},{"$f":"_data!AE410","v":0.36399999999999999},{"$f":"_data!AF410","v":0.36399999999999999},{"$f":"_data!AG410","v":0.36399999999999999},{"$f":"_data!AH410","v":0.36399999999999999},{"$f":"_data!AI410","v":0.36399999999999999},null,null,null,{"$f":"'DATA-OUTPUT EC per capita'!$H$37","v":0},{"$f":"IF(AM403=Z403,Z410,IF(AM403=AA403,AA410,IF(AM403=AB403,AB410,IF(AM403=AC403,AC410,IF(AM403=AD403,AD410,IF(AM403=AE403,AE410,IF(AM403=AF403,AF410,IF(AM403=AG403, AG410,IF(AM403=AH403,AH410,IF(AM403=AI403,AI410,\"Fehler\"))))))))))","v":"Fehler"},{"$error":"#VALUE!"},{"$f":"AO410/'DATA-OUTPUT Co2 per capita'!$H$37-1","v":{"$error":"#VALUE!"}}]
["other fossil fuels",0,0,0,0,0,0,0,0,0,0,null,"other fossil fuels",{"$f":"IFERROR(B411/_data!B411-1,\"\")","v":""},{"$f":"IFERROR(C411/_data!C411-1,\"\")","v":""},{"$f":"IFERROR(D411/_data!D411-1,\"\")","v":""},{"$f":"IFERROR(E411/_data!E411-1,\"\")","v":""},{"$f":"IFERROR(F411/_data!F411-1,\"\")","v":""},{"$f":"IFERROR(G411/_data!G411-1,\"\")","v":""},{"$f":"IFERROR(H411/_data!H411-1,\"\")","v":""},{"$f":"IFERROR(I411/_data!I411-1,\"\")","v":""},{"$f":"IFERROR(J411/_data!J411-1,\"\")","v":""},{"$f":"IFERROR(K411/_data!K411-1,\"\")","v":""},null,"other fossil fuels",{"$f":"_data!Z411","v":0.38200000000000001},{"$f":"_data!AA411","v":0.38200000000000001},{"$f":"_data!AB411","v":0.38200000000000001},{"$f":"_data!AC411","v":0.38200000000000001},{"$f":"_data!AD411","v":0.38200000000000001},{"$f":"_data!AE411","v":0.38200000000000001},{"$f":"_data!AF411","v":0.38200000000000001},{"$f":"_data!AG411","v":0.38200000000000001},{"$f":"_data!AH411","v":0.38200000000000001},{"$f":"_data!AI411","v":0.38200000000000001},null,null,null,{"$f":"'DATA-OUTPUT EC per capita'!$I$37","v":0},{"$f":"IF(AM403=Z403,Z411,IF(AM403=AA403,AA411,IF(AM403=AB403,AB411,IF(AM403=AC403,AC411,IF(AM403=AD403,AD411,IF(AM403=AE403,AE411,IF(AM403=AF403,AF411,IF(AM403=AG403, AG411,IF(AM403=AH403,AH411,IF(AM403=AI403,AI411,\"Fehler\"))))))))))","v":"Fehler"},{"$error":"#VALUE!"},{"$f":"AO411/'DATA-OUTPUT Co2 per capita'!$I$37-1","v":{"$error":"#VALUE!"}}]
["Plant oil, biofuel",0,0,0,0,0,0,0,0,0,0,null,"Plant oil, biofuel",{"$f":"IFERROR(B412/_data!B412-1,\"\")","v":""},{"$f":"IFERROR(C412/_data!C412-1,\"\")","v":""},{"$f":"IFERROR(D412/_data!D412-1,\"\")","v":""},{"$f":"IFERROR(E412/_data!E412-1,\"\")","v":""},{"$f":"IFERROR(F412/_data!F412-1,\"\")","v":""},{"$f":"IFERROR(G412/_data!G412-1,\"\")","v":""},{"$f":"IFERROR(H412/_data!H412-1,\"\")","v":""},{"$f":"IFERROR(I412/_data!I412-1,\"\")","v":""},{"$f":"IFERROR(J412/_data!J412-1,\"\")","v":""},{"$f":"IFERROR(K412/_data!K412-1,\"\")","v":""},null,"Plant oil, biofuel",{"$f":"_data!Z412","v":0},{"$f":"_data!AA412","v":0},{"$f":"_data!AB412","v":0},{"$f":"_data!AC412","v":0},{"$f":"_data!AD412","v":0},{"$f":"_data!AE412","v":0},{"$f":"_data!AF412","v":0},{"$f":"_data!AG412","v":0},{"$f":"_data!AH412","v":0},{"$f":"_data!AI412","v":0},null,null,null,{"$f":"'DATA-OUTPUT EC per capita'!$J$37","v":0},{"$f":"IF(AM403=Z403,Z412,IF(AM403=AA403,AA412,IF(AM403=AB403,AB412,IF(AM403=AC403,AC412,IF(AM403=AD403,AD412,IF(AM403=AE403,AE412,IF(AM403=AF403,AF412,IF(AM403=AG403, AG412,IF(AM403=AH403,AH412,IF(AM403=AI403,AI412,\"Fehler\"))))))))))","v":"Fehler"},{"$error":"#VALUE!"},{"$f":"AO412/'DATA-OUTPUT Co2 per capita'!$J$37-1","v":{"$error":"#VALUE!"}}]
["Summe",0.47997532073965193,0.36680529997146449,0.34441839599432722,0.47885313187793704,0.4877857660587302,0.57120227964376258,0.62412702062786385,0.53410691839816427,0.28991002396157789,0.26862911431856129,null,"Summe",{"$f":"IFERROR(B413/_data!B413-1,\"\")","v":0},{"$f":"IFERROR(C413/_data!C413-1,\"\")","v":0},{"$f":"IFERROR(D413/_data!D413-1,\"\")","v":0},{"$f":"IFERROR(E413/_data!E413-1,\"\")","v":0},{"$f":"IFERROR(F413/_data!F413-1,\"\")","v":0},{"$f":"IFERROR(G413/_data!G413-1,\"\")","v":0},{"$f":"IFERROR(H413/_data!H413-1,\"\")","v":0},{"$f":"IFERROR(I413/_data!I413-1,\"\")","v":0},{"$f":"IFERROR(J413/_data!J413-1,\"\")","v":0},{"$f":"IFERROR(K413/_data!K413-1,\"\")","v":0},null,null,null,null,null,null,null,null,null,null,null,null,null,null,"Total",null,null,{"$f":"SUM(AO404:AO412)","v":{"$error":"#VALUE!"}},{"$f":"AO413/'DATA-OUTPUT Co2 per capita'!$K$37-1","v":{"$error":"#VALUE!"}}]
[]
["Energy consumption (MWh /Einwohner and  Year) - Primary sector (Agriculture)",null,null,null,null,null,null,null,null,null,null,null,"Test:",{"$f":"A415","v":"Energy consumption (MWh /Einwohner and  Year) - Primary sector (Agriculture)"}]
["Energieträger",2000,2001,2002,2003,2004,2005,2006,2007,2008,2009,null,"Energieträger",2000,2001,2002,2003,2004,2005,2006,2007,2008,2009]
["Electricity",0.67737537880849985,0.53004208430792321,0.49770350629949478,0.4973044545348394,0.42096281640231326,0.49296865920272731,0.53869214914746111,0.46102970330439763,0.3158666591460319,0.30650344584176992,null,"Electricity",{"$f":"IFERROR(B417/_data!B417-1,\"\")","v":0},{"$f":"IFERROR(C417/_data!C417-1,\"\")","v":0},{"$f":"IFERROR(D417/_data!D417-1,\"\")","v":0},{"$f":"IFERROR(E417/_data!E417-1,\"\")","v":0},{"$f":"IFERROR(F417/_data!F417-1,\"\")","v":0},{"$f":"IFERROR(G417/_data!G417-1,\"\")","v":0},{"$f":"IFERROR(H417/_data!H417-1,\"\")","v":0},{"$f":"IFERROR(I417/_data!I417-1,\"\")","v":0},{"$f":"IFERROR(J417/_data!J417-1,\"\")","v":0},{"$f":"IFERROR(K417/_data!K417-1,\"\")","v":0}]
["Heat and Cold",0,0,0,0,0,0,0,0,0,0,null,"Heat and Cold",{"$f":"IFERROR(B418/_data!B418-1,\"\")","v":""},{"$f":"IFERROR(C418/_data!C418-1,\"\")","v":""},{"$f":"IFERROR(D418/_data!D418-1,\"\")","v":""},{"$f":"IFERROR(E418/_data!E418-1,\"\")","v":""},{"$f":"IFERROR(F418/_data!F418-1,\"\")","v":""},{"$f":"IFERROR(G418/_data!G418-1,\"\")","v":""},{"$f":"IFERROR(H418/_data!H418-1,\"\")","v":""},{"$f":"IFERROR(I418/_data!I418-1,\"\")","v":""},{"$f":"IFERROR(J418/_data!J418-1,\"\")","v":""},{"$f":"IFERROR(K418/_data!K418-1,\"\")","v":""}]
["natural gas",0,0,0,0,0,0,0,0,0,0,null,"natural gas",{"$f":"IFERROR(B419/_data!B419-1,\"\")","v":""},{"$f":"IFERROR(C419/_data!C419-1,\"\")","v":""},{"$f":"IFERROR(D419/_data!D419-1,\"\")","v":""},{"$f":"IFERROR(E419/_data!E419-1,\"\")","v":""},{"$f":"IFERROR(F419/_data!F419-1,\"\")","v":""},{"$f":"IFERROR(G419/_data!G419-1,\"\")","v":""},{"$f":"IFERROR(H419/_data!H419-1,\"\")","v":""},{"$f":"IFERROR(I419/_data!I419-1,\"\")","v":""},{"$f":"IFERROR(J419/_data!J419-1,\"\")","v":""},{"$f":"IFERROR(K419/_data!K419-1,\"\")","v":""}]
["Liquid gas",0,0,0,0,0,0,0,0,0,0,null,"Liquid gas",{"$f":"IFERROR(B420/_data!B420-1,\"\")","v":""},{"$f":"IFERROR(C420/_data!C420-1,\"\")","v":""},{"$f":"IFERROR(D420/_data!D420-1,\"\")","v":""},{"$f":"IFERROR(E420/_data!E420-1,\"\")","v":""},{"$f":"IFERROR(F420/_data!F420-1,\"\")","v":""},{"$f":"IFERROR(G420/_data!G420-1,\"\")","v":""},{"$f":"IFERROR(H420/_data!H420-1,\"\")","v":""},{"$f":"IFERROR(I420/_data!I420-1,\"\")","v":""},{"$f":"IFERROR(J420/_data!J420-1,\"\")","v":""},{"$f":"IFERROR(K420/_data!K420-1,\"\")","v":""}]
["heating oil / diesel",0,0,0,0,0,0,0,0,0,0,null,"heating oil / diesel",{"$f":"IFERROR(B421/_data!B421-1,\"\")","v":""},{"$f":"IFERROR(C421/_data!C421-1,\"\")","v":""},{"$f":"IFERROR(D421/_data!D421-1,\"\")","v":""},{"$f":"IFERROR(E421/_data!E421-1,\"\")","v":""},{"$f":"IFERROR(F421/_data!F421-1,\"\")","v":""},{"$f":"IFERROR(G421/_data!G421-1,\"\")","v":""},{"$f":"IFERROR(H421/_data!H421-1,\"\")","v":""},{"$f":"IFERROR(I421/_data!I421-1,\"\")","v":""},{"$f":"IFERROR(J421/_data!J421-1,\"\")","v":""},{"$f":"IFERROR(K421/_data!K421-1,\"\")","v":""}]
["gasoline",0,0,0,0,0,0,0,0,0,0,null,"gasoline",{"$f":"IFERROR(B422/_data!B422-1,\"\")","v":""},{"$f":"IFERROR(C422/_data!C422-1,\"\")","v":""},{"$f":"IFERROR(D422/_data!D422-1,\"\")","v":""},{"$f":"IFERROR(E422/_data!E422-1,\"\")","v":""},{"$f":"IFERROR(F422/_data!F422-1,\"\")","v":""},{"$f":"IFERROR(G422/_data!G422-1,\"\")","v":""},{"$f":"IFERROR(H422/_data!H422-1,\"\")","v":""},{"$f":"IFERROR(I422/_data!I422-1,\"\")","v":""},{"$f":"IFERROR(J422/_data!J422-1,\"\")","v":""},{"$f":"IFERROR(K422/_data!K422-1,\"\")","v":""}]
["Lignite / Coal",0,0,0,0,0,0,0,0,0,0,null,"Lignite / Coal",{"$f":"IFERROR(B423/_data!B423-1,\"\")","v":""},{"$f":"IFERROR(C423/_data!C423-1,\"\")","v":""},{"$f":"IFERROR(D423/_data!D423-1,\"\")","v":""},{"$f":"IFERROR(E423/_data!E423-1,\"\")","v":""},{"$f":"IFERROR(F423/_data!F423-1,\"\")","v":""},{"$f":"IFERROR(G423/_data!G423-1,\"\")","v":""},{"$f":"IFERROR(H423/_data!H423-1,\"\")","v":""},{"$f":"IFERROR(I423/_data!I423-1,\"\")","v":""},{"$f":"IFERROR(J423/_data!J423-1,\"\")","v":""},{"$f":"IFERROR(K423/_data!K423-1,\"\")","v":""}]
["other fossil fuels",0,0,0,0,0,0,0,0,0,0,null,"other fossil fuels",{"$f":"IFERROR(B424/_data!B424-1,\"\")","v":""},{"$f":"IFERROR(C424/_data!C424-1,\"\")","v":""},{"$f":"IFERROR(D424/_data!D424-1,\"\")","v":""},{"$f":"IFERROR(E424/_data!E424-1,\"\")","v":""},{"$f":"IFERROR(F424/_data!F424-1,\"\")","v":""},{"$f":"IFERROR(G424/_data!G424-1,\"\")","v":""},{"$f":"IFERROR(H424/_data!H424-1,\"\")","v":""},{"$f":"IFERROR(I424/_data!I424-1,\"\")","v":""},{"$f":"IFERROR(J424/_data!J424-1,\"\")","v":""},{"$f":"IFERROR(K424/_data!K424-1,\"\")","v":""}]
["Plant oil, biofuel",0,0,0,0,0,0,0,0,0,0,null,"Plant oil, biofuel",{"$f":"IFERROR(B425/_data!B425-1,\"\")","v":""},{"$f":"IFERROR(C425/_data!C425-1,\"\")","v":""},{"$f":"IFERROR(D425/_data!D425-1,\"\")","v":""},{"$f":"IFERROR(E425/_data!E425-1,\"\")","v":""},{"$f":"IFERROR(F425/_data!F425-1,\"\")","v":""},{"$f":"IFERROR(G425/_data!G425-1,\"\")","v":""},{"$f":"IFERROR(H425/_data!H425-1,\"\")","v":""},{"$f":"IFERROR(I425/_data!I425-1,\"\")","v":""},{"$f":"IFERROR(J425/_data!J425-1,\"\")","v":""},{"$f":"IFERROR(K425/_data!K425-1,\"\")","v":""}]
["Summe",0.67737537880849985,0.53004208430792321,0.49770350629949478,0.4973044545348394,0.42096281640231326,0.49296865920272731,0.53869214914746111,0.46102970330439763,0.3158666591460319,0.30650344584176992,null,"Summe",{"$f":"IFERROR(B426/_data!B426-1,\"\")","v":0},{"$f":"IFERROR(C426/_data!C426-1,\"\")","v":0},{"$f":"IFERROR(D426/_data!D426-1,\"\")","v":0},{"$f":"IFERROR(E426/_data!E426-1,\"\")","v":0},{"$f":"IFERROR(F426/_data!F426-1,\"\")","v":0},{"$f":"IFERROR(G426/_data!G426-1,\"\")","v":0},{"$f":"IFERROR(H426/_data!H426-1,\"\")","v":0},{"$f":"IFERROR(I426/_data!I426-1,\"\")","v":0},{"$f":"IFERROR(J426/_data!J426-1,\"\")","v":0},{"$f":"IFERROR(K426/_data!K426-1,\"\")","v":0}]
[]
["Energy consumption (MWh /Einwohner and  Year) - Secondary sector (Industrie)",null,null,null,null,null,null,null,null,null,null,null,"Test:",{"$f":"A428","v":"Energy consumption (MWh /Einwohner and  Year) - Secondary sector (Industrie)"}]
["Energieträger",2000,2001,2002,2003,2004,2005,2006,2007,2008,2009,null,"Energieträger",2000,2001,2002,2003,2004,2005,2006,2007,2008,2009]
["Electricity",0.28541065563358559,0.25541557411489263,0.24022459552545514,0.36026895969790501,0.27131858875154269,0.62021935544966578,0.68087067981671689,0.58271961126717786,0.77274521969654242,0.75232663979343528,null,"Electricity",{"$f":"IFERROR(B430/_data!B430-1,\"\")","v":0},{"$f":"IFERROR(C430/_data!C430-1,\"\")","v":0},{"$f":"IFERROR(D430/_data!D430-1,\"\")","v":0},{"$f":"IFERROR(E430/_data!E430-1,\"\")","v":0},{"$f":"IFERROR(F430/_data!F430-1,\"\")","v":0},{"$f":"IFERROR(G430/_data!G430-1,\"\")","v":0},{"$f":"IFERROR(H430/_data!H430-1,\"\")","v":0},{"$f":"IFERROR(I430/_data!I430-1,\"\")","v":0},{"$f":"IFERROR(J430/_data!J430-1,\"\")","v":0},{"$f":"IFERROR(K430/_data!K430-1,\"\")","v":0}]
["Heat and Cold",0,0,0,0,0,0,0,0,0,0,null,"Heat and Cold",{"$f":"IFERROR(B431/_data!B431-1,\"\")","v":""},{"$f":"IFERROR(C431/_data!C431-1,\"\")","v":""},{"$f":"IFERROR(D431/_data!D431-1,\"\")","v":""},{"$f":"IFERROR(E431/_data!E431-1,\"\")","v":""},{"$f":"IFERROR(F431/_data!F431-1,\"\")","v":""},{"$f":"IFERROR(G431/_data!G431-1,\"\")","v":""},{"$f":"IFERROR(H431/_data!H431-1,\"\")","v":""},{"$f":"IFERROR(I431/_data!I431-1,\"\")","v":""},{"$f":"IFERROR(J431/_data!J431-1,\"\")","v":""},{"$f":"IFERROR(K431/_data!K431-1,\"\")","v":""}]
["natural gas",0,0,0,0,0,0,0,0,0,0,null,"natural gas",{"$f":"IFERROR(B432/_data!B432-1,\"\")","v":""},{"$f":"IFERROR(C432/_data!C432-1,\"\")","v":""},{"$f":"IFERROR(D432/_data!D432-1,\"\")","v":""},{"$f":"IFERROR(E432/_data!E432-1,\"\")","v":""},{"$f":"IFERROR(F432/_data!F432-1,\"\")","v":""},{"$f":"IFERROR(G432/_data!G432-1,\"\")","v":""},{"$f":"IFERROR(H432/_data!H432-1,\"\")","v":""},{"$f":"IFERROR(I432/_data!I432-1,\"\")","v":""},{"$f":"IFERROR(J432/_data!J432-1,\"\")","v":""},{"$f":"IFERROR(K432/_data!K432-1,\"\")","v":""}]
["Liquid gas",0,0,0,0,0,0,0,0,0,0,null,"Liquid gas",{"$f":"IFERROR(B433/_data!B433-1,\"\")","v":""},{"$f":"IFERROR(C433/_data!C433-1,\"\")","v":""},{"$f":"IFERROR(D433/_data!D433-1,\"\")","v":""},{"$f":"IFERROR(E433/_data!E433-1,\"\")","v":""},{"$f":"IFERROR(F433/_data!F433-1,\"\")","v":""},{"$f":"IFERROR(G433/_data!G433-1,\"\")","v":""},{"$f":"IFERROR(H433/_data!H433-1,\"\")","v":""},{"$f":"IFERROR(I433/_data!I433-1,\"\")","v":""},{"$f":"IFERROR(J433/_data!J433-1,\"\")","v":""},{"$f":"IFERROR(K433/_data!K433-1,\"\")","v":""}]
["heating oil / diesel",0,0,0,0,0,0,0,0,0,0,null,"heating oil / diesel",{"$f":"IFERROR(B434/_data!B434-1,\"\")","v":""},{"$f":"IFERROR(C434/_data!C434-1,\"\")","v":""},{"$f":"IFERROR(D434/_data!D434-1,\"\")","v":""},{"$f":"IFERROR(E434/_data!E434-1,\"\")","v":""},{"$f":"IFERROR(F434/_data!F434-1,\"\")","v":""},{"$f":"IFERROR(G434/_data!G434-1,\"\")","v":""},{"$f":"IFERROR(H434/_data!H434-1,\"\")","v":""},{"$f":"IFERROR(I434/_data!I434-1,\"\")","v":""},{"$f":"IFERROR(J434/_data!J434-1,\"\")","v":""},{"$f":"IFERROR(K434/_data!K434-1,\"\")","v":""}]
["gasoline",0,0,0,0,0,0,0,0,0,0,null,"gasoline",{"$f":"IFERROR(B435/_data!B435-1,\"\")","v":""},{"$f":"IFERROR(C435/_data!C435-1,\"\")","v":""},{"$f":"IFERROR(D435/_data!D435-1,\"\")","v":""},{"$f":"IFERROR(E435/_data!E435-1,\"\")","v":""},{"$f":"IFERROR(F435/_data!F435-1,\"\")","v":""},{"$f":"IFERROR(G435/_data!G435-1,\"\")","v":""},{"$f":"IFERROR(H435/_data!H435-1,\"\")","v":""},{"$f":"IFERROR(I435/_data!I435-1,\"\")","v":""},{"$f":"IFERROR(J435/_data!J435-1,\"\")","v":""},{"$f":"IFERROR(K435/_data!K435-1,\"\")","v":""}]
["Lignite / Coal",0.66728137986099767,0.31321689933244806,1.1018271763257437,1.4368898670843824,1.3394518776813524,0.81128372008936056,0.74155339227008699,0.78882266595803907,0.82763540798398938,0.91042875394481282,null,"Lignite / Coal",{"$f":"IFERROR(B436/_data!B436-1,\"\")","v":0},{"$f":"IFERROR(C436/_data!C436-1,\"\")","v":0},{"$f":"IFERROR(D436/_data!D436-1,\"\")","v":0},{"$f":"IFERROR(E436/_data!E436-1,\"\")","v":0},{"$f":"IFERROR(F436/_data!F436-1,\"\")","v":0},{"$f":"IFERROR(G436/_data!G436-1,\"\")","v":0},{"$f":"IFERROR(H436/_data!H436-1,\"\")","v":0},{"$f":"IFERROR(I436/_data!I436-1,\"\")","v":0},{"$f":"IFERROR(J436/_data!J436-1,\"\")","v":0},{"$f":"IFERROR(K436/_data!K436-1,\"\")","v":0}]
["other fossil fuels",0,0,0,0,0,0,0,0,0,0,null,"other fossil fuels",{"$f":"IFERROR(B437/_data!B437-1,\"\")","v":""},{"$f":"IFERROR(C437/_data!C437-1,\"\")","v":""},{"$f":"IFERROR(D437/_data!D437-1,\"\")","v":""},{"$f":"IFERROR(E437/_data!E437-1,\"\")","v":""},{"$f":"IFERROR(F437/_data!F437-1,\"\")","v":""},{"$f":"IFERROR(G437/_data!G437-1,\"\")","v":""},{"$f":"IFERROR(H437/_data!H437-1,\"\")","v":""},{"$f":"IFERROR(I437/_data!I437-1,\"\")","v":""},{"$f":"IFERROR(J437/_data!J437-1,\"\")","v":""},{"$f":"IFERROR(K437/_data!K437-1,\"\")","v":""}]
["Plant oil, biofuel",0,0,0,0,0,0,0,0,0,0,null,"Plant oil, biofuel",{"$f":"IFERROR(B438/_data!B438-1,\"\")","v":""},{"$f":"IFERROR(C438/_data!C438-1,\"\")","v":""},{"$f":"IFERROR(D438/_data!D438-1,\"\")","v":""},{"$f":"IFERROR(E438/_data!E438-1,\"\")","v":""},{"$f":"IFERROR(F438/_data!F438-1,\"\")","v":""},{"$f":"IFERROR(G438/_data!G438-1,\"\")","v":""},{"$f":"IFERROR(H438/_data!H438-1,\"\")","v":""},{"$f":"IFERROR(I438/_data!I438-1,\"\")","v":""},{"$f":"IFERROR(J438/_data!J438-1,\"\")","v":""},{"$f":"IFERROR(K438/_data!K438-1,\"\")","v":""}]
["Summe",0.95269203549458326,0.56863247344734069,1.3420517718511988,1.7971588267822873,1.610770466432895,1.4315030755390263,1.422424072086804,1.3715422772252168,1.6003806276805319,1.662755393738248,null,"Summe",{"$f":"IFERROR(B439/_data!B439-1,\"\")","v":0},{"$f":"IFERROR(C439/_data!C439-1,\"\")","v":0},{"$f":"IFERROR(D439/_data!D439-1,\"\")","v":0},{"$f":"IFERROR(E439/_data!E439-1,\"\")","v":0},{"$f":"IFERROR(F439/_data!F439-1,\"\")","v":0},{"$f":"IFERROR(G439/_data!G439-1,\"\")","v":0},{"$f":"IFERROR(H439/_data!H439-1,\"\")","v":0},{"$f":"IFERROR(I439/_data!I439-1,\"\")","v":0},{"$f":"IFERROR(J439/_data!J439-1,\"\")","v":0},{"$f":"IFERROR(K439/_data!K439-1,\"\")","v":0}]
[]
["Energy consumption (MWh /Einwohner and  Year) - Tertiary sector (Services)",null,null,null,null,null,null,null,null,null,null,null,"Test:",{"$f":"A441","v":"Energy consumption (MWh /Einwohner and  Year) - Tertiary sector (Services)"}]
["Energieträger",2000,2001,2002,2003,2004,2005,2006,2007,2008,2009,null,"Energieträger",2000,2001,2002,2003,2004,2005,2006,2007,2008,2009]
["Electricity",0.14761055764240477,0.18402054559058462,0.17271012973018704,0.21392518566987667,0.19236085263471792,0.10535173921839555,0.11572299725756724,9.9070769957566709E-2,0,0,null,"Electricity",{"$f":"IFERROR(B443/_data!B443-1,\"\")","v":0},{"$f":"IFERROR(C443/_data!C443-1,\"\")","v":0},{"$f":"IFERROR(D443/_data!D443-1,\"\")","v":0},{"$f":"IFERROR(E443/_data!E443-1,\"\")","v":0},{"$f":"IFERROR(F443/_data!F443-1,\"\")","v":0},{"$f":"IFERROR(G443/_data!G443-1,\"\")","v":0},{"$f":"IFERROR(H443/_data!H443-1,\"\")","v":0},{"$f":"IFERROR(I443/_data!I443-1,\"\")","v":0},{"$f":"IFERROR(J443/_data!J443-1,\"\")","v":""},{"$f":"IFERROR(K443/_data!K443-1,\"\")","v":""}]
["Heat and Cold",0,0,0,0,0,0,0,0,0,0,null,"Heat and Cold",{"$f":"IFERROR(B444/_data!B444-1,\"\")","v":""},{"$f":"IFERROR(C444/_data!C444-1,\"\")","v":""},{"$f":"IFERROR(D444/_data!D444-1,\"\")","v":""},{"$f":"IFERROR(E444/_data!E444-1,\"\")","v":""},{"$f":"IFERROR(F444/_data!F444-1,\"\")","v":""},{"$f":"IFERROR(G444/_data!G444-1,\"\")","v":""},{"$f":"IFERROR(H444/_data!H444-1,\"\")","v":""},{"$f":"IFERROR(I444/_data!I444-1,\"\")","v":""},{"$f":"IFERROR(J444/_data!J444-1,\"\")","v":""},{"$f":"IFERROR(K444/_data!K444-1,\"\")","v":""}]
["natural gas",0.43029923603172016,0.3113632125178909,0.81440367973319261,0.5869723747898753,0.63329437141806144,0.57738994563462853,0.59676656957432672,0.63507579783868595,0.66620289419093637,0.68065436937690016,null,"natural gas",{"$f":"IFERROR(B445/_data!B445-1,\"\")","v":0},{"$f":"IFERROR(C445/_data!C445-1,\"\")","v":0},{"$f":"IFERROR(D445/_data!D445-1,\"\")","v":0},{"$f":"IFERROR(E445/_data!E445-1,\"\")","v":0},{"$f":"IFERROR(F445/_data!F445-1,\"\")","v":0},{"$f":"IFERROR(G445/_data!G445-1,\"\")","v":0},{"$f":"IFERROR(H445/_data!H445-1,\"\")","v":0},{"$f":"IFERROR(I445/_data!I445-1,\"\")","v":0},{"$f":"IFERROR(J445/_data!J445-1,\"\")","v":0},{"$f":"IFERROR(K445/_data!K445-1,\"\")","v":0}]
["Liquid gas",0,0,0,0,0,0,0,0,0,0,null,"Liquid gas",{"$f":"IFERROR(B446/_data!B446-1,\"\")","v":""},{"$f":"IFERROR(C446/_data!C446-1,\"\")","v":""},{"$f":"IFERROR(D446/_data!D446-1,\"\")","v":""},{"$f":"IFERROR(E446/_data!E446-1,\"\")","v":""},{"$f":"IFERROR(F446/_data!F446-1,\"\")","v":""},{"$f":"IFERROR(G446/_data!G446-1,\"\")","v":""},{"$f":"IFERROR(H446/_data!H446-1,\"\")","v":""},{"$f":"IFERROR(I446/_data!I446-1,\"\")","v":""},{"$f":"IFERROR(J446/_data!J446-1,\"\")","v":""},{"$f":"IFERROR(K446/_data!K446-1,\"\")","v":""}]
["heating oil / diesel",0.51950069864082604,0.46224208475730189,0.33963171498988121,0.39386689050599588,0.45230648008480195,0.3673321366925365,0.38900812509581478,0.66839816431722887,0.53375616013102611,1.7413936515602779,null,"heating oil / diesel",{"$f":"IFERROR(B447/_data!B447-1,\"\")","v":0},{"$f":"IFERROR(C447/_data!C447-1,\"\")","v":0},{"$f":"IFERROR(D447/_data!D447-1,\"\")","v":0},{"$f":"IFERROR(E447/_data!E447-1,\"\")","v":0},{"$f":"IFERROR(F447/_data!F447-1,\"\")","v":0},{"$f":"IFERROR(G447/_data!G447-1,\"\")","v":0},{"$f":"IFERROR(H447/_data!H447-1,\"\")","v":0},{"$f":"IFERROR(I447/_data!I447-1,\"\")","v":0},{"$f":"IFERROR(J447/_data!J447-1,\"\")","v":0},{"$f":"IFERROR(K447/_data!K447-1,\"\")","v":0}]
["gasoline",0,0,0,0,0,0,0,0,0,0,null,"gasoline",{"$f":"IFERROR(B448/_data!B448-1,\"\")","v":""},{"$f":"IFERROR(C448/_data!C448-1,\"\")","v":""},{"$f":"IFERROR(D448/_data!D448-1,\"\")","v":""},{"$f":"IFERROR(E448/_data!E448-1,\"\")","v":""},{"$f":"IFERROR(F448/_data!F448-1,\"\")","v":""},{"$f":"IFERROR(G448/_data!G448-1,\"\")","v":""},{"$f":"IFERROR(H448/_data!H448-1,\"\")","v":""},{"$f":"IFERROR(I448/_data!I448-1,\"\")","v":""},{"$f":"IFERROR(J448/_data!J448-1,\"\")","v":""},{"$f":"IFERROR(K448/_data!K448-1,\"\")","v":""}]
["Lignite / Coal",0,0,0,3.5525680936423901E-2,2.0732527539979496E-2,0,0,0,0,0,null,"Lignite / Coal",{"$f":"IFERROR(B449/_data!B449-1,\"\")","v":""},{"$f":"IFERROR(C449/_data!C449-1,\"\")","v":""},{"$f":"IFERROR(D449/_data!D449-1,\"\")","v":""},{"$f":"IFERROR(E449/_data!E449-1,\"\")","v":0},{"$f":"IFERROR(F449/_data!F449-1,\"\")","v":0},{"$f":"IFERROR(G449/_data!G449-1,\"\")","v":""},{"$f":"IFERROR(H449/_data!H449-1,\"\")","v":""},{"$f":"IFERROR(I449/_data!I449-1,\"\")","v":""},{"$f":"IFERROR(J449/_data!J449-1,\"\")","v":""},{"$f":"IFERROR(K449/_data!K449-1,\"\")","v":""}]
["other fossil fuels",2.0641660769049303E-2,2.0446727287842734E-2,2.025990564672513E-2,2.0048601334664032E-2,0,0,0,0,0,0,null,"other fossil fuels",{"$f":"IFERROR(B450/_data!B450-1,\"\")","v":0},{"$f":"IFERROR(C450/_data!C450-1,\"\")","v":0},{"$f":"IFERROR(D450/_data!D450-1,\"\")","v":0},{"$f":"IFERROR(E450/_data!E450-1,\"\")","v":0},{"$f":"IFERROR(F450/_data!F450-1,\"\")","v":""},{"$f":"IFERROR(G450/_data!G450-1,\"\")","v":""},{"$f":"IFERROR(H450/_data!H450-1,\"\")","v":""},{"$f":"IFERROR(I450/_data!I450-1,\"\")","v":""},{"$f":"IFERROR(J450/_data!J450-1,\"\")","v":""},{"$f":"IFERROR(K450/_data!K450-1,\"\")","v":""}]
["Plant oil, biofuel",1.9564211443192335E-2,1.6627009003300684E-2,1.647508810832593E-2,1.6523572528569255E-2,1.6324824834629523E-2,8.8241497608870633E-3,8.7297937213620183E-3,7.9087895123124037E-3,7.8339945224710286E-3,7.7399860061053002E-3,null,"Plant oil, biofuel",{"$f":"IFERROR(B451/_data!B451-1,\"\")","v":0},{"$f":"IFERROR(C451/_data!C451-1,\"\")","v":0},{"$f":"IFERROR(D451/_data!D451-1,\"\")","v":0},{"$f":"IFERROR(E451/_data!E451-1,\"\")","v":0},{"$f":"IFERROR(F451/_data!F451-1,\"\")","v":0},{"$f":"IFERROR(G451/_data!G451-1,\"\")","v":0},{"$f":"IFERROR(H451/_data!H451-1,\"\")","v":0},{"$f":"IFERROR(I451/_data!I451-1,\"\")","v":0},{"$f":"IFERROR(J451/_data!J451-1,\"\")","v":0},{"$f":"IFERROR(K451/_data!K451-1,\"\")","v":0}]
["Summe",1.1376163645271928,0.99469957915692075,1.3634805182083121,1.2668623057654052,1.3150190565121902,1.0588979713064477,1.1102274856490708,1.4104535216257941,1.2077930488444335,2.4297880069432831,null,"Summe",{"$f":"IFERROR(B452/_data!B452-1,\"\")","v":0},{"$f":"IFERROR(C452/_data!C452-1,\"\")","v":0},{"$f":"IFERROR(D452/_data!D452-1,\"\")","v":0},{"$f":"IFERROR(E452/_data!E452-1,\"\")","v":0},{"$f":"IFERROR(F452/_data!F452-1,\"\")","v":0},{"$f":"IFERROR(G452/_data!G452-1,\"\")","v":0},{"$f":"IFERROR(H452/_data!H452-1,\"\")","v":0},{"$f":"IFERROR(I452/_data!I452-1,\"\")","v":0},{"$f":"IFERROR(J452/_data!J452-1,\"\")","v":0},{"$f":"IFERROR(K452/_data!K452-1,\"\")","v":0}]
[]
["Energy consumption (MWh /Einwohner and  Year) - Road",null,null,null,null,null,null,null,null,null,null,null,"Test:",{"$f":"A454","v":"Energy consumption (MWh /Einwohner and  Year) - Road"}]
["Energieträger",2000,2001,2002,2003,2004,2005,2006,2007,2008,2009,null,"Energieträger",2000,2001,2002,2003,2004,2005,2006,2007,2008,2009]
["Electricity",0,0,0,0,0,0,0,0,0,0,null,"Electricity",{"$f":"IFERROR(B456/_data!B456-1,\"\")","v":""},{"$f":"IFERROR(C456/_data!C456-1,\"\")","v":""},{"$f":"IFERROR(D456/_data!D456-1,\"\")","v":""},{"$f":"IFERROR(E456/_data!E456-1,\"\")","v":""},{"$f":"IFERROR(F456/_data!F456-1,\"\")","v":""},{"$f":"IFERROR(G456/_data!G456-1,\"\")","v":""},{"$f":"IFERROR(H456/_data!H456-1,\"\")","v":""},{"$f":"IFERROR(I456/_data!I456-1,\"\")","v":""},{"$f":"IFERROR(J456/_data!J456-1,\"\")","v":""},{"$f":"IFERROR(K456/_data!K456-1,\"\")","v":""}]
["Heat and Cold",0,0,0,0,0,0,0,0,0,0,null,"Heat and Cold",{"$f":"IFERROR(B457/_data!B457-1,\"\")","v":""},{"$f":"IFERROR(C457/_data!C457-1,\"\")","v":""},{"$f":"IFERROR(D457/_data!D457-1,\"\")","v":""},{"$f":"IFERROR(E457/_data!E457-1,\"\")","v":""},{"$f":"IFERROR(F457/_data!F457-1,\"\")","v":""},{"$f":"IFERROR(G457/_data!G457-1,\"\")","v":""},{"$f":"IFERROR(H457/_data!H457-1,\"\")","v":""},{"$f":"IFERROR(I457/_data!I457-1,\"\")","v":""},{"$f":"IFERROR(J457/_data!J457-1,\"\")","v":""},{"$f":"IFERROR(K457/_data!K457-1,\"\")","v":""}]
["natural gas",0,0,0,0,0,0,0,0,0,0,null,"natural gas",{"$f":"IFERROR(B458/_data!B458-1,\"\")","v":""},{"$f":"IFERROR(C458/_data!C458-1,\"\")","v":""},{"$f":"IFERROR(D458/_data!D458-1,\"\")","v":""},{"$f":"IFERROR(E458/_data!E458-1,\"\")","v":""},{"$f":"IFERROR(F458/_data!F458-1,\"\")","v":""},{"$f":"IFERROR(G458/_data!G458-1,\"\")","v":""},{"$f":"IFERROR(H458/_data!H458-1,\"\")","v":""},{"$f":"IFERROR(I458/_data!I458-1,\"\")","v":""},{"$f":"IFERROR(J458/_data!J458-1,\"\")","v":""},{"$f":"IFERROR(K458/_data!K458-1,\"\")","v":""}]
["Liquid gas",0,0,0,0,0,0,0,0,0,0,null,"Liquid gas",{"$f":"IFERROR(B459/_data!B459-1,\"\")","v":""},{"$f":"IFERROR(C459/_data!C459-1,\"\")","v":""},{"$f":"IFERROR(D459/_data!D459-1,\"\")","v":""},{"$f":"IFERROR(E459/_data!E459-1,\"\")","v":""},{"$f":"IFERROR(F459/_data!F459-1,\"\")","v":""},{"$f":"IFERROR(G459/_data!G459-1,\"\")","v":""},{"$f":"IFERROR(H459/_data!H459-1,\"\")","v":""},{"$f":"IFERROR(I459/_data!I459-1,\"\")","v":""},{"$f":"IFERROR(J459/_data!J459-1,\"\")","v":""},{"$f":"IFERROR(K459/_data!K459-1,\"\")","v":""}]
["heating oil / diesel",0,0,0,0,0,0,0,0,0,0,null,"heating oil / diesel",{"$f":"IFERROR(B460/_data!B460-1,\"\")","v":""},{"$f":"IFERROR(C460/_data!C460-1,\"\")","v":""},{"$f":"IFERROR(D460/_data!D460-1,\"\")","v":""},{"$f":"IFERROR(E460/_data!E460-1,\"\")","v":""},{"$f":"IFERROR(F460/_data!F460-1,\"\")","v":""},{"$f":"IFERROR(G460/_data!G460-1,\"\")","v":""},{"$f":"IFERROR(H460/_data!H460-1,\"\")","v":""},{"$f":"IFERROR(I460/_data!I460-1,\"\")","v":""},{"$f":"IFERROR(J460/_data!J460-1,\"\")","v":""},{"$f":"IFERROR(K460/_data!K460-1,\"\")","v":""}]
["gasoline",0.39888308200410111,0.37040032894515107,0.41594031565378276,0.53993527165854804,0.70332786995862207,0.66703039381534712,0.53821307510177663,1.0407439745568969,1.0745106887021265,0.61249089261646616,null,"gasoline",{"$f":"IFERROR(B461/_data!B461-1,\"\")","v":0},{"$f":"IFERROR(C461/_data!C461-1,\"\")","v":0},{"$f":"IFERROR(D461/_data!D461-1,\"\")","v":0},{"$f":"IFERROR(E461/_data!E461-1,\"\")","v":0},{"$f":"IFERROR(F461/_data!F461-1,\"\")","v":0},{"$f":"IFERROR(G461/_data!G461-1,\"\")","v":0},{"$f":"IFERROR(H461/_data!H461-1,\"\")","v":0},{"$f":"IFERROR(I461/_data!I461-1,\"\")","v":0},{"$f":"IFERROR(J461/_data!J461-1,\"\")","v":0},{"$f":"IFERROR(K461/_data!K461-1,\"\")","v":0}]
["Lignite / Coal",0,0,0,0,0,0,0,0,0,0,null,"Lignite / Coal",{"$f":"IFERROR(B462/_data!B462-1,\"\")","v":""},{"$f":"IFERROR(C462/_data!C462-1,\"\")","v":""},{"$f":"IFERROR(D462/_data!D462-1,\"\")","v":""},{"$f":"IFERROR(E462/_data!E462-1,\"\")","v":""},{"$f":"IFERROR(F462/_data!F462-1,\"\")","v":""},{"$f":"IFERROR(G462/_data!G462-1,\"\")","v":""},{"$f":"IFERROR(H462/_data!H462-1,\"\")","v":""},{"$f":"IFERROR(I462/_data!I462-1,\"\")","v":""},{"$f":"IFERROR(J462/_data!J462-1,\"\")","v":""},{"$f":"IFERROR(K462/_data!K462-1,\"\")","v":""}]
["other fossil fuels",0,0,0,0,0,0,0,0,0,0,null,"other fossil fuels",{"$f":"IFERROR(B463/_data!B463-1,\"\")","v":""},{"$f":"IFERROR(C463/_data!C463-1,\"\")","v":""},{"$f":"IFERROR(D463/_data!D463-1,\"\")","v":""},{"$f":"IFERROR(E463/_data!E463-1,\"\")","v":""},{"$f":"IFERROR(F463/_data!F463-1,\"\")","v":""},{"$f":"IFERROR(G463/_data!G463-1,\"\")","v":""},{"$f":"IFERROR(H463/_data!H463-1,\"\")","v":""},{"$f":"IFERROR(I463/_data!I463-1,\"\")","v":""},{"$f":"IFERROR(J463/_data!J463-1,\"\")","v":""},{"$f":"IFERROR(K463/_data!K463-1,\"\")","v":""}]
["Plant oil, biofuel",0,0,0,0,0,0,0,0,0,0,null,"Plant oil, biofuel",{"$f":"IFERROR(B464/_data!B464-1,\"\")","v":""},{"$f":"IFERROR(C464/_data!C464-1,\"\")","v":""},{"$f":"IFERROR(D464/_data!D464-1,\"\")","v":""},{"$f":"IFERROR(E464/_data!E464-1,\"\")","v":""},{"$f":"IFERROR(F464/_data!F464-1,\"\")","v":""},{"$f":"IFERROR(G464/_data!G464-1,\"\")","v":""},{"$f":"IFERROR(H464/_data!H464-1,\"\")","v":""},{"$f":"IFERROR(I464/_data!I464-1,\"\")","v":""},{"$f":"IFERROR(J464/_data!J464-1,\"\")","v":""},{"$f":"IFERROR(K464/_data!K464-1,\"\")","v":""}]
["Summe",0.39888308200410111,0.37040032894515107,0.41594031565378276,0.53993527165854804,0.70332786995862207,0.66703039381534712,0.53821307510177663,1.0407439745568969,1.0745106887021265,0.61249089261646616,null,"Summe",{"$f":"IFERROR(B465/_data!B465-1,\"\")","v":0},{"$f":"IFERROR(C465/_data!C465-1,\"\")","v":0},{"$f":"IFERROR(D465/_data!D465-1,\"\")","v":0},{"$f":"IFERROR(E465/_data!E465-1,\"\")","v":0},{"$f":"IFERROR(F465/_data!F465-1,\"\")","v":0},{"$f":"IFERROR(G465/_data!G465-1,\"\")","v":0},{"$f":"IFERROR(H465/_data!H465-1,\"\")","v":0},{"$f":"IFERROR(I465/_data!I465-1,\"\")","v":0},{"$f":"IFERROR(J465/_data!J465-1,\"\")","v":0},{"$f":"IFERROR(K465/_data!K465-1,\"\")","v":0}]
[]
["Energy consumption (MWh /Einwohner and  Year) - Rail",null,null,null,null,null,null,null,null,null,null,null,"Test:",{"$f":"A467","v":"Energy consumption (MWh /Einwohner and  Year) - Rail"}]
["Energieträger",2000,2001,2002,2003,2004,2005,2006,2007,2008,2009,null,"Energieträger",2000,2001,2002,2003,2004,2005,2006,2007,2008,2009]
["Electricity",1.0434246103035911E-2,1.1740016492195417E-2,1.1020498126515319E-2,1.5256765301378946E-2,1.2515699039882634E-2,1.3290030432555517E-2,1.6075595755191033E-2,1.3866744278254415E-2,3.3947309597374461E-3,3.3539939359789636E-3,null,"Electricity",{"$f":"IFERROR(B469/_data!B469-1,\"\")","v":0},{"$f":"IFERROR(C469/_data!C469-1,\"\")","v":0},{"$f":"IFERROR(D469/_data!D469-1,\"\")","v":0},{"$f":"IFERROR(E469/_data!E469-1,\"\")","v":0},{"$f":"IFERROR(F469/_data!F469-1,\"\")","v":0},{"$f":"IFERROR(G469/_data!G469-1,\"\")","v":0},{"$f":"IFERROR(H469/_data!H469-1,\"\")","v":0},{"$f":"IFERROR(I469/_data!I469-1,\"\")","v":0},{"$f":"IFERROR(J469/_data!J469-1,\"\")","v":0},{"$f":"IFERROR(K469/_data!K469-1,\"\")","v":0}]
["Heat and Cold",0,0,0,0,0,0,0,0,0,0,null,"Heat and Cold",{"$f":"IFERROR(B470/_data!B470-1,\"\")","v":""},{"$f":"IFERROR(C470/_data!C470-1,\"\")","v":""},{"$f":"IFERROR(D470/_data!D470-1,\"\")","v":""},{"$f":"IFERROR(E470/_data!E470-1,\"\")","v":""},{"$f":"IFERROR(F470/_data!F470-1,\"\")","v":""},{"$f":"IFERROR(G470/_data!G470-1,\"\")","v":""},{"$f":"IFERROR(H470/_data!H470-1,\"\")","v":""},{"$f":"IFERROR(I470/_data!I470-1,\"\")","v":""},{"$f":"IFERROR(J470/_data!J470-1,\"\")","v":""},{"$f":"IFERROR(K470/_data!K470-1,\"\")","v":""}]
["natural gas",0,0,0,0,0,0,0,0,1.5667989044942057E-2,1.54799720122106E-2,null,"natural gas",{"$f":"IFERROR(B471/_data!B471-1,\"\")","v":""},{"$f":"IFERROR(C471/_data!C471-1,\"\")","v":""},{"$f":"IFERROR(D471/_data!D471-1,\"\")","v":""},{"$f":"IFERROR(E471/_data!E471-1,\"\")","v":""},{"$f":"IFERROR(F471/_data!F471-1,\"\")","v":""},{"$f":"IFERROR(G471/_data!G471-1,\"\")","v":""},{"$f":"IFERROR(H471/_data!H471-1,\"\")","v":""},{"$f":"IFERROR(I471/_data!I471-1,\"\")","v":""},{"$f":"IFERROR(J471/_data!J471-1,\"\")","v":0},{"$f":"IFERROR(K471/_data!K471-1,\"\")","v":0}]
["Liquid gas",0,0,0,0,0,0,0,0,0,0,null,"Liquid gas",{"$f":"IFERROR(B472/_data!B472-1,\"\")","v":""},{"$f":"IFERROR(C472/_data!C472-1,\"\")","v":""},{"$f":"IFERROR(D472/_data!D472-1,\"\")","v":""},{"$f":"IFERROR(E472/_data!E472-1,\"\")","v":""},{"$f":"IFERROR(F472/_data!F472-1,\"\")","v":""},{"$f":"IFERROR(G472/_data!G472-1,\"\")","v":""},{"$f":"IFERROR(H472/_data!H472-1,\"\")","v":""},{"$f":"IFERROR(I472/_data!I472-1,\"\")","v":""},{"$f":"IFERROR(J472/_data!J472-1,\"\")","v":""},{"$f":"IFERROR(K472/_data!K472-1,\"\")","v":""}]
["heating oil / diesel",0,0,0,0,0,0,0,0,0,0,null,"heating oil / diesel",{"$f":"IFERROR(B473/_data!B473-1,\"\")","v":""},{"$f":"IFERROR(C473/_data!C473-1,\"\")","v":""},{"$f":"IFERROR(D473/_data!D473-1,\"\")","v":""},{"$f":"IFERROR(E473/_data!E473-1,\"\")","v":""},{"$f":"IFERROR(F473/_data!F473-1,\"\")","v":""},{"$f":"IFERROR(G473/_data!G473-1,\"\")","v":""},{"$f":"IFERROR(H473/_data!H473-1,\"\")","v":""},{"$f":"IFERROR(I473/_data!I473-1,\"\")","v":""},{"$f":"IFERROR(J473/_data!J473-1,\"\")","v":""},{"$f":"IFERROR(K473/_data!K473-1,\"\")","v":""}]
["gasoline",0,0,0,0,0,0,0,0,0,0,null,"gasoline",{"$f":"IFERROR(B474/_data!B474-1,\"\")","v":""},{"$f":"IFERROR(C474/_data!C474-1,\"\")","v":""},{"$f":"IFERROR(D474/_data!D474-1,\"\")","v":""},{"$f":"IFERROR(E474/_data!E474-1,\"\")","v":""},{"$f":"IFERROR(F474/_data!F474-1,\"\")","v":""},{"$f":"IFERROR(G474/_data!G474-1,\"\")","v":""},{"$f":"IFERROR(H474/_data!H474-1,\"\")","v":""},{"$f":"IFERROR(I474/_data!I474-1,\"\")","v":""},{"$f":"IFERROR(J474/_data!J474-1,\"\")","v":""},{"$f":"IFERROR(K474/_data!K474-1,\"\")","v":""}]
["Lignite / Coal",0,0,0,0,0,0,0,0,0,0,null,"Lignite / Coal",{"$f":"IFERROR(B475/_data!B475-1,\"\")","v":""},{"$f":"IFERROR(C475/_data!C475-1,\"\")","v":""},{"$f":"IFERROR(D475/_data!D475-1,\"\")","v":""},{"$f":"IFERROR(E475/_data!E475-1,\"\")","v":""},{"$f":"IFERROR(F475/_data!F475-1,\"\")","v":""},{"$f":"IFERROR(G475/_data!G475-1,\"\")","v":""},{"$f":"IFERROR(H475/_data!H475-1,\"\")","v":""},{"$f":"IFERROR(I475/_data!I475-1,\"\")","v":""},{"$f":"IFERROR(J475/_data!J475-1,\"\")","v":""},{"$f":"IFERROR(K475/_data!K475-1,\"\")","v":""}]
["other fossil fuels",0,0,0,0,0,0,0,0,0,0,null,"other fossil fuels",{"$f":"IFERROR(B476/_data!B476-1,\"\")","v":""},{"$f":"IFERROR(C476/_data!C476-1,\"\")","v":""},{"$f":"IFERROR(D476/_data!D476-1,\"\")","v":""},{"$f":"IFERROR(E476/_data!E476-1,\"\")","v":""},{"$f":"IFERROR(F476/_data!F476-1,\"\")","v":""},{"$f":"IFERROR(G476/_data!G476-1,\"\")","v":""},{"$f":"IFERROR(H476/_data!H476-1,\"\")","v":""},{"$f":"IFERROR(I476/_data!I476-1,\"\")","v":""},{"$f":"IFERROR(J476/_data!J476-1,\"\")","v":""},{"$f":"IFERROR(K476/_data!K476-1,\"\")","v":""}]
["Plant oil, biofuel",0,0,0,0,0,0,0,0,0,0,null,"Plant oil, biofuel",{"$f":"IFERROR(B477/_data!B477-1,\"\")","v":""},{"$f":"IFERROR(C477/_data!C477-1,\"\")","v":""},{"$f":"IFERROR(D477/_data!D477-1,\"\")","v":""},{"$f":"IFERROR(E477/_data!E477-1,\"\")","v":""},{"$f":"IFERROR(F477/_data!F477-1,\"\")","v":""},{"$f":"IFERROR(G477/_data!G477-1,\"\")","v":""},{"$f":"IFERROR(H477/_data!H477-1,\"\")","v":""},{"$f":"IFERROR(I477/_data!I477-1,\"\")","v":""},{"$f":"IFERROR(J477/_data!J477-1,\"\")","v":""},{"$f":"IFERROR(K477/_data!K477-1,\"\")","v":""}]
["Summe",1.0434246103035911E-2,1.1740016492195417E-2,1.1020498126515319E-2,1.5256765301378946E-2,1.2515699039882634E-2,1.3290030432555517E-2,1.6075595755191033E-2,1.3866744278254415E-2,1.9062720004679505E-2,1.8833965948189563E-2,null,"Summe",{"$f":"IFERROR(B478/_data!B478-1,\"\")","v":0},{"$f":"IFERROR(C478/_data!C478-1,\"\")","v":0},{"$f":"IFERROR(D478/_data!D478-1,\"\")","v":0},{"$f":"IFERROR(E478/_data!E478-1,\"\")","v":0},{"$f":"IFERROR(F478/_data!F478-1,\"\")","v":0},{"$f":"IFERROR(G478/_data!G478-1,\"\")","v":0},{"$f":"IFERROR(H478/_data!H478-1,\"\")","v":0},{"$f":"IFERROR(I478/_data!I478-1,\"\")","v":0},{"$f":"IFERROR(J478/_data!J478-1,\"\")","v":0},{"$f":"IFERROR(K478/_data!K478-1,\"\")","v":0}]
[]
["Quelle:","P:\\KB-Projekte\\COMO EAST\\WP 2 Training\\Tool\\Tool-Daten\\Energiedaten\\Endberechnung"]
["Moldova",null,null,null,null,null,null,null,null,null,null,null,"Moldova",null,null,null,null,null,null,null,null,null,null,null,"Moldova",null,null,null,null,null,null,null,null,null,null,null,"Moldova"]
["Energy consumption (MWh /Einwohner and  Year) - Residential building (Households)",null,null,null,null,null,null,null,null,null,null,null,"Test:",{"$f":"A482","v":"Energy consumption (MWh /Einwohner and  Year) - Residential building (Households)"},null,null,null,null,null,null,null,null,null,null,"CO2 emission Factor (t /Mwh)"]
["Energieträger",2000,2001,2002,2003,2004,2005,2006,2007,2008,2009,null,"Energieträger",2000,2001,2002,2003,2004,2005,2006,2007,2008,2009,null,"Energieträger",2000,2001,2002,2003,2004,2005,2006,2007,2008,2009,null,null,"Year:",{"$f":"'DATA-OUTPUT Co2 absolute'!$B$8","v":0},null,"CO2","Test"]
["Electricity",0.57546196010219952,0.5925073294671197,0.5645934983547205,0.23211777429824085,0.23446600298451636,0.28927603665127383,0.32181911937149676,0.36204494165904366,0.38405322616692189,0.40666333296219459,null,"Electricity",{"$f":"IFERROR(B484/_data!B484-1,\"\")","v":0},{"$f":"IFERROR(C484/_data!C484-1,\"\")","v":0},{"$f":"IFERROR(D484/_data!D484-1,\"\")","v":0},{"$f":"IFERROR(E484/_data!E484-1,\"\")","v":0},{"$f":"IFERROR(F484/_data!F484-1,\"\")","v":0},{"$f":"IFERROR(G484/_data!G484-1,\"\")","v":0},{"$f":"IFERROR(H484/_data!H484-1,\"\")","v":0},{"$f":"IFERROR(I484/_data!I484-1,\"\")","v":0},{"$f":"IFERROR(J484/_data!J484-1,\"\")","v":0},{"$f":"IFERROR(K484/_data!K484-1,\"\")","v":0},null,"Electricity",{"$f":"_data!Z484","v":0.876},{"$f":"_data!AA484","v":0.86299999999999999},{"$f":"_data!AB484","v":0.66900000000000004},{"$f":"_data!AC484","v":0.60299999999999998},{"$f":"_data!AD484","v":0.625},{"$f":"_data!AE484","v":0.625},{"$f":"_data!AF484","v":0.625},{"$f":"_data!AG484","v":0.59299999999999997},{"$f":"_data!AH484","v":0.747},{"$f":"_data!AI484","v":0.68400000000000005},null,null,null,{"$f":"'DATA-OUTPUT EC per capita'!$B$37","v":0},{"$f":"IF(AM483=Z483,Z484,IF(AM483=AA483,AA484,IF(AM483=AB483,AB484,IF(AM483=AC483,AC484,IF(AM483=AD483,AD484,IF(AM483=AE483,AE484,IF(AM483=AF483,AF484,IF(AM483=AG483,AG484,IF(AM483=AH483,AH484,IF(AM483=AI483,AI484,\"Fehler\"))))))))))","v":"Fehler"},{"$f":"AN484*AM484","v":{"$error":"#VALUE!"}},{"$f":"AO484/'DATA-OUTPUT Co2 per capita'!$B$37-1","v":{"$error":"#VALUE!"}}]
["Heat and Cold",0.45907210742900934,0.43539268258802549,0.45664297612720195,0.4146443049984806,0.36472489353146986,0.38152913167307434,0.43175203472733537,0.41469755222207061,0.41151894513712522,0.42130944533707826,null,"Heat and Cold",{"$f":"IFERROR(B485/_data!B485-1,\"\")","v":0},{"$f":"IFERROR(C485/_data!C485-1,\"\")","v":0},{"$f":"IFERROR(D485/_data!D485-1,\"\")","v":0},{"$f":"IFERROR(E485/_data!E485-1,\"\")","v":0},{"$f":"IFERROR(F485/_data!F485-1,\"\")","v":0},{"$f":"IFERROR(G485/_data!G485-1,\"\")","v":0},{"$f":"IFERROR(H485/_data!H485-1,\"\")","v":0},{"$f":"IFERROR(I485/_data!I485-1,\"\")","v":0},{"$f":"IFERROR(J485/_data!J485-1,\"\")","v":0},{"$f":"IFERROR(K485/_data!K485-1,\"\")","v":0},null,"Heat and Cold",{"$f":"_data!Z485","v":0.19889795918367348},{"$f":"_data!AA485","v":0.19889795918367348},{"$f":"_data!AB485","v":0.19889795918367348},{"$f":"_data!AC485","v":0.19889795918367348},{"$f":"_data!AD485","v":0.19889795918367348},{"$f":"_data!AE485","v":0.19889795918367348},{"$f":"_data!AF485","v":0.19889795918367348},{"$f":"_data!AG485","v":0.19889795918367348},{"$f":"_data!AH485","v":0.16233333333333333},{"$f":"_data!AI485","v":0.16233333333333333},null,null,null,{"$f":"'DATA-OUTPUT EC per capita'!$C$37","v":0},{"$f":"IF(AM483=Z483,Z485,IF(AM483=AA483,AA485,IF(AM483=AB483,AB485,IF(AM483=AC483,AC485,IF(AM483=AD483,AD485,IF(AM483=AE483,AE485,IF(AM483=AF483,AF485,IF(AM483=AG483, AG485,IF(AM483=AH483,AH485,IF(AM483=AI483,AI485,\"Fehler\"))))))))))","v":"Fehler"},{"$f":"AM485*AN485","v":{"$error":"#VALUE!"}},{"$f":"AO485/'DATA-OUTPUT Co2 per capita'!$C$37-1","v":{"$error":"#VALUE!"}}]
["natural gas",0.57996491177939191,0.59472559858079721,0.62761574925743369,0.79099955680036504,0.98588252602726789,1.0256782549534349,0.98451549566032259,0.82473558138546632,0.87454583916454665,0.9036183906184857,null,"natural gas",{"$f":"IFERROR(B486/_data!B486-1,\"\")","v":0},{"$f":"IFERROR(C486/_data!C486-1,\"\")","v":0},{"$f":"IFERROR(D486/_data!D486-1,\"\")","v":0},{"$f":"IFERROR(E486/_data!E486-1,\"\")","v":0},{"$f":"IFERROR(F486/_data!F486-1,\"\")","v":0},{"$f":"IFERROR(G486/_data!G486-1,\"\")","v":0},{"$f":"IFERROR(H486/_data!H486-1,\"\")","v":0},{"$f":"IFERROR(I486/_data!I486-1,\"\")","v":0},{"$f":"IFERROR(J486/_data!J486-1,\"\")","v":0},{"$f":"IFERROR(K486/_data!K486-1,\"\")","v":0},null,"natural gas",{"$f":"_data!Z486","v":0.20200000000000001},{"$f":"_data!AA486","v":0.20200000000000001},{"$f":"_data!AB486","v":0.20200000000000001},{"$f":"_data!AC486","v":0.20200000000000001},{"$f":"_data!AD486","v":0.20200000000000001},{"$f":"_data!AE486","v":0.20200000000000001},{"$f":"_data!AF486","v":0.20200000000000001},{"$f":"_data!AG486","v":0.20200000000000001},{"$f":"_data!AH486","v":0.20200000000000001},{"$f":"_data!AI486","v":0.20200000000000001},null,null,null,{"$f":"'DATA-OUTPUT EC per capita'!$D$37","v":0},{"$f":"IF(AM483=Z483,Z486,IF(AM483=AA483,AA486,IF(AM483=AB483,AB486,IF(AM483=AC483,AC486,IF(AM483=AD483,AD486,IF(AM483=AE483,AE486,IF(AM483=AF483,AF486,IF(AM483=AG483, AG486,IF(AM483=AH483,AH486,IF(AM483=AI483,AI486,\"Fehler\"))))))))))","v":"Fehler"},{"$f":"AM486*AN486","v":{"$error":"#VALUE!"}},{"$f":"AO486/'DATA-OUTPUT Co2 per capita'!$D$37-1","v":{"$error":"#VALUE!"}}]
["Liquid gas",0,0,0,0,0,0,0,0,0,0,null,"Liquid gas",{"$f":"IFERROR(B487/_data!B487-1,\"\")","v":""},{"$f":"IFERROR(C487/_data!C487-1,\"\")","v":""},{"$f":"IFERROR(D487/_data!D487-1,\"\")","v":""},{"$f":"IFERROR(E487/_data!E487-1,\"\")","v":""},{"$f":"IFERROR(F487/_data!F487-1,\"\")","v":""},{"$f":"IFERROR(G487/_data!G487-1,\"\")","v":""},{"$f":"IFERROR(H487/_data!H487-1,\"\")","v":""},{"$f":"IFERROR(I487/_data!I487-1,\"\")","v":""},{"$f":"IFERROR(J487/_data!J487-1,\"\")","v":""},{"$f":"IFERROR(K487/_data!K487-1,\"\")","v":""},null,"Liquid gas",{"$f":"_data!Z487","v":0.23100000000000001},{"$f":"_data!AA487","v":0.23100000000000001},{"$f":"_data!AB487","v":0.23100000000000001},{"$f":"_data!AC487","v":0.23100000000000001},{"$f":"_data!AD487","v":0.23100000000000001},{"$f":"_data!AE487","v":0.23100000000000001},{"$f":"_data!AF487","v":0.23100000000000001},{"$f":"_data!AG487","v":0.23100000000000001},{"$f":"_data!AH487","v":0.23100000000000001},{"$f":"_data!AI487","v":0.23100000000000001},null,null,null,{"$f":"'DATA-OUTPUT EC per capita'!$E$37","v":0},{"$f":"IF(AM483=Z483,Z487,IF(AM483=AA483,AA487,IF(AM483=AB483,AB487,IF(AM483=AC483,AC487,IF(AM483=AD483,AD487,IF(AM483=AE483,AE487,IF(AM483=AF483,AF487,IF(AM483=AG483, AG487,IF(AM483=AH483,AH487,IF(AM483=AI483,AI487,\"Fehler\"))))))))))","v":"Fehler"},{"$error":"#VALUE!"},{"$f":"AO487/'DATA-OUTPUT Co2 per capita'!$E$37-1","v":{"$error":"#VALUE!"}}]
["heating oil / diesel",0,0,0,0,0.36356874953253243,0.35131894728988838,0.28641436791440139,0.26403963999158059,0.30422368604389477,0.33436762932447112,null,"heating oil / diesel",{"$f":"IFERROR(B488/_data!B488-1,\"\")","v":""},{"$f":"IFERROR(C488/_data!C488-1,\"\")","v":""},{"$f":"IFERROR(D488/_data!D488-1,\"\")","v":""},{"$f":"IFERROR(E488/_data!E488-1,\"\")","v":""},{"$f":"IFERROR(F488/_data!F488-1,\"\")","v":0},{"$f":"IFERROR(G488/_data!G488-1,\"\")","v":0},{"$f":"IFERROR(H488/_data!H488-1,\"\")","v":0},{"$f":"IFERROR(I488/_data!I488-1,\"\")","v":0},{"$f":"IFERROR(J488/_data!J488-1,\"\")","v":0},{"$f":"IFERROR(K488/_data!K488-1,\"\")","v":0},null,"heating oil / diesel",{"$f":"_data!Z488","v":0.26700000000000002},{"$f":"_data!AA488","v":0.26700000000000002},{"$f":"_data!AB488","v":0.26700000000000002},{"$f":"_data!AC488","v":0.26700000000000002},{"$f":"_data!AD488","v":0.26700000000000002},{"$f":"_data!AE488","v":0.26700000000000002},{"$f":"_data!AF488","v":0.26700000000000002},{"$f":"_data!AG488","v":0.26700000000000002},{"$f":"_data!AH488","v":0.26700000000000002},{"$f":"_data!AI488","v":0.26700000000000002},null,null,null,{"$f":"'DATA-OUTPUT EC per capita'!$F$37","v":0},{"$f":"IF(AM483=Z483,Z488,IF(AM483=AA483,AA488,IF(AM483=AB483,AB488,IF(AM483=AC483,AC488,IF(AM483=AD483,AD488,IF(AM483=AE483,AE488,IF(AM483=AF483,AF488,IF(AM483=AG483, AG488,IF(AM483=AH483,AH488,IF(AM483=AI483,AI488,\"Fehler\"))))))))))","v":"Fehler"},{"$error":"#VALUE!"},{"$f":"AO488/'DATA-OUTPUT Co2 per capita'!$F$37-1","v":{"$error":"#VALUE!"}}]
["gasoline",0,0,0,0,0.46423035370668708,0.46876007328079017,0.41889166548909063,0.41306671915153442,0.44124105461762847,0.48635999764041776,null,"gasoline",{"$f":"IFERROR(B489/_data!B489-1,\"\")","v":""},{"$f":"IFERROR(C489/_data!C489-1,\"\")","v":""},{"$f":"IFERROR(D489/_data!D489-1,\"\")","v":""},{"$f":"IFERROR(E489/_data!E489-1,\"\")","v":""},{"$f":"IFERROR(F489/_data!F489-1,\"\")","v":0},{"$f":"IFERROR(G489/_data!G489-1,\"\")","v":0},{"$f":"IFERROR(H489/_data!H489-1,\"\")","v":0},{"$f":"IFERROR(I489/_data!I489-1,\"\")","v":0},{"$f":"IFERROR(J489/_data!J489-1,\"\")","v":0},{"$f":"IFERROR(K489/_data!K489-1,\"\")","v":0},null,"gasoline",{"$f":"_data!Z489","v":0.249},{"$f":"_data!AA489","v":0.249},{"$f":"_data!AB489","v":0.249},{"$f":"_data!AC489","v":0.249},{"$f":"_data!AD489","v":0.249},{"$f":"_data!AE489","v":0.249},{"$f":"_data!AF489","v":0.249},{"$f":"_data!AG489","v":0.249},{"$f":"_data!AH489","v":0.249},{"$f":"_data!AI489","v":0.249},null,null,null,{"$f":"'DATA-OUTPUT EC per capita'!$G$37","v":0},{"$f":"IF(AM483=Z483,Z489,IF(AM483=AA483,AA489,IF(AM483=AB483,AB489,IF(AM483=AC483,AC489,IF(AM483=AD483,AD489,IF(AM483=AE483,AE489,IF(AM483=AF483,AF489,IF(AM483=AG483, AG489,IF(AM483=AH483,AH489,IF(AM483=AI483,AI489,\"Fehler\"))))))))))","v":"Fehler"},{"$error":"#VALUE!"},{"$f":"AO489/'DATA-OUTPUT Co2 per capita'!$G$37-1","v":{"$error":"#VALUE!"}}]
["Lignite / Coal",9.6317373162994158E-2,5.8363425301240945E-2,0.11699751201647252,0.18029684687955441,0.10027622284117547,9.0476025352201297E-2,0.13387179544389657,7.7891693797516245E-2,6.5046291952096172E-2,7.9618759825165308E-2,null,"Lignite / Coal",{"$f":"IFERROR(B490/_data!B490-1,\"\")","v":0},{"$f":"IFERROR(C490/_data!C490-1,\"\")","v":0},{"$f":"IFERROR(D490/_data!D490-1,\"\")","v":0},{"$f":"IFERROR(E490/_data!E490-1,\"\")","v":0},{"$f":"IFERROR(F490/_data!F490-1,\"\")","v":0},{"$f":"IFERROR(G490/_data!G490-1,\"\")","v":0},{"$f":"IFERROR(H490/_data!H490-1,\"\")","v":0},{"$f":"IFERROR(I490/_data!I490-1,\"\")","v":0},{"$f":"IFERROR(J490/_data!J490-1,\"\")","v":0},{"$f":"IFERROR(K490/_data!K490-1,\"\")","v":0},null,"Lignite / Coal",{"$f":"_data!Z490","v":0.36399999999999999},{"$f":"_data!AA490","v":0.36399999999999999},{"$f":"_data!AB490","v":0.36399999999999999},{"$f":"_data!AC490","v":0.36399999999999999},{"$f":"_data!AD490","v":0.36399999999999999},{"$f":"_data!AE490","v":0.36399999999999999},{"$f":"_data!AF490","v":0.36399999999999999},{"$f":"_data!AG490","v":0.36399999999999999},{"$f":"_data!AH490","v":0.36399999999999999},{"$f":"_data!AI490","v":0.36399999999999999},null,null,null,{"$f":"'DATA-OUTPUT EC per capita'!$H$37","v":0},{"$f":"IF(AM483=Z483,Z490,IF(AM483=AA483,AA490,IF(AM483=AB483,AB490,IF(AM483=AC483,AC490,IF(AM483=AD483,AD490,IF(AM483=AE483,AE490,IF(AM483=AF483,AF490,IF(AM483=AG483, AG490,IF(AM483=AH483,AH490,IF(AM483=AI483,AI490,\"Fehler\"))))))))))","v":"Fehler"},{"$error":"#VALUE!"},{"$f":"AO490/'DATA-OUTPUT Co2 per capita'!$H$37-1","v":{"$error":"#VALUE!"}}]
["other fossil fuels",0,0,0,0,0.16147477851826489,0.16542200707007937,0.1516903793282115,0.15912271245374957,0.15234526272990945,0.14903198389974678,null,"other fossil fuels",{"$f":"IFERROR(B491/_data!B491-1,\"\")","v":""},{"$f":"IFERROR(C491/_data!C491-1,\"\")","v":""},{"$f":"IFERROR(D491/_data!D491-1,\"\")","v":""},{"$f":"IFERROR(E491/_data!E491-1,\"\")","v":""},{"$f":"IFERROR(F491/_data!F491-1,\"\")","v":0},{"$f":"IFERROR(G491/_data!G491-1,\"\")","v":0},{"$f":"IFERROR(H491/_data!H491-1,\"\")","v":0},{"$f":"IFERROR(I491/_data!I491-1,\"\")","v":0},{"$f":"IFERROR(J491/_data!J491-1,\"\")","v":0},{"$f":"IFERROR(K491/_data!K491-1,\"\")","v":0},null,"other fossil fuels",{"$f":"_data!Z491","v":0.38200000000000001},{"$f":"_data!AA491","v":0.38200000000000001},{"$f":"_data!AB491","v":0.38200000000000001},{"$f":"_data!AC491","v":0.38200000000000001},{"$f":"_data!AD491","v":0.38200000000000001},{"$f":"_data!AE491","v":0.38200000000000001},{"$f":"_data!AF491","v":0.38200000000000001},{"$f":"_data!AG491","v":0.38200000000000001},{"$f":"_data!AH491","v":0.38200000000000001},{"$f":"_data!AI491","v":0.38200000000000001},null,null,null,{"$f":"'DATA-OUTPUT EC per capita'!$I$37","v":0},{"$f":"IF(AM483=Z483,Z491,IF(AM483=AA483,AA491,IF(AM483=AB483,AB491,IF(AM483=AC483,AC491,IF(AM483=AD483,AD491,IF(AM483=AE483,AE491,IF(AM483=AF483,AF491,IF(AM483=AG483, AG491,IF(AM483=AH483,AH491,IF(AM483=AI483,AI491,\"Fehler\"))))))))))","v":"Fehler"},{"$error":"#VALUE!"},{"$f":"AO491/'DATA-OUTPUT Co2 per capita'!$I$37-1","v":{"$error":"#VALUE!"}}]
["Plant oil, biofuel",0.13211202293592939,0.11894511971615947,0.14398514257335213,0.15100341461468864,0.1506841011948486,0.16024532585863835,0.23783935880368196,0.1924383023232755,0.2177805875286091,0.21501739443978105,null,"Plant oil, biofuel",{"$f":"IFERROR(B492/_data!B492-1,\"\")","v":0},{"$f":"IFERROR(C492/_data!C492-1,\"\")","v":0},{"$f":"IFERROR(D492/_data!D492-1,\"\")","v":0},{"$f":"IFERROR(E492/_data!E492-1,\"\")","v":0},{"$f":"IFERROR(F492/_data!F492-1,\"\")","v":0},{"$f":"IFERROR(G492/_data!G492-1,\"\")","v":0},{"$f":"IFERROR(H492/_data!H492-1,\"\")","v":0},{"$f":"IFERROR(I492/_data!I492-1,\"\")","v":0},{"$f":"IFERROR(J492/_data!J492-1,\"\")","v":0},{"$f":"IFERROR(K492/_data!K492-1,\"\")","v":0},null,"Plant oil, biofuel",{"$f":"_data!Z492","v":0},{"$f":"_data!AA492","v":0},{"$f":"_data!AB492","v":0},{"$f":"_data!AC492","v":0},{"$f":"_data!AD492","v":0},{"$f":"_data!AE492","v":0},{"$f":"_data!AF492","v":0},{"$f":"_data!AG492","v":0},{"$f":"_data!AH492","v":0},{"$f":"_data!AI492","v":0},null,null,null,{"$f":"'DATA-OUTPUT EC per capita'!$J$37","v":0},{"$f":"IF(AM483=Z483,Z492,IF(AM483=AA483,AA492,IF(AM483=AB483,AB492,IF(AM483=AC483,AC492,IF(AM483=AD483,AD492,IF(AM483=AE483,AE492,IF(AM483=AF483,AF492,IF(AM483=AG483, AG492,IF(AM483=AH483,AH492,IF(AM483=AI483,AI492,\"Fehler\"))))))))))","v":"Fehler"},{"$error":"#VALUE!"},{"$f":"AO492/'DATA-OUTPUT Co2 per capita'!$J$37-1","v":{"$error":"#VALUE!"}}]
["Summe",1.8429283754095245,1.7999341556533428,1.9098348783291808,1.7690618975913297,2.8253076283367626,2.932705802129381,2.9667942167384367,2.7080371429842369,2.8507548933407314,2.9959869340473406,null,"Summe",{"$f":"IFERROR(B493/_data!B493-1,\"\")","v":0},{"$f":"IFERROR(C493/_data!C493-1,\"\")","v":0},{"$f":"IFERROR(D493/_data!D493-1,\"\")","v":0},{"$f":"IFERROR(E493/_data!E493-1,\"\")","v":0},{"$f":"IFERROR(F493/_data!F493-1,\"\")","v":0},{"$f":"IFERROR(G493/_data!G493-1,\"\")","v":0},{"$f":"IFERROR(H493/_data!H493-1,\"\")","v":0},{"$f":"IFERROR(I493/_data!I493-1,\"\")","v":0},{"$f":"IFERROR(J493/_data!J493-1,\"\")","v":0},{"$f":"IFERROR(K493/_data!K493-1,\"\")","v":0},null,null,null,null,null,null,null,null,null,null,null,null,null,null,"Total",null,null,{"$f":"SUM(AO484:AO492)","v":{"$error":"#VALUE!"}},{"$f":"AO493/'DATA-OUTPUT Co2 per capita'!$K$37-1","v":{"$error":"#VALUE!"}}]
[]
["Energy consumption (MWh /Einwohner and  Year) - Primary sector (Agriculture)",null,null,null,null,null,null,null,null,null,null,null,"Test:",{"$f":"A495","v":"Energy consumption (MWh /Einwohner and  Year) - Primary sector (Agriculture)"}]
["Energieträger",2000,2001,2002,2003,2004,2005,2006,2007,2008,2009,null,"Energieträger",2000,2001,2002,2003,2004,2005,2006,2007,2008,2009]
["Electricity",2.8849419219977645E-2,2.7231165671352264E-2,2.6757622341906227E-2,3.1523116085551091E-2,2.188965971321586E-2,2.3333697400823906E-2,2.4248768503437282E-2,1.3978569176024852E-2,1.5094474448213704E-2,1.6515828848273035E-2,null,"Electricity",{"$f":"IFERROR(B497/_data!B497-1,\"\")","v":1.5543122344752192E-15},{"$f":"IFERROR(C497/_data!C497-1,\"\")","v":0},{"$f":"IFERROR(D497/_data!D497-1,\"\")","v":0},{"$f":"IFERROR(E497/_data!E497-1,\"\")","v":0},{"$f":"IFERROR(F497/_data!F497-1,\"\")","v":0},{"$f":"IFERROR(G497/_data!G497-1,\"\")","v":0},{"$f":"IFERROR(H497/_data!H497-1,\"\")","v":0},{"$f":"IFERROR(I497/_data!I497-1,\"\")","v":0},{"$f":"IFERROR(J497/_data!J497-1,\"\")","v":0},{"$f":"IFERROR(K497/_data!K497-1,\"\")","v":0}]
["Heat and Cold",7.7084427016342388E-3,3.2891576513150206E-3,8.4336345490248858E-4,9.2262778786978794E-4,4.5474997291539993E-3,4.7903617180499406E-3,3.1763562576387493E-3,2.6403963999158059E-3,3.501295619431014E-3,3.3499086814893428E-3,null,"Heat and Cold",{"$f":"IFERROR(B498/_data!B498-1,\"\")","v":0},{"$f":"IFERROR(C498/_data!C498-1,\"\")","v":0},{"$f":"IFERROR(D498/_data!D498-1,\"\")","v":0},{"$f":"IFERROR(E498/_data!E498-1,\"\")","v":0},{"$f":"IFERROR(F498/_data!F498-1,\"\")","v":0},{"$f":"IFERROR(G498/_data!G498-1,\"\")","v":0},{"$f":"IFERROR(H498/_data!H498-1,\"\")","v":0},{"$f":"IFERROR(I498/_data!I498-1,\"\")","v":0},{"$f":"IFERROR(J498/_data!J498-1,\"\")","v":0},{"$f":"IFERROR(K498/_data!K498-1,\"\")","v":0}]
["natural gas",4.5258480416525776E-2,3.9393399777377568E-2,5.1675178964025209E-2,5.4973239027241542E-2,5.4724149283039647E-2,5.8720562995450892E-2,5.0589283810685448E-2,5.1876023386581115E-2,2.108558028590677E-2,5.7649591262839851E-3,null,"natural gas",{"$f":"IFERROR(B499/_data!B499-1,\"\")","v":0},{"$f":"IFERROR(C499/_data!C499-1,\"\")","v":0},{"$f":"IFERROR(D499/_data!D499-1,\"\")","v":0},{"$f":"IFERROR(E499/_data!E499-1,\"\")","v":0},{"$f":"IFERROR(F499/_data!F499-1,\"\")","v":0},{"$f":"IFERROR(G499/_data!G499-1,\"\")","v":0},{"$f":"IFERROR(H499/_data!H499-1,\"\")","v":0},{"$f":"IFERROR(I499/_data!I499-1,\"\")","v":0},{"$f":"IFERROR(J499/_data!J499-1,\"\")","v":0},{"$f":"IFERROR(K499/_data!K499-1,\"\")","v":0}]
["Liquid gas",0,0,0,0,0,0,0,0,0,0,null,"Liquid gas",{"$f":"IFERROR(B500/_data!B500-1,\"\")","v":""},{"$f":"IFERROR(C500/_data!C500-1,\"\")","v":""},{"$f":"IFERROR(D500/_data!D500-1,\"\")","v":""},{"$f":"IFERROR(E500/_data!E500-1,\"\")","v":""},{"$f":"IFERROR(F500/_data!F500-1,\"\")","v":""},{"$f":"IFERROR(G500/_data!G500-1,\"\")","v":""},{"$f":"IFERROR(H500/_data!H500-1,\"\")","v":""},{"$f":"IFERROR(I500/_data!I500-1,\"\")","v":""},{"$f":"IFERROR(J500/_data!J500-1,\"\")","v":""},{"$f":"IFERROR(K500/_data!K500-1,\"\")","v":""}]
["heating oil / diesel",0.2589578820459898,0.24752823627105597,0.23606509796770567,0.21266570510398614,0.20309596248001338,0.18388807885417516,0.18438360715073718,0.16168545013602081,0.15537971893341632,0.14233216653676811,null,"heating oil / diesel",{"$f":"IFERROR(B501/_data!B501-1,\"\")","v":0},{"$f":"IFERROR(C501/_data!C501-1,\"\")","v":0},{"$f":"IFERROR(D501/_data!D501-1,\"\")","v":0},{"$f":"IFERROR(E501/_data!E501-1,\"\")","v":0},{"$f":"IFERROR(F501/_data!F501-1,\"\")","v":0},{"$f":"IFERROR(G501/_data!G501-1,\"\")","v":0},{"$f":"IFERROR(H501/_data!H501-1,\"\")","v":0},{"$f":"IFERROR(I501/_data!I501-1,\"\")","v":0},{"$f":"IFERROR(J501/_data!J501-1,\"\")","v":0},{"$f":"IFERROR(K501/_data!K501-1,\"\")","v":0}]
["gasoline",0,0,0,0,0,0,0,0,0,0,null,"gasoline",{"$f":"IFERROR(B502/_data!B502-1,\"\")","v":""},{"$f":"IFERROR(C502/_data!C502-1,\"\")","v":""},{"$f":"IFERROR(D502/_data!D502-1,\"\")","v":""},{"$f":"IFERROR(E502/_data!E502-1,\"\")","v":""},{"$f":"IFERROR(F502/_data!F502-1,\"\")","v":""},{"$f":"IFERROR(G502/_data!G502-1,\"\")","v":""},{"$f":"IFERROR(H502/_data!H502-1,\"\")","v":""},{"$f":"IFERROR(I502/_data!I502-1,\"\")","v":""},{"$f":"IFERROR(J502/_data!J502-1,\"\")","v":""},{"$f":"IFERROR(K502/_data!K502-1,\"\")","v":""}]
["Lignite / Coal",0,0,0,0,0,0,0,0,0,0,null,"Lignite / Coal",{"$f":"IFERROR(B503/_data!B503-1,\"\")","v":""},{"$f":"IFERROR(C503/_data!C503-1,\"\")","v":""},{"$f":"IFERROR(D503/_data!D503-1,\"\")","v":""},{"$f":"IFERROR(E503/_data!E503-1,\"\")","v":""},{"$f":"IFERROR(F503/_data!F503-1,\"\")","v":""},{"$f":"IFERROR(G503/_data!G503-1,\"\")","v":""},{"$f":"IFERROR(H503/_data!H503-1,\"\")","v":""},{"$f":"IFERROR(I503/_data!I503-1,\"\")","v":""},{"$f":"IFERROR(J503/_data!J503-1,\"\")","v":""},{"$f":"IFERROR(K503/_data!K503-1,\"\")","v":""}]
["other fossil fuels",0,0,0,0,0,0,0,0,0,0,null,"other fossil fuels",{"$f":"IFERROR(B504/_data!B504-1,\"\")","v":""},{"$f":"IFERROR(C504/_data!C504-1,\"\")","v":""},{"$f":"IFERROR(D504/_data!D504-1,\"\")","v":""},{"$f":"IFERROR(E504/_data!E504-1,\"\")","v":""},{"$f":"IFERROR(F504/_data!F504-1,\"\")","v":""},{"$f":"IFERROR(G504/_data!G504-1,\"\")","v":""},{"$f":"IFERROR(H504/_data!H504-1,\"\")","v":""},{"$f":"IFERROR(I504/_data!I504-1,\"\")","v":""},{"$f":"IFERROR(J504/_data!J504-1,\"\")","v":""},{"$f":"IFERROR(K504/_data!K504-1,\"\")","v":""}]
["Plant oil, biofuel",3.0528485947066289E-4,3.8246019201337449E-4,5.366858349379473E-4,6.1508519191319207E-4,6.936863993624744E-4,6.9537508810402367E-4,1.3944978692072558E-3,1.4755156352470678E-3,7.002591238862029E-4,1.5580970611578338E-3,null,"Plant oil, biofuel",{"$f":"IFERROR(B505/_data!B505-1,\"\")","v":0},{"$f":"IFERROR(C505/_data!C505-1,\"\")","v":0},{"$f":"IFERROR(D505/_data!D505-1,\"\")","v":0},{"$f":"IFERROR(E505/_data!E505-1,\"\")","v":0},{"$f":"IFERROR(F505/_data!F505-1,\"\")","v":0},{"$f":"IFERROR(G505/_data!G505-1,\"\")","v":0},{"$f":"IFERROR(H505/_data!H505-1,\"\")","v":0},{"$f":"IFERROR(I505/_data!I505-1,\"\")","v":0},{"$f":"IFERROR(J505/_data!J505-1,\"\")","v":0},{"$f":"IFERROR(K505/_data!K505-1,\"\")","v":0}]
["Summe",0.34107950924359814,0.31782441956311419,0.31587794856347751,0.30069977319656171,0.28495095760478534,0.27142807605660391,0.26379251359170591,0.23165595473378964,0.19576132841085403,0.16952096025397231,null,"Summe",{"$f":"IFERROR(B506/_data!B506-1,\"\")","v":2.2204460492503131E-16},{"$f":"IFERROR(C506/_data!C506-1,\"\")","v":0},{"$f":"IFERROR(D506/_data!D506-1,\"\")","v":0},{"$f":"IFERROR(E506/_data!E506-1,\"\")","v":0},{"$f":"IFERROR(F506/_data!F506-1,\"\")","v":0},{"$f":"IFERROR(G506/_data!G506-1,\"\")","v":0},{"$f":"IFERROR(H506/_data!H506-1,\"\")","v":0},{"$f":"IFERROR(I506/_data!I506-1,\"\")","v":0},{"$f":"IFERROR(J506/_data!J506-1,\"\")","v":0},{"$f":"IFERROR(K506/_data!K506-1,\"\")","v":0}]
[]
["Energy consumption (MWh /Einwohner and  Year) - Secondary sector (Industrie)",null,null,null,null,null,null,null,null,null,null,null,"Test:",{"$f":"A508","v":"Energy consumption (MWh /Einwohner and  Year) - Secondary sector (Industrie)"}]
["Energieträger",2000,2001,2002,2003,2004,2005,2006,2007,2008,2009,null,"Energieträger",2000,2001,2002,2003,2004,2005,2006,2007,2008,2009]
["Electricity",0.19095567959889967,0.20706394795604097,0.21889115124969136,0.25825889495455151,0.25442875603283649,0.28958509224598672,0.2847874537336596,0.29246273064949774,0.26438672255170192,0.24399799977731676,null,"Electricity",{"$f":"IFERROR(B510/_data!B510-1,\"\")","v":0},{"$f":"IFERROR(C510/_data!C510-1,\"\")","v":0},{"$f":"IFERROR(D510/_data!D510-1,\"\")","v":0},{"$f":"IFERROR(E510/_data!E510-1,\"\")","v":0},{"$f":"IFERROR(F510/_data!F510-1,\"\")","v":0},{"$f":"IFERROR(G510/_data!G510-1,\"\")","v":0},{"$f":"IFERROR(H510/_data!H510-1,\"\")","v":0},{"$f":"IFERROR(I510/_data!I510-1,\"\")","v":0},{"$f":"IFERROR(J510/_data!J510-1,\"\")","v":0},{"$f":"IFERROR(K510/_data!K510-1,\"\")","v":0}]
["Heat and Cold",0.17118848494817421,0.17707906890219238,6.9615819731950884E-2,7.3041366539691552E-2,0.32795951436525872,0.31987254052785086,0.29640826931038672,0.23740269983948875,0.2392552006611193,0.13609977829213676,null,"Heat and Cold",{"$f":"IFERROR(B511/_data!B511-1,\"\")","v":0},{"$f":"IFERROR(C511/_data!C511-1,\"\")","v":0},{"$f":"IFERROR(D511/_data!D511-1,\"\")","v":0},{"$f":"IFERROR(E511/_data!E511-1,\"\")","v":0},{"$f":"IFERROR(F511/_data!F511-1,\"\")","v":0},{"$f":"IFERROR(G511/_data!G511-1,\"\")","v":0},{"$f":"IFERROR(H511/_data!H511-1,\"\")","v":0},{"$f":"IFERROR(I511/_data!I511-1,\"\")","v":0},{"$f":"IFERROR(J511/_data!J511-1,\"\")","v":0},{"$f":"IFERROR(K511/_data!K511-1,\"\")","v":0}]
["natural gas",0.65353856291182166,0.61859111456243177,0.73556627148495235,0.7820808215176237,0.36803917299509065,0.38709213237790652,0.4758336618150536,0.46688421047923007,0.27574648167252258,0.15308303625875719,null,"natural gas",{"$f":"IFERROR(B512/_data!B512-1,\"\")","v":0},{"$f":"IFERROR(C512/_data!C512-1,\"\")","v":0},{"$f":"IFERROR(D512/_data!D512-1,\"\")","v":0},{"$f":"IFERROR(E512/_data!E512-1,\"\")","v":0},{"$f":"IFERROR(F512/_data!F512-1,\"\")","v":0},{"$f":"IFERROR(G512/_data!G512-1,\"\")","v":0},{"$f":"IFERROR(H512/_data!H512-1,\"\")","v":0},{"$f":"IFERROR(I512/_data!I512-1,\"\")","v":0},{"$f":"IFERROR(J512/_data!J512-1,\"\")","v":0},{"$f":"IFERROR(K512/_data!K512-1,\"\")","v":0}]
["Liquid gas",0,0,0,0,0,0,0,0,0,0,null,"Liquid gas",{"$f":"IFERROR(B513/_data!B513-1,\"\")","v":""},{"$f":"IFERROR(C513/_data!C513-1,\"\")","v":""},{"$f":"IFERROR(D513/_data!D513-1,\"\")","v":""},{"$f":"IFERROR(E513/_data!E513-1,\"\")","v":""},{"$f":"IFERROR(F513/_data!F513-1,\"\")","v":""},{"$f":"IFERROR(G513/_data!G513-1,\"\")","v":""},{"$f":"IFERROR(H513/_data!H513-1,\"\")","v":""},{"$f":"IFERROR(I513/_data!I513-1,\"\")","v":""},{"$f":"IFERROR(J513/_data!J513-1,\"\")","v":""},{"$f":"IFERROR(K513/_data!K513-1,\"\")","v":""}]
["heating oil / diesel",5.2508995828954026E-2,4.7195587694450404E-2,4.4621593704840756E-2,4.1979564348075357E-2,3.5609235167273691E-2,3.5773185088018106E-2,3.9123412441648013E-2,3.2771978846013822E-2,3.2834372253330843E-2,1.9787832676704489E-2,null,"heating oil / diesel",{"$f":"IFERROR(B514/_data!B514-1,\"\")","v":0},{"$f":"IFERROR(C514/_data!C514-1,\"\")","v":0},{"$f":"IFERROR(D514/_data!D514-1,\"\")","v":0},{"$f":"IFERROR(E514/_data!E514-1,\"\")","v":0},{"$f":"IFERROR(F514/_data!F514-1,\"\")","v":0},{"$f":"IFERROR(G514/_data!G514-1,\"\")","v":0},{"$f":"IFERROR(H514/_data!H514-1,\"\")","v":0},{"$f":"IFERROR(I514/_data!I514-1,\"\")","v":0},{"$f":"IFERROR(J514/_data!J514-1,\"\")","v":0},{"$f":"IFERROR(K514/_data!K514-1,\"\")","v":0}]
["gasoline",0,0,0,0,3.3142794636207115E-3,3.3223476431636688E-3,0,0,0,0,null,"gasoline",{"$f":"IFERROR(B515/_data!B515-1,\"\")","v":""},{"$f":"IFERROR(C515/_data!C515-1,\"\")","v":""},{"$f":"IFERROR(D515/_data!D515-1,\"\")","v":""},{"$f":"IFERROR(E515/_data!E515-1,\"\")","v":""},{"$f":"IFERROR(F515/_data!F515-1,\"\")","v":0},{"$f":"IFERROR(G515/_data!G515-1,\"\")","v":0},{"$f":"IFERROR(H515/_data!H515-1,\"\")","v":""},{"$f":"IFERROR(I515/_data!I515-1,\"\")","v":""},{"$f":"IFERROR(J515/_data!J515-1,\"\")","v":""},{"$f":"IFERROR(K515/_data!K515-1,\"\")","v":""}]
["Lignite / Coal",0,0,6.516899424246503E-3,1.4685158956927459E-2,1.2640507721716199E-2,1.1280529207020829E-2,8.599403526778078E-3,4.3488881880966203E-3,0.12145605470959583,8.6630196600375561E-2,null,"Lignite / Coal",{"$f":"IFERROR(B516/_data!B516-1,\"\")","v":""},{"$f":"IFERROR(C516/_data!C516-1,\"\")","v":""},{"$f":"IFERROR(D516/_data!D516-1,\"\")","v":0},{"$f":"IFERROR(E516/_data!E516-1,\"\")","v":0},{"$f":"IFERROR(F516/_data!F516-1,\"\")","v":0},{"$f":"IFERROR(G516/_data!G516-1,\"\")","v":0},{"$f":"IFERROR(H516/_data!H516-1,\"\")","v":0},{"$f":"IFERROR(I516/_data!I516-1,\"\")","v":0},{"$f":"IFERROR(J516/_data!J516-1,\"\")","v":0},{"$f":"IFERROR(K516/_data!K516-1,\"\")","v":0}]
["other fossil fuels",0,0,0,0,0,0,0,0,0,0,null,"other fossil fuels",{"$f":"IFERROR(B517/_data!B517-1,\"\")","v":""},{"$f":"IFERROR(C517/_data!C517-1,\"\")","v":""},{"$f":"IFERROR(D517/_data!D517-1,\"\")","v":""},{"$f":"IFERROR(E517/_data!E517-1,\"\")","v":""},{"$f":"IFERROR(F517/_data!F517-1,\"\")","v":""},{"$f":"IFERROR(G517/_data!G517-1,\"\")","v":""},{"$f":"IFERROR(H517/_data!H517-1,\"\")","v":""},{"$f":"IFERROR(I517/_data!I517-1,\"\")","v":""},{"$f":"IFERROR(J517/_data!J517-1,\"\")","v":""},{"$f":"IFERROR(K517/_data!K517-1,\"\")","v":""}]
["Plant oil, biofuel",1.3737818676179832E-3,1.3003646528454732E-3,1.2267104798581654E-3,1.1532847348372352E-3,1.4644490653207792E-3,6.9537508810402367E-4,7.7472103844847544E-4,3.882935882229126E-4,1.0892919704896488E-3,7.7904853057891691E-4,null,"Plant oil, biofuel",{"$f":"IFERROR(B518/_data!B518-1,\"\")","v":0},{"$f":"IFERROR(C518/_data!C518-1,\"\")","v":0},{"$f":"IFERROR(D518/_data!D518-1,\"\")","v":0},{"$f":"IFERROR(E518/_data!E518-1,\"\")","v":0},{"$f":"IFERROR(F518/_data!F518-1,\"\")","v":0},{"$f":"IFERROR(G518/_data!G518-1,\"\")","v":0},{"$f":"IFERROR(H518/_data!H518-1,\"\")","v":0},{"$f":"IFERROR(I518/_data!I518-1,\"\")","v":0},{"$f":"IFERROR(J518/_data!J518-1,\"\")","v":0},{"$f":"IFERROR(K518/_data!K518-1,\"\")","v":0}]
["Summe",1.0695655051554676,1.0512300837679611,1.0764384460755403,1.1711990910517067,1.0034559148111173,1.0476212021780507,1.1055269218659745,1.0342588015905501,0.93476812381876018,0.6403778921358696,null,"Summe",{"$f":"IFERROR(B519/_data!B519-1,\"\")","v":0},{"$f":"IFERROR(C519/_data!C519-1,\"\")","v":0},{"$f":"IFERROR(D519/_data!D519-1,\"\")","v":0},{"$f":"IFERROR(E519/_data!E519-1,\"\")","v":0},{"$f":"IFERROR(F519/_data!F519-1,\"\")","v":0},{"$f":"IFERROR(G519/_data!G519-1,\"\")","v":0},{"$f":"IFERROR(H519/_data!H519-1,\"\")","v":0},{"$f":"IFERROR(I519/_data!I519-1,\"\")","v":0},{"$f":"IFERROR(J519/_data!J519-1,\"\")","v":0},{"$f":"IFERROR(K519/_data!K519-1,\"\")","v":0}]
[]
["Energy consumption (MWh /Einwohner and  Year) - Tertiary sector (Services)",null,null,null,null,null,null,null,null,null,null,null,"Test:",{"$f":"A521","v":"Energy consumption (MWh /Einwohner and  Year) - Tertiary sector (Services)"}]
["Energieträger",2000,2001,2002,2003,2004,2005,2006,2007,2008,2009,null,"Energieträger",2000,2001,2002,2003,2004,2005,2006,2007,2008,2009]
["Electricity",0.27910668277105355,0.16078626472242263,0.24120194810211174,0.28455378690884042,0.24749189203921174,0.26532422806102413,0.25325630746880662,0.24881853133324239,0.27419035028610877,0.26191611598063186,null,"Electricity",{"$f":"IFERROR(B523/_data!B523-1,\"\")","v":0},{"$f":"IFERROR(C523/_data!C523-1,\"\")","v":0},{"$f":"IFERROR(D523/_data!D523-1,\"\")","v":0},{"$f":"IFERROR(E523/_data!E523-1,\"\")","v":0},{"$f":"IFERROR(F523/_data!F523-1,\"\")","v":0},{"$f":"IFERROR(G523/_data!G523-1,\"\")","v":0},{"$f":"IFERROR(H523/_data!H523-1,\"\")","v":0},{"$f":"IFERROR(I523/_data!I523-1,\"\")","v":0},{"$f":"IFERROR(J523/_data!J523-1,\"\")","v":0},{"$f":"IFERROR(K523/_data!K523-1,\"\")","v":0}]
["Heat and Cold",0,0,0,0,0,0,0,0,0,0,null,"Heat and Cold",{"$f":"IFERROR(B524/_data!B524-1,\"\")","v":""},{"$f":"IFERROR(C524/_data!C524-1,\"\")","v":""},{"$f":"IFERROR(D524/_data!D524-1,\"\")","v":""},{"$f":"IFERROR(E524/_data!E524-1,\"\")","v":""},{"$f":"IFERROR(F524/_data!F524-1,\"\")","v":""},{"$f":"IFERROR(G524/_data!G524-1,\"\")","v":""},{"$f":"IFERROR(H524/_data!H524-1,\"\")","v":""},{"$f":"IFERROR(I524/_data!I524-1,\"\")","v":""},{"$f":"IFERROR(J524/_data!J524-1,\"\")","v":""},{"$f":"IFERROR(K524/_data!K524-1,\"\")","v":""}]
["natural gas",0.1543214964624201,0.16981232525393825,0.16414919608602072,0.17453042320536824,0.18544549742956817,0.20861252643120709,0.22575371060388577,0.24431432570985659,0.24882540868756406,0.35797279980101232,null,"natural gas",{"$f":"IFERROR(B525/_data!B525-1,\"\")","v":0},{"$f":"IFERROR(C525/_data!C525-1,\"\")","v":0},{"$f":"IFERROR(D525/_data!D525-1,\"\")","v":0},{"$f":"IFERROR(E525/_data!E525-1,\"\")","v":0},{"$f":"IFERROR(F525/_data!F525-1,\"\")","v":0},{"$f":"IFERROR(G525/_data!G525-1,\"\")","v":0},{"$f":"IFERROR(H525/_data!H525-1,\"\")","v":0},{"$f":"IFERROR(I525/_data!I525-1,\"\")","v":0},{"$f":"IFERROR(J525/_data!J525-1,\"\")","v":0},{"$f":"IFERROR(K525/_data!K525-1,\"\")","v":0}]
["Liquid gas",0,0,0,0,0,0,0,0,0,0,null,"Liquid gas",{"$f":"IFERROR(B526/_data!B526-1,\"\")","v":""},{"$f":"IFERROR(C526/_data!C526-1,\"\")","v":""},{"$f":"IFERROR(D526/_data!D526-1,\"\")","v":""},{"$f":"IFERROR(E526/_data!E526-1,\"\")","v":""},{"$f":"IFERROR(F526/_data!F526-1,\"\")","v":""},{"$f":"IFERROR(G526/_data!G526-1,\"\")","v":""},{"$f":"IFERROR(H526/_data!H526-1,\"\")","v":""},{"$f":"IFERROR(I526/_data!I526-1,\"\")","v":""},{"$f":"IFERROR(J526/_data!J526-1,\"\")","v":""},{"$f":"IFERROR(K526/_data!K526-1,\"\")","v":""}]
["heating oil / diesel",0,0,0,0,1.3025889054695353E-2,1.3057598876620001E-2,9.8389571882956401E-3,1.3124323281934445E-2,2.2797324810961937E-2,2.2670312239846481E-2,null,"heating oil / diesel",{"$f":"IFERROR(B527/_data!B527-1,\"\")","v":""},{"$f":"IFERROR(C527/_data!C527-1,\"\")","v":""},{"$f":"IFERROR(D527/_data!D527-1,\"\")","v":""},{"$f":"IFERROR(E527/_data!E527-1,\"\")","v":""},{"$f":"IFERROR(F527/_data!F527-1,\"\")","v":0},{"$f":"IFERROR(G527/_data!G527-1,\"\")","v":0},{"$f":"IFERROR(H527/_data!H527-1,\"\")","v":0},{"$f":"IFERROR(I527/_data!I527-1,\"\")","v":0},{"$f":"IFERROR(J527/_data!J527-1,\"\")","v":0},{"$f":"IFERROR(K527/_data!K527-1,\"\")","v":0}]
["gasoline",0,0,0,0,2.011690558151176E-2,2.0165877555016688E-2,2.3551519568833654E-2,2.6947575022670135E-2,2.0307514592699881E-2,3.4278135345472338E-3,null,"gasoline",{"$f":"IFERROR(B528/_data!B528-1,\"\")","v":""},{"$f":"IFERROR(C528/_data!C528-1,\"\")","v":""},{"$f":"IFERROR(D528/_data!D528-1,\"\")","v":""},{"$f":"IFERROR(E528/_data!E528-1,\"\")","v":""},{"$f":"IFERROR(F528/_data!F528-1,\"\")","v":0},{"$f":"IFERROR(G528/_data!G528-1,\"\")","v":0},{"$f":"IFERROR(H528/_data!H528-1,\"\")","v":0},{"$f":"IFERROR(I528/_data!I528-1,\"\")","v":0},{"$f":"IFERROR(J528/_data!J528-1,\"\")","v":0},{"$f":"IFERROR(K528/_data!K528-1,\"\")","v":0}]
["Lignite / Coal",0,0,0,0,0.14891134706314452,0.13498003099085881,0.12380042194406637,9.9558476020354766E-2,9.3990335739392555E-2,8.6863911159549237E-2,null,"Lignite / Coal",{"$f":"IFERROR(B529/_data!B529-1,\"\")","v":""},{"$f":"IFERROR(C529/_data!C529-1,\"\")","v":""},{"$f":"IFERROR(D529/_data!D529-1,\"\")","v":""},{"$f":"IFERROR(E529/_data!E529-1,\"\")","v":""},{"$f":"IFERROR(F529/_data!F529-1,\"\")","v":0},{"$f":"IFERROR(G529/_data!G529-1,\"\")","v":0},{"$f":"IFERROR(H529/_data!H529-1,\"\")","v":0},{"$f":"IFERROR(I529/_data!I529-1,\"\")","v":0},{"$f":"IFERROR(J529/_data!J529-1,\"\")","v":0},{"$f":"IFERROR(K529/_data!K529-1,\"\")","v":0}]
["other fossil fuels",0,0,0,0,7.0139402602205749E-3,7.0310147797184612E-3,7.0499614498811267E-3,7.0669433056570084E-3,7.0803978081827174E-3,2.8357366513072572E-2,null,"other fossil fuels",{"$f":"IFERROR(B530/_data!B530-1,\"\")","v":""},{"$f":"IFERROR(C530/_data!C530-1,\"\")","v":""},{"$f":"IFERROR(D530/_data!D530-1,\"\")","v":""},{"$f":"IFERROR(E530/_data!E530-1,\"\")","v":""},{"$f":"IFERROR(F530/_data!F530-1,\"\")","v":0},{"$f":"IFERROR(G530/_data!G530-1,\"\")","v":0},{"$f":"IFERROR(H530/_data!H530-1,\"\")","v":0},{"$f":"IFERROR(I530/_data!I530-1,\"\")","v":0},{"$f":"IFERROR(J530/_data!J530-1,\"\")","v":0},{"$f":"IFERROR(K530/_data!K530-1,\"\")","v":0}]
["Plant oil, biofuel",0,0,0,0,3.8923514630894399E-2,3.0364712180542364E-2,2.9052038941817827E-2,2.8345431940272618E-2,3.0733594881672235E-2,2.6409745186625283E-2,null,"Plant oil, biofuel",{"$f":"IFERROR(B531/_data!B531-1,\"\")","v":""},{"$f":"IFERROR(C531/_data!C531-1,\"\")","v":""},{"$f":"IFERROR(D531/_data!D531-1,\"\")","v":""},{"$f":"IFERROR(E531/_data!E531-1,\"\")","v":""},{"$f":"IFERROR(F531/_data!F531-1,\"\")","v":0},{"$f":"IFERROR(G531/_data!G531-1,\"\")","v":0},{"$f":"IFERROR(H531/_data!H531-1,\"\")","v":0},{"$f":"IFERROR(I531/_data!I531-1,\"\")","v":0},{"$f":"IFERROR(J531/_data!J531-1,\"\")","v":0},{"$f":"IFERROR(K531/_data!K531-1,\"\")","v":0}]
["Summe",0.43342817923347365,0.33059858997636088,0.40535114418813245,0.45908421011420864,0.66092898605924655,0.67953598887498756,0.67230291716558699,0.66817560661398789,0.69792492680658214,0.78761806441528504,null,"Summe",{"$f":"IFERROR(B532/_data!B532-1,\"\")","v":0},{"$f":"IFERROR(C532/_data!C532-1,\"\")","v":0},{"$f":"IFERROR(D532/_data!D532-1,\"\")","v":0},{"$f":"IFERROR(E532/_data!E532-1,\"\")","v":0},{"$f":"IFERROR(F532/_data!F532-1,\"\")","v":0},{"$f":"IFERROR(G532/_data!G532-1,\"\")","v":0},{"$f":"IFERROR(H532/_data!H532-1,\"\")","v":0},{"$f":"IFERROR(I532/_data!I532-1,\"\")","v":0},{"$f":"IFERROR(J532/_data!J532-1,\"\")","v":0},{"$f":"IFERROR(K532/_data!K532-1,\"\")","v":0}]
[]
["Energy consumption (MWh /Einwohner and  Year) - Road",null,null,null,null,null,null,null,null,null,null,null,"Test:",{"$f":"A534","v":"Energy consumption (MWh /Einwohner and  Year) - Road"}]
["Energieträger",2000,2001,2002,2003,2004,2005,2006,2007,2008,2009,null,"Energieträger",2000,2001,2002,2003,2004,2005,2006,2007,2008,2009]
["Electricity",0,0,0,0,0,0,1.3944978692072559E-2,1.4522180199536931E-2,1.4005182477724056E-2,1.2620586195378454E-2,null,"Electricity",{"$f":"IFERROR(B536/_data!B536-1,\"\")","v":""},{"$f":"IFERROR(C536/_data!C536-1,\"\")","v":""},{"$f":"IFERROR(D536/_data!D536-1,\"\")","v":""},{"$f":"IFERROR(E536/_data!E536-1,\"\")","v":""},{"$f":"IFERROR(F536/_data!F536-1,\"\")","v":""},{"$f":"IFERROR(G536/_data!G536-1,\"\")","v":""},{"$f":"IFERROR(H536/_data!H536-1,\"\")","v":0},{"$f":"IFERROR(I536/_data!I536-1,\"\")","v":0},{"$f":"IFERROR(J536/_data!J536-1,\"\")","v":0},{"$f":"IFERROR(K536/_data!K536-1,\"\")","v":0}]
["Heat and Cold",0,0,0,0,0,0,0,0,0,0,null,"Heat and Cold",{"$f":"IFERROR(B537/_data!B537-1,\"\")","v":""},{"$f":"IFERROR(C537/_data!C537-1,\"\")","v":""},{"$f":"IFERROR(D537/_data!D537-1,\"\")","v":""},{"$f":"IFERROR(E537/_data!E537-1,\"\")","v":""},{"$f":"IFERROR(F537/_data!F537-1,\"\")","v":""},{"$f":"IFERROR(G537/_data!G537-1,\"\")","v":""},{"$f":"IFERROR(H537/_data!H537-1,\"\")","v":""},{"$f":"IFERROR(I537/_data!I537-1,\"\")","v":""},{"$f":"IFERROR(J537/_data!J537-1,\"\")","v":""},{"$f":"IFERROR(K537/_data!K537-1,\"\")","v":""}]
["natural gas",3.9305425656847845E-2,3.9393399777377568E-2,4.2551519770080107E-2,4.5208761605619617E-2,3.730491303238196E-2,4.0022699515320469E-2,3.4475086210957157E-2,3.5334716528285043E-2,2.3731003642810208E-2,6.1544833915734426E-3,null,"natural gas",{"$f":"IFERROR(B538/_data!B538-1,\"\")","v":0},{"$f":"IFERROR(C538/_data!C538-1,\"\")","v":0},{"$f":"IFERROR(D538/_data!D538-1,\"\")","v":0},{"$f":"IFERROR(E538/_data!E538-1,\"\")","v":0},{"$f":"IFERROR(F538/_data!F538-1,\"\")","v":0},{"$f":"IFERROR(G538/_data!G538-1,\"\")","v":0},{"$f":"IFERROR(H538/_data!H538-1,\"\")","v":0},{"$f":"IFERROR(I538/_data!I538-1,\"\")","v":0},{"$f":"IFERROR(J538/_data!J538-1,\"\")","v":0},{"$f":"IFERROR(K538/_data!K538-1,\"\")","v":0}]
["Liquid gas",0,0,0,0,0,0,0,0,0,0,null,"Liquid gas",{"$f":"IFERROR(B539/_data!B539-1,\"\")","v":""},{"$f":"IFERROR(C539/_data!C539-1,\"\")","v":""},{"$f":"IFERROR(D539/_data!D539-1,\"\")","v":""},{"$f":"IFERROR(E539/_data!E539-1,\"\")","v":""},{"$f":"IFERROR(F539/_data!F539-1,\"\")","v":""},{"$f":"IFERROR(G539/_data!G539-1,\"\")","v":""},{"$f":"IFERROR(H539/_data!H539-1,\"\")","v":""},{"$f":"IFERROR(I539/_data!I539-1,\"\")","v":""},{"$f":"IFERROR(J539/_data!J539-1,\"\")","v":""},{"$f":"IFERROR(K539/_data!K539-1,\"\")","v":""}]
["heating oil / diesel",0.24590695430361897,0.28799252458607094,0.33029179670181102,0.37289539759737267,0.40619192496002676,0.43337320768616316,0.49713849037238672,0.60395184712191829,0.63482379908750308,0.56613456717169885,null,"heating oil / diesel",{"$f":"IFERROR(B540/_data!B540-1,\"\")","v":0},{"$f":"IFERROR(C540/_data!C540-1,\"\")","v":0},{"$f":"IFERROR(D540/_data!D540-1,\"\")","v":0},{"$f":"IFERROR(E540/_data!E540-1,\"\")","v":0},{"$f":"IFERROR(F540/_data!F540-1,\"\")","v":0},{"$f":"IFERROR(G540/_data!G540-1,\"\")","v":0},{"$f":"IFERROR(H540/_data!H540-1,\"\")","v":0},{"$f":"IFERROR(I540/_data!I540-1,\"\")","v":0},{"$f":"IFERROR(J540/_data!J540-1,\"\")","v":0},{"$f":"IFERROR(K540/_data!K540-1,\"\")","v":0}]
["gasoline",0.24514374215494231,0.24530996715737838,0.24549543478161534,0.24580341981830936,0.23716367231537042,0.24114062777473977,0.24519920866894249,0.27312570995599672,0.26337523715053296,0.21922425650490721,null,"gasoline",{"$f":"IFERROR(B541/_data!B541-1,\"\")","v":0},{"$f":"IFERROR(C541/_data!C541-1,\"\")","v":0},{"$f":"IFERROR(D541/_data!D541-1,\"\")","v":0},{"$f":"IFERROR(E541/_data!E541-1,\"\")","v":0},{"$f":"IFERROR(F541/_data!F541-1,\"\")","v":0},{"$f":"IFERROR(G541/_data!G541-1,\"\")","v":0},{"$f":"IFERROR(H541/_data!H541-1,\"\")","v":0},{"$f":"IFERROR(I541/_data!I541-1,\"\")","v":0},{"$f":"IFERROR(J541/_data!J541-1,\"\")","v":0},{"$f":"IFERROR(K541/_data!K541-1,\"\")","v":0}]
["Lignite / Coal",0,0,0,0,0,0,0,0,0,0,null,"Lignite / Coal",{"$f":"IFERROR(B542/_data!B542-1,\"\")","v":""},{"$f":"IFERROR(C542/_data!C542-1,\"\")","v":""},{"$f":"IFERROR(D542/_data!D542-1,\"\")","v":""},{"$f":"IFERROR(E542/_data!E542-1,\"\")","v":""},{"$f":"IFERROR(F542/_data!F542-1,\"\")","v":""},{"$f":"IFERROR(G542/_data!G542-1,\"\")","v":""},{"$f":"IFERROR(H542/_data!H542-1,\"\")","v":""},{"$f":"IFERROR(I542/_data!I542-1,\"\")","v":""},{"$f":"IFERROR(J542/_data!J542-1,\"\")","v":""},{"$f":"IFERROR(K542/_data!K542-1,\"\")","v":""}]
["other fossil fuels",1.9080303716916432E-3,5.2779506497845682E-3,8.7403121689894267E-3,1.214793254028554E-2,1.7573388783849352E-2,1.7616168898635265E-2,1.766363967662524E-2,2.1200829916971024E-2,3.5401989040913587E-2,3.5446708141340717E-2,null,"other fossil fuels",{"$f":"IFERROR(B543/_data!B543-1,\"\")","v":0},{"$f":"IFERROR(C543/_data!C543-1,\"\")","v":0},{"$f":"IFERROR(D543/_data!D543-1,\"\")","v":0},{"$f":"IFERROR(E543/_data!E543-1,\"\")","v":0},{"$f":"IFERROR(F543/_data!F543-1,\"\")","v":0},{"$f":"IFERROR(G543/_data!G543-1,\"\")","v":0},{"$f":"IFERROR(H543/_data!H543-1,\"\")","v":0},{"$f":"IFERROR(I543/_data!I543-1,\"\")","v":0},{"$f":"IFERROR(J543/_data!J543-1,\"\")","v":0},{"$f":"IFERROR(K543/_data!K543-1,\"\")","v":0}]
["Plant oil, biofuel",0,0,0,0,0,0,0,0,0,0,null,"Plant oil, biofuel",{"$f":"IFERROR(B544/_data!B544-1,\"\")","v":""},{"$f":"IFERROR(C544/_data!C544-1,\"\")","v":""},{"$f":"IFERROR(D544/_data!D544-1,\"\")","v":""},{"$f":"IFERROR(E544/_data!E544-1,\"\")","v":""},{"$f":"IFERROR(F544/_data!F544-1,\"\")","v":""},{"$f":"IFERROR(G544/_data!G544-1,\"\")","v":""},{"$f":"IFERROR(H544/_data!H544-1,\"\")","v":""},{"$f":"IFERROR(I544/_data!I544-1,\"\")","v":""},{"$f":"IFERROR(J544/_data!J544-1,\"\")","v":""},{"$f":"IFERROR(K544/_data!K544-1,\"\")","v":""}]
["Summe",0.53226415248710079,0.57797384217061143,0.62707906342249586,0.67605551156158716,0.69823389909162858,0.73215270387485865,0.80842140362098414,0.94813528372270806,0.97133721139948404,0.83958060140489865,null,"Summe",{"$f":"IFERROR(B545/_data!B545-1,\"\")","v":0},{"$f":"IFERROR(C545/_data!C545-1,\"\")","v":0},{"$f":"IFERROR(D545/_data!D545-1,\"\")","v":0},{"$f":"IFERROR(E545/_data!E545-1,\"\")","v":0},{"$f":"IFERROR(F545/_data!F545-1,\"\")","v":0},{"$f":"IFERROR(G545/_data!G545-1,\"\")","v":0},{"$f":"IFERROR(H545/_data!H545-1,\"\")","v":0},{"$f":"IFERROR(I545/_data!I545-1,\"\")","v":0},{"$f":"IFERROR(J545/_data!J545-1,\"\")","v":0},{"$f":"IFERROR(K545/_data!K545-1,\"\")","v":0}]
[]
["Energy consumption (MWh /Einwohner and  Year) - Rail",null,null,null,null,null,null,null,null,null,null,null,"Test:",{"$f":"A547","v":"Energy consumption (MWh /Einwohner and  Year) - Rail"}]
["Energieträger",2000,2001,2002,2003,2004,2005,2006,2007,2008,2009,null,"Energieträger",2000,2001,2002,2003,2004,2005,2006,2007,2008,2009]
["Electricity",3.0223201087595628E-3,9.179044608320987E-4,8.4336345490248858E-4,9.995134368589371E-4,0,0,0,0,0,0,null,"Electricity",{"$f":"IFERROR(B549/_data!B549-1,\"\")","v":0},{"$f":"IFERROR(C549/_data!C549-1,\"\")","v":0},{"$f":"IFERROR(D549/_data!D549-1,\"\")","v":0},{"$f":"IFERROR(E549/_data!E549-1,\"\")","v":0},{"$f":"IFERROR(F549/_data!F549-1,\"\")","v":""},{"$f":"IFERROR(G549/_data!G549-1,\"\")","v":""},{"$f":"IFERROR(H549/_data!H549-1,\"\")","v":""},{"$f":"IFERROR(I549/_data!I549-1,\"\")","v":""},{"$f":"IFERROR(J549/_data!J549-1,\"\")","v":""},{"$f":"IFERROR(K549/_data!K549-1,\"\")","v":""}]
["Heat and Cold",0,0,0,0,0,0,0,0,0,0,null,"Heat and Cold",{"$f":"IFERROR(B550/_data!B550-1,\"\")","v":""},{"$f":"IFERROR(C550/_data!C550-1,\"\")","v":""},{"$f":"IFERROR(D550/_data!D550-1,\"\")","v":""},{"$f":"IFERROR(E550/_data!E550-1,\"\")","v":""},{"$f":"IFERROR(F550/_data!F550-1,\"\")","v":""},{"$f":"IFERROR(G550/_data!G550-1,\"\")","v":""},{"$f":"IFERROR(H550/_data!H550-1,\"\")","v":""},{"$f":"IFERROR(I550/_data!I550-1,\"\")","v":""},{"$f":"IFERROR(J550/_data!J550-1,\"\")","v":""},{"$f":"IFERROR(K550/_data!K550-1,\"\")","v":""}]
["natural gas",0,0,0,0,0,0,0,0,0,0,null,"natural gas",{"$f":"IFERROR(B551/_data!B551-1,\"\")","v":""},{"$f":"IFERROR(C551/_data!C551-1,\"\")","v":""},{"$f":"IFERROR(D551/_data!D551-1,\"\")","v":""},{"$f":"IFERROR(E551/_data!E551-1,\"\")","v":""},{"$f":"IFERROR(F551/_data!F551-1,\"\")","v":""},{"$f":"IFERROR(G551/_data!G551-1,\"\")","v":""},{"$f":"IFERROR(H551/_data!H551-1,\"\")","v":""},{"$f":"IFERROR(I551/_data!I551-1,\"\")","v":""},{"$f":"IFERROR(J551/_data!J551-1,\"\")","v":""},{"$f":"IFERROR(K551/_data!K551-1,\"\")","v":""}]
["Liquid gas",0,0,0,0,0,0,0,0,0,0,null,"Liquid gas",{"$f":"IFERROR(B552/_data!B552-1,\"\")","v":""},{"$f":"IFERROR(C552/_data!C552-1,\"\")","v":""},{"$f":"IFERROR(D552/_data!D552-1,\"\")","v":""},{"$f":"IFERROR(E552/_data!E552-1,\"\")","v":""},{"$f":"IFERROR(F552/_data!F552-1,\"\")","v":""},{"$f":"IFERROR(G552/_data!G552-1,\"\")","v":""},{"$f":"IFERROR(H552/_data!H552-1,\"\")","v":""},{"$f":"IFERROR(I552/_data!I552-1,\"\")","v":""},{"$f":"IFERROR(J552/_data!J552-1,\"\")","v":""},{"$f":"IFERROR(K552/_data!K552-1,\"\")","v":""}]
["heating oil / diesel",7.1207693471532135E-2,7.1596547944903707E-2,7.1915901881684938E-2,7.2349395698789204E-2,5.2411861285164736E-2,7.2241745264140234E-2,9.2191803575368589E-2,9.2413873997053197E-2,8.5976259099361574E-2,4.6353387569445556E-2,null,"heating oil / diesel",{"$f":"IFERROR(B553/_data!B553-1,\"\")","v":0},{"$f":"IFERROR(C553/_data!C553-1,\"\")","v":0},{"$f":"IFERROR(D553/_data!D553-1,\"\")","v":0},{"$f":"IFERROR(E553/_data!E553-1,\"\")","v":0},{"$f":"IFERROR(F553/_data!F553-1,\"\")","v":0},{"$f":"IFERROR(G553/_data!G553-1,\"\")","v":0},{"$f":"IFERROR(H553/_data!H553-1,\"\")","v":0},{"$f":"IFERROR(I553/_data!I553-1,\"\")","v":0},{"$f":"IFERROR(J553/_data!J553-1,\"\")","v":0},{"$f":"IFERROR(K553/_data!K553-1,\"\")","v":0}]
["gasoline",0,0,0,0,0,0,0,0,0,0,null,"gasoline",{"$f":"IFERROR(B554/_data!B554-1,\"\")","v":""},{"$f":"IFERROR(C554/_data!C554-1,\"\")","v":""},{"$f":"IFERROR(D554/_data!D554-1,\"\")","v":""},{"$f":"IFERROR(E554/_data!E554-1,\"\")","v":""},{"$f":"IFERROR(F554/_data!F554-1,\"\")","v":""},{"$f":"IFERROR(G554/_data!G554-1,\"\")","v":""},{"$f":"IFERROR(H554/_data!H554-1,\"\")","v":""},{"$f":"IFERROR(I554/_data!I554-1,\"\")","v":""},{"$f":"IFERROR(J554/_data!J554-1,\"\")","v":""},{"$f":"IFERROR(K554/_data!K554-1,\"\")","v":""}]
["Lignite / Coal",0,0,0,0,0,0,0,0,0,0,null,"Lignite / Coal",{"$f":"IFERROR(B555/_data!B555-1,\"\")","v":""},{"$f":"IFERROR(C555/_data!C555-1,\"\")","v":""},{"$f":"IFERROR(D555/_data!D555-1,\"\")","v":""},{"$f":"IFERROR(E555/_data!E555-1,\"\")","v":""},{"$f":"IFERROR(F555/_data!F555-1,\"\")","v":""},{"$f":"IFERROR(G555/_data!G555-1,\"\")","v":""},{"$f":"IFERROR(H555/_data!H555-1,\"\")","v":""},{"$f":"IFERROR(I555/_data!I555-1,\"\")","v":""},{"$f":"IFERROR(J555/_data!J555-1,\"\")","v":""},{"$f":"IFERROR(K555/_data!K555-1,\"\")","v":""}]
["other fossil fuels",0,0,0,0,0,0,0,0,0,0,null,"other fossil fuels",{"$f":"IFERROR(B556/_data!B556-1,\"\")","v":""},{"$f":"IFERROR(C556/_data!C556-1,\"\")","v":""},{"$f":"IFERROR(D556/_data!D556-1,\"\")","v":""},{"$f":"IFERROR(E556/_data!E556-1,\"\")","v":""},{"$f":"IFERROR(F556/_data!F556-1,\"\")","v":""},{"$f":"IFERROR(G556/_data!G556-1,\"\")","v":""},{"$f":"IFERROR(H556/_data!H556-1,\"\")","v":""},{"$f":"IFERROR(I556/_data!I556-1,\"\")","v":""},{"$f":"IFERROR(J556/_data!J556-1,\"\")","v":""},{"$f":"IFERROR(K556/_data!K556-1,\"\")","v":""}]
["Plant oil, biofuel",0,0,0,0,0,0,0,0,0,0,null,"Plant oil, biofuel",{"$f":"IFERROR(B557/_data!B557-1,\"\")","v":""},{"$f":"IFERROR(C557/_data!C557-1,\"\")","v":""},{"$f":"IFERROR(D557/_data!D557-1,\"\")","v":""},{"$f":"IFERROR(E557/_data!E557-1,\"\")","v":""},{"$f":"IFERROR(F557/_data!F557-1,\"\")","v":""},{"$f":"IFERROR(G557/_data!G557-1,\"\")","v":""},{"$f":"IFERROR(H557/_data!H557-1,\"\")","v":""},{"$f":"IFERROR(I557/_data!I557-1,\"\")","v":""},{"$f":"IFERROR(J557/_data!J557-1,\"\")","v":""},{"$f":"IFERROR(K557/_data!K557-1,\"\")","v":""}]
["Summe",7.4230013580291701E-2,7.2514452405735799E-2,7.2759265336587428E-2,7.3348909135648135E-2,5.2411861285164736E-2,7.2241745264140234E-2,9.2191803575368589E-2,9.2413873997053197E-2,8.5976259099361574E-2,4.6353387569445556E-2,null,"Summe",{"$f":"IFERROR(B558/_data!B558-1,\"\")","v":0},{"$f":"IFERROR(C558/_data!C558-1,\"\")","v":0},{"$f":"IFERROR(D558/_data!D558-1,\"\")","v":0},{"$f":"IFERROR(E558/_data!E558-1,\"\")","v":0},{"$f":"IFERROR(F558/_data!F558-1,\"\")","v":0},{"$f":"IFERROR(G558/_data!G558-1,\"\")","v":0},{"$f":"IFERROR(H558/_data!H558-1,\"\")","v":0},{"$f":"IFERROR(I558/_data!I558-1,\"\")","v":0},{"$f":"IFERROR(J558/_data!J558-1,\"\")","v":0},{"$f":"IFERROR(K558/_data!K558-1,\"\")","v":0}]
[]
["Quelle:","P:\\KB-Projekte\\COMO EAST\\WP 2 Training\\Tool\\Tool-Daten\\Energiedaten\\Endberechnung"]
["Tajikistan",null,null,null,null,null,null,null,null,null,null,null,"Tajikistan",null,null,null,null,null,null,null,null,null,null,null,"Tajikistan",null,null,null,null,null,null,null,null,null,null,null,"Tajikistan"]
["Energy consumption (MWh /Einwohner and  Year) - Residential building (Households)",null,null,null,null,null,null,null,null,null,null,null,"Test:",{"$f":"A562","v":"Energy consumption (MWh /Einwohner and  Year) - Residential building (Households)"},null,null,null,null,null,null,null,null,null,null,"CO2 emission Factor (t /Mwh)"]
["Energieträger",2000,2001,2002,2003,2004,2005,2006,2007,2008,2009,null,"Energieträger",2000,2001,2002,2003,2004,2005,2006,2007,2008,2009,null,"Energieträger",2000,2001,2002,2003,2004,2005,2006,2007,2008,2009,null,null,"Year:",{"$f":"'DATA-OUTPUT Co2 absolute'!$B$8","v":0},null,"CO2","Test"]
["Electricity",0.87934963065515515,0.46146345187176868,0.52578753188332639,0.47549105114181328,0.48409181628398285,1.0201163377707254,0.49044896617955891,0.4858694591912891,0.46402734488484948,0.43517244982883846,null,"Electricity",{"$f":"IFERROR(B564/_data!B564-1,\"\")","v":0},{"$f":"IFERROR(C564/_data!C564-1,\"\")","v":0},{"$f":"IFERROR(D564/_data!D564-1,\"\")","v":0},{"$f":"IFERROR(E564/_data!E564-1,\"\")","v":0},{"$f":"IFERROR(F564/_data!F564-1,\"\")","v":0},{"$f":"IFERROR(G564/_data!G564-1,\"\")","v":0},{"$f":"IFERROR(H564/_data!H564-1,\"\")","v":0},{"$f":"IFERROR(I564/_data!I564-1,\"\")","v":0},{"$f":"IFERROR(J564/_data!J564-1,\"\")","v":0},{"$f":"IFERROR(K564/_data!K564-1,\"\")","v":0},null,"Electricity",{"$f":"_data!Z564","v":1.4E-2},{"$f":"_data!AA564","v":1.0999999999999999E-2},{"$f":"_data!AB564","v":8.0000000000000002E-3},{"$f":"_data!AC564","v":0.01},{"$f":"_data!AD564","v":8.9999999999999993E-3},{"$f":"_data!AE564","v":7.0000000000000001E-3},{"$f":"_data!AF564","v":1.2999999999999999E-2},{"$f":"_data!AG564","v":2.1000000000000001E-2},{"$f":"_data!AH564","v":1.7000000000000001E-2},{"$f":"_data!AI564","v":1.7000000000000001E-2},null,null,null,{"$f":"'DATA-OUTPUT EC per capita'!$B$37","v":0},{"$f":"IF(AM563=Z563,Z564,IF(AM563=AA563,AA564,IF(AM563=AB563,AB564,IF(AM563=AC563,AC564,IF(AM563=AD563,AD564,IF(AM563=AE563,AE564,IF(AM563=AF563,AF564,IF(AM563=AG563,AG564,IF(AM563=AH563,AH564,IF(AM563=AI563,AI564,\"Fehler\"))))))))))","v":"Fehler"},{"$f":"AN564*AM564","v":{"$error":"#VALUE!"}},{"$f":"AO564/'DATA-OUTPUT Co2 per capita'!$B$37-1","v":{"$error":"#VALUE!"}}]
["Heat and Cold",0,0,0,0,0,0,0,0,0,0,null,"Heat and Cold",{"$f":"IFERROR(B565/_data!B565-1,\"\")","v":""},{"$f":"IFERROR(C565/_data!C565-1,\"\")","v":""},{"$f":"IFERROR(D565/_data!D565-1,\"\")","v":""},{"$f":"IFERROR(E565/_data!E565-1,\"\")","v":""},{"$f":"IFERROR(F565/_data!F565-1,\"\")","v":""},{"$f":"IFERROR(G565/_data!G565-1,\"\")","v":""},{"$f":"IFERROR(H565/_data!H565-1,\"\")","v":""},{"$f":"IFERROR(I565/_data!I565-1,\"\")","v":""},{"$f":"IFERROR(J565/_data!J565-1,\"\")","v":""},{"$f":"IFERROR(K565/_data!K565-1,\"\")","v":""},null,"Heat and Cold",{"$f":"_data!Z565","v":"n.a."},{"$f":"_data!AA565","v":"n.a."},{"$f":"_data!AB565","v":"n.a."},{"$f":"_data!AC565","v":"n.a."},{"$f":"_data!AD565","v":"n.a."},{"$f":"_data!AE565","v":"n.a."},{"$f":"_data!AF565","v":"n.a."},{"$f":"_data!AG565","v":"n.a."},{"$f":"_data!AH565","v":"n.a."},{"$f":"_data!AI565","v":"n.a."},null,null,null,{"$f":"'DATA-OUTPUT EC per capita'!$C$37","v":0},{"$f":"IF(AM563=Z563,Z565,IF(AM563=AA563,AA565,IF(AM563=AB563,AB565,IF(AM563=AC563,AC565,IF(AM563=AD563,AD565,IF(AM563=AE563,AE565,IF(AM563=AF563,AF565,IF(AM563=AG563, AG565,IF(AM563=AH563,AH565,IF(AM563=AI563,AI565,\"Fehler\"))))))))))","v":"Fehler"},{"$f":"AM565*AN565","v":{"$error":"#VALUE!"}},{"$f":"AO565/'DATA-OUTPUT Co2 per capita'!$C$37-1","v":{"$error":"#VALUE!"}}]
["natural gas",0,0,0,0,0,0,0,0,0,0,null,"natural gas",{"$f":"IFERROR(B566/_data!B566-1,\"\")","v":""},{"$f":"IFERROR(C566/_data!C566-1,\"\")","v":""},{"$f":"IFERROR(D566/_data!D566-1,\"\")","v":""},{"$f":"IFERROR(E566/_data!E566-1,\"\")","v":""},{"$f":"IFERROR(F566/_data!F566-1,\"\")","v":""},{"$f":"IFERROR(G566/_data!G566-1,\"\")","v":""},{"$f":"IFERROR(H566/_data!H566-1,\"\")","v":""},{"$f":"IFERROR(I566/_data!I566-1,\"\")","v":""},{"$f":"IFERROR(J566/_data!J566-1,\"\")","v":""},{"$f":"IFERROR(K566/_data!K566-1,\"\")","v":""},null,"natural gas",{"$f":"_data!Z566","v":0.20200000000000001},{"$f":"_data!AA566","v":0.20200000000000001},{"$f":"_data!AB566","v":0.20200000000000001},{"$f":"_data!AC566","v":0.20200000000000001},{"$f":"_data!AD566","v":0.20200000000000001},{"$f":"_data!AE566","v":0.20200000000000001},{"$f":"_data!AF566","v":0.20200000000000001},{"$f":"_data!AG566","v":0.20200000000000001},{"$f":"_data!AH566","v":0.20200000000000001},{"$f":"_data!AI566","v":0.20200000000000001},null,null,null,{"$f":"'DATA-OUTPUT EC per capita'!$D$37","v":0},{"$f":"IF(AM563=Z563,Z566,IF(AM563=AA563,AA566,IF(AM563=AB563,AB566,IF(AM563=AC563,AC566,IF(AM563=AD563,AD566,IF(AM563=AE563,AE566,IF(AM563=AF563,AF566,IF(AM563=AG563, AG566,IF(AM563=AH563,AH566,IF(AM563=AI563,AI566,\"Fehler\"))))))))))","v":"Fehler"},{"$f":"AM566*AN566","v":{"$error":"#VALUE!"}},{"$f":"AO566/'DATA-OUTPUT Co2 per capita'!$D$37-1","v":{"$error":"#VALUE!"}}]
["Liquid gas",0,0,0,0,0,0,0,0,0,0,null,"Liquid gas",{"$f":"IFERROR(B567/_data!B567-1,\"\")","v":""},{"$f":"IFERROR(C567/_data!C567-1,\"\")","v":""},{"$f":"IFERROR(D567/_data!D567-1,\"\")","v":""},{"$f":"IFERROR(E567/_data!E567-1,\"\")","v":""},{"$f":"IFERROR(F567/_data!F567-1,\"\")","v":""},{"$f":"IFERROR(G567/_data!G567-1,\"\")","v":""},{"$f":"IFERROR(H567/_data!H567-1,\"\")","v":""},{"$f":"IFERROR(I567/_data!I567-1,\"\")","v":""},{"$f":"IFERROR(J567/_data!J567-1,\"\")","v":""},{"$f":"IFERROR(K567/_data!K567-1,\"\")","v":""},null,"Liquid gas",{"$f":"_data!Z567","v":0.23100000000000001},{"$f":"_data!AA567","v":0.23100000000000001},{"$f":"_data!AB567","v":0.23100000000000001},{"$f":"_data!AC567","v":0.23100000000000001},{"$f":"_data!AD567","v":0.23100000000000001},{"$f":"_data!AE567","v":0.23100000000000001},{"$f":"_data!AF567","v":0.23100000000000001},{"$f":"_data!AG567","v":0.23100000000000001},{"$f":"_data!AH567","v":0.23100000000000001},{"$f":"_data!AI567","v":0.23100000000000001},null,null,null,{"$f":"'DATA-OUTPUT EC per capita'!$E$37","v":0},{"$f":"IF(AM563=Z563,Z567,IF(AM563=AA563,AA567,IF(AM563=AB563,AB567,IF(AM563=AC563,AC567,IF(AM563=AD563,AD567,IF(AM563=AE563,AE567,IF(AM563=AF563,AF567,IF(AM563=AG563, AG567,IF(AM563=AH563,AH567,IF(AM563=AI563,AI567,\"Fehler\"))))))))))","v":"Fehler"},{"$error":"#VALUE!"},{"$f":"AO567/'DATA-OUTPUT Co2 per capita'!$E$37-1","v":{"$error":"#VALUE!"}}]
["heating oil / diesel",0,0,0,0,0,0,0,0,0,0,null,"heating oil / diesel",{"$f":"IFERROR(B568/_data!B568-1,\"\")","v":""},{"$f":"IFERROR(C568/_data!C568-1,\"\")","v":""},{"$f":"IFERROR(D568/_data!D568-1,\"\")","v":""},{"$f":"IFERROR(E568/_data!E568-1,\"\")","v":""},{"$f":"IFERROR(F568/_data!F568-1,\"\")","v":""},{"$f":"IFERROR(G568/_data!G568-1,\"\")","v":""},{"$f":"IFERROR(H568/_data!H568-1,\"\")","v":""},{"$f":"IFERROR(I568/_data!I568-1,\"\")","v":""},{"$f":"IFERROR(J568/_data!J568-1,\"\")","v":""},{"$f":"IFERROR(K568/_data!K568-1,\"\")","v":""},null,"heating oil / diesel",{"$f":"_data!Z568","v":0.26700000000000002},{"$f":"_data!AA568","v":0.26700000000000002},{"$f":"_data!AB568","v":0.26700000000000002},{"$f":"_data!AC568","v":0.26700000000000002},{"$f":"_data!AD568","v":0.26700000000000002},{"$f":"_data!AE568","v":0.26700000000000002},{"$f":"_data!AF568","v":0.26700000000000002},{"$f":"_data!AG568","v":0.26700000000000002},{"$f":"_data!AH568","v":0.26700000000000002},{"$f":"_data!AI568","v":0.26700000000000002},null,null,null,{"$f":"'DATA-OUTPUT EC per capita'!$F$37","v":0},{"$f":"IF(AM563=Z563,Z568,IF(AM563=AA563,AA568,IF(AM563=AB563,AB568,IF(AM563=AC563,AC568,IF(AM563=AD563,AD568,IF(AM563=AE563,AE568,IF(AM563=AF563,AF568,IF(AM563=AG563, AG568,IF(AM563=AH563,AH568,IF(AM563=AI563,AI568,\"Fehler\"))))))))))","v":"Fehler"},{"$error":"#VALUE!"},{"$f":"AO568/'DATA-OUTPUT Co2 per capita'!$F$37-1","v":{"$error":"#VALUE!"}}]
["gasoline",0,0,0,0,0,0,0,0,0,0,null,"gasoline",{"$f":"IFERROR(B569/_data!B569-1,\"\")","v":""},{"$f":"IFERROR(C569/_data!C569-1,\"\")","v":""},{"$f":"IFERROR(D569/_data!D569-1,\"\")","v":""},{"$f":"IFERROR(E569/_data!E569-1,\"\")","v":""},{"$f":"IFERROR(F569/_data!F569-1,\"\")","v":""},{"$f":"IFERROR(G569/_data!G569-1,\"\")","v":""},{"$f":"IFERROR(H569/_data!H569-1,\"\")","v":""},{"$f":"IFERROR(I569/_data!I569-1,\"\")","v":""},{"$f":"IFERROR(J569/_data!J569-1,\"\")","v":""},{"$f":"IFERROR(K569/_data!K569-1,\"\")","v":""},null,"gasoline",{"$f":"_data!Z569","v":0.249},{"$f":"_data!AA569","v":0.249},{"$f":"_data!AB569","v":0.249},{"$f":"_data!AC569","v":0.249},{"$f":"_data!AD569","v":0.249},{"$f":"_data!AE569","v":0.249},{"$f":"_data!AF569","v":0.249},{"$f":"_data!AG569","v":0.249},{"$f":"_data!AH569","v":0.249},{"$f":"_data!AI569","v":0.249},null,null,null,{"$f":"'DATA-OUTPUT EC per capita'!$G$37","v":0},{"$f":"IF(AM563=Z563,Z569,IF(AM563=AA563,AA569,IF(AM563=AB563,AB569,IF(AM563=AC563,AC569,IF(AM563=AD563,AD569,IF(AM563=AE563,AE569,IF(AM563=AF563,AF569,IF(AM563=AG563, AG569,IF(AM563=AH563,AH569,IF(AM563=AI563,AI569,\"Fehler\"))))))))))","v":"Fehler"},{"$error":"#VALUE!"},{"$f":"AO569/'DATA-OUTPUT Co2 per capita'!$G$37-1","v":{"$error":"#VALUE!"}}]
["Lignite / Coal",0,0,0,0,0,0,0,0,0,0,null,"Lignite / Coal",{"$f":"IFERROR(B570/_data!B570-1,\"\")","v":""},{"$f":"IFERROR(C570/_data!C570-1,\"\")","v":""},{"$f":"IFERROR(D570/_data!D570-1,\"\")","v":""},{"$f":"IFERROR(E570/_data!E570-1,\"\")","v":""},{"$f":"IFERROR(F570/_data!F570-1,\"\")","v":""},{"$f":"IFERROR(G570/_data!G570-1,\"\")","v":""},{"$f":"IFERROR(H570/_data!H570-1,\"\")","v":""},{"$f":"IFERROR(I570/_data!I570-1,\"\")","v":""},{"$f":"IFERROR(J570/_data!J570-1,\"\")","v":""},{"$f":"IFERROR(K570/_data!K570-1,\"\")","v":""},null,"Lignite / Coal",{"$f":"_data!Z570","v":0.36399999999999999},{"$f":"_data!AA570","v":0.36399999999999999},{"$f":"_data!AB570","v":0.36399999999999999},{"$f":"_data!AC570","v":0.36399999999999999},{"$f":"_data!AD570","v":0.36399999999999999},{"$f":"_data!AE570","v":0.36399999999999999},{"$f":"_data!AF570","v":0.36399999999999999},{"$f":"_data!AG570","v":0.36399999999999999},{"$f":"_data!AH570","v":0.36399999999999999},{"$f":"_data!AI570","v":0.36399999999999999},null,null,null,{"$f":"'DATA-OUTPUT EC per capita'!$H$37","v":0},{"$f":"IF(AM563=Z563,Z570,IF(AM563=AA563,AA570,IF(AM563=AB563,AB570,IF(AM563=AC563,AC570,IF(AM563=AD563,AD570,IF(AM563=AE563,AE570,IF(AM563=AF563,AF570,IF(AM563=AG563, AG570,IF(AM563=AH563,AH570,IF(AM563=AI563,AI570,\"Fehler\"))))))))))","v":"Fehler"},{"$error":"#VALUE!"},{"$f":"AO570/'DATA-OUTPUT Co2 per capita'!$H$37-1","v":{"$error":"#VALUE!"}}]
["other fossil fuels",0,0,0,0,0,0,0,0,0,0,null,"other fossil fuels",{"$f":"IFERROR(B571/_data!B571-1,\"\")","v":""},{"$f":"IFERROR(C571/_data!C571-1,\"\")","v":""},{"$f":"IFERROR(D571/_data!D571-1,\"\")","v":""},{"$f":"IFERROR(E571/_data!E571-1,\"\")","v":""},{"$f":"IFERROR(F571/_data!F571-1,\"\")","v":""},{"$f":"IFERROR(G571/_data!G571-1,\"\")","v":""},{"$f":"IFERROR(H571/_data!H571-1,\"\")","v":""},{"$f":"IFERROR(I571/_data!I571-1,\"\")","v":""},{"$f":"IFERROR(J571/_data!J571-1,\"\")","v":""},{"$f":"IFERROR(K571/_data!K571-1,\"\")","v":""},null,"other fossil fuels",{"$f":"_data!Z571","v":0.38200000000000001},{"$f":"_data!AA571","v":0.38200000000000001},{"$f":"_data!AB571","v":0.38200000000000001},{"$f":"_data!AC571","v":0.38200000000000001},{"$f":"_data!AD571","v":0.38200000000000001},{"$f":"_data!AE571","v":0.38200000000000001},{"$f":"_data!AF571","v":0.38200000000000001},{"$f":"_data!AG571","v":0.38200000000000001},{"$f":"_data!AH571","v":0.38200000000000001},{"$f":"_data!AI571","v":0.38200000000000001},null,null,null,{"$f":"'DATA-OUTPUT EC per capita'!$I$37","v":0},{"$f":"IF(AM563=Z563,Z571,IF(AM563=AA563,AA571,IF(AM563=AB563,AB571,IF(AM563=AC563,AC571,IF(AM563=AD563,AD571,IF(AM563=AE563,AE571,IF(AM563=AF563,AF571,IF(AM563=AG563, AG571,IF(AM563=AH563,AH571,IF(AM563=AI563,AI571,\"Fehler\"))))))))))","v":"Fehler"},{"$error":"#VALUE!"},{"$f":"AO571/'DATA-OUTPUT Co2 per capita'!$I$37-1","v":{"$error":"#VALUE!"}}]
["Plant oil, biofuel",0,0,0,0,0,0,0,0,0,0,null,"Plant oil, biofuel",{"$f":"IFERROR(B572/_data!B572-1,\"\")","v":""},{"$f":"IFERROR(C572/_data!C572-1,\"\")","v":""},{"$f":"IFERROR(D572/_data!D572-1,\"\")","v":""},{"$f":"IFERROR(E572/_data!E572-1,\"\")","v":""},{"$f":"IFERROR(F572/_data!F572-1,\"\")","v":""},{"$f":"IFERROR(G572/_data!G572-1,\"\")","v":""},{"$f":"IFERROR(H572/_data!H572-1,\"\")","v":""},{"$f":"IFERROR(I572/_data!I572-1,\"\")","v":""},{"$f":"IFERROR(J572/_data!J572-1,\"\")","v":""},{"$f":"IFERROR(K572/_data!K572-1,\"\")","v":""},null,"Plant oil, biofuel",{"$f":"_data!Z572","v":0},{"$f":"_data!AA572","v":0},{"$f":"_data!AB572","v":0},{"$f":"_data!AC572","v":0},{"$f":"_data!AD572","v":0},{"$f":"_data!AE572","v":0},{"$f":"_data!AF572","v":0},{"$f":"_data!AG572","v":0},{"$f":"_data!AH572","v":0},{"$f":"_data!AI572","v":0},null,null,null,{"$f":"'DATA-OUTPUT EC per capita'!$J$37","v":0},{"$f":"IF(AM563=Z563,Z572,IF(AM563=AA563,AA572,IF(AM563=AB563,AB572,IF(AM563=AC563,AC572,IF(AM563=AD563,AD572,IF(AM563=AE563,AE572,IF(AM563=AF563,AF572,IF(AM563=AG563, AG572,IF(AM563=AH563,AH572,IF(AM563=AI563,AI572,\"Fehler\"))))))))))","v":"Fehler"},{"$error":"#VALUE!"},{"$f":"AO572/'DATA-OUTPUT Co2 per capita'!$J$37-1","v":{"$error":"#VALUE!"}}]
["Summe",0.87934963065515515,0.46146345187176868,0.52578753188332639,0.47549105114181328,0.48409181628398285,1.0201163377707254,0.49044896617955891,0.4858694591912891,0.46402734488484948,0.43517244982883846,null,"Summe",{"$f":"IFERROR(B573/_data!B573-1,\"\")","v":0},{"$f":"IFERROR(C573/_data!C573-1,\"\")","v":0},{"$f":"IFERROR(D573/_data!D573-1,\"\")","v":0},{"$f":"IFERROR(E573/_data!E573-1,\"\")","v":0},{"$f":"IFERROR(F573/_data!F573-1,\"\")","v":0},{"$f":"IFERROR(G573/_data!G573-1,\"\")","v":0},{"$f":"IFERROR(H573/_data!H573-1,\"\")","v":0},{"$f":"IFERROR(I573/_data!I573-1,\"\")","v":0},{"$f":"IFERROR(J573/_data!J573-1,\"\")","v":0},{"$f":"IFERROR(K573/_data!K573-1,\"\")","v":0},null,null,null,null,null,null,null,null,null,null,null,null,null,null,"Total",null,null,{"$f":"SUM(AO564:AO572)","v":{"$error":"#VALUE!"}},{"$f":"AO573/'DATA-OUTPUT Co2 per capita'!$K$37-1","v":{"$error":"#VALUE!"}}]
[]
["Energy consumption (MWh /Einwohner and  Year) - Primary sector (Agriculture)",null,null,null,null,null,null,null,null,null,null,null,"Test:",{"$f":"A575","v":"Energy consumption (MWh /Einwohner and  Year) - Primary sector (Agriculture)"}]
["Energieträger",2000,2001,2002,2003,2004,2005,2006,2007,2008,2009,null,"Energieträger",2000,2001,2002,2003,2004,2005,2006,2007,2008,2009]
["Electricity",0.7311188500718645,0.72201158202845783,0.66737630748882126,0.67178946794028649,0.6840654602705698,0.69134092159735094,0.68662855265138245,0.68030977340885579,0.64962998032769803,0.60929056939901072,null,"Electricity",{"$f":"IFERROR(B577/_data!B577-1,\"\")","v":0},{"$f":"IFERROR(C577/_data!C577-1,\"\")","v":0},{"$f":"IFERROR(D577/_data!D577-1,\"\")","v":0},{"$f":"IFERROR(E577/_data!E577-1,\"\")","v":0},{"$f":"IFERROR(F577/_data!F577-1,\"\")","v":0},{"$f":"IFERROR(G577/_data!G577-1,\"\")","v":0},{"$f":"IFERROR(H577/_data!H577-1,\"\")","v":0},{"$f":"IFERROR(I577/_data!I577-1,\"\")","v":0},{"$f":"IFERROR(J577/_data!J577-1,\"\")","v":0},{"$f":"IFERROR(K577/_data!K577-1,\"\")","v":0}]
["Heat and Cold",0,0,0,0,0,0,0,0,0,0,null,"Heat and Cold",{"$f":"IFERROR(B578/_data!B578-1,\"\")","v":""},{"$f":"IFERROR(C578/_data!C578-1,\"\")","v":""},{"$f":"IFERROR(D578/_data!D578-1,\"\")","v":""},{"$f":"IFERROR(E578/_data!E578-1,\"\")","v":""},{"$f":"IFERROR(F578/_data!F578-1,\"\")","v":""},{"$f":"IFERROR(G578/_data!G578-1,\"\")","v":""},{"$f":"IFERROR(H578/_data!H578-1,\"\")","v":""},{"$f":"IFERROR(I578/_data!I578-1,\"\")","v":""},{"$f":"IFERROR(J578/_data!J578-1,\"\")","v":""},{"$f":"IFERROR(K578/_data!K578-1,\"\")","v":""}]
["natural gas",0,0,0,0,0,0,0,0,0,0,null,"natural gas",{"$f":"IFERROR(B579/_data!B579-1,\"\")","v":""},{"$f":"IFERROR(C579/_data!C579-1,\"\")","v":""},{"$f":"IFERROR(D579/_data!D579-1,\"\")","v":""},{"$f":"IFERROR(E579/_data!E579-1,\"\")","v":""},{"$f":"IFERROR(F579/_data!F579-1,\"\")","v":""},{"$f":"IFERROR(G579/_data!G579-1,\"\")","v":""},{"$f":"IFERROR(H579/_data!H579-1,\"\")","v":""},{"$f":"IFERROR(I579/_data!I579-1,\"\")","v":""},{"$f":"IFERROR(J579/_data!J579-1,\"\")","v":""},{"$f":"IFERROR(K579/_data!K579-1,\"\")","v":""}]
["Liquid gas",0,0,0,0,0,0,0,0,0,0,null,"Liquid gas",{"$f":"IFERROR(B580/_data!B580-1,\"\")","v":""},{"$f":"IFERROR(C580/_data!C580-1,\"\")","v":""},{"$f":"IFERROR(D580/_data!D580-1,\"\")","v":""},{"$f":"IFERROR(E580/_data!E580-1,\"\")","v":""},{"$f":"IFERROR(F580/_data!F580-1,\"\")","v":""},{"$f":"IFERROR(G580/_data!G580-1,\"\")","v":""},{"$f":"IFERROR(H580/_data!H580-1,\"\")","v":""},{"$f":"IFERROR(I580/_data!I580-1,\"\")","v":""},{"$f":"IFERROR(J580/_data!J580-1,\"\")","v":""},{"$f":"IFERROR(K580/_data!K580-1,\"\")","v":""}]
["heating oil / diesel",0,0,0,0,0,0,0,0,0,0,null,"heating oil / diesel",{"$f":"IFERROR(B581/_data!B581-1,\"\")","v":""},{"$f":"IFERROR(C581/_data!C581-1,\"\")","v":""},{"$f":"IFERROR(D581/_data!D581-1,\"\")","v":""},{"$f":"IFERROR(E581/_data!E581-1,\"\")","v":""},{"$f":"IFERROR(F581/_data!F581-1,\"\")","v":""},{"$f":"IFERROR(G581/_data!G581-1,\"\")","v":""},{"$f":"IFERROR(H581/_data!H581-1,\"\")","v":""},{"$f":"IFERROR(I581/_data!I581-1,\"\")","v":""},{"$f":"IFERROR(J581/_data!J581-1,\"\")","v":""},{"$f":"IFERROR(K581/_data!K581-1,\"\")","v":""}]
["gasoline",0,0,0,0,0,0,0,0,0,0,null,"gasoline",{"$f":"IFERROR(B582/_data!B582-1,\"\")","v":""},{"$f":"IFERROR(C582/_data!C582-1,\"\")","v":""},{"$f":"IFERROR(D582/_data!D582-1,\"\")","v":""},{"$f":"IFERROR(E582/_data!E582-1,\"\")","v":""},{"$f":"IFERROR(F582/_data!F582-1,\"\")","v":""},{"$f":"IFERROR(G582/_data!G582-1,\"\")","v":""},{"$f":"IFERROR(H582/_data!H582-1,\"\")","v":""},{"$f":"IFERROR(I582/_data!I582-1,\"\")","v":""},{"$f":"IFERROR(J582/_data!J582-1,\"\")","v":""},{"$f":"IFERROR(K582/_data!K582-1,\"\")","v":""}]
["Lignite / Coal",0,0,0,0,0,0,0,0,0,0,null,"Lignite / Coal",{"$f":"IFERROR(B583/_data!B583-1,\"\")","v":""},{"$f":"IFERROR(C583/_data!C583-1,\"\")","v":""},{"$f":"IFERROR(D583/_data!D583-1,\"\")","v":""},{"$f":"IFERROR(E583/_data!E583-1,\"\")","v":""},{"$f":"IFERROR(F583/_data!F583-1,\"\")","v":""},{"$f":"IFERROR(G583/_data!G583-1,\"\")","v":""},{"$f":"IFERROR(H583/_data!H583-1,\"\")","v":""},{"$f":"IFERROR(I583/_data!I583-1,\"\")","v":""},{"$f":"IFERROR(J583/_data!J583-1,\"\")","v":""},{"$f":"IFERROR(K583/_data!K583-1,\"\")","v":""}]
["other fossil fuels",0,0,0,0,0,0,0,0,0,0,null,"other fossil fuels",{"$f":"IFERROR(B584/_data!B584-1,\"\")","v":""},{"$f":"IFERROR(C584/_data!C584-1,\"\")","v":""},{"$f":"IFERROR(D584/_data!D584-1,\"\")","v":""},{"$f":"IFERROR(E584/_data!E584-1,\"\")","v":""},{"$f":"IFERROR(F584/_data!F584-1,\"\")","v":""},{"$f":"IFERROR(G584/_data!G584-1,\"\")","v":""},{"$f":"IFERROR(H584/_data!H584-1,\"\")","v":""},{"$f":"IFERROR(I584/_data!I584-1,\"\")","v":""},{"$f":"IFERROR(J584/_data!J584-1,\"\")","v":""},{"$f":"IFERROR(K584/_data!K584-1,\"\")","v":""}]
["Plant oil, biofuel",0,0,0,0,0,0,0,0,0,0,null,"Plant oil, biofuel",{"$f":"IFERROR(B585/_data!B585-1,\"\")","v":""},{"$f":"IFERROR(C585/_data!C585-1,\"\")","v":""},{"$f":"IFERROR(D585/_data!D585-1,\"\")","v":""},{"$f":"IFERROR(E585/_data!E585-1,\"\")","v":""},{"$f":"IFERROR(F585/_data!F585-1,\"\")","v":""},{"$f":"IFERROR(G585/_data!G585-1,\"\")","v":""},{"$f":"IFERROR(H585/_data!H585-1,\"\")","v":""},{"$f":"IFERROR(I585/_data!I585-1,\"\")","v":""},{"$f":"IFERROR(J585/_data!J585-1,\"\")","v":""},{"$f":"IFERROR(K585/_data!K585-1,\"\")","v":""}]
["Summe",0.7311188500718645,0.72201158202845783,0.66737630748882126,0.67178946794028649,0.6840654602705698,0.69134092159735094,0.68662855265138245,0.68030977340885579,0.64962998032769803,0.60929056939901072,null,"Summe",{"$f":"IFERROR(B586/_data!B586-1,\"\")","v":0},{"$f":"IFERROR(C586/_data!C586-1,\"\")","v":0},{"$f":"IFERROR(D586/_data!D586-1,\"\")","v":0},{"$f":"IFERROR(E586/_data!E586-1,\"\")","v":0},{"$f":"IFERROR(F586/_data!F586-1,\"\")","v":0},{"$f":"IFERROR(G586/_data!G586-1,\"\")","v":0},{"$f":"IFERROR(H586/_data!H586-1,\"\")","v":0},{"$f":"IFERROR(I586/_data!I586-1,\"\")","v":0},{"$f":"IFERROR(J586/_data!J586-1,\"\")","v":0},{"$f":"IFERROR(K586/_data!K586-1,\"\")","v":0}]
[]
["Energy consumption (MWh /Einwohner and  Year) - Secondary sector (Industrie)",null,null,null,null,null,null,null,null,null,null,null,"Test:",{"$f":"A588","v":"Energy consumption (MWh /Einwohner and  Year) - Secondary sector (Industrie)"}]
["Energieträger",2000,2001,2002,2003,2004,2005,2006,2007,2008,2009,null,"Energieträger",2000,2001,2002,2003,2004,2005,2006,2007,2008,2009]
["Electricity",0.87934963065515515,0.90474290834430215,0.91396350095906509,0.98977712212879143,1.0076481117550602,1.0201163377707254,1.0210449267260728,1.0117373477187033,0.96599716545629344,0.90605303706717599,null,"Electricity",{"$f":"IFERROR(B590/_data!B590-1,\"\")","v":0},{"$f":"IFERROR(C590/_data!C590-1,\"\")","v":0},{"$f":"IFERROR(D590/_data!D590-1,\"\")","v":0},{"$f":"IFERROR(E590/_data!E590-1,\"\")","v":0},{"$f":"IFERROR(F590/_data!F590-1,\"\")","v":0},{"$f":"IFERROR(G590/_data!G590-1,\"\")","v":0},{"$f":"IFERROR(H590/_data!H590-1,\"\")","v":0},{"$f":"IFERROR(I590/_data!I590-1,\"\")","v":0},{"$f":"IFERROR(J590/_data!J590-1,\"\")","v":0},{"$f":"IFERROR(K590/_data!K590-1,\"\")","v":0}]
["Heat and Cold",0,0,0,0,0,0,0,0,0,0,null,"Heat and Cold",{"$f":"IFERROR(B591/_data!B591-1,\"\")","v":""},{"$f":"IFERROR(C591/_data!C591-1,\"\")","v":""},{"$f":"IFERROR(D591/_data!D591-1,\"\")","v":""},{"$f":"IFERROR(E591/_data!E591-1,\"\")","v":""},{"$f":"IFERROR(F591/_data!F591-1,\"\")","v":""},{"$f":"IFERROR(G591/_data!G591-1,\"\")","v":""},{"$f":"IFERROR(H591/_data!H591-1,\"\")","v":""},{"$f":"IFERROR(I591/_data!I591-1,\"\")","v":""},{"$f":"IFERROR(J591/_data!J591-1,\"\")","v":""},{"$f":"IFERROR(K591/_data!K591-1,\"\")","v":""}]
["natural gas",0,0,0,0,0,0,0,0,0,0,null,"natural gas",{"$f":"IFERROR(B592/_data!B592-1,\"\")","v":""},{"$f":"IFERROR(C592/_data!C592-1,\"\")","v":""},{"$f":"IFERROR(D592/_data!D592-1,\"\")","v":""},{"$f":"IFERROR(E592/_data!E592-1,\"\")","v":""},{"$f":"IFERROR(F592/_data!F592-1,\"\")","v":""},{"$f":"IFERROR(G592/_data!G592-1,\"\")","v":""},{"$f":"IFERROR(H592/_data!H592-1,\"\")","v":""},{"$f":"IFERROR(I592/_data!I592-1,\"\")","v":""},{"$f":"IFERROR(J592/_data!J592-1,\"\")","v":""},{"$f":"IFERROR(K592/_data!K592-1,\"\")","v":""}]
["Liquid gas",0,0,0,0,0,0,0,0,0,0,null,"Liquid gas",{"$f":"IFERROR(B593/_data!B593-1,\"\")","v":""},{"$f":"IFERROR(C593/_data!C593-1,\"\")","v":""},{"$f":"IFERROR(D593/_data!D593-1,\"\")","v":""},{"$f":"IFERROR(E593/_data!E593-1,\"\")","v":""},{"$f":"IFERROR(F593/_data!F593-1,\"\")","v":""},{"$f":"IFERROR(G593/_data!G593-1,\"\")","v":""},{"$f":"IFERROR(H593/_data!H593-1,\"\")","v":""},{"$f":"IFERROR(I593/_data!I593-1,\"\")","v":""},{"$f":"IFERROR(J593/_data!J593-1,\"\")","v":""},{"$f":"IFERROR(K593/_data!K593-1,\"\")","v":""}]
["heating oil / diesel",0,0,0,0,0,0,0,0,0,0,null,"heating oil / diesel",{"$f":"IFERROR(B594/_data!B594-1,\"\")","v":""},{"$f":"IFERROR(C594/_data!C594-1,\"\")","v":""},{"$f":"IFERROR(D594/_data!D594-1,\"\")","v":""},{"$f":"IFERROR(E594/_data!E594-1,\"\")","v":""},{"$f":"IFERROR(F594/_data!F594-1,\"\")","v":""},{"$f":"IFERROR(G594/_data!G594-1,\"\")","v":""},{"$f":"IFERROR(H594/_data!H594-1,\"\")","v":""},{"$f":"IFERROR(I594/_data!I594-1,\"\")","v":""},{"$f":"IFERROR(J594/_data!J594-1,\"\")","v":""},{"$f":"IFERROR(K594/_data!K594-1,\"\")","v":""}]
["gasoline",0,0,0,0,0,0,0,0,0,0,null,"gasoline",{"$f":"IFERROR(B595/_data!B595-1,\"\")","v":""},{"$f":"IFERROR(C595/_data!C595-1,\"\")","v":""},{"$f":"IFERROR(D595/_data!D595-1,\"\")","v":""},{"$f":"IFERROR(E595/_data!E595-1,\"\")","v":""},{"$f":"IFERROR(F595/_data!F595-1,\"\")","v":""},{"$f":"IFERROR(G595/_data!G595-1,\"\")","v":""},{"$f":"IFERROR(H595/_data!H595-1,\"\")","v":""},{"$f":"IFERROR(I595/_data!I595-1,\"\")","v":""},{"$f":"IFERROR(J595/_data!J595-1,\"\")","v":""},{"$f":"IFERROR(K595/_data!K595-1,\"\")","v":""}]
["Lignite / Coal",0,0,0,0,0,0,0,0,0,0,null,"Lignite / Coal",{"$f":"IFERROR(B596/_data!B596-1,\"\")","v":""},{"$f":"IFERROR(C596/_data!C596-1,\"\")","v":""},{"$f":"IFERROR(D596/_data!D596-1,\"\")","v":""},{"$f":"IFERROR(E596/_data!E596-1,\"\")","v":""},{"$f":"IFERROR(F596/_data!F596-1,\"\")","v":""},{"$f":"IFERROR(G596/_data!G596-1,\"\")","v":""},{"$f":"IFERROR(H596/_data!H596-1,\"\")","v":""},{"$f":"IFERROR(I596/_data!I596-1,\"\")","v":""},{"$f":"IFERROR(J596/_data!J596-1,\"\")","v":""},{"$f":"IFERROR(K596/_data!K596-1,\"\")","v":""}]
["other fossil fuels",0,0,0,0,0,0,0,0,0,0,null,"other fossil fuels",{"$f":"IFERROR(B597/_data!B597-1,\"\")","v":""},{"$f":"IFERROR(C597/_data!C597-1,\"\")","v":""},{"$f":"IFERROR(D597/_data!D597-1,\"\")","v":""},{"$f":"IFERROR(E597/_data!E597-1,\"\")","v":""},{"$f":"IFERROR(F597/_data!F597-1,\"\")","v":""},{"$f":"IFERROR(G597/_data!G597-1,\"\")","v":""},{"$f":"IFERROR(H597/_data!H597-1,\"\")","v":""},{"$f":"IFERROR(I597/_data!I597-1,\"\")","v":""},{"$f":"IFERROR(J597/_data!J597-1,\"\")","v":""},{"$f":"IFERROR(K597/_data!K597-1,\"\")","v":""}]
["Plant oil, biofuel",0,0,0,0,0,0,0,0,0,0,null,"Plant oil, biofuel",{"$f":"IFERROR(B598/_data!B598-1,\"\")","v":""},{"$f":"IFERROR(C598/_data!C598-1,\"\")","v":""},{"$f":"IFERROR(D598/_data!D598-1,\"\")","v":""},{"$f":"IFERROR(E598/_data!E598-1,\"\")","v":""},{"$f":"IFERROR(F598/_data!F598-1,\"\")","v":""},{"$f":"IFERROR(G598/_data!G598-1,\"\")","v":""},{"$f":"IFERROR(H598/_data!H598-1,\"\")","v":""},{"$f":"IFERROR(I598/_data!I598-1,\"\")","v":""},{"$f":"IFERROR(J598/_data!J598-1,\"\")","v":""},{"$f":"IFERROR(K598/_data!K598-1,\"\")","v":""}]
["Summe",0.87934963065515515,0.90474290834430215,0.91396350095906509,0.98977712212879143,1.0076481117550602,1.0201163377707254,1.0210449267260728,1.0117373477187033,0.96599716545629344,0.90605303706717599,null,"Summe",{"$f":"IFERROR(B599/_data!B599-1,\"\")","v":0},{"$f":"IFERROR(C599/_data!C599-1,\"\")","v":0},{"$f":"IFERROR(D599/_data!D599-1,\"\")","v":0},{"$f":"IFERROR(E599/_data!E599-1,\"\")","v":0},{"$f":"IFERROR(F599/_data!F599-1,\"\")","v":0},{"$f":"IFERROR(G599/_data!G599-1,\"\")","v":0},{"$f":"IFERROR(H599/_data!H599-1,\"\")","v":0},{"$f":"IFERROR(I599/_data!I599-1,\"\")","v":0},{"$f":"IFERROR(J599/_data!J599-1,\"\")","v":0},{"$f":"IFERROR(K599/_data!K599-1,\"\")","v":0}]
[]
["Energy consumption (MWh /Einwohner and  Year) - Tertiary sector (Services)",null,null,null,null,null,null,null,null,null,null,null,"Test:",{"$f":"A601","v":"Energy consumption (MWh /Einwohner and  Year) - Tertiary sector (Services)"}]
["Energieträger",2000,2001,2002,2003,2004,2005,2006,2007,2008,2009,null,"Energieträger",2000,2001,2002,2003,2004,2005,2006,2007,2008,2009]
["Electricity",4.5855241473701604E-2,4.5103439568691311E-2,4.5649564669312165E-2,4.6554023814198001E-2,4.7418223340440414E-2,4.8037884845441976E-2,4.8108275328376866E-2,4.769528797809227E-2,4.5580785890460253E-2,4.275148561412509E-2,null,"Electricity",{"$f":"IFERROR(B603/_data!B603-1,\"\")","v":0},{"$f":"IFERROR(C603/_data!C603-1,\"\")","v":0},{"$f":"IFERROR(D603/_data!D603-1,\"\")","v":0},{"$f":"IFERROR(E603/_data!E603-1,\"\")","v":0},{"$f":"IFERROR(F603/_data!F603-1,\"\")","v":0},{"$f":"IFERROR(G603/_data!G603-1,\"\")","v":0},{"$f":"IFERROR(H603/_data!H603-1,\"\")","v":0},{"$f":"IFERROR(I603/_data!I603-1,\"\")","v":0},{"$f":"IFERROR(J603/_data!J603-1,\"\")","v":0},{"$f":"IFERROR(K603/_data!K603-1,\"\")","v":0}]
["Heat and Cold",0,0,0,0,0,0,0,0,0,0,null,"Heat and Cold",{"$f":"IFERROR(B604/_data!B604-1,\"\")","v":""},{"$f":"IFERROR(C604/_data!C604-1,\"\")","v":""},{"$f":"IFERROR(D604/_data!D604-1,\"\")","v":""},{"$f":"IFERROR(E604/_data!E604-1,\"\")","v":""},{"$f":"IFERROR(F604/_data!F604-1,\"\")","v":""},{"$f":"IFERROR(G604/_data!G604-1,\"\")","v":""},{"$f":"IFERROR(H604/_data!H604-1,\"\")","v":""},{"$f":"IFERROR(I604/_data!I604-1,\"\")","v":""},{"$f":"IFERROR(J604/_data!J604-1,\"\")","v":""},{"$f":"IFERROR(K604/_data!K604-1,\"\")","v":""}]
["natural gas",0.75469897424479837,0.46182000080116548,0.70082908624455131,0.52406153926434751,0.53420475075834384,0.54077056210868057,0.54438983772031424,0.5407568937692524,0.39387112616455999,0.26207807273026873,null,"natural gas",{"$f":"IFERROR(B605/_data!B605-1,\"\")","v":0},{"$f":"IFERROR(C605/_data!C605-1,\"\")","v":0},{"$f":"IFERROR(D605/_data!D605-1,\"\")","v":0},{"$f":"IFERROR(E605/_data!E605-1,\"\")","v":0},{"$f":"IFERROR(F605/_data!F605-1,\"\")","v":0},{"$f":"IFERROR(G605/_data!G605-1,\"\")","v":0},{"$f":"IFERROR(H605/_data!H605-1,\"\")","v":0},{"$f":"IFERROR(I605/_data!I605-1,\"\")","v":0},{"$f":"IFERROR(J605/_data!J605-1,\"\")","v":0},{"$f":"IFERROR(K605/_data!K605-1,\"\")","v":0}]
["Liquid gas",0,0,0,0,0,0,0,0,0,0,null,"Liquid gas",{"$f":"IFERROR(B606/_data!B606-1,\"\")","v":""},{"$f":"IFERROR(C606/_data!C606-1,\"\")","v":""},{"$f":"IFERROR(D606/_data!D606-1,\"\")","v":""},{"$f":"IFERROR(E606/_data!E606-1,\"\")","v":""},{"$f":"IFERROR(F606/_data!F606-1,\"\")","v":""},{"$f":"IFERROR(G606/_data!G606-1,\"\")","v":""},{"$f":"IFERROR(H606/_data!H606-1,\"\")","v":""},{"$f":"IFERROR(I606/_data!I606-1,\"\")","v":""},{"$f":"IFERROR(J606/_data!J606-1,\"\")","v":""},{"$f":"IFERROR(K606/_data!K606-1,\"\")","v":""}]
["heating oil / diesel",0.13860072987144351,0.17488724986911536,0.17711854326679879,0.18507635456077584,0.19458422171874584,0.20187964150996673,0.33543814275423128,0.51762425850650928,0.58557610725941012,0.56789042384740107,null,"heating oil / diesel",{"$f":"IFERROR(B607/_data!B607-1,\"\")","v":0},{"$f":"IFERROR(C607/_data!C607-1,\"\")","v":0},{"$f":"IFERROR(D607/_data!D607-1,\"\")","v":0},{"$f":"IFERROR(E607/_data!E607-1,\"\")","v":0},{"$f":"IFERROR(F607/_data!F607-1,\"\")","v":0},{"$f":"IFERROR(G607/_data!G607-1,\"\")","v":0},{"$f":"IFERROR(H607/_data!H607-1,\"\")","v":0},{"$f":"IFERROR(I607/_data!I607-1,\"\")","v":0},{"$f":"IFERROR(J607/_data!J607-1,\"\")","v":0},{"$f":"IFERROR(K607/_data!K607-1,\"\")","v":0}]
["gasoline",0,0,0,0,0,0,0,0,0,0,null,"gasoline",{"$f":"IFERROR(B608/_data!B608-1,\"\")","v":""},{"$f":"IFERROR(C608/_data!C608-1,\"\")","v":""},{"$f":"IFERROR(D608/_data!D608-1,\"\")","v":""},{"$f":"IFERROR(E608/_data!E608-1,\"\")","v":""},{"$f":"IFERROR(F608/_data!F608-1,\"\")","v":""},{"$f":"IFERROR(G608/_data!G608-1,\"\")","v":""},{"$f":"IFERROR(H608/_data!H608-1,\"\")","v":""},{"$f":"IFERROR(I608/_data!I608-1,\"\")","v":""},{"$f":"IFERROR(J608/_data!J608-1,\"\")","v":""},{"$f":"IFERROR(K608/_data!K608-1,\"\")","v":""}]
["Lignite / Coal",0.14584576802381441,0.15750548956102287,0.18268664118386879,0.1794214872613111,0.18428347109392057,7.3993838753866267E-2,8.1784068058240678E-2,0.14173996515535356,0.15376250540825573,0.15474891200745089,null,"Lignite / Coal",{"$f":"IFERROR(B609/_data!B609-1,\"\")","v":0},{"$f":"IFERROR(C609/_data!C609-1,\"\")","v":0},{"$f":"IFERROR(D609/_data!D609-1,\"\")","v":0},{"$f":"IFERROR(E609/_data!E609-1,\"\")","v":0},{"$f":"IFERROR(F609/_data!F609-1,\"\")","v":0},{"$f":"IFERROR(G609/_data!G609-1,\"\")","v":0},{"$f":"IFERROR(H609/_data!H609-1,\"\")","v":0},{"$f":"IFERROR(I609/_data!I609-1,\"\")","v":0},{"$f":"IFERROR(J609/_data!J609-1,\"\")","v":0},{"$f":"IFERROR(K609/_data!K609-1,\"\")","v":0}]
["other fossil fuels",1.4355075593828077E-2,1.4217388559696176E-2,1.0075605754698135E-2,9.994649180449287E-3,1.1865421605811395E-2,1.3731259198652321E-2,1.3581008698895771E-2,1.3416928452391034E-2,1.3242505190397833E-2,1.3062953937649334E-2,null,"other fossil fuels",{"$f":"IFERROR(B610/_data!B610-1,\"\")","v":0},{"$f":"IFERROR(C610/_data!C610-1,\"\")","v":0},{"$f":"IFERROR(D610/_data!D610-1,\"\")","v":0},{"$f":"IFERROR(E610/_data!E610-1,\"\")","v":0},{"$f":"IFERROR(F610/_data!F610-1,\"\")","v":0},{"$f":"IFERROR(G610/_data!G610-1,\"\")","v":0},{"$f":"IFERROR(H610/_data!H610-1,\"\")","v":0},{"$f":"IFERROR(I610/_data!I610-1,\"\")","v":0},{"$f":"IFERROR(J610/_data!J610-1,\"\")","v":0},{"$f":"IFERROR(K610/_data!K610-1,\"\")","v":0}]
["Plant oil, biofuel",0,0,0,0,0,0,0,0,0,0,null,"Plant oil, biofuel",{"$f":"IFERROR(B611/_data!B611-1,\"\")","v":""},{"$f":"IFERROR(C611/_data!C611-1,\"\")","v":""},{"$f":"IFERROR(D611/_data!D611-1,\"\")","v":""},{"$f":"IFERROR(E611/_data!E611-1,\"\")","v":""},{"$f":"IFERROR(F611/_data!F611-1,\"\")","v":""},{"$f":"IFERROR(G611/_data!G611-1,\"\")","v":""},{"$f":"IFERROR(H611/_data!H611-1,\"\")","v":""},{"$f":"IFERROR(I611/_data!I611-1,\"\")","v":""},{"$f":"IFERROR(J611/_data!J611-1,\"\")","v":""},{"$f":"IFERROR(K611/_data!K611-1,\"\")","v":""}]
["Summe",1.0993557892075858,0.85353356835969119,1.1163594411192292,0.94510805408108178,0.97235608851726196,0.87841318641660793,1.0233013325600588,1.2612333338615986,1.1920330299130839,1.040531848136895,null,"Summe",{"$f":"IFERROR(B612/_data!B612-1,\"\")","v":0},{"$f":"IFERROR(C612/_data!C612-1,\"\")","v":0},{"$f":"IFERROR(D612/_data!D612-1,\"\")","v":0},{"$f":"IFERROR(E612/_data!E612-1,\"\")","v":0},{"$f":"IFERROR(F612/_data!F612-1,\"\")","v":0},{"$f":"IFERROR(G612/_data!G612-1,\"\")","v":0},{"$f":"IFERROR(H612/_data!H612-1,\"\")","v":0},{"$f":"IFERROR(I612/_data!I612-1,\"\")","v":0},{"$f":"IFERROR(J612/_data!J612-1,\"\")","v":0},{"$f":"IFERROR(K612/_data!K612-1,\"\")","v":0}]
[]
["Energy consumption (MWh /Einwohner and  Year) - Road",null,null,null,null,null,null,null,null,null,null,null,"Test:",{"$f":"A614","v":"Energy consumption (MWh /Einwohner and  Year) - Road"}]
["Energieträger",2000,2001,2002,2003,2004,2005,2006,2007,2008,2009,null,"Energieträger",2000,2001,2002,2003,2004,2005,2006,2007,2008,2009]
["Electricity",0,0,0,0,0,0,0,0,0,0,null,"Electricity",{"$f":"IFERROR(B616/_data!B616-1,\"\")","v":""},{"$f":"IFERROR(C616/_data!C616-1,\"\")","v":""},{"$f":"IFERROR(D616/_data!D616-1,\"\")","v":""},{"$f":"IFERROR(E616/_data!E616-1,\"\")","v":""},{"$f":"IFERROR(F616/_data!F616-1,\"\")","v":""},{"$f":"IFERROR(G616/_data!G616-1,\"\")","v":""},{"$f":"IFERROR(H616/_data!H616-1,\"\")","v":""},{"$f":"IFERROR(I616/_data!I616-1,\"\")","v":""},{"$f":"IFERROR(J616/_data!J616-1,\"\")","v":""},{"$f":"IFERROR(K616/_data!K616-1,\"\")","v":""}]
["Heat and Cold",0,0,0,0,0,0,0,0,0,0,null,"Heat and Cold",{"$f":"IFERROR(B617/_data!B617-1,\"\")","v":""},{"$f":"IFERROR(C617/_data!C617-1,\"\")","v":""},{"$f":"IFERROR(D617/_data!D617-1,\"\")","v":""},{"$f":"IFERROR(E617/_data!E617-1,\"\")","v":""},{"$f":"IFERROR(F617/_data!F617-1,\"\")","v":""},{"$f":"IFERROR(G617/_data!G617-1,\"\")","v":""},{"$f":"IFERROR(H617/_data!H617-1,\"\")","v":""},{"$f":"IFERROR(I617/_data!I617-1,\"\")","v":""},{"$f":"IFERROR(J617/_data!J617-1,\"\")","v":""},{"$f":"IFERROR(K617/_data!K617-1,\"\")","v":""}]
["natural gas",0,0,0,0,0,0,0,0,0,0,null,"natural gas",{"$f":"IFERROR(B618/_data!B618-1,\"\")","v":""},{"$f":"IFERROR(C618/_data!C618-1,\"\")","v":""},{"$f":"IFERROR(D618/_data!D618-1,\"\")","v":""},{"$f":"IFERROR(E618/_data!E618-1,\"\")","v":""},{"$f":"IFERROR(F618/_data!F618-1,\"\")","v":""},{"$f":"IFERROR(G618/_data!G618-1,\"\")","v":""},{"$f":"IFERROR(H618/_data!H618-1,\"\")","v":""},{"$f":"IFERROR(I618/_data!I618-1,\"\")","v":""},{"$f":"IFERROR(J618/_data!J618-1,\"\")","v":""},{"$f":"IFERROR(K618/_data!K618-1,\"\")","v":""}]
["Liquid gas",0,0,0,0,0,0,0,0,0,0,null,"Liquid gas",{"$f":"IFERROR(B619/_data!B619-1,\"\")","v":""},{"$f":"IFERROR(C619/_data!C619-1,\"\")","v":""},{"$f":"IFERROR(D619/_data!D619-1,\"\")","v":""},{"$f":"IFERROR(E619/_data!E619-1,\"\")","v":""},{"$f":"IFERROR(F619/_data!F619-1,\"\")","v":""},{"$f":"IFERROR(G619/_data!G619-1,\"\")","v":""},{"$f":"IFERROR(H619/_data!H619-1,\"\")","v":""},{"$f":"IFERROR(I619/_data!I619-1,\"\")","v":""},{"$f":"IFERROR(J619/_data!J619-1,\"\")","v":""},{"$f":"IFERROR(K619/_data!K619-1,\"\")","v":""}]
["heating oil / diesel",0,0,0,0,0,0,0,0,0,0,null,"heating oil / diesel",{"$f":"IFERROR(B620/_data!B620-1,\"\")","v":""},{"$f":"IFERROR(C620/_data!C620-1,\"\")","v":""},{"$f":"IFERROR(D620/_data!D620-1,\"\")","v":""},{"$f":"IFERROR(E620/_data!E620-1,\"\")","v":""},{"$f":"IFERROR(F620/_data!F620-1,\"\")","v":""},{"$f":"IFERROR(G620/_data!G620-1,\"\")","v":""},{"$f":"IFERROR(H620/_data!H620-1,\"\")","v":""},{"$f":"IFERROR(I620/_data!I620-1,\"\")","v":""},{"$f":"IFERROR(J620/_data!J620-1,\"\")","v":""},{"$f":"IFERROR(K620/_data!K620-1,\"\")","v":""}]
["gasoline",1.3313770110313401,1.6869666908246392,1.7037495801168066,1.8442319546959736,1.9813950189220875,2.1137099778991293,0.1010699518845723,0.16272757423918782,0.15513241973829686,0.14221830415503489,null,"gasoline",{"$f":"IFERROR(B621/_data!B621-1,\"\")","v":0},{"$f":"IFERROR(C621/_data!C621-1,\"\")","v":0},{"$f":"IFERROR(D621/_data!D621-1,\"\")","v":0},{"$f":"IFERROR(E621/_data!E621-1,\"\")","v":0},{"$f":"IFERROR(F621/_data!F621-1,\"\")","v":0},{"$f":"IFERROR(G621/_data!G621-1,\"\")","v":0},{"$f":"IFERROR(H621/_data!H621-1,\"\")","v":0},{"$f":"IFERROR(I621/_data!I621-1,\"\")","v":0},{"$f":"IFERROR(J621/_data!J621-1,\"\")","v":0},{"$f":"IFERROR(K621/_data!K621-1,\"\")","v":0}]
["Lignite / Coal",0,0,0,0,0,0,0,0,0,0,null,"Lignite / Coal",{"$f":"IFERROR(B622/_data!B622-1,\"\")","v":""},{"$f":"IFERROR(C622/_data!C622-1,\"\")","v":""},{"$f":"IFERROR(D622/_data!D622-1,\"\")","v":""},{"$f":"IFERROR(E622/_data!E622-1,\"\")","v":""},{"$f":"IFERROR(F622/_data!F622-1,\"\")","v":""},{"$f":"IFERROR(G622/_data!G622-1,\"\")","v":""},{"$f":"IFERROR(H622/_data!H622-1,\"\")","v":""},{"$f":"IFERROR(I622/_data!I622-1,\"\")","v":""},{"$f":"IFERROR(J622/_data!J622-1,\"\")","v":""},{"$f":"IFERROR(K622/_data!K622-1,\"\")","v":""}]
["other fossil fuels",0,0,0,0,0,0,0,0,0,0,null,"other fossil fuels",{"$f":"IFERROR(B623/_data!B623-1,\"\")","v":""},{"$f":"IFERROR(C623/_data!C623-1,\"\")","v":""},{"$f":"IFERROR(D623/_data!D623-1,\"\")","v":""},{"$f":"IFERROR(E623/_data!E623-1,\"\")","v":""},{"$f":"IFERROR(F623/_data!F623-1,\"\")","v":""},{"$f":"IFERROR(G623/_data!G623-1,\"\")","v":""},{"$f":"IFERROR(H623/_data!H623-1,\"\")","v":""},{"$f":"IFERROR(I623/_data!I623-1,\"\")","v":""},{"$f":"IFERROR(J623/_data!J623-1,\"\")","v":""},{"$f":"IFERROR(K623/_data!K623-1,\"\")","v":""}]
["Plant oil, biofuel",0,0,0,0,0,0,0,0,0,0,null,"Plant oil, biofuel",{"$f":"IFERROR(B624/_data!B624-1,\"\")","v":""},{"$f":"IFERROR(C624/_data!C624-1,\"\")","v":""},{"$f":"IFERROR(D624/_data!D624-1,\"\")","v":""},{"$f":"IFERROR(E624/_data!E624-1,\"\")","v":""},{"$f":"IFERROR(F624/_data!F624-1,\"\")","v":""},{"$f":"IFERROR(G624/_data!G624-1,\"\")","v":""},{"$f":"IFERROR(H624/_data!H624-1,\"\")","v":""},{"$f":"IFERROR(I624/_data!I624-1,\"\")","v":""},{"$f":"IFERROR(J624/_data!J624-1,\"\")","v":""},{"$f":"IFERROR(K624/_data!K624-1,\"\")","v":""}]
["Summe",1.3313770110313401,1.6869666908246392,1.7037495801168066,1.8442319546959736,1.9813950189220875,2.1137099778991293,0.1010699518845723,0.16272757423918782,0.15513241973829686,0.14221830415503489,null,"Summe",{"$f":"IFERROR(B625/_data!B625-1,\"\")","v":0},{"$f":"IFERROR(C625/_data!C625-1,\"\")","v":0},{"$f":"IFERROR(D625/_data!D625-1,\"\")","v":0},{"$f":"IFERROR(E625/_data!E625-1,\"\")","v":0},{"$f":"IFERROR(F625/_data!F625-1,\"\")","v":0},{"$f":"IFERROR(G625/_data!G625-1,\"\")","v":0},{"$f":"IFERROR(H625/_data!H625-1,\"\")","v":0},{"$f":"IFERROR(I625/_data!I625-1,\"\")","v":0},{"$f":"IFERROR(J625/_data!J625-1,\"\")","v":0},{"$f":"IFERROR(K625/_data!K625-1,\"\")","v":0}]
[]
["Energy consumption (MWh /Einwohner and  Year) - Rail",null,null,null,null,null,null,null,null,null,null,null,"Test:",{"$f":"A627","v":"Energy consumption (MWh /Einwohner and  Year) - Rail"}]
["Energieträger",2000,2001,2002,2003,2004,2005,2006,2007,2008,2009,null,"Energieträger",2000,2001,2002,2003,2004,2005,2006,2007,2008,2009]
["Electricity",5.3100279626072519E-3,3.8329009910152705E-3,2.87243146515517E-3,2.8493517400403671E-3,2.9554896307515568E-3,2.797905479349219E-3,2.7672901737561917E-3,2.7338568946878284E-3,2.6983161046265176E-3,2.6617304261667921E-3,null,"Electricity",{"$f":"IFERROR(B629/_data!B629-1,\"\")","v":0},{"$f":"IFERROR(C629/_data!C629-1,\"\")","v":0},{"$f":"IFERROR(D629/_data!D629-1,\"\")","v":0},{"$f":"IFERROR(E629/_data!E629-1,\"\")","v":0},{"$f":"IFERROR(F629/_data!F629-1,\"\")","v":0},{"$f":"IFERROR(G629/_data!G629-1,\"\")","v":0},{"$f":"IFERROR(H629/_data!H629-1,\"\")","v":0},{"$f":"IFERROR(I629/_data!I629-1,\"\")","v":0},{"$f":"IFERROR(J629/_data!J629-1,\"\")","v":0},{"$f":"IFERROR(K629/_data!K629-1,\"\")","v":0}]
["Heat and Cold",0,0,0,0,0,0,0,0,0,0,null,"Heat and Cold",{"$f":"IFERROR(B630/_data!B630-1,\"\")","v":""},{"$f":"IFERROR(C630/_data!C630-1,\"\")","v":""},{"$f":"IFERROR(D630/_data!D630-1,\"\")","v":""},{"$f":"IFERROR(E630/_data!E630-1,\"\")","v":""},{"$f":"IFERROR(F630/_data!F630-1,\"\")","v":""},{"$f":"IFERROR(G630/_data!G630-1,\"\")","v":""},{"$f":"IFERROR(H630/_data!H630-1,\"\")","v":""},{"$f":"IFERROR(I630/_data!I630-1,\"\")","v":""},{"$f":"IFERROR(J630/_data!J630-1,\"\")","v":""},{"$f":"IFERROR(K630/_data!K630-1,\"\")","v":""}]
["natural gas",0,0,0,0,0,0,0,0,0,0,null,"natural gas",{"$f":"IFERROR(B631/_data!B631-1,\"\")","v":""},{"$f":"IFERROR(C631/_data!C631-1,\"\")","v":""},{"$f":"IFERROR(D631/_data!D631-1,\"\")","v":""},{"$f":"IFERROR(E631/_data!E631-1,\"\")","v":""},{"$f":"IFERROR(F631/_data!F631-1,\"\")","v":""},{"$f":"IFERROR(G631/_data!G631-1,\"\")","v":""},{"$f":"IFERROR(H631/_data!H631-1,\"\")","v":""},{"$f":"IFERROR(I631/_data!I631-1,\"\")","v":""},{"$f":"IFERROR(J631/_data!J631-1,\"\")","v":""},{"$f":"IFERROR(K631/_data!K631-1,\"\")","v":""}]
["Liquid gas",0,0,0,0,0,0,0,0,0,0,null,"Liquid gas",{"$f":"IFERROR(B632/_data!B632-1,\"\")","v":""},{"$f":"IFERROR(C632/_data!C632-1,\"\")","v":""},{"$f":"IFERROR(D632/_data!D632-1,\"\")","v":""},{"$f":"IFERROR(E632/_data!E632-1,\"\")","v":""},{"$f":"IFERROR(F632/_data!F632-1,\"\")","v":""},{"$f":"IFERROR(G632/_data!G632-1,\"\")","v":""},{"$f":"IFERROR(H632/_data!H632-1,\"\")","v":""},{"$f":"IFERROR(I632/_data!I632-1,\"\")","v":""},{"$f":"IFERROR(J632/_data!J632-1,\"\")","v":""},{"$f":"IFERROR(K632/_data!K632-1,\"\")","v":""}]
["heating oil / diesel",0,0,0,0,0,0,0,0,0,0,null,"heating oil / diesel",{"$f":"IFERROR(B633/_data!B633-1,\"\")","v":""},{"$f":"IFERROR(C633/_data!C633-1,\"\")","v":""},{"$f":"IFERROR(D633/_data!D633-1,\"\")","v":""},{"$f":"IFERROR(E633/_data!E633-1,\"\")","v":""},{"$f":"IFERROR(F633/_data!F633-1,\"\")","v":""},{"$f":"IFERROR(G633/_data!G633-1,\"\")","v":""},{"$f":"IFERROR(H633/_data!H633-1,\"\")","v":""},{"$f":"IFERROR(I633/_data!I633-1,\"\")","v":""},{"$f":"IFERROR(J633/_data!J633-1,\"\")","v":""},{"$f":"IFERROR(K633/_data!K633-1,\"\")","v":""}]
["gasoline",0,0,0,0,0,0,0,0,0,0,null,"gasoline",{"$f":"IFERROR(B634/_data!B634-1,\"\")","v":""},{"$f":"IFERROR(C634/_data!C634-1,\"\")","v":""},{"$f":"IFERROR(D634/_data!D634-1,\"\")","v":""},{"$f":"IFERROR(E634/_data!E634-1,\"\")","v":""},{"$f":"IFERROR(F634/_data!F634-1,\"\")","v":""},{"$f":"IFERROR(G634/_data!G634-1,\"\")","v":""},{"$f":"IFERROR(H634/_data!H634-1,\"\")","v":""},{"$f":"IFERROR(I634/_data!I634-1,\"\")","v":""},{"$f":"IFERROR(J634/_data!J634-1,\"\")","v":""},{"$f":"IFERROR(K634/_data!K634-1,\"\")","v":""}]
["Lignite / Coal",0,0,0,0,0,0,0,0,0,0,null,"Lignite / Coal",{"$f":"IFERROR(B635/_data!B635-1,\"\")","v":""},{"$f":"IFERROR(C635/_data!C635-1,\"\")","v":""},{"$f":"IFERROR(D635/_data!D635-1,\"\")","v":""},{"$f":"IFERROR(E635/_data!E635-1,\"\")","v":""},{"$f":"IFERROR(F635/_data!F635-1,\"\")","v":""},{"$f":"IFERROR(G635/_data!G635-1,\"\")","v":""},{"$f":"IFERROR(H635/_data!H635-1,\"\")","v":""},{"$f":"IFERROR(I635/_data!I635-1,\"\")","v":""},{"$f":"IFERROR(J635/_data!J635-1,\"\")","v":""},{"$f":"IFERROR(K635/_data!K635-1,\"\")","v":""}]
["other fossil fuels",0,0,0,0,0,0,0,0,0,0,null,"other fossil fuels",{"$f":"IFERROR(B636/_data!B636-1,\"\")","v":""},{"$f":"IFERROR(C636/_data!C636-1,\"\")","v":""},{"$f":"IFERROR(D636/_data!D636-1,\"\")","v":""},{"$f":"IFERROR(E636/_data!E636-1,\"\")","v":""},{"$f":"IFERROR(F636/_data!F636-1,\"\")","v":""},{"$f":"IFERROR(G636/_data!G636-1,\"\")","v":""},{"$f":"IFERROR(H636/_data!H636-1,\"\")","v":""},{"$f":"IFERROR(I636/_data!I636-1,\"\")","v":""},{"$f":"IFERROR(J636/_data!J636-1,\"\")","v":""},{"$f":"IFERROR(K636/_data!K636-1,\"\")","v":""}]
["Plant oil, biofuel",0,0,0,0,0,0,0,0,0,0,null,"Plant oil, biofuel",{"$f":"IFERROR(B637/_data!B637-1,\"\")","v":""},{"$f":"IFERROR(C637/_data!C637-1,\"\")","v":""},{"$f":"IFERROR(D637/_data!D637-1,\"\")","v":""},{"$f":"IFERROR(E637/_data!E637-1,\"\")","v":""},{"$f":"IFERROR(F637/_data!F637-1,\"\")","v":""},{"$f":"IFERROR(G637/_data!G637-1,\"\")","v":""},{"$f":"IFERROR(H637/_data!H637-1,\"\")","v":""},{"$f":"IFERROR(I637/_data!I637-1,\"\")","v":""},{"$f":"IFERROR(J637/_data!J637-1,\"\")","v":""},{"$f":"IFERROR(K637/_data!K637-1,\"\")","v":""}]
["Summe",5.3100279626072519E-3,3.8329009910152705E-3,2.87243146515517E-3,2.8493517400403671E-3,2.9554896307515568E-3,2.797905479349219E-3,2.7672901737561917E-3,2.7338568946878284E-3,2.6983161046265176E-3,2.6617304261667921E-3,null,"Summe",{"$f":"IFERROR(B638/_data!B638-1,\"\")","v":0},{"$f":"IFERROR(C638/_data!C638-1,\"\")","v":0},{"$f":"IFERROR(D638/_data!D638-1,\"\")","v":0},{"$f":"IFERROR(E638/_data!E638-1,\"\")","v":0},{"$f":"IFERROR(F638/_data!F638-1,\"\")","v":0},{"$f":"IFERROR(G638/_data!G638-1,\"\")","v":0},{"$f":"IFERROR(H638/_data!H638-1,\"\")","v":0},{"$f":"IFERROR(I638/_data!I638-1,\"\")","v":0},{"$f":"IFERROR(J638/_data!J638-1,\"\")","v":0},{"$f":"IFERROR(K638/_data!K638-1,\"\")","v":0}]
[]
["Quelle:","P:\\KB-Projekte\\COMO EAST\\WP 2 Training\\Tool\\Tool-Daten\\Energiedaten\\Endberechnung"]
["Turkmenistan",null,null,null,null,null,null,null,null,null,null,null,"Turkmenistan",null,null,null,null,null,null,null,null,null,null,null,"Turkmenistan",null,null,null,null,null,null,null,null,null,null,null,"Turkmenistan"]
["Energy consumption (MWh /Einwohner and  Year) - Residential building (Households)",null,null,null,null,null,null,null,null,null,null,null,"Test:",{"$f":"A642","v":"Energy consumption (MWh /Einwohner and  Year) - Residential building (Households)"},null,null,null,null,null,null,null,null,null,null,"CO2 emission Factor (t /Mwh)"]
["Energieträger",2000,2001,2002,2003,2004,2005,2006,2007,2008,2009,null,"Energieträger",2000,2001,2002,2003,2004,2005,2006,2007,2008,2009,null,"Energieträger",2000,2001,2002,2003,2004,2005,2006,2007,2008,2009,null,null,"Year:",{"$f":"'DATA-OUTPUT Co2 absolute'!$B$8","v":0},null,"CO2","Test"]
["Electricity",0.26411424683836121,0.28475087886473033,0.28411261347204159,0.28358014427888384,0.28293670031791818,0.32985767021820056,0.34714651350708264,0.37394590532034977,0.3734844539651635,0.39198253307536002,null,"Electricity",{"$f":"IFERROR(B644/_data!B644-1,\"\")","v":0},{"$f":"IFERROR(C644/_data!C644-1,\"\")","v":0},{"$f":"IFERROR(D644/_data!D644-1,\"\")","v":0},{"$f":"IFERROR(E644/_data!E644-1,\"\")","v":0},{"$f":"IFERROR(F644/_data!F644-1,\"\")","v":0},{"$f":"IFERROR(G644/_data!G644-1,\"\")","v":0},{"$f":"IFERROR(H644/_data!H644-1,\"\")","v":0},{"$f":"IFERROR(I644/_data!I644-1,\"\")","v":0},{"$f":"IFERROR(J644/_data!J644-1,\"\")","v":0},{"$f":"IFERROR(K644/_data!K644-1,\"\")","v":0},null,"Electricity",{"$f":"_data!Z644","v":1.369},{"$f":"_data!AA644","v":1.3979999999999999},{"$f":"_data!AB644","v":1.397},{"$f":"_data!AC644","v":1.397},{"$f":"_data!AD644","v":1.397},{"$f":"_data!AE644","v":1.397},{"$f":"_data!AF644","v":1.3959999999999999},{"$f":"_data!AG644","v":1.395},{"$f":"_data!AH644","v":1.395},{"$f":"_data!AI644","v":1.395},null,null,null,{"$f":"'DATA-OUTPUT EC per capita'!$B$37","v":0},{"$f":"IF(AM643=Z643,Z644,IF(AM643=AA643,AA644,IF(AM643=AB643,AB644,IF(AM643=AC643,AC644,IF(AM643=AD643,AD644,IF(AM643=AE643,AE644,IF(AM643=AF643,AF644,IF(AM643=AG643,AG644,IF(AM643=AH643,AH644,IF(AM643=AI643,AI644,\"Fehler\"))))))))))","v":"Fehler"},{"$f":"AN644*AM644","v":{"$error":"#VALUE!"}},{"$f":"AO644/'DATA-OUTPUT Co2 per capita'!$B$37-1","v":{"$error":"#VALUE!"}}]
["Heat and Cold",0,0,0,0,0,0,0,0,0,0,null,"Heat and Cold",{"$f":"IFERROR(B645/_data!B645-1,\"\")","v":""},{"$f":"IFERROR(C645/_data!C645-1,\"\")","v":""},{"$f":"IFERROR(D645/_data!D645-1,\"\")","v":""},{"$f":"IFERROR(E645/_data!E645-1,\"\")","v":""},{"$f":"IFERROR(F645/_data!F645-1,\"\")","v":""},{"$f":"IFERROR(G645/_data!G645-1,\"\")","v":""},{"$f":"IFERROR(H645/_data!H645-1,\"\")","v":""},{"$f":"IFERROR(I645/_data!I645-1,\"\")","v":""},{"$f":"IFERROR(J645/_data!J645-1,\"\")","v":""},{"$f":"IFERROR(K645/_data!K645-1,\"\")","v":""},null,"Heat and Cold",{"$f":"_data!Z645","v":"n.a."},{"$f":"_data!AA645","v":"n.a."},{"$f":"_data!AB645","v":"n.a."},{"$f":"_data!AC645","v":"n.a."},{"$f":"_data!AD645","v":"n.a."},{"$f":"_data!AE645","v":"n.a."},{"$f":"_data!AF645","v":"n.a."},{"$f":"_data!AG645","v":"n.a."},{"$f":"_data!AH645","v":"n.a."},{"$f":"_data!AI645","v":"n.a."},null,null,null,{"$f":"'DATA-OUTPUT EC per capita'!$C$37","v":0},{"$f":"IF(AM643=Z643,Z645,IF(AM643=AA643,AA645,IF(AM643=AB643,AB645,IF(AM643=AC643,AC645,IF(AM643=AD643,AD645,IF(AM643=AE643,AE645,IF(AM643=AF643,AF645,IF(AM643=AG643, AG645,IF(AM643=AH643,AH645,IF(AM643=AI643,AI645,\"Fehler\"))))))))))","v":"Fehler"},{"$f":"AM645*AN645","v":{"$error":"#VALUE!"}},{"$f":"AO645/'DATA-OUTPUT Co2 per capita'!$C$37-1","v":{"$error":"#VALUE!"}}]
["natural gas",0,0,0,0,0,0,0,0,0,0,null,"natural gas",{"$f":"IFERROR(B646/_data!B646-1,\"\")","v":""},{"$f":"IFERROR(C646/_data!C646-1,\"\")","v":""},{"$f":"IFERROR(D646/_data!D646-1,\"\")","v":""},{"$f":"IFERROR(E646/_data!E646-1,\"\")","v":""},{"$f":"IFERROR(F646/_data!F646-1,\"\")","v":""},{"$f":"IFERROR(G646/_data!G646-1,\"\")","v":""},{"$f":"IFERROR(H646/_data!H646-1,\"\")","v":""},{"$f":"IFERROR(I646/_data!I646-1,\"\")","v":""},{"$f":"IFERROR(J646/_data!J646-1,\"\")","v":""},{"$f":"IFERROR(K646/_data!K646-1,\"\")","v":""},null,"natural gas",{"$f":"_data!Z646","v":0.20200000000000001},{"$f":"_data!AA646","v":0.20200000000000001},{"$f":"_data!AB646","v":0.20200000000000001},{"$f":"_data!AC646","v":0.20200000000000001},{"$f":"_data!AD646","v":0.20200000000000001},{"$f":"_data!AE646","v":0.20200000000000001},{"$f":"_data!AF646","v":0.20200000000000001},{"$f":"_data!AG646","v":0.20200000000000001},{"$f":"_data!AH646","v":0.20200000000000001},{"$f":"_data!AI646","v":0.20200000000000001},null,null,null,{"$f":"'DATA-OUTPUT EC per capita'!$D$37","v":0},{"$f":"IF(AM643=Z643,Z646,IF(AM643=AA643,AA646,IF(AM643=AB643,AB646,IF(AM643=AC643,AC646,IF(AM643=AD643,AD646,IF(AM643=AE643,AE646,IF(AM643=AF643,AF646,IF(AM643=AG643, AG646,IF(AM643=AH643,AH646,IF(AM643=AI643,AI646,\"Fehler\"))))))))))","v":"Fehler"},{"$f":"AM646*AN646","v":{"$error":"#VALUE!"}},{"$f":"AO646/'DATA-OUTPUT Co2 per capita'!$D$37-1","v":{"$error":"#VALUE!"}}]
["Liquid gas",0,0,0,0,0,0,0,0,0,0,null,"Liquid gas",{"$f":"IFERROR(B647/_data!B647-1,\"\")","v":""},{"$f":"IFERROR(C647/_data!C647-1,\"\")","v":""},{"$f":"IFERROR(D647/_data!D647-1,\"\")","v":""},{"$f":"IFERROR(E647/_data!E647-1,\"\")","v":""},{"$f":"IFERROR(F647/_data!F647-1,\"\")","v":""},{"$f":"IFERROR(G647/_data!G647-1,\"\")","v":""},{"$f":"IFERROR(H647/_data!H647-1,\"\")","v":""},{"$f":"IFERROR(I647/_data!I647-1,\"\")","v":""},{"$f":"IFERROR(J647/_data!J647-1,\"\")","v":""},{"$f":"IFERROR(K647/_data!K647-1,\"\")","v":""},null,"Liquid gas",{"$f":"_data!Z647","v":0.23100000000000001},{"$f":"_data!AA647","v":0.23100000000000001},{"$f":"_data!AB647","v":0.23100000000000001},{"$f":"_data!AC647","v":0.23100000000000001},{"$f":"_data!AD647","v":0.23100000000000001},{"$f":"_data!AE647","v":0.23100000000000001},{"$f":"_data!AF647","v":0.23100000000000001},{"$f":"_data!AG647","v":0.23100000000000001},{"$f":"_data!AH647","v":0.23100000000000001},{"$f":"_data!AI647","v":0.23100000000000001},null,null,null,{"$f":"'DATA-OUTPUT EC per capita'!$E$37","v":0},{"$f":"IF(AM643=Z643,Z647,IF(AM643=AA643,AA647,IF(AM643=AB643,AB647,IF(AM643=AC643,AC647,IF(AM643=AD643,AD647,IF(AM643=AE643,AE647,IF(AM643=AF643,AF647,IF(AM643=AG643, AG647,IF(AM643=AH643,AH647,IF(AM643=AI643,AI647,\"Fehler\"))))))))))","v":"Fehler"},{"$error":"#VALUE!"},{"$f":"AO647/'DATA-OUTPUT Co2 per capita'!$E$37-1","v":{"$error":"#VALUE!"}}]
["heating oil / diesel",0,0,0,0,0,0,0,0,0,0,null,"heating oil / diesel",{"$f":"IFERROR(B648/_data!B648-1,\"\")","v":""},{"$f":"IFERROR(C648/_data!C648-1,\"\")","v":""},{"$f":"IFERROR(D648/_data!D648-1,\"\")","v":""},{"$f":"IFERROR(E648/_data!E648-1,\"\")","v":""},{"$f":"IFERROR(F648/_data!F648-1,\"\")","v":""},{"$f":"IFERROR(G648/_data!G648-1,\"\")","v":""},{"$f":"IFERROR(H648/_data!H648-1,\"\")","v":""},{"$f":"IFERROR(I648/_data!I648-1,\"\")","v":""},{"$f":"IFERROR(J648/_data!J648-1,\"\")","v":""},{"$f":"IFERROR(K648/_data!K648-1,\"\")","v":""},null,"heating oil / diesel",{"$f":"_data!Z648","v":0.26700000000000002},{"$f":"_data!AA648","v":0.26700000000000002},{"$f":"_data!AB648","v":0.26700000000000002},{"$f":"_data!AC648","v":0.26700000000000002},{"$f":"_data!AD648","v":0.26700000000000002},{"$f":"_data!AE648","v":0.26700000000000002},{"$f":"_data!AF648","v":0.26700000000000002},{"$f":"_data!AG648","v":0.26700000000000002},{"$f":"_data!AH648","v":0.26700000000000002},{"$f":"_data!AI648","v":0.26700000000000002},null,null,null,{"$f":"'DATA-OUTPUT EC per capita'!$F$37","v":0},{"$f":"IF(AM643=Z643,Z648,IF(AM643=AA643,AA648,IF(AM643=AB643,AB648,IF(AM643=AC643,AC648,IF(AM643=AD643,AD648,IF(AM643=AE643,AE648,IF(AM643=AF643,AF648,IF(AM643=AG643, AG648,IF(AM643=AH643,AH648,IF(AM643=AI643,AI648,\"Fehler\"))))))))))","v":"Fehler"},{"$error":"#VALUE!"},{"$f":"AO648/'DATA-OUTPUT Co2 per capita'!$F$37-1","v":{"$error":"#VALUE!"}}]
["gasoline",0,0,0,0,0,0,0,0,0,0,null,"gasoline",{"$f":"IFERROR(B649/_data!B649-1,\"\")","v":""},{"$f":"IFERROR(C649/_data!C649-1,\"\")","v":""},{"$f":"IFERROR(D649/_data!D649-1,\"\")","v":""},{"$f":"IFERROR(E649/_data!E649-1,\"\")","v":""},{"$f":"IFERROR(F649/_data!F649-1,\"\")","v":""},{"$f":"IFERROR(G649/_data!G649-1,\"\")","v":""},{"$f":"IFERROR(H649/_data!H649-1,\"\")","v":""},{"$f":"IFERROR(I649/_data!I649-1,\"\")","v":""},{"$f":"IFERROR(J649/_data!J649-1,\"\")","v":""},{"$f":"IFERROR(K649/_data!K649-1,\"\")","v":""},null,"gasoline",{"$f":"_data!Z649","v":0.249},{"$f":"_data!AA649","v":0.249},{"$f":"_data!AB649","v":0.249},{"$f":"_data!AC649","v":0.249},{"$f":"_data!AD649","v":0.249},{"$f":"_data!AE649","v":0.249},{"$f":"_data!AF649","v":0.249},{"$f":"_data!AG649","v":0.249},{"$f":"_data!AH649","v":0.249},{"$f":"_data!AI649","v":0.249},null,null,null,{"$f":"'DATA-OUTPUT EC per capita'!$G$37","v":0},{"$f":"IF(AM643=Z643,Z649,IF(AM643=AA643,AA649,IF(AM643=AB643,AB649,IF(AM643=AC643,AC649,IF(AM643=AD643,AD649,IF(AM643=AE643,AE649,IF(AM643=AF643,AF649,IF(AM643=AG643, AG649,IF(AM643=AH643,AH649,IF(AM643=AI643,AI649,\"Fehler\"))))))))))","v":"Fehler"},{"$error":"#VALUE!"},{"$f":"AO649/'DATA-OUTPUT Co2 per capita'!$G$37-1","v":{"$error":"#VALUE!"}}]
["Lignite / Coal",0,0,0,0,0,0,0,0,0,0,null,"Lignite / Coal",{"$f":"IFERROR(B650/_data!B650-1,\"\")","v":""},{"$f":"IFERROR(C650/_data!C650-1,\"\")","v":""},{"$f":"IFERROR(D650/_data!D650-1,\"\")","v":""},{"$f":"IFERROR(E650/_data!E650-1,\"\")","v":""},{"$f":"IFERROR(F650/_data!F650-1,\"\")","v":""},{"$f":"IFERROR(G650/_data!G650-1,\"\")","v":""},{"$f":"IFERROR(H650/_data!H650-1,\"\")","v":""},{"$f":"IFERROR(I650/_data!I650-1,\"\")","v":""},{"$f":"IFERROR(J650/_data!J650-1,\"\")","v":""},{"$f":"IFERROR(K650/_data!K650-1,\"\")","v":""},null,"Lignite / Coal",{"$f":"_data!Z650","v":0.36399999999999999},{"$f":"_data!AA650","v":0.36399999999999999},{"$f":"_data!AB650","v":0.36399999999999999},{"$f":"_data!AC650","v":0.36399999999999999},{"$f":"_data!AD650","v":0.36399999999999999},{"$f":"_data!AE650","v":0.36399999999999999},{"$f":"_data!AF650","v":0.36399999999999999},{"$f":"_data!AG650","v":0.36399999999999999},{"$f":"_data!AH650","v":0.36399999999999999},{"$f":"_data!AI650","v":0.36399999999999999},null,null,null,{"$f":"'DATA-OUTPUT EC per capita'!$H$37","v":0},{"$f":"IF(AM643=Z643,Z650,IF(AM643=AA643,AA650,IF(AM643=AB643,AB650,IF(AM643=AC643,AC650,IF(AM643=AD643,AD650,IF(AM643=AE643,AE650,IF(AM643=AF643,AF650,IF(AM643=AG643, AG650,IF(AM643=AH643,AH650,IF(AM643=AI643,AI650,\"Fehler\"))))))))))","v":"Fehler"},{"$error":"#VALUE!"},{"$f":"AO650/'DATA-OUTPUT Co2 per capita'!$H$37-1","v":{"$error":"#VALUE!"}}]
["other fossil fuels",0,0,0,0,0,0,0,0,0,0,null,"other fossil fuels",{"$f":"IFERROR(B651/_data!B651-1,\"\")","v":""},{"$f":"IFERROR(C651/_data!C651-1,\"\")","v":""},{"$f":"IFERROR(D651/_data!D651-1,\"\")","v":""},{"$f":"IFERROR(E651/_data!E651-1,\"\")","v":""},{"$f":"IFERROR(F651/_data!F651-1,\"\")","v":""},{"$f":"IFERROR(G651/_data!G651-1,\"\")","v":""},{"$f":"IFERROR(H651/_data!H651-1,\"\")","v":""},{"$f":"IFERROR(I651/_data!I651-1,\"\")","v":""},{"$f":"IFERROR(J651/_data!J651-1,\"\")","v":""},{"$f":"IFERROR(K651/_data!K651-1,\"\")","v":""},null,"other fossil fuels",{"$f":"_data!Z651","v":0.38200000000000001},{"$f":"_data!AA651","v":0.38200000000000001},{"$f":"_data!AB651","v":0.38200000000000001},{"$f":"_data!AC651","v":0.38200000000000001},{"$f":"_data!AD651","v":0.38200000000000001},{"$f":"_data!AE651","v":0.38200000000000001},{"$f":"_data!AF651","v":0.38200000000000001},{"$f":"_data!AG651","v":0.38200000000000001},{"$f":"_data!AH651","v":0.38200000000000001},{"$f":"_data!AI651","v":0.38200000000000001},null,null,null,{"$f":"'DATA-OUTPUT EC per capita'!$I$37","v":0},{"$f":"IF(AM643=Z643,Z651,IF(AM643=AA643,AA651,IF(AM643=AB643,AB651,IF(AM643=AC643,AC651,IF(AM643=AD643,AD651,IF(AM643=AE643,AE651,IF(AM643=AF643,AF651,IF(AM643=AG643, AG651,IF(AM643=AH643,AH651,IF(AM643=AI643,AI651,\"Fehler\"))))))))))","v":"Fehler"},{"$error":"#VALUE!"},{"$f":"AO651/'DATA-OUTPUT Co2 per capita'!$I$37-1","v":{"$error":"#VALUE!"}}]
["Plant oil, biofuel",0,0,0,0,0,0,0,0,0,0,null,"Plant oil, biofuel",{"$f":"IFERROR(B652/_data!B652-1,\"\")","v":""},{"$f":"IFERROR(C652/_data!C652-1,\"\")","v":""},{"$f":"IFERROR(D652/_data!D652-1,\"\")","v":""},{"$f":"IFERROR(E652/_data!E652-1,\"\")","v":""},{"$f":"IFERROR(F652/_data!F652-1,\"\")","v":""},{"$f":"IFERROR(G652/_data!G652-1,\"\")","v":""},{"$f":"IFERROR(H652/_data!H652-1,\"\")","v":""},{"$f":"IFERROR(I652/_data!I652-1,\"\")","v":""},{"$f":"IFERROR(J652/_data!J652-1,\"\")","v":""},{"$f":"IFERROR(K652/_data!K652-1,\"\")","v":""},null,"Plant oil, biofuel",{"$f":"_data!Z652","v":0},{"$f":"_data!AA652","v":0},{"$f":"_data!AB652","v":0},{"$f":"_data!AC652","v":0},{"$f":"_data!AD652","v":0},{"$f":"_data!AE652","v":0},{"$f":"_data!AF652","v":0},{"$f":"_data!AG652","v":0},{"$f":"_data!AH652","v":0},{"$f":"_data!AI652","v":0},null,null,null,{"$f":"'DATA-OUTPUT EC per capita'!$J$37","v":0},{"$f":"IF(AM643=Z643,Z652,IF(AM643=AA643,AA652,IF(AM643=AB643,AB652,IF(AM643=AC643,AC652,IF(AM643=AD643,AD652,IF(AM643=AE643,AE652,IF(AM643=AF643,AF652,IF(AM643=AG643, AG652,IF(AM643=AH643,AH652,IF(AM643=AI643,AI652,\"Fehler\"))))))))))","v":"Fehler"},{"$error":"#VALUE!"},{"$f":"AO652/'DATA-OUTPUT Co2 per capita'!$J$37-1","v":{"$error":"#VALUE!"}}]
["Summe",0.26411424683836121,0.28475087886473033,0.28411261347204159,0.28358014427888384,0.28293670031791818,0.32985767021820056,0.34714651350708264,0.37394590532034977,0.3734844539651635,0.39198253307536002,null,"Summe",{"$f":"IFERROR(B653/_data!B653-1,\"\")","v":0},{"$f":"IFERROR(C653/_data!C653-1,\"\")","v":0},{"$f":"IFERROR(D653/_data!D653-1,\"\")","v":0},{"$f":"IFERROR(E653/_data!E653-1,\"\")","v":0},{"$f":"IFERROR(F653/_data!F653-1,\"\")","v":0},{"$f":"IFERROR(G653/_data!G653-1,\"\")","v":0},{"$f":"IFERROR(H653/_data!H653-1,\"\")","v":0},{"$f":"IFERROR(I653/_data!I653-1,\"\")","v":0},{"$f":"IFERROR(J653/_data!J653-1,\"\")","v":0},{"$f":"IFERROR(K653/_data!K653-1,\"\")","v":0},null,null,null,null,null,null,null,null,null,null,null,null,null,null,"Total",null,null,{"$f":"SUM(AO644:AO652)","v":{"$error":"#VALUE!"}},{"$f":"AO653/'DATA-OUTPUT Co2 per capita'!$K$37-1","v":{"$error":"#VALUE!"}}]
[]
["Energy consumption (MWh /Einwohner and  Year) - Primary sector (Agriculture)",null,null,null,null,null,null,null,null,null,null,null,"Test:",{"$f":"A655","v":"Energy consumption (MWh /Einwohner and  Year) - Primary sector (Agriculture)"}]
["Energieträger",2000,2001,2002,2003,2004,2005,2006,2007,2008,2009,null,"Energieträger",2000,2001,2002,2003,2004,2005,2006,2007,2008,2009]
["Electricity",0.399873906428173,0.43084895087548136,0.43000338374801456,0.42922499393275948,0.42836758369621264,0.49894044193345405,0.52520299885532473,0.56574968338941767,0.56499901368025029,0.59302210176805936,null,"Electricity",{"$f":"IFERROR(B657/_data!B657-1,\"\")","v":0},{"$f":"IFERROR(C657/_data!C657-1,\"\")","v":0},{"$f":"IFERROR(D657/_data!D657-1,\"\")","v":0},{"$f":"IFERROR(E657/_data!E657-1,\"\")","v":0},{"$f":"IFERROR(F657/_data!F657-1,\"\")","v":0},{"$f":"IFERROR(G657/_data!G657-1,\"\")","v":0},{"$f":"IFERROR(H657/_data!H657-1,\"\")","v":0},{"$f":"IFERROR(I657/_data!I657-1,\"\")","v":0},{"$f":"IFERROR(J657/_data!J657-1,\"\")","v":0},{"$f":"IFERROR(K657/_data!K657-1,\"\")","v":0}]
["Heat and Cold",0,0,0,0,0,0,0,0,0,0,null,"Heat and Cold",{"$f":"IFERROR(B658/_data!B658-1,\"\")","v":""},{"$f":"IFERROR(C658/_data!C658-1,\"\")","v":""},{"$f":"IFERROR(D658/_data!D658-1,\"\")","v":""},{"$f":"IFERROR(E658/_data!E658-1,\"\")","v":""},{"$f":"IFERROR(F658/_data!F658-1,\"\")","v":""},{"$f":"IFERROR(G658/_data!G658-1,\"\")","v":""},{"$f":"IFERROR(H658/_data!H658-1,\"\")","v":""},{"$f":"IFERROR(I658/_data!I658-1,\"\")","v":""},{"$f":"IFERROR(J658/_data!J658-1,\"\")","v":""},{"$f":"IFERROR(K658/_data!K658-1,\"\")","v":""}]
["natural gas",0,0,0,0,0,0,0,0,0,0,null,"natural gas",{"$f":"IFERROR(B659/_data!B659-1,\"\")","v":""},{"$f":"IFERROR(C659/_data!C659-1,\"\")","v":""},{"$f":"IFERROR(D659/_data!D659-1,\"\")","v":""},{"$f":"IFERROR(E659/_data!E659-1,\"\")","v":""},{"$f":"IFERROR(F659/_data!F659-1,\"\")","v":""},{"$f":"IFERROR(G659/_data!G659-1,\"\")","v":""},{"$f":"IFERROR(H659/_data!H659-1,\"\")","v":""},{"$f":"IFERROR(I659/_data!I659-1,\"\")","v":""},{"$f":"IFERROR(J659/_data!J659-1,\"\")","v":""},{"$f":"IFERROR(K659/_data!K659-1,\"\")","v":""}]
["Liquid gas",0,0,0,0,0,0,0,0,0,0,null,"Liquid gas",{"$f":"IFERROR(B660/_data!B660-1,\"\")","v":""},{"$f":"IFERROR(C660/_data!C660-1,\"\")","v":""},{"$f":"IFERROR(D660/_data!D660-1,\"\")","v":""},{"$f":"IFERROR(E660/_data!E660-1,\"\")","v":""},{"$f":"IFERROR(F660/_data!F660-1,\"\")","v":""},{"$f":"IFERROR(G660/_data!G660-1,\"\")","v":""},{"$f":"IFERROR(H660/_data!H660-1,\"\")","v":""},{"$f":"IFERROR(I660/_data!I660-1,\"\")","v":""},{"$f":"IFERROR(J660/_data!J660-1,\"\")","v":""},{"$f":"IFERROR(K660/_data!K660-1,\"\")","v":""}]
["heating oil / diesel",0,0,0,0,0,0,0,0,0,0,null,"heating oil / diesel",{"$f":"IFERROR(B661/_data!B661-1,\"\")","v":""},{"$f":"IFERROR(C661/_data!C661-1,\"\")","v":""},{"$f":"IFERROR(D661/_data!D661-1,\"\")","v":""},{"$f":"IFERROR(E661/_data!E661-1,\"\")","v":""},{"$f":"IFERROR(F661/_data!F661-1,\"\")","v":""},{"$f":"IFERROR(G661/_data!G661-1,\"\")","v":""},{"$f":"IFERROR(H661/_data!H661-1,\"\")","v":""},{"$f":"IFERROR(I661/_data!I661-1,\"\")","v":""},{"$f":"IFERROR(J661/_data!J661-1,\"\")","v":""},{"$f":"IFERROR(K661/_data!K661-1,\"\")","v":""}]
["gasoline",0,0,0,0,0,0,0,0,0,0,null,"gasoline",{"$f":"IFERROR(B662/_data!B662-1,\"\")","v":""},{"$f":"IFERROR(C662/_data!C662-1,\"\")","v":""},{"$f":"IFERROR(D662/_data!D662-1,\"\")","v":""},{"$f":"IFERROR(E662/_data!E662-1,\"\")","v":""},{"$f":"IFERROR(F662/_data!F662-1,\"\")","v":""},{"$f":"IFERROR(G662/_data!G662-1,\"\")","v":""},{"$f":"IFERROR(H662/_data!H662-1,\"\")","v":""},{"$f":"IFERROR(I662/_data!I662-1,\"\")","v":""},{"$f":"IFERROR(J662/_data!J662-1,\"\")","v":""},{"$f":"IFERROR(K662/_data!K662-1,\"\")","v":""}]
["Lignite / Coal",0,0,0,0,0,0,0,0,0,0,null,"Lignite / Coal",{"$f":"IFERROR(B663/_data!B663-1,\"\")","v":""},{"$f":"IFERROR(C663/_data!C663-1,\"\")","v":""},{"$f":"IFERROR(D663/_data!D663-1,\"\")","v":""},{"$f":"IFERROR(E663/_data!E663-1,\"\")","v":""},{"$f":"IFERROR(F663/_data!F663-1,\"\")","v":""},{"$f":"IFERROR(G663/_data!G663-1,\"\")","v":""},{"$f":"IFERROR(H663/_data!H663-1,\"\")","v":""},{"$f":"IFERROR(I663/_data!I663-1,\"\")","v":""},{"$f":"IFERROR(J663/_data!J663-1,\"\")","v":""},{"$f":"IFERROR(K663/_data!K663-1,\"\")","v":""}]
["other fossil fuels",0,0,0,0,0,0,0,0,0,0,null,"other fossil fuels",{"$f":"IFERROR(B664/_data!B664-1,\"\")","v":""},{"$f":"IFERROR(C664/_data!C664-1,\"\")","v":""},{"$f":"IFERROR(D664/_data!D664-1,\"\")","v":""},{"$f":"IFERROR(E664/_data!E664-1,\"\")","v":""},{"$f":"IFERROR(F664/_data!F664-1,\"\")","v":""},{"$f":"IFERROR(G664/_data!G664-1,\"\")","v":""},{"$f":"IFERROR(H664/_data!H664-1,\"\")","v":""},{"$f":"IFERROR(I664/_data!I664-1,\"\")","v":""},{"$f":"IFERROR(J664/_data!J664-1,\"\")","v":""},{"$f":"IFERROR(K664/_data!K664-1,\"\")","v":""}]
["Plant oil, biofuel",0,0,0,0,0,0,0,0,0,0,null,"Plant oil, biofuel",{"$f":"IFERROR(B665/_data!B665-1,\"\")","v":""},{"$f":"IFERROR(C665/_data!C665-1,\"\")","v":""},{"$f":"IFERROR(D665/_data!D665-1,\"\")","v":""},{"$f":"IFERROR(E665/_data!E665-1,\"\")","v":""},{"$f":"IFERROR(F665/_data!F665-1,\"\")","v":""},{"$f":"IFERROR(G665/_data!G665-1,\"\")","v":""},{"$f":"IFERROR(H665/_data!H665-1,\"\")","v":""},{"$f":"IFERROR(I665/_data!I665-1,\"\")","v":""},{"$f":"IFERROR(J665/_data!J665-1,\"\")","v":""},{"$f":"IFERROR(K665/_data!K665-1,\"\")","v":""}]
["Summe",0.399873906428173,0.43084895087548136,0.43000338374801456,0.42922499393275948,0.42836758369621264,0.49894044193345405,0.52520299885532473,0.56574968338941767,0.56499901368025029,0.59302210176805936,null,"Summe",{"$f":"IFERROR(B666/_data!B666-1,\"\")","v":0},{"$f":"IFERROR(C666/_data!C666-1,\"\")","v":0},{"$f":"IFERROR(D666/_data!D666-1,\"\")","v":0},{"$f":"IFERROR(E666/_data!E666-1,\"\")","v":0},{"$f":"IFERROR(F666/_data!F666-1,\"\")","v":0},{"$f":"IFERROR(G666/_data!G666-1,\"\")","v":0},{"$f":"IFERROR(H666/_data!H666-1,\"\")","v":0},{"$f":"IFERROR(I666/_data!I666-1,\"\")","v":0},{"$f":"IFERROR(J666/_data!J666-1,\"\")","v":0},{"$f":"IFERROR(K666/_data!K666-1,\"\")","v":0}]
[]
["Energy consumption (MWh /Einwohner and  Year) - Secondary sector (Industrie)",null,null,null,null,null,null,null,null,null,null,null,"Test:",{"$f":"A668","v":"Energy consumption (MWh /Einwohner and  Year) - Secondary sector (Industrie)"}]
["Energieträger",2000,2001,2002,2003,2004,2005,2006,2007,2008,2009,null,"Energieträger",2000,2001,2002,2003,2004,2005,2006,2007,2008,2009]
["Electricity",0.45386922558321174,0.48906848333089348,0.48779207048398554,0.48665819069819838,0.48543989051201347,0.56528641533314172,0.59479427626725945,0.64087044773599156,0.64005735926012375,0.67173098951095578,null,"Electricity",{"$f":"IFERROR(B670/_data!B670-1,\"\")","v":0},{"$f":"IFERROR(C670/_data!C670-1,\"\")","v":0},{"$f":"IFERROR(D670/_data!D670-1,\"\")","v":0},{"$f":"IFERROR(E670/_data!E670-1,\"\")","v":0},{"$f":"IFERROR(F670/_data!F670-1,\"\")","v":0},{"$f":"IFERROR(G670/_data!G670-1,\"\")","v":0},{"$f":"IFERROR(H670/_data!H670-1,\"\")","v":0},{"$f":"IFERROR(I670/_data!I670-1,\"\")","v":0},{"$f":"IFERROR(J670/_data!J670-1,\"\")","v":0},{"$f":"IFERROR(K670/_data!K670-1,\"\")","v":0}]
["Heat and Cold",0,0,0,0,0,0,0,0,0,0,null,"Heat and Cold",{"$f":"IFERROR(B671/_data!B671-1,\"\")","v":""},{"$f":"IFERROR(C671/_data!C671-1,\"\")","v":""},{"$f":"IFERROR(D671/_data!D671-1,\"\")","v":""},{"$f":"IFERROR(E671/_data!E671-1,\"\")","v":""},{"$f":"IFERROR(F671/_data!F671-1,\"\")","v":""},{"$f":"IFERROR(G671/_data!G671-1,\"\")","v":""},{"$f":"IFERROR(H671/_data!H671-1,\"\")","v":""},{"$f":"IFERROR(I671/_data!I671-1,\"\")","v":""},{"$f":"IFERROR(J671/_data!J671-1,\"\")","v":""},{"$f":"IFERROR(K671/_data!K671-1,\"\")","v":""}]
["natural gas",0.79697091072837256,0.82428849567636364,0.82727796058809144,0.90871150553433688,0.94550773996290916,0.98781782617312841,1.0185895367159994,1.1792930950845706,1.1715653278471725,1.6348689454066676,null,"natural gas",{"$f":"IFERROR(B672/_data!B672-1,\"\")","v":0},{"$f":"IFERROR(C672/_data!C672-1,\"\")","v":0},{"$f":"IFERROR(D672/_data!D672-1,\"\")","v":0},{"$f":"IFERROR(E672/_data!E672-1,\"\")","v":0},{"$f":"IFERROR(F672/_data!F672-1,\"\")","v":0},{"$f":"IFERROR(G672/_data!G672-1,\"\")","v":0},{"$f":"IFERROR(H672/_data!H672-1,\"\")","v":0},{"$f":"IFERROR(I672/_data!I672-1,\"\")","v":0},{"$f":"IFERROR(J672/_data!J672-1,\"\")","v":0},{"$f":"IFERROR(K672/_data!K672-1,\"\")","v":0}]
["Liquid gas",0,0,0,0,0,0,0,0,0,0,null,"Liquid gas",{"$f":"IFERROR(B673/_data!B673-1,\"\")","v":""},{"$f":"IFERROR(C673/_data!C673-1,\"\")","v":""},{"$f":"IFERROR(D673/_data!D673-1,\"\")","v":""},{"$f":"IFERROR(E673/_data!E673-1,\"\")","v":""},{"$f":"IFERROR(F673/_data!F673-1,\"\")","v":""},{"$f":"IFERROR(G673/_data!G673-1,\"\")","v":""},{"$f":"IFERROR(H673/_data!H673-1,\"\")","v":""},{"$f":"IFERROR(I673/_data!I673-1,\"\")","v":""},{"$f":"IFERROR(J673/_data!J673-1,\"\")","v":""},{"$f":"IFERROR(K673/_data!K673-1,\"\")","v":""}]
["heating oil / diesel",0,0,0,0,0,0,0,0,0,0,null,"heating oil / diesel",{"$f":"IFERROR(B674/_data!B674-1,\"\")","v":""},{"$f":"IFERROR(C674/_data!C674-1,\"\")","v":""},{"$f":"IFERROR(D674/_data!D674-1,\"\")","v":""},{"$f":"IFERROR(E674/_data!E674-1,\"\")","v":""},{"$f":"IFERROR(F674/_data!F674-1,\"\")","v":""},{"$f":"IFERROR(G674/_data!G674-1,\"\")","v":""},{"$f":"IFERROR(H674/_data!H674-1,\"\")","v":""},{"$f":"IFERROR(I674/_data!I674-1,\"\")","v":""},{"$f":"IFERROR(J674/_data!J674-1,\"\")","v":""},{"$f":"IFERROR(K674/_data!K674-1,\"\")","v":""}]
["gasoline",0,0,0,0,0,0,0,0,0,0,null,"gasoline",{"$f":"IFERROR(B675/_data!B675-1,\"\")","v":""},{"$f":"IFERROR(C675/_data!C675-1,\"\")","v":""},{"$f":"IFERROR(D675/_data!D675-1,\"\")","v":""},{"$f":"IFERROR(E675/_data!E675-1,\"\")","v":""},{"$f":"IFERROR(F675/_data!F675-1,\"\")","v":""},{"$f":"IFERROR(G675/_data!G675-1,\"\")","v":""},{"$f":"IFERROR(H675/_data!H675-1,\"\")","v":""},{"$f":"IFERROR(I675/_data!I675-1,\"\")","v":""},{"$f":"IFERROR(J675/_data!J675-1,\"\")","v":""},{"$f":"IFERROR(K675/_data!K675-1,\"\")","v":""}]
["Lignite / Coal",0,0,0,0,0,0,0,0,0,0,null,"Lignite / Coal",{"$f":"IFERROR(B676/_data!B676-1,\"\")","v":""},{"$f":"IFERROR(C676/_data!C676-1,\"\")","v":""},{"$f":"IFERROR(D676/_data!D676-1,\"\")","v":""},{"$f":"IFERROR(E676/_data!E676-1,\"\")","v":""},{"$f":"IFERROR(F676/_data!F676-1,\"\")","v":""},{"$f":"IFERROR(G676/_data!G676-1,\"\")","v":""},{"$f":"IFERROR(H676/_data!H676-1,\"\")","v":""},{"$f":"IFERROR(I676/_data!I676-1,\"\")","v":""},{"$f":"IFERROR(J676/_data!J676-1,\"\")","v":""},{"$f":"IFERROR(K676/_data!K676-1,\"\")","v":""}]
["other fossil fuels",0,0,0,0,0,0,0,0,0,0,null,"other fossil fuels",{"$f":"IFERROR(B677/_data!B677-1,\"\")","v":""},{"$f":"IFERROR(C677/_data!C677-1,\"\")","v":""},{"$f":"IFERROR(D677/_data!D677-1,\"\")","v":""},{"$f":"IFERROR(E677/_data!E677-1,\"\")","v":""},{"$f":"IFERROR(F677/_data!F677-1,\"\")","v":""},{"$f":"IFERROR(G677/_data!G677-1,\"\")","v":""},{"$f":"IFERROR(H677/_data!H677-1,\"\")","v":""},{"$f":"IFERROR(I677/_data!I677-1,\"\")","v":""},{"$f":"IFERROR(J677/_data!J677-1,\"\")","v":""},{"$f":"IFERROR(K677/_data!K677-1,\"\")","v":""}]
["Plant oil, biofuel",0,0,0,0,0,0,0,0,0,0,null,"Plant oil, biofuel",{"$f":"IFERROR(B678/_data!B678-1,\"\")","v":""},{"$f":"IFERROR(C678/_data!C678-1,\"\")","v":""},{"$f":"IFERROR(D678/_data!D678-1,\"\")","v":""},{"$f":"IFERROR(E678/_data!E678-1,\"\")","v":""},{"$f":"IFERROR(F678/_data!F678-1,\"\")","v":""},{"$f":"IFERROR(G678/_data!G678-1,\"\")","v":""},{"$f":"IFERROR(H678/_data!H678-1,\"\")","v":""},{"$f":"IFERROR(I678/_data!I678-1,\"\")","v":""},{"$f":"IFERROR(J678/_data!J678-1,\"\")","v":""},{"$f":"IFERROR(K678/_data!K678-1,\"\")","v":""}]
["Summe",1.2508401363115844,1.3133569790072572,1.3150700310720769,1.3953696962325353,1.4309476304749227,1.5531042415062701,1.6133838129832587,1.8201635428205623,1.8116226871072962,2.3065999349176236,null,"Summe",{"$f":"IFERROR(B679/_data!B679-1,\"\")","v":0},{"$f":"IFERROR(C679/_data!C679-1,\"\")","v":0},{"$f":"IFERROR(D679/_data!D679-1,\"\")","v":0},{"$f":"IFERROR(E679/_data!E679-1,\"\")","v":0},{"$f":"IFERROR(F679/_data!F679-1,\"\")","v":0},{"$f":"IFERROR(G679/_data!G679-1,\"\")","v":0},{"$f":"IFERROR(H679/_data!H679-1,\"\")","v":0},{"$f":"IFERROR(I679/_data!I679-1,\"\")","v":0},{"$f":"IFERROR(J679/_data!J679-1,\"\")","v":0},{"$f":"IFERROR(K679/_data!K679-1,\"\")","v":0}]
[]
["Energy consumption (MWh /Einwohner and  Year) - Tertiary sector (Services)",null,null,null,null,null,null,null,null,null,null,null,"Test:",{"$f":"A681","v":"Energy consumption (MWh /Einwohner and  Year) - Tertiary sector (Services)"}]
["Energieträger",2000,2001,2002,2003,2004,2005,2006,2007,2008,2009,null,"Energieträger",2000,2001,2002,2003,2004,2005,2006,2007,2008,2009]
["Electricity",0.10706500426741977,0.11491339582132175,0.11545660296674679,0.11618120136525821,0.1168651588269662,0.13667036495738144,0.14473597347020845,0.15601565137123294,0.15576442220413142,0.16344226866526326,null,"Electricity",{"$f":"IFERROR(B683/_data!B683-1,\"\")","v":0},{"$f":"IFERROR(C683/_data!C683-1,\"\")","v":0},{"$f":"IFERROR(D683/_data!D683-1,\"\")","v":0},{"$f":"IFERROR(E683/_data!E683-1,\"\")","v":0},{"$f":"IFERROR(F683/_data!F683-1,\"\")","v":0},{"$f":"IFERROR(G683/_data!G683-1,\"\")","v":0},{"$f":"IFERROR(H683/_data!H683-1,\"\")","v":0},{"$f":"IFERROR(I683/_data!I683-1,\"\")","v":0},{"$f":"IFERROR(J683/_data!J683-1,\"\")","v":0},{"$f":"IFERROR(K683/_data!K683-1,\"\")","v":0}]
["Heat and Cold",0,0,0,0,0,0,0,0,0,0,null,"Heat and Cold",{"$f":"IFERROR(B684/_data!B684-1,\"\")","v":""},{"$f":"IFERROR(C684/_data!C684-1,\"\")","v":""},{"$f":"IFERROR(D684/_data!D684-1,\"\")","v":""},{"$f":"IFERROR(E684/_data!E684-1,\"\")","v":""},{"$f":"IFERROR(F684/_data!F684-1,\"\")","v":""},{"$f":"IFERROR(G684/_data!G684-1,\"\")","v":""},{"$f":"IFERROR(H684/_data!H684-1,\"\")","v":""},{"$f":"IFERROR(I684/_data!I684-1,\"\")","v":""},{"$f":"IFERROR(J684/_data!J684-1,\"\")","v":""},{"$f":"IFERROR(K684/_data!K684-1,\"\")","v":""}]
["natural gas",17.376495920261789,18.10114834549243,18.866406010100714,20.756811517372387,15.957771839419038,16.591758903366351,12.879476954967073,17.163493906311075,15.775072921244153,15.483449512337359,null,"natural gas",{"$f":"IFERROR(B685/_data!B685-1,\"\")","v":0},{"$f":"IFERROR(C685/_data!C685-1,\"\")","v":0},{"$f":"IFERROR(D685/_data!D685-1,\"\")","v":0},{"$f":"IFERROR(E685/_data!E685-1,\"\")","v":0},{"$f":"IFERROR(F685/_data!F685-1,\"\")","v":0},{"$f":"IFERROR(G685/_data!G685-1,\"\")","v":0},{"$f":"IFERROR(H685/_data!H685-1,\"\")","v":0},{"$f":"IFERROR(I685/_data!I685-1,\"\")","v":0},{"$f":"IFERROR(J685/_data!J685-1,\"\")","v":0},{"$f":"IFERROR(K685/_data!K685-1,\"\")","v":0}]
["Liquid gas",0,0,0,0,0,0,0,0,0,0,null,"Liquid gas",{"$f":"IFERROR(B686/_data!B686-1,\"\")","v":""},{"$f":"IFERROR(C686/_data!C686-1,\"\")","v":""},{"$f":"IFERROR(D686/_data!D686-1,\"\")","v":""},{"$f":"IFERROR(E686/_data!E686-1,\"\")","v":""},{"$f":"IFERROR(F686/_data!F686-1,\"\")","v":""},{"$f":"IFERROR(G686/_data!G686-1,\"\")","v":""},{"$f":"IFERROR(H686/_data!H686-1,\"\")","v":""},{"$f":"IFERROR(I686/_data!I686-1,\"\")","v":""},{"$f":"IFERROR(J686/_data!J686-1,\"\")","v":""},{"$f":"IFERROR(K686/_data!K686-1,\"\")","v":""}]
["heating oil / diesel",3.9680080140654908,4.7705841625833045,4.5005128761044126,4.8213405646808001,4.6885047904897501,4.8100830714773606,4.5834793708892994,5.065048979310049,5.4803887735396302,4.9421483539031836,null,"heating oil / diesel",{"$f":"IFERROR(B687/_data!B687-1,\"\")","v":0},{"$f":"IFERROR(C687/_data!C687-1,\"\")","v":0},{"$f":"IFERROR(D687/_data!D687-1,\"\")","v":0},{"$f":"IFERROR(E687/_data!E687-1,\"\")","v":0},{"$f":"IFERROR(F687/_data!F687-1,\"\")","v":0},{"$f":"IFERROR(G687/_data!G687-1,\"\")","v":0},{"$f":"IFERROR(H687/_data!H687-1,\"\")","v":0},{"$f":"IFERROR(I687/_data!I687-1,\"\")","v":0},{"$f":"IFERROR(J687/_data!J687-1,\"\")","v":0},{"$f":"IFERROR(K687/_data!K687-1,\"\")","v":0}]
["gasoline",0,0,0,0,0,0,0,0,0,0,null,"gasoline",{"$f":"IFERROR(B688/_data!B688-1,\"\")","v":""},{"$f":"IFERROR(C688/_data!C688-1,\"\")","v":""},{"$f":"IFERROR(D688/_data!D688-1,\"\")","v":""},{"$f":"IFERROR(E688/_data!E688-1,\"\")","v":""},{"$f":"IFERROR(F688/_data!F688-1,\"\")","v":""},{"$f":"IFERROR(G688/_data!G688-1,\"\")","v":""},{"$f":"IFERROR(H688/_data!H688-1,\"\")","v":""},{"$f":"IFERROR(I688/_data!I688-1,\"\")","v":""},{"$f":"IFERROR(J688/_data!J688-1,\"\")","v":""},{"$f":"IFERROR(K688/_data!K688-1,\"\")","v":""}]
["Lignite / Coal",0,0,0,0,0,0,0,0,0,0,null,"Lignite / Coal",{"$f":"IFERROR(B689/_data!B689-1,\"\")","v":""},{"$f":"IFERROR(C689/_data!C689-1,\"\")","v":""},{"$f":"IFERROR(D689/_data!D689-1,\"\")","v":""},{"$f":"IFERROR(E689/_data!E689-1,\"\")","v":""},{"$f":"IFERROR(F689/_data!F689-1,\"\")","v":""},{"$f":"IFERROR(G689/_data!G689-1,\"\")","v":""},{"$f":"IFERROR(H689/_data!H689-1,\"\")","v":""},{"$f":"IFERROR(I689/_data!I689-1,\"\")","v":""},{"$f":"IFERROR(J689/_data!J689-1,\"\")","v":""},{"$f":"IFERROR(K689/_data!K689-1,\"\")","v":""}]
["other fossil fuels",0.22486736342967009,0.2223815264858717,0.22004386046591279,0.21777998856738728,0.21551449330236072,0.21319640834961381,0.21079851611728198,0.20832577266279692,0.20580331925738027,0.20327086246287349,null,"other fossil fuels",{"$f":"IFERROR(B690/_data!B690-1,\"\")","v":0},{"$f":"IFERROR(C690/_data!C690-1,\"\")","v":0},{"$f":"IFERROR(D690/_data!D690-1,\"\")","v":0},{"$f":"IFERROR(E690/_data!E690-1,\"\")","v":0},{"$f":"IFERROR(F690/_data!F690-1,\"\")","v":0},{"$f":"IFERROR(G690/_data!G690-1,\"\")","v":0},{"$f":"IFERROR(H690/_data!H690-1,\"\")","v":0},{"$f":"IFERROR(I690/_data!I690-1,\"\")","v":0},{"$f":"IFERROR(J690/_data!J690-1,\"\")","v":0},{"$f":"IFERROR(K690/_data!K690-1,\"\")","v":0}]
["Plant oil, biofuel",0,0,0,0,0,0,0,0,0,0,null,"Plant oil, biofuel",{"$f":"IFERROR(B691/_data!B691-1,\"\")","v":""},{"$f":"IFERROR(C691/_data!C691-1,\"\")","v":""},{"$f":"IFERROR(D691/_data!D691-1,\"\")","v":""},{"$f":"IFERROR(E691/_data!E691-1,\"\")","v":""},{"$f":"IFERROR(F691/_data!F691-1,\"\")","v":""},{"$f":"IFERROR(G691/_data!G691-1,\"\")","v":""},{"$f":"IFERROR(H691/_data!H691-1,\"\")","v":""},{"$f":"IFERROR(I691/_data!I691-1,\"\")","v":""},{"$f":"IFERROR(J691/_data!J691-1,\"\")","v":""},{"$f":"IFERROR(K691/_data!K691-1,\"\")","v":""}]
["Summe",21.676436302024367,23.209027430382928,23.70241934963779,25.912113271985831,20.978656282038113,21.751708748150708,17.818490815443862,22.592884309655155,21.617029436245293,20.792310997368681,null,"Summe",{"$f":"IFERROR(B692/_data!B692-1,\"\")","v":0},{"$f":"IFERROR(C692/_data!C692-1,\"\")","v":0},{"$f":"IFERROR(D692/_data!D692-1,\"\")","v":0},{"$f":"IFERROR(E692/_data!E692-1,\"\")","v":0},{"$f":"IFERROR(F692/_data!F692-1,\"\")","v":0},{"$f":"IFERROR(G692/_data!G692-1,\"\")","v":0},{"$f":"IFERROR(H692/_data!H692-1,\"\")","v":0},{"$f":"IFERROR(I692/_data!I692-1,\"\")","v":0},{"$f":"IFERROR(J692/_data!J692-1,\"\")","v":0},{"$f":"IFERROR(K692/_data!K692-1,\"\")","v":0}]
[]
["Energy consumption (MWh /Einwohner and  Year) - Road",null,null,null,null,null,null,null,null,null,null,null,"Test:",{"$f":"A694","v":"Energy consumption (MWh /Einwohner and  Year) - Road"}]
["Energieträger",2000,2001,2002,2003,2004,2005,2006,2007,2008,2009,null,"Energieträger",2000,2001,2002,2003,2004,2005,2006,2007,2008,2009]
["Electricity",0,0,0,0,0,0,0,0,0,0,null,"Electricity",{"$f":"IFERROR(B696/_data!B696-1,\"\")","v":""},{"$f":"IFERROR(C696/_data!C696-1,\"\")","v":""},{"$f":"IFERROR(D696/_data!D696-1,\"\")","v":""},{"$f":"IFERROR(E696/_data!E696-1,\"\")","v":""},{"$f":"IFERROR(F696/_data!F696-1,\"\")","v":""},{"$f":"IFERROR(G696/_data!G696-1,\"\")","v":""},{"$f":"IFERROR(H696/_data!H696-1,\"\")","v":""},{"$f":"IFERROR(I696/_data!I696-1,\"\")","v":""},{"$f":"IFERROR(J696/_data!J696-1,\"\")","v":""},{"$f":"IFERROR(K696/_data!K696-1,\"\")","v":""}]
["Heat and Cold",0,0,0,0,0,0,0,0,0,0,null,"Heat and Cold",{"$f":"IFERROR(B697/_data!B697-1,\"\")","v":""},{"$f":"IFERROR(C697/_data!C697-1,\"\")","v":""},{"$f":"IFERROR(D697/_data!D697-1,\"\")","v":""},{"$f":"IFERROR(E697/_data!E697-1,\"\")","v":""},{"$f":"IFERROR(F697/_data!F697-1,\"\")","v":""},{"$f":"IFERROR(G697/_data!G697-1,\"\")","v":""},{"$f":"IFERROR(H697/_data!H697-1,\"\")","v":""},{"$f":"IFERROR(I697/_data!I697-1,\"\")","v":""},{"$f":"IFERROR(J697/_data!J697-1,\"\")","v":""},{"$f":"IFERROR(K697/_data!K697-1,\"\")","v":""}]
["natural gas",0,0,0,0,0,0,0,0,0,0,null,"natural gas",{"$f":"IFERROR(B698/_data!B698-1,\"\")","v":""},{"$f":"IFERROR(C698/_data!C698-1,\"\")","v":""},{"$f":"IFERROR(D698/_data!D698-1,\"\")","v":""},{"$f":"IFERROR(E698/_data!E698-1,\"\")","v":""},{"$f":"IFERROR(F698/_data!F698-1,\"\")","v":""},{"$f":"IFERROR(G698/_data!G698-1,\"\")","v":""},{"$f":"IFERROR(H698/_data!H698-1,\"\")","v":""},{"$f":"IFERROR(I698/_data!I698-1,\"\")","v":""},{"$f":"IFERROR(J698/_data!J698-1,\"\")","v":""},{"$f":"IFERROR(K698/_data!K698-1,\"\")","v":""}]
["Liquid gas",0,0,0,0,0,0,0,0,0,0,null,"Liquid gas",{"$f":"IFERROR(B699/_data!B699-1,\"\")","v":""},{"$f":"IFERROR(C699/_data!C699-1,\"\")","v":""},{"$f":"IFERROR(D699/_data!D699-1,\"\")","v":""},{"$f":"IFERROR(E699/_data!E699-1,\"\")","v":""},{"$f":"IFERROR(F699/_data!F699-1,\"\")","v":""},{"$f":"IFERROR(G699/_data!G699-1,\"\")","v":""},{"$f":"IFERROR(H699/_data!H699-1,\"\")","v":""},{"$f":"IFERROR(I699/_data!I699-1,\"\")","v":""},{"$f":"IFERROR(J699/_data!J699-1,\"\")","v":""},{"$f":"IFERROR(K699/_data!K699-1,\"\")","v":""}]
["heating oil / diesel",0,0,0,0,0,0,0,0,0,0,null,"heating oil / diesel",{"$f":"IFERROR(B700/_data!B700-1,\"\")","v":""},{"$f":"IFERROR(C700/_data!C700-1,\"\")","v":""},{"$f":"IFERROR(D700/_data!D700-1,\"\")","v":""},{"$f":"IFERROR(E700/_data!E700-1,\"\")","v":""},{"$f":"IFERROR(F700/_data!F700-1,\"\")","v":""},{"$f":"IFERROR(G700/_data!G700-1,\"\")","v":""},{"$f":"IFERROR(H700/_data!H700-1,\"\")","v":""},{"$f":"IFERROR(I700/_data!I700-1,\"\")","v":""},{"$f":"IFERROR(J700/_data!J700-1,\"\")","v":""},{"$f":"IFERROR(K700/_data!K700-1,\"\")","v":""}]
["gasoline",1.2967515848274116,1.6875120665168288,1.9803343589406175,2.0650849958719815,1.8979942697747971,1.9496004158710707,1.8564615749823858,2.0508426022866395,2.2196147777536508,2.001080035436515,null,"gasoline",{"$f":"IFERROR(B701/_data!B701-1,\"\")","v":0},{"$f":"IFERROR(C701/_data!C701-1,\"\")","v":0},{"$f":"IFERROR(D701/_data!D701-1,\"\")","v":0},{"$f":"IFERROR(E701/_data!E701-1,\"\")","v":0},{"$f":"IFERROR(F701/_data!F701-1,\"\")","v":0},{"$f":"IFERROR(G701/_data!G701-1,\"\")","v":0},{"$f":"IFERROR(H701/_data!H701-1,\"\")","v":0},{"$f":"IFERROR(I701/_data!I701-1,\"\")","v":0},{"$f":"IFERROR(J701/_data!J701-1,\"\")","v":0},{"$f":"IFERROR(K701/_data!K701-1,\"\")","v":0}]
["Lignite / Coal",0,0,0,0,0,0,0,0,0,0,null,"Lignite / Coal",{"$f":"IFERROR(B702/_data!B702-1,\"\")","v":""},{"$f":"IFERROR(C702/_data!C702-1,\"\")","v":""},{"$f":"IFERROR(D702/_data!D702-1,\"\")","v":""},{"$f":"IFERROR(E702/_data!E702-1,\"\")","v":""},{"$f":"IFERROR(F702/_data!F702-1,\"\")","v":""},{"$f":"IFERROR(G702/_data!G702-1,\"\")","v":""},{"$f":"IFERROR(H702/_data!H702-1,\"\")","v":""},{"$f":"IFERROR(I702/_data!I702-1,\"\")","v":""},{"$f":"IFERROR(J702/_data!J702-1,\"\")","v":""},{"$f":"IFERROR(K702/_data!K702-1,\"\")","v":""}]
["other fossil fuels",0,0,0,0,0,0,0,0,0,0,null,"other fossil fuels",{"$f":"IFERROR(B703/_data!B703-1,\"\")","v":""},{"$f":"IFERROR(C703/_data!C703-1,\"\")","v":""},{"$f":"IFERROR(D703/_data!D703-1,\"\")","v":""},{"$f":"IFERROR(E703/_data!E703-1,\"\")","v":""},{"$f":"IFERROR(F703/_data!F703-1,\"\")","v":""},{"$f":"IFERROR(G703/_data!G703-1,\"\")","v":""},{"$f":"IFERROR(H703/_data!H703-1,\"\")","v":""},{"$f":"IFERROR(I703/_data!I703-1,\"\")","v":""},{"$f":"IFERROR(J703/_data!J703-1,\"\")","v":""},{"$f":"IFERROR(K703/_data!K703-1,\"\")","v":""}]
["Plant oil, biofuel",0,0,0,0,0,0,0,0,0,0,null,"Plant oil, biofuel",{"$f":"IFERROR(B704/_data!B704-1,\"\")","v":""},{"$f":"IFERROR(C704/_data!C704-1,\"\")","v":""},{"$f":"IFERROR(D704/_data!D704-1,\"\")","v":""},{"$f":"IFERROR(E704/_data!E704-1,\"\")","v":""},{"$f":"IFERROR(F704/_data!F704-1,\"\")","v":""},{"$f":"IFERROR(G704/_data!G704-1,\"\")","v":""},{"$f":"IFERROR(H704/_data!H704-1,\"\")","v":""},{"$f":"IFERROR(I704/_data!I704-1,\"\")","v":""},{"$f":"IFERROR(J704/_data!J704-1,\"\")","v":""},{"$f":"IFERROR(K704/_data!K704-1,\"\")","v":""}]
["Summe",1.2967515848274116,1.6875120665168288,1.9803343589406175,2.0650849958719815,1.8979942697747971,1.9496004158710707,1.8564615749823858,2.0508426022866395,2.2196147777536508,2.001080035436515,null,"Summe",{"$f":"IFERROR(B705/_data!B705-1,\"\")","v":0},{"$f":"IFERROR(C705/_data!C705-1,\"\")","v":0},{"$f":"IFERROR(D705/_data!D705-1,\"\")","v":0},{"$f":"IFERROR(E705/_data!E705-1,\"\")","v":0},{"$f":"IFERROR(F705/_data!F705-1,\"\")","v":0},{"$f":"IFERROR(G705/_data!G705-1,\"\")","v":0},{"$f":"IFERROR(H705/_data!H705-1,\"\")","v":0},{"$f":"IFERROR(I705/_data!I705-1,\"\")","v":0},{"$f":"IFERROR(J705/_data!J705-1,\"\")","v":0},{"$f":"IFERROR(K705/_data!K705-1,\"\")","v":0}]
[]
["Energy consumption (MWh /Einwohner and  Year) - Rail",null,null,null,null,null,null,null,null,null,null,null,"Test:",{"$f":"A707","v":"Energy consumption (MWh /Einwohner and  Year) - Rail"}]
["Energieträger",2000,2001,2002,2003,2004,2005,2006,2007,2008,2009,null,"Energieträger",2000,2001,2002,2003,2004,2005,2006,2007,2008,2009]
["Electricity",3.2458900429200466E-2,3.4907308767815205E-2,3.4781905496258446E-2,3.4663115633667578E-2,3.4479953236903491E-2,4.0252230775119191E-2,4.2286969067434996E-2,4.5506947047087368E-2,4.5351280286409543E-2,4.7582339648965723E-2,null,"Electricity",{"$f":"IFERROR(B709/_data!B709-1,\"\")","v":0},{"$f":"IFERROR(C709/_data!C709-1,\"\")","v":0},{"$f":"IFERROR(D709/_data!D709-1,\"\")","v":0},{"$f":"IFERROR(E709/_data!E709-1,\"\")","v":0},{"$f":"IFERROR(F709/_data!F709-1,\"\")","v":0},{"$f":"IFERROR(G709/_data!G709-1,\"\")","v":0},{"$f":"IFERROR(H709/_data!H709-1,\"\")","v":0},{"$f":"IFERROR(I709/_data!I709-1,\"\")","v":0},{"$f":"IFERROR(J709/_data!J709-1,\"\")","v":0},{"$f":"IFERROR(K709/_data!K709-1,\"\")","v":0}]
["Heat and Cold",0,0,0,0,0,0,0,0,0,0,null,"Heat and Cold",{"$f":"IFERROR(B710/_data!B710-1,\"\")","v":""},{"$f":"IFERROR(C710/_data!C710-1,\"\")","v":""},{"$f":"IFERROR(D710/_data!D710-1,\"\")","v":""},{"$f":"IFERROR(E710/_data!E710-1,\"\")","v":""},{"$f":"IFERROR(F710/_data!F710-1,\"\")","v":""},{"$f":"IFERROR(G710/_data!G710-1,\"\")","v":""},{"$f":"IFERROR(H710/_data!H710-1,\"\")","v":""},{"$f":"IFERROR(I710/_data!I710-1,\"\")","v":""},{"$f":"IFERROR(J710/_data!J710-1,\"\")","v":""},{"$f":"IFERROR(K710/_data!K710-1,\"\")","v":""}]
["natural gas",0,0,0,0,0,0,0,0,0,0,null,"natural gas",{"$f":"IFERROR(B711/_data!B711-1,\"\")","v":""},{"$f":"IFERROR(C711/_data!C711-1,\"\")","v":""},{"$f":"IFERROR(D711/_data!D711-1,\"\")","v":""},{"$f":"IFERROR(E711/_data!E711-1,\"\")","v":""},{"$f":"IFERROR(F711/_data!F711-1,\"\")","v":""},{"$f":"IFERROR(G711/_data!G711-1,\"\")","v":""},{"$f":"IFERROR(H711/_data!H711-1,\"\")","v":""},{"$f":"IFERROR(I711/_data!I711-1,\"\")","v":""},{"$f":"IFERROR(J711/_data!J711-1,\"\")","v":""},{"$f":"IFERROR(K711/_data!K711-1,\"\")","v":""}]
["Liquid gas",0,0,0,0,0,0,0,0,0,0,null,"Liquid gas",{"$f":"IFERROR(B712/_data!B712-1,\"\")","v":""},{"$f":"IFERROR(C712/_data!C712-1,\"\")","v":""},{"$f":"IFERROR(D712/_data!D712-1,\"\")","v":""},{"$f":"IFERROR(E712/_data!E712-1,\"\")","v":""},{"$f":"IFERROR(F712/_data!F712-1,\"\")","v":""},{"$f":"IFERROR(G712/_data!G712-1,\"\")","v":""},{"$f":"IFERROR(H712/_data!H712-1,\"\")","v":""},{"$f":"IFERROR(I712/_data!I712-1,\"\")","v":""},{"$f":"IFERROR(J712/_data!J712-1,\"\")","v":""},{"$f":"IFERROR(K712/_data!K712-1,\"\")","v":""}]
["heating oil / diesel",0,0,0,0,0,0,0,0,0,0,null,"heating oil / diesel",{"$f":"IFERROR(B713/_data!B713-1,\"\")","v":""},{"$f":"IFERROR(C713/_data!C713-1,\"\")","v":""},{"$f":"IFERROR(D713/_data!D713-1,\"\")","v":""},{"$f":"IFERROR(E713/_data!E713-1,\"\")","v":""},{"$f":"IFERROR(F713/_data!F713-1,\"\")","v":""},{"$f":"IFERROR(G713/_data!G713-1,\"\")","v":""},{"$f":"IFERROR(H713/_data!H713-1,\"\")","v":""},{"$f":"IFERROR(I713/_data!I713-1,\"\")","v":""},{"$f":"IFERROR(J713/_data!J713-1,\"\")","v":""},{"$f":"IFERROR(K713/_data!K713-1,\"\")","v":""}]
["gasoline",0,0,0,0,0,0,0,0,0,0,null,"gasoline",{"$f":"IFERROR(B714/_data!B714-1,\"\")","v":""},{"$f":"IFERROR(C714/_data!C714-1,\"\")","v":""},{"$f":"IFERROR(D714/_data!D714-1,\"\")","v":""},{"$f":"IFERROR(E714/_data!E714-1,\"\")","v":""},{"$f":"IFERROR(F714/_data!F714-1,\"\")","v":""},{"$f":"IFERROR(G714/_data!G714-1,\"\")","v":""},{"$f":"IFERROR(H714/_data!H714-1,\"\")","v":""},{"$f":"IFERROR(I714/_data!I714-1,\"\")","v":""},{"$f":"IFERROR(J714/_data!J714-1,\"\")","v":""},{"$f":"IFERROR(K714/_data!K714-1,\"\")","v":""}]
["Lignite / Coal",0,0,0,0,0,0,0,0,0,0,null,"Lignite / Coal",{"$f":"IFERROR(B715/_data!B715-1,\"\")","v":""},{"$f":"IFERROR(C715/_data!C715-1,\"\")","v":""},{"$f":"IFERROR(D715/_data!D715-1,\"\")","v":""},{"$f":"IFERROR(E715/_data!E715-1,\"\")","v":""},{"$f":"IFERROR(F715/_data!F715-1,\"\")","v":""},{"$f":"IFERROR(G715/_data!G715-1,\"\")","v":""},{"$f":"IFERROR(H715/_data!H715-1,\"\")","v":""},{"$f":"IFERROR(I715/_data!I715-1,\"\")","v":""},{"$f":"IFERROR(J715/_data!J715-1,\"\")","v":""},{"$f":"IFERROR(K715/_data!K715-1,\"\")","v":""}]
["other fossil fuels",0,0,0,0,0,0,0,0,0,0,null,"other fossil fuels",{"$f":"IFERROR(B716/_data!B716-1,\"\")","v":""},{"$f":"IFERROR(C716/_data!C716-1,\"\")","v":""},{"$f":"IFERROR(D716/_data!D716-1,\"\")","v":""},{"$f":"IFERROR(E716/_data!E716-1,\"\")","v":""},{"$f":"IFERROR(F716/_data!F716-1,\"\")","v":""},{"$f":"IFERROR(G716/_data!G716-1,\"\")","v":""},{"$f":"IFERROR(H716/_data!H716-1,\"\")","v":""},{"$f":"IFERROR(I716/_data!I716-1,\"\")","v":""},{"$f":"IFERROR(J716/_data!J716-1,\"\")","v":""},{"$f":"IFERROR(K716/_data!K716-1,\"\")","v":""}]
["Plant oil, biofuel",0,0,0,0,0,0,0,0,0,0,null,"Plant oil, biofuel",{"$f":"IFERROR(B717/_data!B717-1,\"\")","v":""},{"$f":"IFERROR(C717/_data!C717-1,\"\")","v":""},{"$f":"IFERROR(D717/_data!D717-1,\"\")","v":""},{"$f":"IFERROR(E717/_data!E717-1,\"\")","v":""},{"$f":"IFERROR(F717/_data!F717-1,\"\")","v":""},{"$f":"IFERROR(G717/_data!G717-1,\"\")","v":""},{"$f":"IFERROR(H717/_data!H717-1,\"\")","v":""},{"$f":"IFERROR(I717/_data!I717-1,\"\")","v":""},{"$f":"IFERROR(J717/_data!J717-1,\"\")","v":""},{"$f":"IFERROR(K717/_data!K717-1,\"\")","v":""}]
["Summe",3.2458900429200466E-2,3.4907308767815205E-2,3.4781905496258446E-2,3.4663115633667578E-2,3.4479953236903491E-2,4.0252230775119191E-2,4.2286969067434996E-2,4.5506947047087368E-2,4.5351280286409543E-2,4.7582339648965723E-2,null,"Summe",{"$f":"IFERROR(B718/_data!B718-1,\"\")","v":0},{"$f":"IFERROR(C718/_data!C718-1,\"\")","v":0},{"$f":"IFERROR(D718/_data!D718-1,\"\")","v":0},{"$f":"IFERROR(E718/_data!E718-1,\"\")","v":0},{"$f":"IFERROR(F718/_data!F718-1,\"\")","v":0},{"$f":"IFERROR(G718/_data!G718-1,\"\")","v":0},{"$f":"IFERROR(H718/_data!H718-1,\"\")","v":0},{"$f":"IFERROR(I718/_data!I718-1,\"\")","v":0},{"$f":"IFERROR(J718/_data!J718-1,\"\")","v":0},{"$f":"IFERROR(K718/_data!K718-1,\"\")","v":0}]
[]
["Quelle:","P:\\KB-Projekte\\COMO EAST\\WP 2 Training\\Tool\\Tool-Daten\\Energiedaten\\Endberechnung"]
["Ukraine",null,null,null,null,null,null,null,null,null,null,null,"Ukraine",null,null,null,null,null,null,null,null,null,null,null,"Ukraine",null,null,null,null,null,null,null,null,null,null,null,"Ukraine"]
["Energy consumption (MWh /Einwohner and  Year) - Residential building (Households)",null,null,null,null,null,null,null,null,null,null,null,"Test:",{"$f":"A722","v":"Energy consumption (MWh /Einwohner and  Year) - Residential building (Households)"},null,null,null,null,null,null,null,null,null,null,"CO2 emission Factor (t /Mwh)"]
["Energieträger",2000,2001,2002,2003,2004,2005,2006,2007,2008,2009,null,"Energieträger",2000,2001,2002,2003,2004,2005,2006,2007,2008,2009,null,"Energieträger",2000,2001,2002,2003,2004,2005,2006,2007,2008,2009,null,null,"Year:",{"$f":"'DATA-OUTPUT Co2 absolute'!$B$8","v":0},null,"CO2","Test"]
["Electricity",0.60941083224199888,0.44142702901088454,0.44901594717721116,0.48131907048444383,0.50879845449582128,0.55125735793152586,0.58977946825675864,0.60564916844126204,0.67053154681464866,0.71467169948098508,null,"Electricity",{"$f":"IFERROR(B724/_data!B724-1,\"\")","v":0},{"$f":"IFERROR(C724/_data!C724-1,\"\")","v":0},{"$f":"IFERROR(D724/_data!D724-1,\"\")","v":0},{"$f":"IFERROR(E724/_data!E724-1,\"\")","v":0},{"$f":"IFERROR(F724/_data!F724-1,\"\")","v":0},{"$f":"IFERROR(G724/_data!G724-1,\"\")","v":0},{"$f":"IFERROR(H724/_data!H724-1,\"\")","v":0},{"$f":"IFERROR(I724/_data!I724-1,\"\")","v":0},{"$f":"IFERROR(J724/_data!J724-1,\"\")","v":0},{"$f":"IFERROR(K724/_data!K724-1,\"\")","v":0},null,"Electricity",{"$f":"_data!Z724","v":0.92300000000000004},{"$f":"_data!AA724","v":0.998},{"$f":"_data!AB724","v":1.0089999999999999},{"$f":"_data!AC724","v":0.98199999999999998},{"$f":"_data!AD724","v":0.83},{"$f":"_data!AE724","v":0.85099999999999998},{"$f":"_data!AF724","v":0.93300000000000005},{"$f":"_data!AG724","v":0.92700000000000005},{"$f":"_data!AH724","v":0.92400000000000004},{"$f":"_data!AI724","v":0.92400000000000004},null,null,null,{"$f":"'DATA-OUTPUT EC per capita'!$B$37","v":0},{"$f":"IF(AM723=Z723,Z724,IF(AM723=AA723,AA724,IF(AM723=AB723,AB724,IF(AM723=AC723,AC724,IF(AM723=AD723,AD724,IF(AM723=AE723,AE724,IF(AM723=AF723,AF724,IF(AM723=AG723,AG724,IF(AM723=AH723,AH724,IF(AM723=AI723,AI724,\"Fehler\"))))))))))","v":"Fehler"},{"$f":"AN724*AM724","v":{"$error":"#VALUE!"}},{"$f":"AO724/'DATA-OUTPUT Co2 per capita'!$B$37-1","v":{"$error":"#VALUE!"}}]
["Heat and Cold",0.63975689878485364,0.7206390216360905,1.4344674842495599,1.430208213984397,1.407332745369787,1.4277054439763193,0.10651911673657058,1.1704290471494518,1.1043841111015267,0.91445706196924703,null,"Heat and Cold",{"$f":"IFERROR(B725/_data!B725-1,\"\")","v":0},{"$f":"IFERROR(C725/_data!C725-1,\"\")","v":0},{"$f":"IFERROR(D725/_data!D725-1,\"\")","v":0},{"$f":"IFERROR(E725/_data!E725-1,\"\")","v":0},{"$f":"IFERROR(F725/_data!F725-1,\"\")","v":0},{"$f":"IFERROR(G725/_data!G725-1,\"\")","v":0},{"$f":"IFERROR(H725/_data!H725-1,\"\")","v":0},{"$f":"IFERROR(I725/_data!I725-1,\"\")","v":0},{"$f":"IFERROR(J725/_data!J725-1,\"\")","v":0},{"$f":"IFERROR(K725/_data!K725-1,\"\")","v":0},null,"Heat and Cold",{"$f":"_data!Z725","v":0.24299999999999999},{"$f":"_data!AA725","v":0.24299999999999999},{"$f":"_data!AB725","v":0.24099999999999999},{"$f":"_data!AC725","v":0.247},{"$f":"_data!AD725","v":0.247},{"$f":"_data!AE725","v":0.26500000000000001},{"$f":"_data!AF725","v":0.26500000000000001},{"$f":"_data!AG725","v":0.26500000000000001},{"$f":"_data!AH725","v":0.26800000000000002},{"$f":"_data!AI725","v":0.26500000000000001},null,null,null,{"$f":"'DATA-OUTPUT EC per capita'!$C$37","v":0},{"$f":"IF(AM723=Z723,Z725,IF(AM723=AA723,AA725,IF(AM723=AB723,AB725,IF(AM723=AC723,AC725,IF(AM723=AD723,AD725,IF(AM723=AE723,AE725,IF(AM723=AF723,AF725,IF(AM723=AG723, AG725,IF(AM723=AH723,AH725,IF(AM723=AI723,AI725,\"Fehler\"))))))))))","v":"Fehler"},{"$f":"AM725*AN725","v":{"$error":"#VALUE!"}},{"$f":"AO725/'DATA-OUTPUT Co2 per capita'!$C$37-1","v":{"$error":"#VALUE!"}}]
["natural gas",4.5290942351015424,3.3411925581623518,3.3958260531401363,3.6095342584973551,3.6155675014815749,3.3666061769964415,3.6908376749521441,3.3252285535975457,3.8526601301551704,3.7151252489849553,null,"natural gas",{"$f":"IFERROR(B726/_data!B726-1,\"\")","v":0},{"$f":"IFERROR(C726/_data!C726-1,\"\")","v":0},{"$f":"IFERROR(D726/_data!D726-1,\"\")","v":0},{"$f":"IFERROR(E726/_data!E726-1,\"\")","v":0},{"$f":"IFERROR(F726/_data!F726-1,\"\")","v":0},{"$f":"IFERROR(G726/_data!G726-1,\"\")","v":0},{"$f":"IFERROR(H726/_data!H726-1,\"\")","v":0},{"$f":"IFERROR(I726/_data!I726-1,\"\")","v":0},{"$f":"IFERROR(J726/_data!J726-1,\"\")","v":0},{"$f":"IFERROR(K726/_data!K726-1,\"\")","v":0},null,"natural gas",{"$f":"_data!Z726","v":0.20200000000000001},{"$f":"_data!AA726","v":0.20200000000000001},{"$f":"_data!AB726","v":0.20200000000000001},{"$f":"_data!AC726","v":0.20200000000000001},{"$f":"_data!AD726","v":0.20200000000000001},{"$f":"_data!AE726","v":0.20200000000000001},{"$f":"_data!AF726","v":0.20200000000000001},{"$f":"_data!AG726","v":0.20200000000000001},{"$f":"_data!AH726","v":0.20200000000000001},{"$f":"_data!AI726","v":0.20200000000000001},null,null,null,{"$f":"'DATA-OUTPUT EC per capita'!$D$37","v":0},{"$f":"IF(AM723=Z723,Z726,IF(AM723=AA723,AA726,IF(AM723=AB723,AB726,IF(AM723=AC723,AC726,IF(AM723=AD723,AD726,IF(AM723=AE723,AE726,IF(AM723=AF723,AF726,IF(AM723=AG723, AG726,IF(AM723=AH723,AH726,IF(AM723=AI723,AI726,\"Fehler\"))))))))))","v":"Fehler"},{"$f":"AM726*AN726","v":{"$error":"#VALUE!"}},{"$f":"AO726/'DATA-OUTPUT Co2 per capita'!$D$37-1","v":{"$error":"#VALUE!"}}]
["Liquid gas",0,0,0,0,0,0,0,0,0,0,null,"Liquid gas",{"$f":"IFERROR(B727/_data!B727-1,\"\")","v":""},{"$f":"IFERROR(C727/_data!C727-1,\"\")","v":""},{"$f":"IFERROR(D727/_data!D727-1,\"\")","v":""},{"$f":"IFERROR(E727/_data!E727-1,\"\")","v":""},{"$f":"IFERROR(F727/_data!F727-1,\"\")","v":""},{"$f":"IFERROR(G727/_data!G727-1,\"\")","v":""},{"$f":"IFERROR(H727/_data!H727-1,\"\")","v":""},{"$f":"IFERROR(I727/_data!I727-1,\"\")","v":""},{"$f":"IFERROR(J727/_data!J727-1,\"\")","v":""},{"$f":"IFERROR(K727/_data!K727-1,\"\")","v":""},null,"Liquid gas",{"$f":"_data!Z727","v":0.23100000000000001},{"$f":"_data!AA727","v":0.23100000000000001},{"$f":"_data!AB727","v":0.23100000000000001},{"$f":"_data!AC727","v":0.23100000000000001},{"$f":"_data!AD727","v":0.23100000000000001},{"$f":"_data!AE727","v":0.23100000000000001},{"$f":"_data!AF727","v":0.23100000000000001},{"$f":"_data!AG727","v":0.23100000000000001},{"$f":"_data!AH727","v":0.23100000000000001},{"$f":"_data!AI727","v":0.23100000000000001},null,null,null,{"$f":"'DATA-OUTPUT EC per capita'!$E$37","v":0},{"$f":"IF(AM723=Z723,Z727,IF(AM723=AA723,AA727,IF(AM723=AB723,AB727,IF(AM723=AC723,AC727,IF(AM723=AD723,AD727,IF(AM723=AE723,AE727,IF(AM723=AF723,AF727,IF(AM723=AG723, AG727,IF(AM723=AH723,AH727,IF(AM723=AI723,AI727,\"Fehler\"))))))))))","v":"Fehler"},{"$error":"#VALUE!"},{"$f":"AO727/'DATA-OUTPUT Co2 per capita'!$E$37-1","v":{"$error":"#VALUE!"}}]
["heating oil / diesel",0,0,0,0,0,2.9257824176691879E-3,0,0,4.4746829983610802E-3,0,null,"heating oil / diesel",{"$f":"IFERROR(B728/_data!B728-1,\"\")","v":""},{"$f":"IFERROR(C728/_data!C728-1,\"\")","v":""},{"$f":"IFERROR(D728/_data!D728-1,\"\")","v":""},{"$f":"IFERROR(E728/_data!E728-1,\"\")","v":""},{"$f":"IFERROR(F728/_data!F728-1,\"\")","v":""},{"$f":"IFERROR(G728/_data!G728-1,\"\")","v":0},{"$f":"IFERROR(H728/_data!H728-1,\"\")","v":""},{"$f":"IFERROR(I728/_data!I728-1,\"\")","v":""},{"$f":"IFERROR(J728/_data!J728-1,\"\")","v":0},{"$f":"IFERROR(K728/_data!K728-1,\"\")","v":""},null,"heating oil / diesel",{"$f":"_data!Z728","v":0.26700000000000002},{"$f":"_data!AA728","v":0.26700000000000002},{"$f":"_data!AB728","v":0.26700000000000002},{"$f":"_data!AC728","v":0.26700000000000002},{"$f":"_data!AD728","v":0.26700000000000002},{"$f":"_data!AE728","v":0.26700000000000002},{"$f":"_data!AF728","v":0.26700000000000002},{"$f":"_data!AG728","v":0.26700000000000002},{"$f":"_data!AH728","v":0.26700000000000002},{"$f":"_data!AI728","v":0.26700000000000002},null,null,null,{"$f":"'DATA-OUTPUT EC per capita'!$F$37","v":0},{"$f":"IF(AM723=Z723,Z728,IF(AM723=AA723,AA728,IF(AM723=AB723,AB728,IF(AM723=AC723,AC728,IF(AM723=AD723,AD728,IF(AM723=AE723,AE728,IF(AM723=AF723,AF728,IF(AM723=AG723, AG728,IF(AM723=AH723,AH728,IF(AM723=AI723,AI728,\"Fehler\"))))))))))","v":"Fehler"},{"$error":"#VALUE!"},{"$f":"AO728/'DATA-OUTPUT Co2 per capita'!$F$37-1","v":{"$error":"#VALUE!"}}]
["gasoline",1.697131869618912E-3,2.4414583705229903E-4,4.9298946057322528E-4,2.4882444914317591E-4,0,0,0,0,0,0,null,"gasoline",{"$f":"IFERROR(B729/_data!B729-1,\"\")","v":0},{"$f":"IFERROR(C729/_data!C729-1,\"\")","v":0},{"$f":"IFERROR(D729/_data!D729-1,\"\")","v":0},{"$f":"IFERROR(E729/_data!E729-1,\"\")","v":0},{"$f":"IFERROR(F729/_data!F729-1,\"\")","v":""},{"$f":"IFERROR(G729/_data!G729-1,\"\")","v":""},{"$f":"IFERROR(H729/_data!H729-1,\"\")","v":""},{"$f":"IFERROR(I729/_data!I729-1,\"\")","v":""},{"$f":"IFERROR(J729/_data!J729-1,\"\")","v":""},{"$f":"IFERROR(K729/_data!K729-1,\"\")","v":""},null,"gasoline",{"$f":"_data!Z729","v":0.249},{"$f":"_data!AA729","v":0.249},{"$f":"_data!AB729","v":0.249},{"$f":"_data!AC729","v":0.249},{"$f":"_data!AD729","v":0.249},{"$f":"_data!AE729","v":0.249},{"$f":"_data!AF729","v":0.249},{"$f":"_data!AG729","v":0.249},{"$f":"_data!AH729","v":0.249},{"$f":"_data!AI729","v":0.249},null,null,null,{"$f":"'DATA-OUTPUT EC per capita'!$G$37","v":0},{"$f":"IF(AM723=Z723,Z729,IF(AM723=AA723,AA729,IF(AM723=AB723,AB729,IF(AM723=AC723,AC729,IF(AM723=AD723,AD729,IF(AM723=AE723,AE729,IF(AM723=AF723,AF729,IF(AM723=AG723, AG729,IF(AM723=AH723,AH729,IF(AM723=AI723,AI729,\"Fehler\"))))))))))","v":"Fehler"},{"$error":"#VALUE!"},{"$f":"AO729/'DATA-OUTPUT Co2 per capita'!$G$37-1","v":{"$error":"#VALUE!"}}]
["Lignite / Coal",0.50174973171829318,0.43654979008000261,0.43509759356939964,0.54346731661927428,0.72475256534094878,0.47411775322470573,0.48392328445386756,0.39076233760665435,0.17117010264814975,0.19686343428062958,null,"Lignite / Coal",{"$f":"IFERROR(B730/_data!B730-1,\"\")","v":0},{"$f":"IFERROR(C730/_data!C730-1,\"\")","v":0},{"$f":"IFERROR(D730/_data!D730-1,\"\")","v":0},{"$f":"IFERROR(E730/_data!E730-1,\"\")","v":0},{"$f":"IFERROR(F730/_data!F730-1,\"\")","v":0},{"$f":"IFERROR(G730/_data!G730-1,\"\")","v":0},{"$f":"IFERROR(H730/_data!H730-1,\"\")","v":0},{"$f":"IFERROR(I730/_data!I730-1,\"\")","v":0},{"$f":"IFERROR(J730/_data!J730-1,\"\")","v":0},{"$f":"IFERROR(K730/_data!K730-1,\"\")","v":0},null,"Lignite / Coal",{"$f":"_data!Z730","v":0.36399999999999999},{"$f":"_data!AA730","v":0.36399999999999999},{"$f":"_data!AB730","v":0.36399999999999999},{"$f":"_data!AC730","v":0.36399999999999999},{"$f":"_data!AD730","v":0.36399999999999999},{"$f":"_data!AE730","v":0.36399999999999999},{"$f":"_data!AF730","v":0.36399999999999999},{"$f":"_data!AG730","v":0.36399999999999999},{"$f":"_data!AH730","v":0.36399999999999999},{"$f":"_data!AI730","v":0.36399999999999999},null,null,null,{"$f":"'DATA-OUTPUT EC per capita'!$H$37","v":0},{"$f":"IF(AM723=Z723,Z730,IF(AM723=AA723,AA730,IF(AM723=AB723,AB730,IF(AM723=AC723,AC730,IF(AM723=AD723,AD730,IF(AM723=AE723,AE730,IF(AM723=AF723,AF730,IF(AM723=AG723, AG730,IF(AM723=AH723,AH730,IF(AM723=AI723,AI730,\"Fehler\"))))))))))","v":"Fehler"},{"$error":"#VALUE!"},{"$f":"AO730/'DATA-OUTPUT Co2 per capita'!$H$37-1","v":{"$error":"#VALUE!"}}]
["other fossil fuels",4.7603986978615238E-2,1.3115741478856064E-3,1.3241926208420352E-3,0.12597461064760324,0.12778291079286416,4.0402822663275106E-2,4.9062956136332159E-2,5.5328073861281427E-2,5.9476743628818156E-2,5.360614442464158E-2,null,"other fossil fuels",{"$f":"IFERROR(B731/_data!B731-1,\"\")","v":0},{"$f":"IFERROR(C731/_data!C731-1,\"\")","v":0},{"$f":"IFERROR(D731/_data!D731-1,\"\")","v":0},{"$f":"IFERROR(E731/_data!E731-1,\"\")","v":0},{"$f":"IFERROR(F731/_data!F731-1,\"\")","v":0},{"$f":"IFERROR(G731/_data!G731-1,\"\")","v":0},{"$f":"IFERROR(H731/_data!H731-1,\"\")","v":0},{"$f":"IFERROR(I731/_data!I731-1,\"\")","v":0},{"$f":"IFERROR(J731/_data!J731-1,\"\")","v":0},{"$f":"IFERROR(K731/_data!K731-1,\"\")","v":0},null,"other fossil fuels",{"$f":"_data!Z731","v":0.38200000000000001},{"$f":"_data!AA731","v":0.38200000000000001},{"$f":"_data!AB731","v":0.38200000000000001},{"$f":"_data!AC731","v":0.38200000000000001},{"$f":"_data!AD731","v":0.38200000000000001},{"$f":"_data!AE731","v":0.38200000000000001},{"$f":"_data!AF731","v":0.38200000000000001},{"$f":"_data!AG731","v":0.38200000000000001},{"$f":"_data!AH731","v":0.38200000000000001},{"$f":"_data!AI731","v":0.38200000000000001},null,null,null,{"$f":"'DATA-OUTPUT EC per capita'!$I$37","v":0},{"$f":"IF(AM723=Z723,Z731,IF(AM723=AA723,AA731,IF(AM723=AB723,AB731,IF(AM723=AC723,AC731,IF(AM723=AD723,AD731,IF(AM723=AE723,AE731,IF(AM723=AF723,AF731,IF(AM723=AG723, AG731,IF(AM723=AH723,AH731,IF(AM723=AI723,AI731,\"Fehler\"))))))))))","v":"Fehler"},{"$error":"#VALUE!"},{"$f":"AO731/'DATA-OUTPUT Co2 per capita'!$I$37-1","v":{"$error":"#VALUE!"}}]
["Plant oil, biofuel",0.21918851471064912,0.20933518293677233,0.38808588931171334,0.41334370294758599,0.40622564734319799,0.42206467647661539,1.2874986238222581,0.10102092831587321,0.1097705032730479,0.10654982739330171,null,"Plant oil, biofuel",{"$f":"IFERROR(B732/_data!B732-1,\"\")","v":0},{"$f":"IFERROR(C732/_data!C732-1,\"\")","v":0},{"$f":"IFERROR(D732/_data!D732-1,\"\")","v":0},{"$f":"IFERROR(E732/_data!E732-1,\"\")","v":0},{"$f":"IFERROR(F732/_data!F732-1,\"\")","v":0},{"$f":"IFERROR(G732/_data!G732-1,\"\")","v":0},{"$f":"IFERROR(H732/_data!H732-1,\"\")","v":0},{"$f":"IFERROR(I732/_data!I732-1,\"\")","v":0},{"$f":"IFERROR(J732/_data!J732-1,\"\")","v":0},{"$f":"IFERROR(K732/_data!K732-1,\"\")","v":0},null,"Plant oil, biofuel",{"$f":"_data!Z732","v":0},{"$f":"_data!AA732","v":0},{"$f":"_data!AB732","v":0},{"$f":"_data!AC732","v":0},{"$f":"_data!AD732","v":0},{"$f":"_data!AE732","v":0},{"$f":"_data!AF732","v":0},{"$f":"_data!AG732","v":0},{"$f":"_data!AH732","v":0},{"$f":"_data!AI732","v":0},null,null,null,{"$f":"'DATA-OUTPUT EC per capita'!$J$37","v":0},{"$f":"IF(AM723=Z723,Z732,IF(AM723=AA723,AA732,IF(AM723=AB723,AB732,IF(AM723=AC723,AC732,IF(AM723=AD723,AD732,IF(AM723=AE723,AE732,IF(AM723=AF723,AF732,IF(AM723=AG723, AG732,IF(AM723=AH723,AH732,IF(AM723=AI723,AI732,\"Fehler\"))))))))))","v":"Fehler"},{"$error":"#VALUE!"},{"$f":"AO732/'DATA-OUTPUT Co2 per capita'!$J$37-1","v":{"$error":"#VALUE!"}}]
["Summe",6.5485013314055713,5.1506993018110405,6.1043101495294358,6.6040959976298019,6.7904598248241941,6.285080013686553,6.2076211243579307,5.6484181089720682,5.9724678206197224,5.70127341653376,null,"Summe",{"$f":"IFERROR(B733/_data!B733-1,\"\")","v":0},{"$f":"IFERROR(C733/_data!C733-1,\"\")","v":0},{"$f":"IFERROR(D733/_data!D733-1,\"\")","v":0},{"$f":"IFERROR(E733/_data!E733-1,\"\")","v":0},{"$f":"IFERROR(F733/_data!F733-1,\"\")","v":0},{"$f":"IFERROR(G733/_data!G733-1,\"\")","v":0},{"$f":"IFERROR(H733/_data!H733-1,\"\")","v":0},{"$f":"IFERROR(I733/_data!I733-1,\"\")","v":0},{"$f":"IFERROR(J733/_data!J733-1,\"\")","v":0},{"$f":"IFERROR(K733/_data!K733-1,\"\")","v":0},null,null,null,null,null,null,null,null,null,null,null,null,null,null,"Total",null,null,{"$f":"SUM(AO724:AO732)","v":{"$error":"#VALUE!"}},{"$f":"AO733/'DATA-OUTPUT Co2 per capita'!$K$37-1","v":{"$error":"#VALUE!"}}]
[]
["Energy consumption (MWh /Einwohner and  Year) - Primary sector (Agriculture)",null,null,null,null,null,null,null,null,null,null,null,"Test:",{"$f":"A735","v":"Energy consumption (MWh /Einwohner and  Year) - Primary sector (Agriculture)"}]
["Energieträger",2000,2001,2002,2003,2004,2005,2006,2007,2008,2009,null,"Energieträger",2000,2001,2002,2003,2004,2005,2006,2007,2008,2009]
["Electricity",0.10158064793122996,8.6336781353889738E-2,7.7038201867948533E-2,7.2078077640172072E-2,6.6904185273846353E-2,6.9648896709775546E-2,6.9187705908744915E-2,7.1364937805790174E-2,6.8875374986821544E-2,6.7582898178964429E-2,null,"Electricity",{"$f":"IFERROR(B737/_data!B737-1,\"\")","v":0},{"$f":"IFERROR(C737/_data!C737-1,\"\")","v":0},{"$f":"IFERROR(D737/_data!D737-1,\"\")","v":0},{"$f":"IFERROR(E737/_data!E737-1,\"\")","v":0},{"$f":"IFERROR(F737/_data!F737-1,\"\")","v":0},{"$f":"IFERROR(G737/_data!G737-1,\"\")","v":0},{"$f":"IFERROR(H737/_data!H737-1,\"\")","v":0},{"$f":"IFERROR(I737/_data!I737-1,\"\")","v":0},{"$f":"IFERROR(J737/_data!J737-1,\"\")","v":0},{"$f":"IFERROR(K737/_data!K737-1,\"\")","v":0}]
["Heat and Cold",0,0,0,0,0,0,0,0,0,0,null,"Heat and Cold",{"$f":"IFERROR(B738/_data!B738-1,\"\")","v":""},{"$f":"IFERROR(C738/_data!C738-1,\"\")","v":""},{"$f":"IFERROR(D738/_data!D738-1,\"\")","v":""},{"$f":"IFERROR(E738/_data!E738-1,\"\")","v":""},{"$f":"IFERROR(F738/_data!F738-1,\"\")","v":""},{"$f":"IFERROR(G738/_data!G738-1,\"\")","v":""},{"$f":"IFERROR(H738/_data!H738-1,\"\")","v":""},{"$f":"IFERROR(I738/_data!I738-1,\"\")","v":""},{"$f":"IFERROR(J738/_data!J738-1,\"\")","v":""},{"$f":"IFERROR(K738/_data!K738-1,\"\")","v":""}]
["natural gas",0.11762472570527631,0.11887631140381358,9.3966084159491939E-2,8.4195249651935103E-2,2.8505732644576037E-2,2.7712682056517186E-2,3.2394928089533828E-2,3.3306416651183619E-2,4.4507221790927476E-2,4.0812357555999872E-2,null,"natural gas",{"$f":"IFERROR(B739/_data!B739-1,\"\")","v":0},{"$f":"IFERROR(C739/_data!C739-1,\"\")","v":0},{"$f":"IFERROR(D739/_data!D739-1,\"\")","v":0},{"$f":"IFERROR(E739/_data!E739-1,\"\")","v":0},{"$f":"IFERROR(F739/_data!F739-1,\"\")","v":0},{"$f":"IFERROR(G739/_data!G739-1,\"\")","v":0},{"$f":"IFERROR(H739/_data!H739-1,\"\")","v":0},{"$f":"IFERROR(I739/_data!I739-1,\"\")","v":0},{"$f":"IFERROR(J739/_data!J739-1,\"\")","v":0},{"$f":"IFERROR(K739/_data!K739-1,\"\")","v":0}]
["Liquid gas",0,0,0,0,0,0,0,0,0,0,null,"Liquid gas",{"$f":"IFERROR(B740/_data!B740-1,\"\")","v":""},{"$f":"IFERROR(C740/_data!C740-1,\"\")","v":""},{"$f":"IFERROR(D740/_data!D740-1,\"\")","v":""},{"$f":"IFERROR(E740/_data!E740-1,\"\")","v":""},{"$f":"IFERROR(F740/_data!F740-1,\"\")","v":""},{"$f":"IFERROR(G740/_data!G740-1,\"\")","v":""},{"$f":"IFERROR(H740/_data!H740-1,\"\")","v":""},{"$f":"IFERROR(I740/_data!I740-1,\"\")","v":""},{"$f":"IFERROR(J740/_data!J740-1,\"\")","v":""},{"$f":"IFERROR(K740/_data!K740-1,\"\")","v":""}]
["heating oil / diesel",0.40502445443391993,0.48980764941838784,0.5278942608689271,0.55526043818564152,0.61548350668925189,0.30633176915600224,0.2950465887957231,0.29759607826323087,0.31207170035557852,0.29282570804708491,null,"heating oil / diesel",{"$f":"IFERROR(B741/_data!B741-1,\"\")","v":0},{"$f":"IFERROR(C741/_data!C741-1,\"\")","v":0},{"$f":"IFERROR(D741/_data!D741-1,\"\")","v":0},{"$f":"IFERROR(E741/_data!E741-1,\"\")","v":0},{"$f":"IFERROR(F741/_data!F741-1,\"\")","v":0},{"$f":"IFERROR(G741/_data!G741-1,\"\")","v":0},{"$f":"IFERROR(H741/_data!H741-1,\"\")","v":0},{"$f":"IFERROR(I741/_data!I741-1,\"\")","v":0},{"$f":"IFERROR(J741/_data!J741-1,\"\")","v":0},{"$f":"IFERROR(K741/_data!K741-1,\"\")","v":0}]
["gasoline",0,0,0,0,0,0,0,0,0,0,null,"gasoline",{"$f":"IFERROR(B742/_data!B742-1,\"\")","v":""},{"$f":"IFERROR(C742/_data!C742-1,\"\")","v":""},{"$f":"IFERROR(D742/_data!D742-1,\"\")","v":""},{"$f":"IFERROR(E742/_data!E742-1,\"\")","v":""},{"$f":"IFERROR(F742/_data!F742-1,\"\")","v":""},{"$f":"IFERROR(G742/_data!G742-1,\"\")","v":""},{"$f":"IFERROR(H742/_data!H742-1,\"\")","v":""},{"$f":"IFERROR(I742/_data!I742-1,\"\")","v":""},{"$f":"IFERROR(J742/_data!J742-1,\"\")","v":""},{"$f":"IFERROR(K742/_data!K742-1,\"\")","v":""}]
["Lignite / Coal",0,0,0,0,1.1432624510613673E-2,9.5528558456427701E-3,7.3810479312349138E-3,7.1460218096585631E-3,7.1223535275118125E-3,4.6845488672973773E-3,null,"Lignite / Coal",{"$f":"IFERROR(B743/_data!B743-1,\"\")","v":""},{"$f":"IFERROR(C743/_data!C743-1,\"\")","v":""},{"$f":"IFERROR(D743/_data!D743-1,\"\")","v":""},{"$f":"IFERROR(E743/_data!E743-1,\"\")","v":""},{"$f":"IFERROR(F743/_data!F743-1,\"\")","v":0},{"$f":"IFERROR(G743/_data!G743-1,\"\")","v":0},{"$f":"IFERROR(H743/_data!H743-1,\"\")","v":0},{"$f":"IFERROR(I743/_data!I743-1,\"\")","v":0},{"$f":"IFERROR(J743/_data!J743-1,\"\")","v":0},{"$f":"IFERROR(K743/_data!K743-1,\"\")","v":0}]
["other fossil fuels",0,0,0,0,0,5.346309237106347E-4,8.1090903494721988E-4,1.3577441438351269E-3,2.1804345534182507E-3,1.0764998659698519E-3,null,"other fossil fuels",{"$f":"IFERROR(B744/_data!B744-1,\"\")","v":""},{"$f":"IFERROR(C744/_data!C744-1,\"\")","v":""},{"$f":"IFERROR(D744/_data!D744-1,\"\")","v":""},{"$f":"IFERROR(E744/_data!E744-1,\"\")","v":""},{"$f":"IFERROR(F744/_data!F744-1,\"\")","v":""},{"$f":"IFERROR(G744/_data!G744-1,\"\")","v":0},{"$f":"IFERROR(H744/_data!H744-1,\"\")","v":0},{"$f":"IFERROR(I744/_data!I744-1,\"\")","v":0},{"$f":"IFERROR(J744/_data!J744-1,\"\")","v":0},{"$f":"IFERROR(K744/_data!K744-1,\"\")","v":0}]
["Plant oil, biofuel",0,0,0,0,0,0,6.6530055129976296E-3,5.496481775262377E-3,4.6483989380564899E-3,3.7263456898956409E-3,null,"Plant oil, biofuel",{"$f":"IFERROR(B745/_data!B745-1,\"\")","v":""},{"$f":"IFERROR(C745/_data!C745-1,\"\")","v":""},{"$f":"IFERROR(D745/_data!D745-1,\"\")","v":""},{"$f":"IFERROR(E745/_data!E745-1,\"\")","v":""},{"$f":"IFERROR(F745/_data!F745-1,\"\")","v":""},{"$f":"IFERROR(G745/_data!G745-1,\"\")","v":""},{"$f":"IFERROR(H745/_data!H745-1,\"\")","v":0},{"$f":"IFERROR(I745/_data!I745-1,\"\")","v":0},{"$f":"IFERROR(J745/_data!J745-1,\"\")","v":0},{"$f":"IFERROR(K745/_data!K745-1,\"\")","v":0}]
["Summe",0.62422982807042615,0.69502074217609122,0.69889854689636755,0.71153376547774871,0.72232604911828791,0.41378083469164834,0.41147418527318158,0.41626768044896068,0.43940548415231412,0.41070835820521207,null,"Summe",{"$f":"IFERROR(B746/_data!B746-1,\"\")","v":0},{"$f":"IFERROR(C746/_data!C746-1,\"\")","v":0},{"$f":"IFERROR(D746/_data!D746-1,\"\")","v":0},{"$f":"IFERROR(E746/_data!E746-1,\"\")","v":0},{"$f":"IFERROR(F746/_data!F746-1,\"\")","v":0},{"$f":"IFERROR(G746/_data!G746-1,\"\")","v":0},{"$f":"IFERROR(H746/_data!H746-1,\"\")","v":0},{"$f":"IFERROR(I746/_data!I746-1,\"\")","v":0},{"$f":"IFERROR(J746/_data!J746-1,\"\")","v":0},{"$f":"IFERROR(K746/_data!K746-1,\"\")","v":0}]
[]
["Energy consumption (MWh /Einwohner and  Year) - Secondary sector (Industrie)",null,null,null,null,null,null,null,null,null,null,null,"Test:",{"$f":"A748","v":"Energy consumption (MWh /Einwohner and  Year) - Secondary sector (Industrie)"}]
["Energieträger",2000,2001,2002,2003,2004,2005,2006,2007,2008,2009,null,"Energieträger",2000,2001,2002,2003,2004,2005,2006,2007,2008,2009]
["Electricity",1.2199118750227596,1.1716899388749669,1.1710563365425801,1.2745135482019252,1.3723699130653899,1.3897583985230557,1.4633001511723849,1.5340662769702773,1.4478983965419743,1.1405397783262012,null,"Electricity",{"$f":"IFERROR(B750/_data!B750-1,\"\")","v":0},{"$f":"IFERROR(C750/_data!C750-1,\"\")","v":0},{"$f":"IFERROR(D750/_data!D750-1,\"\")","v":0},{"$f":"IFERROR(E750/_data!E750-1,\"\")","v":0},{"$f":"IFERROR(F750/_data!F750-1,\"\")","v":0},{"$f":"IFERROR(G750/_data!G750-1,\"\")","v":0},{"$f":"IFERROR(H750/_data!H750-1,\"\")","v":0},{"$f":"IFERROR(I750/_data!I750-1,\"\")","v":0},{"$f":"IFERROR(J750/_data!J750-1,\"\")","v":0},{"$f":"IFERROR(K750/_data!K750-1,\"\")","v":0}]
["Heat and Cold",1.3173339879092278,1.4838559416920691,1.6699616706426841,1.6653704648850836,1.6394850185955137,1.6629841758646686,1.4996726768639959,1.363312085828486,1.2863785138541457,1.0651552135361695,null,"Heat and Cold",{"$f":"IFERROR(B751/_data!B751-1,\"\")","v":0},{"$f":"IFERROR(C751/_data!C751-1,\"\")","v":0},{"$f":"IFERROR(D751/_data!D751-1,\"\")","v":0},{"$f":"IFERROR(E751/_data!E751-1,\"\")","v":0},{"$f":"IFERROR(F751/_data!F751-1,\"\")","v":0},{"$f":"IFERROR(G751/_data!G751-1,\"\")","v":0},{"$f":"IFERROR(H751/_data!H751-1,\"\")","v":0},{"$f":"IFERROR(I751/_data!I751-1,\"\")","v":0},{"$f":"IFERROR(J751/_data!J751-1,\"\")","v":0},{"$f":"IFERROR(K751/_data!K751-1,\"\")","v":0}]
["natural gas",3.9997183435453469,4.0422261013021261,3.1955060915153535,2.8632345095207179,3.0515599699485292,2.5553536883188666,2.5562161208716145,2.7119450518562984,2.7086867554175411,1.6122241646538484,null,"natural gas",{"$f":"IFERROR(B752/_data!B752-1,\"\")","v":0},{"$f":"IFERROR(C752/_data!C752-1,\"\")","v":0},{"$f":"IFERROR(D752/_data!D752-1,\"\")","v":0},{"$f":"IFERROR(E752/_data!E752-1,\"\")","v":0},{"$f":"IFERROR(F752/_data!F752-1,\"\")","v":0},{"$f":"IFERROR(G752/_data!G752-1,\"\")","v":0},{"$f":"IFERROR(H752/_data!H752-1,\"\")","v":0},{"$f":"IFERROR(I752/_data!I752-1,\"\")","v":0},{"$f":"IFERROR(J752/_data!J752-1,\"\")","v":0},{"$f":"IFERROR(K752/_data!K752-1,\"\")","v":0}]
["Liquid gas",0,0,0,0,0,0,0,0,0,0,null,"Liquid gas",{"$f":"IFERROR(B753/_data!B753-1,\"\")","v":""},{"$f":"IFERROR(C753/_data!C753-1,\"\")","v":""},{"$f":"IFERROR(D753/_data!D753-1,\"\")","v":""},{"$f":"IFERROR(E753/_data!E753-1,\"\")","v":""},{"$f":"IFERROR(F753/_data!F753-1,\"\")","v":""},{"$f":"IFERROR(G753/_data!G753-1,\"\")","v":""},{"$f":"IFERROR(H753/_data!H753-1,\"\")","v":""},{"$f":"IFERROR(I753/_data!I753-1,\"\")","v":""},{"$f":"IFERROR(J753/_data!J753-1,\"\")","v":""},{"$f":"IFERROR(K753/_data!K753-1,\"\")","v":""}]
["heating oil / diesel",0.17051117611912922,0.20654170033608094,0.22265353067586791,0.23410330033805407,0.47956360039010909,0.32962640226053702,0.35772926529273819,0.38749303262873558,0.36276680372255293,0.25457447379858472,null,"heating oil / diesel",{"$f":"IFERROR(B754/_data!B754-1,\"\")","v":0},{"$f":"IFERROR(C754/_data!C754-1,\"\")","v":0},{"$f":"IFERROR(D754/_data!D754-1,\"\")","v":0},{"$f":"IFERROR(E754/_data!E754-1,\"\")","v":0},{"$f":"IFERROR(F754/_data!F754-1,\"\")","v":0},{"$f":"IFERROR(G754/_data!G754-1,\"\")","v":0},{"$f":"IFERROR(H754/_data!H754-1,\"\")","v":0},{"$f":"IFERROR(I754/_data!I754-1,\"\")","v":0},{"$f":"IFERROR(J754/_data!J754-1,\"\")","v":0},{"$f":"IFERROR(K754/_data!K754-1,\"\")","v":0}]
["gasoline",0,0,0,0,0,0.1167022930614071,1.7875513033143095E-3,1.5423497072513065E-3,1.2938842404899508E-3,1.5319421169570967E-3,null,"gasoline",{"$f":"IFERROR(B755/_data!B755-1,\"\")","v":""},{"$f":"IFERROR(C755/_data!C755-1,\"\")","v":""},{"$f":"IFERROR(D755/_data!D755-1,\"\")","v":""},{"$f":"IFERROR(E755/_data!E755-1,\"\")","v":""},{"$f":"IFERROR(F755/_data!F755-1,\"\")","v":""},{"$f":"IFERROR(G755/_data!G755-1,\"\")","v":0},{"$f":"IFERROR(H755/_data!H755-1,\"\")","v":0},{"$f":"IFERROR(I755/_data!I755-1,\"\")","v":0},{"$f":"IFERROR(J755/_data!J755-1,\"\")","v":0},{"$f":"IFERROR(K755/_data!K755-1,\"\")","v":0}]
["Lignite / Coal",0.72328725676503747,0.7597421002356064,0.75726047361841409,0.91793075273446489,1.1816434047755706,1.5224996192957816,1.7455793619507274,1.9546632556322558,1.740801441482887,1.4514412203864944,null,"Lignite / Coal",{"$f":"IFERROR(B756/_data!B756-1,\"\")","v":0},{"$f":"IFERROR(C756/_data!C756-1,\"\")","v":0},{"$f":"IFERROR(D756/_data!D756-1,\"\")","v":0},{"$f":"IFERROR(E756/_data!E756-1,\"\")","v":0},{"$f":"IFERROR(F756/_data!F756-1,\"\")","v":0},{"$f":"IFERROR(G756/_data!G756-1,\"\")","v":0},{"$f":"IFERROR(H756/_data!H756-1,\"\")","v":0},{"$f":"IFERROR(I756/_data!I756-1,\"\")","v":0},{"$f":"IFERROR(J756/_data!J756-1,\"\")","v":0},{"$f":"IFERROR(K756/_data!K756-1,\"\")","v":0}]
["other fossil fuels",0.71639757573141882,0.70867019781036378,0.86125258762142443,0.9061492043982905,0.95650819649181751,0.83326635759124212,0.9905638599743587,1.0869516023762906,0.94371483749772378,0.7806575923642799,null,"other fossil fuels",{"$f":"IFERROR(B757/_data!B757-1,\"\")","v":0},{"$f":"IFERROR(C757/_data!C757-1,\"\")","v":0},{"$f":"IFERROR(D757/_data!D757-1,\"\")","v":0},{"$f":"IFERROR(E757/_data!E757-1,\"\")","v":0},{"$f":"IFERROR(F757/_data!F757-1,\"\")","v":0},{"$f":"IFERROR(G757/_data!G757-1,\"\")","v":0},{"$f":"IFERROR(H757/_data!H757-1,\"\")","v":0},{"$f":"IFERROR(I757/_data!I757-1,\"\")","v":0},{"$f":"IFERROR(J757/_data!J757-1,\"\")","v":0},{"$f":"IFERROR(K757/_data!K757-1,\"\")","v":0}]
["Plant oil, biofuel",0,0,0,0,0,0,2.5925412942108196E-3,3.1025644690267592E-3,2.6237097098823999E-3,2.3245299303634713E-3,null,"Plant oil, biofuel",{"$f":"IFERROR(B758/_data!B758-1,\"\")","v":""},{"$f":"IFERROR(C758/_data!C758-1,\"\")","v":""},{"$f":"IFERROR(D758/_data!D758-1,\"\")","v":""},{"$f":"IFERROR(E758/_data!E758-1,\"\")","v":""},{"$f":"IFERROR(F758/_data!F758-1,\"\")","v":""},{"$f":"IFERROR(G758/_data!G758-1,\"\")","v":""},{"$f":"IFERROR(H758/_data!H758-1,\"\")","v":0},{"$f":"IFERROR(I758/_data!I758-1,\"\")","v":0},{"$f":"IFERROR(J758/_data!J758-1,\"\")","v":0},{"$f":"IFERROR(K758/_data!K758-1,\"\")","v":0}]
["Summe",8.1471602150929208,8.3727259802512144,7.8776906906163244,7.861301780078537,8.6811301032669288,8.4101909349155584,8.6174415287233455,9.0430762194686221,8.4941643424671973,6.3084489151128986,null,"Summe",{"$f":"IFERROR(B759/_data!B759-1,\"\")","v":0},{"$f":"IFERROR(C759/_data!C759-1,\"\")","v":0},{"$f":"IFERROR(D759/_data!D759-1,\"\")","v":0},{"$f":"IFERROR(E759/_data!E759-1,\"\")","v":0},{"$f":"IFERROR(F759/_data!F759-1,\"\")","v":0},{"$f":"IFERROR(G759/_data!G759-1,\"\")","v":0},{"$f":"IFERROR(H759/_data!H759-1,\"\")","v":0},{"$f":"IFERROR(I759/_data!I759-1,\"\")","v":0},{"$f":"IFERROR(J759/_data!J759-1,\"\")","v":0},{"$f":"IFERROR(K759/_data!K759-1,\"\")","v":0}]
[]
["Energy consumption (MWh /Einwohner and  Year) - Tertiary sector (Services)",null,null,null,null,null,null,null,null,null,null,null,"Test:",{"$f":"A761","v":"Energy consumption (MWh /Einwohner and  Year) - Tertiary sector (Services)"}]
["Energieträger",2000,2001,2002,2003,2004,2005,2006,2007,2008,2009,null,"Energieträger",2000,2001,2002,2003,2004,2005,2006,2007,2008,2009]
["Electricity",0.17825504272950957,0.34764663853198174,0.35412694088804142,0.35147321433738049,0.3675005482993387,0.39244259826398875,0.42947399823138965,0.45851853439856699,0.49057381369983799,0.46643201335522294,null,"Electricity",{"$f":"IFERROR(B763/_data!B763-1,\"\")","v":0},{"$f":"IFERROR(C763/_data!C763-1,\"\")","v":0},{"$f":"IFERROR(D763/_data!D763-1,\"\")","v":0},{"$f":"IFERROR(E763/_data!E763-1,\"\")","v":0},{"$f":"IFERROR(F763/_data!F763-1,\"\")","v":0},{"$f":"IFERROR(G763/_data!G763-1,\"\")","v":0},{"$f":"IFERROR(H763/_data!H763-1,\"\")","v":0},{"$f":"IFERROR(I763/_data!I763-1,\"\")","v":0},{"$f":"IFERROR(J763/_data!J763-1,\"\")","v":0},{"$f":"IFERROR(K763/_data!K763-1,\"\")","v":0}]
["Heat and Cold",0,0,0,0,0,0,0,0,0,0,null,"Heat and Cold",{"$f":"IFERROR(B764/_data!B764-1,\"\")","v":""},{"$f":"IFERROR(C764/_data!C764-1,\"\")","v":""},{"$f":"IFERROR(D764/_data!D764-1,\"\")","v":""},{"$f":"IFERROR(E764/_data!E764-1,\"\")","v":""},{"$f":"IFERROR(F764/_data!F764-1,\"\")","v":""},{"$f":"IFERROR(G764/_data!G764-1,\"\")","v":""},{"$f":"IFERROR(H764/_data!H764-1,\"\")","v":""},{"$f":"IFERROR(I764/_data!I764-1,\"\")","v":""},{"$f":"IFERROR(J764/_data!J764-1,\"\")","v":""},{"$f":"IFERROR(K764/_data!K764-1,\"\")","v":""}]
["natural gas",2.4116019081606641,2.4372284019508048,1.9267117281963373,1.7263729612308358,0.22883331233463525,0.12625514890704989,0.13455762840478211,0.12837828181051608,0.15198946682384964,8.890587629336727E-2,null,"natural gas",{"$f":"IFERROR(B765/_data!B765-1,\"\")","v":0},{"$f":"IFERROR(C765/_data!C765-1,\"\")","v":0},{"$f":"IFERROR(D765/_data!D765-1,\"\")","v":0},{"$f":"IFERROR(E765/_data!E765-1,\"\")","v":0},{"$f":"IFERROR(F765/_data!F765-1,\"\")","v":0},{"$f":"IFERROR(G765/_data!G765-1,\"\")","v":0},{"$f":"IFERROR(H765/_data!H765-1,\"\")","v":0},{"$f":"IFERROR(I765/_data!I765-1,\"\")","v":0},{"$f":"IFERROR(J765/_data!J765-1,\"\")","v":0},{"$f":"IFERROR(K765/_data!K765-1,\"\")","v":0}]
["Liquid gas",0,0,0,0,0,0,0,0,0,0,null,"Liquid gas",{"$f":"IFERROR(B766/_data!B766-1,\"\")","v":""},{"$f":"IFERROR(C766/_data!C766-1,\"\")","v":""},{"$f":"IFERROR(D766/_data!D766-1,\"\")","v":""},{"$f":"IFERROR(E766/_data!E766-1,\"\")","v":""},{"$f":"IFERROR(F766/_data!F766-1,\"\")","v":""},{"$f":"IFERROR(G766/_data!G766-1,\"\")","v":""},{"$f":"IFERROR(H766/_data!H766-1,\"\")","v":""},{"$f":"IFERROR(I766/_data!I766-1,\"\")","v":""},{"$f":"IFERROR(J766/_data!J766-1,\"\")","v":""},{"$f":"IFERROR(K766/_data!K766-1,\"\")","v":""}]
["heating oil / diesel",0,0,0,0,0,4.8763040294486461E-4,2.6990840871235931E-3,1.9770660340055358E-3,3.2287203964077938E-3,1.7153019842376762E-3,null,"heating oil / diesel",{"$f":"IFERROR(B767/_data!B767-1,\"\")","v":""},{"$f":"IFERROR(C767/_data!C767-1,\"\")","v":""},{"$f":"IFERROR(D767/_data!D767-1,\"\")","v":""},{"$f":"IFERROR(E767/_data!E767-1,\"\")","v":""},{"$f":"IFERROR(F767/_data!F767-1,\"\")","v":""},{"$f":"IFERROR(G767/_data!G767-1,\"\")","v":0},{"$f":"IFERROR(H767/_data!H767-1,\"\")","v":0},{"$f":"IFERROR(I767/_data!I767-1,\"\")","v":0},{"$f":"IFERROR(J767/_data!J767-1,\"\")","v":0},{"$f":"IFERROR(K767/_data!K767-1,\"\")","v":0}]
["gasoline",0,0,0,0,0,0,2.5451889418051426E-4,0,2.5757880713457354E-4,0,null,"gasoline",{"$f":"IFERROR(B768/_data!B768-1,\"\")","v":""},{"$f":"IFERROR(C768/_data!C768-1,\"\")","v":""},{"$f":"IFERROR(D768/_data!D768-1,\"\")","v":""},{"$f":"IFERROR(E768/_data!E768-1,\"\")","v":""},{"$f":"IFERROR(F768/_data!F768-1,\"\")","v":""},{"$f":"IFERROR(G768/_data!G768-1,\"\")","v":""},{"$f":"IFERROR(H768/_data!H768-1,\"\")","v":0},{"$f":"IFERROR(I768/_data!I768-1,\"\")","v":""},{"$f":"IFERROR(J768/_data!J768-1,\"\")","v":0},{"$f":"IFERROR(K768/_data!K768-1,\"\")","v":""}]
["Lignite / Coal",0,0,0,0,0.15725691673782891,7.1840295990479572E-2,9.0875083310545016E-2,7.8469274488225743E-2,6.8318285938832823E-2,4.6372301918701307E-2,null,"Lignite / Coal",{"$f":"IFERROR(B769/_data!B769-1,\"\")","v":""},{"$f":"IFERROR(C769/_data!C769-1,\"\")","v":""},{"$f":"IFERROR(D769/_data!D769-1,\"\")","v":""},{"$f":"IFERROR(E769/_data!E769-1,\"\")","v":""},{"$f":"IFERROR(F769/_data!F769-1,\"\")","v":0},{"$f":"IFERROR(G769/_data!G769-1,\"\")","v":0},{"$f":"IFERROR(H769/_data!H769-1,\"\")","v":0},{"$f":"IFERROR(I769/_data!I769-1,\"\")","v":0},{"$f":"IFERROR(J769/_data!J769-1,\"\")","v":0},{"$f":"IFERROR(K769/_data!K769-1,\"\")","v":0}]
["other fossil fuels",0,0,0,0,0,2.9434076129563514E-3,4.581340095249257E-3,7.5926481727622234E-3,1.1459261815079981E-2,8.1033231669159177E-4,null,"other fossil fuels",{"$f":"IFERROR(B770/_data!B770-1,\"\")","v":""},{"$f":"IFERROR(C770/_data!C770-1,\"\")","v":""},{"$f":"IFERROR(D770/_data!D770-1,\"\")","v":""},{"$f":"IFERROR(E770/_data!E770-1,\"\")","v":""},{"$f":"IFERROR(F770/_data!F770-1,\"\")","v":""},{"$f":"IFERROR(G770/_data!G770-1,\"\")","v":0},{"$f":"IFERROR(H770/_data!H770-1,\"\")","v":0},{"$f":"IFERROR(I770/_data!I770-1,\"\")","v":0},{"$f":"IFERROR(J770/_data!J770-1,\"\")","v":0},{"$f":"IFERROR(K770/_data!K770-1,\"\")","v":0}]
["Plant oil, biofuel",0,6.2183376916204146E-2,6.2781634560441418E-2,6.3375008535257266E-2,6.4162688579974703E-2,0,1.3353363378400934E-2,1.2023181694750534E-2,1.0398995562456272E-2,9.9428366741501142E-3,null,"Plant oil, biofuel",{"$f":"IFERROR(B771/_data!B771-1,\"\")","v":""},{"$f":"IFERROR(C771/_data!C771-1,\"\")","v":0},{"$f":"IFERROR(D771/_data!D771-1,\"\")","v":0},{"$f":"IFERROR(E771/_data!E771-1,\"\")","v":0},{"$f":"IFERROR(F771/_data!F771-1,\"\")","v":0},{"$f":"IFERROR(G771/_data!G771-1,\"\")","v":""},{"$f":"IFERROR(H771/_data!H771-1,\"\")","v":0},{"$f":"IFERROR(I771/_data!I771-1,\"\")","v":0},{"$f":"IFERROR(J771/_data!J771-1,\"\")","v":0},{"$f":"IFERROR(K771/_data!K771-1,\"\")","v":0}]
["Summe",2.5898569508901739,2.8470584173989906,2.34362030364482,2.1412211841034736,0.81775346595177756,0.59396908117741942,0.67579501640167117,0.68695898659882704,0.73622612304359902,0.61417866254237086,null,"Summe",{"$f":"IFERROR(B772/_data!B772-1,\"\")","v":0},{"$f":"IFERROR(C772/_data!C772-1,\"\")","v":0},{"$f":"IFERROR(D772/_data!D772-1,\"\")","v":0},{"$f":"IFERROR(E772/_data!E772-1,\"\")","v":0},{"$f":"IFERROR(F772/_data!F772-1,\"\")","v":0},{"$f":"IFERROR(G772/_data!G772-1,\"\")","v":0},{"$f":"IFERROR(H772/_data!H772-1,\"\")","v":0},{"$f":"IFERROR(I772/_data!I772-1,\"\")","v":0},{"$f":"IFERROR(J772/_data!J772-1,\"\")","v":0},{"$f":"IFERROR(K772/_data!K772-1,\"\")","v":0}]
[]
["Energy consumption (MWh /Einwohner and  Year) - Road",null,null,null,null,null,null,null,null,null,null,null,"Test:",{"$f":"A774","v":"Energy consumption (MWh /Einwohner and  Year) - Road"}]
["Energieträger",2000,2001,2002,2003,2004,2005,2006,2007,2008,2009,null,"Energieträger",2000,2001,2002,2003,2004,2005,2006,2007,2008,2009]
["Electricity",0,0,0,0,0,0,0,0,0,0,null,"Electricity",{"$f":"IFERROR(B776/_data!B776-1,\"\")","v":""},{"$f":"IFERROR(C776/_data!C776-1,\"\")","v":""},{"$f":"IFERROR(D776/_data!D776-1,\"\")","v":""},{"$f":"IFERROR(E776/_data!E776-1,\"\")","v":""},{"$f":"IFERROR(F776/_data!F776-1,\"\")","v":""},{"$f":"IFERROR(G776/_data!G776-1,\"\")","v":""},{"$f":"IFERROR(H776/_data!H776-1,\"\")","v":""},{"$f":"IFERROR(I776/_data!I776-1,\"\")","v":""},{"$f":"IFERROR(J776/_data!J776-1,\"\")","v":""},{"$f":"IFERROR(K776/_data!K776-1,\"\")","v":""}]
["Heat and Cold",0,0,0,0,0,0,0,0,0,0,null,"Heat and Cold",{"$f":"IFERROR(B777/_data!B777-1,\"\")","v":""},{"$f":"IFERROR(C777/_data!C777-1,\"\")","v":""},{"$f":"IFERROR(D777/_data!D777-1,\"\")","v":""},{"$f":"IFERROR(E777/_data!E777-1,\"\")","v":""},{"$f":"IFERROR(F777/_data!F777-1,\"\")","v":""},{"$f":"IFERROR(G777/_data!G777-1,\"\")","v":""},{"$f":"IFERROR(H777/_data!H777-1,\"\")","v":""},{"$f":"IFERROR(I777/_data!I777-1,\"\")","v":""},{"$f":"IFERROR(J777/_data!J777-1,\"\")","v":""},{"$f":"IFERROR(K777/_data!K777-1,\"\")","v":""}]
["natural gas",0,0,0,0,0,0,0,0,0,1.5000020110437058E-2,null,"natural gas",{"$f":"IFERROR(B778/_data!B778-1,\"\")","v":""},{"$f":"IFERROR(C778/_data!C778-1,\"\")","v":""},{"$f":"IFERROR(D778/_data!D778-1,\"\")","v":""},{"$f":"IFERROR(E778/_data!E778-1,\"\")","v":""},{"$f":"IFERROR(F778/_data!F778-1,\"\")","v":""},{"$f":"IFERROR(G778/_data!G778-1,\"\")","v":""},{"$f":"IFERROR(H778/_data!H778-1,\"\")","v":""},{"$f":"IFERROR(I778/_data!I778-1,\"\")","v":""},{"$f":"IFERROR(J778/_data!J778-1,\"\")","v":""},{"$f":"IFERROR(K778/_data!K778-1,\"\")","v":0}]
["Liquid gas",0,0,0,0,0,0,0,0,0,0,null,"Liquid gas",{"$f":"IFERROR(B779/_data!B779-1,\"\")","v":""},{"$f":"IFERROR(C779/_data!C779-1,\"\")","v":""},{"$f":"IFERROR(D779/_data!D779-1,\"\")","v":""},{"$f":"IFERROR(E779/_data!E779-1,\"\")","v":""},{"$f":"IFERROR(F779/_data!F779-1,\"\")","v":""},{"$f":"IFERROR(G779/_data!G779-1,\"\")","v":""},{"$f":"IFERROR(H779/_data!H779-1,\"\")","v":""},{"$f":"IFERROR(I779/_data!I779-1,\"\")","v":""},{"$f":"IFERROR(J779/_data!J779-1,\"\")","v":""},{"$f":"IFERROR(K779/_data!K779-1,\"\")","v":""}]
["heating oil / diesel",0,0,0,0,0,8.3890054501803868E-2,0.57803016581610001,0.61469484104865491,0.63614777116459165,0.50170808588623506,null,"heating oil / diesel",{"$f":"IFERROR(B780/_data!B780-1,\"\")","v":""},{"$f":"IFERROR(C780/_data!C780-1,\"\")","v":""},{"$f":"IFERROR(D780/_data!D780-1,\"\")","v":""},{"$f":"IFERROR(E780/_data!E780-1,\"\")","v":""},{"$f":"IFERROR(F780/_data!F780-1,\"\")","v":""},{"$f":"IFERROR(G780/_data!G780-1,\"\")","v":0},{"$f":"IFERROR(H780/_data!H780-1,\"\")","v":0},{"$f":"IFERROR(I780/_data!I780-1,\"\")","v":0},{"$f":"IFERROR(J780/_data!J780-1,\"\")","v":0},{"$f":"IFERROR(K780/_data!K780-1,\"\")","v":0}]
["gasoline",0.94495403357668628,1.1042489097468924,1.1597290438205718,1.0351039218205154,1.0726309968781935,1.1620173751525167,1.147785508049308,1.2552880561391473,1.3324911105360515,1.2179531313251761,null,"gasoline",{"$f":"IFERROR(B781/_data!B781-1,\"\")","v":0},{"$f":"IFERROR(C781/_data!C781-1,\"\")","v":0},{"$f":"IFERROR(D781/_data!D781-1,\"\")","v":0},{"$f":"IFERROR(E781/_data!E781-1,\"\")","v":0},{"$f":"IFERROR(F781/_data!F781-1,\"\")","v":0},{"$f":"IFERROR(G781/_data!G781-1,\"\")","v":0},{"$f":"IFERROR(H781/_data!H781-1,\"\")","v":0},{"$f":"IFERROR(I781/_data!I781-1,\"\")","v":0},{"$f":"IFERROR(J781/_data!J781-1,\"\")","v":0},{"$f":"IFERROR(K781/_data!K781-1,\"\")","v":0}]
["Lignite / Coal",0,0,0,0,0,0,0,0,0,0,null,"Lignite / Coal",{"$f":"IFERROR(B782/_data!B782-1,\"\")","v":""},{"$f":"IFERROR(C782/_data!C782-1,\"\")","v":""},{"$f":"IFERROR(D782/_data!D782-1,\"\")","v":""},{"$f":"IFERROR(E782/_data!E782-1,\"\")","v":""},{"$f":"IFERROR(F782/_data!F782-1,\"\")","v":""},{"$f":"IFERROR(G782/_data!G782-1,\"\")","v":""},{"$f":"IFERROR(H782/_data!H782-1,\"\")","v":""},{"$f":"IFERROR(I782/_data!I782-1,\"\")","v":""},{"$f":"IFERROR(J782/_data!J782-1,\"\")","v":""},{"$f":"IFERROR(K782/_data!K782-1,\"\")","v":""}]
["other fossil fuels",0,0,0,0,0,2.1385236948425388E-3,2.9654410694055265E-3,3.2573949415693614E-3,3.5462012517131986E-3,2.4244906322035287E-2,null,"other fossil fuels",{"$f":"IFERROR(B783/_data!B783-1,\"\")","v":""},{"$f":"IFERROR(C783/_data!C783-1,\"\")","v":""},{"$f":"IFERROR(D783/_data!D783-1,\"\")","v":""},{"$f":"IFERROR(E783/_data!E783-1,\"\")","v":""},{"$f":"IFERROR(F783/_data!F783-1,\"\")","v":""},{"$f":"IFERROR(G783/_data!G783-1,\"\")","v":0},{"$f":"IFERROR(H783/_data!H783-1,\"\")","v":0},{"$f":"IFERROR(I783/_data!I783-1,\"\")","v":0},{"$f":"IFERROR(J783/_data!J783-1,\"\")","v":0},{"$f":"IFERROR(K783/_data!K783-1,\"\")","v":0}]
["Plant oil, biofuel",0,0,0,0,0,0,0,0,0,0,null,"Plant oil, biofuel",{"$f":"IFERROR(B784/_data!B784-1,\"\")","v":""},{"$f":"IFERROR(C784/_data!C784-1,\"\")","v":""},{"$f":"IFERROR(D784/_data!D784-1,\"\")","v":""},{"$f":"IFERROR(E784/_data!E784-1,\"\")","v":""},{"$f":"IFERROR(F784/_data!F784-1,\"\")","v":""},{"$f":"IFERROR(G784/_data!G784-1,\"\")","v":""},{"$f":"IFERROR(H784/_data!H784-1,\"\")","v":""},{"$f":"IFERROR(I784/_data!I784-1,\"\")","v":""},{"$f":"IFERROR(J784/_data!J784-1,\"\")","v":""},{"$f":"IFERROR(K784/_data!K784-1,\"\")","v":""}]
["Summe",0.94495403357668628,1.1042489097468924,1.1597290438205718,1.0351039218205154,1.0726309968781935,1.248045953349163,1.7287811149348136,1.8732402921293714,1.9721850829523562,1.7589061436438838,null,"Summe",{"$f":"IFERROR(B785/_data!B785-1,\"\")","v":0},{"$f":"IFERROR(C785/_data!C785-1,\"\")","v":0},{"$f":"IFERROR(D785/_data!D785-1,\"\")","v":0},{"$f":"IFERROR(E785/_data!E785-1,\"\")","v":0},{"$f":"IFERROR(F785/_data!F785-1,\"\")","v":0},{"$f":"IFERROR(G785/_data!G785-1,\"\")","v":0},{"$f":"IFERROR(H785/_data!H785-1,\"\")","v":0},{"$f":"IFERROR(I785/_data!I785-1,\"\")","v":0},{"$f":"IFERROR(J785/_data!J785-1,\"\")","v":0},{"$f":"IFERROR(K785/_data!K785-1,\"\")","v":0}]
[]
["Energy consumption (MWh /Einwohner and  Year) - Rail",null,null,null,null,null,null,null,null,null,null,null,"Test:",{"$f":"A787","v":"Energy consumption (MWh /Einwohner and  Year) - Rail"}]
["Energieträger",2000,2001,2002,2003,2004,2005,2006,2007,2008,2009,null,"Energieträger",2000,2001,2002,2003,2004,2005,2006,2007,2008,2009]
["Electricity",9.1622642391611719E-2,8.7035152004062602E-2,9.7858407923785196E-2,0.10415907173435271,0.10327276375531384,0.10625642732121472,0.14828389155837776,0.12481122592386151,0.13441420589052783,0.14360035025283552,null,"Electricity",{"$f":"IFERROR(B789/_data!B789-1,\"\")","v":0},{"$f":"IFERROR(C789/_data!C789-1,\"\")","v":0},{"$f":"IFERROR(D789/_data!D789-1,\"\")","v":0},{"$f":"IFERROR(E789/_data!E789-1,\"\")","v":0},{"$f":"IFERROR(F789/_data!F789-1,\"\")","v":0},{"$f":"IFERROR(G789/_data!G789-1,\"\")","v":0},{"$f":"IFERROR(H789/_data!H789-1,\"\")","v":0},{"$f":"IFERROR(I789/_data!I789-1,\"\")","v":0},{"$f":"IFERROR(J789/_data!J789-1,\"\")","v":0},{"$f":"IFERROR(K789/_data!K789-1,\"\")","v":0}]
["Heat and Cold",0,0,0,0,0,0,0,0,0,0,null,"Heat and Cold",{"$f":"IFERROR(B790/_data!B790-1,\"\")","v":""},{"$f":"IFERROR(C790/_data!C790-1,\"\")","v":""},{"$f":"IFERROR(D790/_data!D790-1,\"\")","v":""},{"$f":"IFERROR(E790/_data!E790-1,\"\")","v":""},{"$f":"IFERROR(F790/_data!F790-1,\"\")","v":""},{"$f":"IFERROR(G790/_data!G790-1,\"\")","v":""},{"$f":"IFERROR(H790/_data!H790-1,\"\")","v":""},{"$f":"IFERROR(I790/_data!I790-1,\"\")","v":""},{"$f":"IFERROR(J790/_data!J790-1,\"\")","v":""},{"$f":"IFERROR(K790/_data!K790-1,\"\")","v":""}]
["natural gas",0,0,0,0,0,0,0,0,0,0,null,"natural gas",{"$f":"IFERROR(B791/_data!B791-1,\"\")","v":""},{"$f":"IFERROR(C791/_data!C791-1,\"\")","v":""},{"$f":"IFERROR(D791/_data!D791-1,\"\")","v":""},{"$f":"IFERROR(E791/_data!E791-1,\"\")","v":""},{"$f":"IFERROR(F791/_data!F791-1,\"\")","v":""},{"$f":"IFERROR(G791/_data!G791-1,\"\")","v":""},{"$f":"IFERROR(H791/_data!H791-1,\"\")","v":""},{"$f":"IFERROR(I791/_data!I791-1,\"\")","v":""},{"$f":"IFERROR(J791/_data!J791-1,\"\")","v":""},{"$f":"IFERROR(K791/_data!K791-1,\"\")","v":""}]
["Liquid gas",0,0,0,0,0,0,0,0,0,0,null,"Liquid gas",{"$f":"IFERROR(B792/_data!B792-1,\"\")","v":""},{"$f":"IFERROR(C792/_data!C792-1,\"\")","v":""},{"$f":"IFERROR(D792/_data!D792-1,\"\")","v":""},{"$f":"IFERROR(E792/_data!E792-1,\"\")","v":""},{"$f":"IFERROR(F792/_data!F792-1,\"\")","v":""},{"$f":"IFERROR(G792/_data!G792-1,\"\")","v":""},{"$f":"IFERROR(H792/_data!H792-1,\"\")","v":""},{"$f":"IFERROR(I792/_data!I792-1,\"\")","v":""},{"$f":"IFERROR(J792/_data!J792-1,\"\")","v":""},{"$f":"IFERROR(K792/_data!K792-1,\"\")","v":""}]
["heating oil / diesel",0.32311255333602174,0.39112163095778296,0.42168369429333741,0.44337044868256131,0.49154452423949713,7.2404302239668802E-2,6.6654355055041192E-2,4.0488168569890473E-2,7.8657379453118265E-2,6.6358527452284433E-2,null,"heating oil / diesel",{"$f":"IFERROR(B793/_data!B793-1,\"\")","v":0},{"$f":"IFERROR(C793/_data!C793-1,\"\")","v":0},{"$f":"IFERROR(D793/_data!D793-1,\"\")","v":0},{"$f":"IFERROR(E793/_data!E793-1,\"\")","v":0},{"$f":"IFERROR(F793/_data!F793-1,\"\")","v":0},{"$f":"IFERROR(G793/_data!G793-1,\"\")","v":0},{"$f":"IFERROR(H793/_data!H793-1,\"\")","v":0},{"$f":"IFERROR(I793/_data!I793-1,\"\")","v":0},{"$f":"IFERROR(J793/_data!J793-1,\"\")","v":0},{"$f":"IFERROR(K793/_data!K793-1,\"\")","v":0}]
["gasoline",0,0,0,0,0,0,0,0,0,0,null,"gasoline",{"$f":"IFERROR(B794/_data!B794-1,\"\")","v":""},{"$f":"IFERROR(C794/_data!C794-1,\"\")","v":""},{"$f":"IFERROR(D794/_data!D794-1,\"\")","v":""},{"$f":"IFERROR(E794/_data!E794-1,\"\")","v":""},{"$f":"IFERROR(F794/_data!F794-1,\"\")","v":""},{"$f":"IFERROR(G794/_data!G794-1,\"\")","v":""},{"$f":"IFERROR(H794/_data!H794-1,\"\")","v":""},{"$f":"IFERROR(I794/_data!I794-1,\"\")","v":""},{"$f":"IFERROR(J794/_data!J794-1,\"\")","v":""},{"$f":"IFERROR(K794/_data!K794-1,\"\")","v":""}]
["Lignite / Coal",0,0,0,0,1.9143813083588816E-2,1.2807641908672347E-2,8.9377565165715475E-3,6.9971463552906763E-3,1.3322215513192827E-2,1.0587553626846345E-2,null,"Lignite / Coal",{"$f":"IFERROR(B795/_data!B795-1,\"\")","v":""},{"$f":"IFERROR(C795/_data!C795-1,\"\")","v":""},{"$f":"IFERROR(D795/_data!D795-1,\"\")","v":""},{"$f":"IFERROR(E795/_data!E795-1,\"\")","v":""},{"$f":"IFERROR(F795/_data!F795-1,\"\")","v":0},{"$f":"IFERROR(G795/_data!G795-1,\"\")","v":0},{"$f":"IFERROR(H795/_data!H795-1,\"\")","v":0},{"$f":"IFERROR(I795/_data!I795-1,\"\")","v":0},{"$f":"IFERROR(J795/_data!J795-1,\"\")","v":0},{"$f":"IFERROR(K795/_data!K795-1,\"\")","v":0}]
["other fossil fuels",0,0,0,0,0,0,0,0,0,0,null,"other fossil fuels",{"$f":"IFERROR(B796/_data!B796-1,\"\")","v":""},{"$f":"IFERROR(C796/_data!C796-1,\"\")","v":""},{"$f":"IFERROR(D796/_data!D796-1,\"\")","v":""},{"$f":"IFERROR(E796/_data!E796-1,\"\")","v":""},{"$f":"IFERROR(F796/_data!F796-1,\"\")","v":""},{"$f":"IFERROR(G796/_data!G796-1,\"\")","v":""},{"$f":"IFERROR(H796/_data!H796-1,\"\")","v":""},{"$f":"IFERROR(I796/_data!I796-1,\"\")","v":""},{"$f":"IFERROR(J796/_data!J796-1,\"\")","v":""},{"$f":"IFERROR(K796/_data!K796-1,\"\")","v":""}]
["Plant oil, biofuel",0,0,0,0,0,0,0,0,0,0,null,"Plant oil, biofuel",{"$f":"IFERROR(B797/_data!B797-1,\"\")","v":""},{"$f":"IFERROR(C797/_data!C797-1,\"\")","v":""},{"$f":"IFERROR(D797/_data!D797-1,\"\")","v":""},{"$f":"IFERROR(E797/_data!E797-1,\"\")","v":""},{"$f":"IFERROR(F797/_data!F797-1,\"\")","v":""},{"$f":"IFERROR(G797/_data!G797-1,\"\")","v":""},{"$f":"IFERROR(H797/_data!H797-1,\"\")","v":""},{"$f":"IFERROR(I797/_data!I797-1,\"\")","v":""},{"$f":"IFERROR(J797/_data!J797-1,\"\")","v":""},{"$f":"IFERROR(K797/_data!K797-1,\"\")","v":""}]
["Summe",0.41473519572763345,0.47815678296184555,0.5195421022171226,0.54752952041691405,0.61396110107839974,0.19146837146955586,0.22387600312999051,0.17229654084904264,0.22639380085683891,0.2205464313319663,null,"Summe",{"$f":"IFERROR(B798/_data!B798-1,\"\")","v":0},{"$f":"IFERROR(C798/_data!C798-1,\"\")","v":0},{"$f":"IFERROR(D798/_data!D798-1,\"\")","v":0},{"$f":"IFERROR(E798/_data!E798-1,\"\")","v":0},{"$f":"IFERROR(F798/_data!F798-1,\"\")","v":0},{"$f":"IFERROR(G798/_data!G798-1,\"\")","v":0},{"$f":"IFERROR(H798/_data!H798-1,\"\")","v":0},{"$f":"IFERROR(I798/_data!I798-1,\"\")","v":0},{"$f":"IFERROR(J798/_data!J798-1,\"\")","v":0},{"$f":"IFERROR(K798/_data!K798-1,\"\")","v":0}]
[]
["Quelle:","P:\\KB-Projekte\\COMO EAST\\WP 2 Training\\Tool\\Tool-Daten\\Energiedaten\\Endberechnung"]
["Uzbekistan",null,null,null,null,null,null,null,null,null,null,null,"Uzbekistan",null,null,null,null,null,null,null,null,null,null,null,"Uzbekistan",null,null,null,null,null,null,null,null,null,null,null,"Uzbekistan"]
["Energy consumption (MWh /Einwohner and  Year) - Residential building (Households)",null,null,null,null,null,null,null,null,null,null,null,"Test:",{"$f":"A802","v":"Energy consumption (MWh /Einwohner and  Year) - Residential building (Households)"},null,null,null,null,null,null,null,null,null,null,"CO2 emission Factor (t /Mwh)"]
["Energieträger",2000,2001,2002,2003,2004,2005,2006,2007,2008,2009,null,"Energieträger",2000,2001,2002,2003,2004,2005,2006,2007,2008,2009,null,"Energieträger",2000,2001,2002,2003,2004,2005,2006,2007,2008,2009,null,null,"Year:",{"$f":"'DATA-OUTPUT Co2 absolute'!$B$8","v":0},null,"CO2","Test"]
["Electricity",0.29293642293837013,0.28833280814101503,0.29210204435158732,0.28918865947617067,0.29538670914461579,0.27290522838350256,0.28763331932290187,0.27255677964699854,0.27062850519871257,0.26877041262615714,null,"Electricity",{"$f":"IFERROR(B804/_data!B804-1,\"\")","v":0},{"$f":"IFERROR(C804/_data!C804-1,\"\")","v":0},{"$f":"IFERROR(D804/_data!D804-1,\"\")","v":0},{"$f":"IFERROR(E804/_data!E804-1,\"\")","v":0},{"$f":"IFERROR(F804/_data!F804-1,\"\")","v":0},{"$f":"IFERROR(G804/_data!G804-1,\"\")","v":0},{"$f":"IFERROR(H804/_data!H804-1,\"\")","v":0},{"$f":"IFERROR(I804/_data!I804-1,\"\")","v":0},{"$f":"IFERROR(J804/_data!J804-1,\"\")","v":0},{"$f":"IFERROR(K804/_data!K804-1,\"\")","v":0},null,"Electricity",{"$f":"_data!Z804","v":0.68899999999999995},{"$f":"_data!AA804","v":0.70099999999999996},{"$f":"_data!AB804","v":0.70799999999999996},{"$f":"_data!AC804","v":0.68400000000000005},{"$f":"_data!AD804","v":0.66300000000000003},{"$f":"_data!AE804","v":0.66400000000000003},{"$f":"_data!AF804","v":0.65900000000000003},{"$f":"_data!AG804","v":0.69299999999999995},{"$f":"_data!AH804","v":0.61499999999999999},{"$f":"_data!AI804","v":0.61499999999999999},null,null,null,{"$f":"'DATA-OUTPUT EC per capita'!$B$37","v":0},{"$f":"IF(AM803=Z803,Z804,IF(AM803=AA803,AA804,IF(AM803=AB803,AB804,IF(AM803=AC803,AC804,IF(AM803=AD803,AD804,IF(AM803=AE803,AE804,IF(AM803=AF803,AF804,IF(AM803=AG803,AG804,IF(AM803=AH803,AH804,IF(AM803=AI803,AI804,\"Fehler\"))))))))))","v":"Fehler"},{"$f":"AN804*AM804","v":{"$error":"#VALUE!"}},{"$f":"AO804/'DATA-OUTPUT Co2 per capita'!$B$37-1","v":{"$error":"#VALUE!"}}]
["Heat and Cold",0,0,0,0,0,0,0,0,0,0,null,"Heat and Cold",{"$f":"IFERROR(B805/_data!B805-1,\"\")","v":""},{"$f":"IFERROR(C805/_data!C805-1,\"\")","v":""},{"$f":"IFERROR(D805/_data!D805-1,\"\")","v":""},{"$f":"IFERROR(E805/_data!E805-1,\"\")","v":""},{"$f":"IFERROR(F805/_data!F805-1,\"\")","v":""},{"$f":"IFERROR(G805/_data!G805-1,\"\")","v":""},{"$f":"IFERROR(H805/_data!H805-1,\"\")","v":""},{"$f":"IFERROR(I805/_data!I805-1,\"\")","v":""},{"$f":"IFERROR(J805/_data!J805-1,\"\")","v":""},{"$f":"IFERROR(K805/_data!K805-1,\"\")","v":""},null,"Heat and Cold",{"$f":"_data!Z805","v":0.20393920145190564},{"$f":"_data!AA805","v":0.20393920145190564},{"$f":"_data!AB805","v":0.20393920145190564},{"$f":"_data!AC805","v":0.20393920145190564},{"$f":"_data!AD805","v":0.20393920145190564},{"$f":"_data!AE805","v":0.20393920145190564},{"$f":"_data!AF805","v":0.20393920145190564},{"$f":"_data!AG805","v":0.20393920145190564},{"$f":"_data!AH805","v":0.20489443436176649},{"$f":"_data!AI805","v":0.20489443436176649},null,null,null,{"$f":"'DATA-OUTPUT EC per capita'!$C$37","v":0},{"$f":"IF(AM803=Z803,Z805,IF(AM803=AA803,AA805,IF(AM803=AB803,AB805,IF(AM803=AC803,AC805,IF(AM803=AD803,AD805,IF(AM803=AE803,AE805,IF(AM803=AF803,AF805,IF(AM803=AG803, AG805,IF(AM803=AH803,AH805,IF(AM803=AI803,AI805,\"Fehler\"))))))))))","v":"Fehler"},{"$f":"AM805*AN805","v":{"$error":"#VALUE!"}},{"$f":"AO805/'DATA-OUTPUT Co2 per capita'!$C$37-1","v":{"$error":"#VALUE!"}}]
["natural gas",7.4858487759495445,7.5061109241782518,7.8139687539295002,7.3402835087499723,7.0443458103716994,6.7535870031379641,6.9698750554754358,6.9545762824012041,7.0876995071305524,6.4468985613025023,null,"natural gas",{"$f":"IFERROR(B806/_data!B806-1,\"\")","v":0},{"$f":"IFERROR(C806/_data!C806-1,\"\")","v":0},{"$f":"IFERROR(D806/_data!D806-1,\"\")","v":0},{"$f":"IFERROR(E806/_data!E806-1,\"\")","v":0},{"$f":"IFERROR(F806/_data!F806-1,\"\")","v":0},{"$f":"IFERROR(G806/_data!G806-1,\"\")","v":0},{"$f":"IFERROR(H806/_data!H806-1,\"\")","v":0},{"$f":"IFERROR(I806/_data!I806-1,\"\")","v":0},{"$f":"IFERROR(J806/_data!J806-1,\"\")","v":0},{"$f":"IFERROR(K806/_data!K806-1,\"\")","v":0},null,"natural gas",{"$f":"_data!Z806","v":0.20200000000000001},{"$f":"_data!AA806","v":0.20200000000000001},{"$f":"_data!AB806","v":0.20200000000000001},{"$f":"_data!AC806","v":0.20200000000000001},{"$f":"_data!AD806","v":0.20200000000000001},{"$f":"_data!AE806","v":0.20200000000000001},{"$f":"_data!AF806","v":0.20200000000000001},{"$f":"_data!AG806","v":0.20200000000000001},{"$f":"_data!AH806","v":0.20200000000000001},{"$f":"_data!AI806","v":0.20200000000000001},null,null,null,{"$f":"'DATA-OUTPUT EC per capita'!$D$37","v":0},{"$f":"IF(AM803=Z803,Z806,IF(AM803=AA803,AA806,IF(AM803=AB803,AB806,IF(AM803=AC803,AC806,IF(AM803=AD803,AD806,IF(AM803=AE803,AE806,IF(AM803=AF803,AF806,IF(AM803=AG803, AG806,IF(AM803=AH803,AH806,IF(AM803=AI803,AI806,\"Fehler\"))))))))))","v":"Fehler"},{"$f":"AM806*AN806","v":{"$error":"#VALUE!"}},{"$f":"AO806/'DATA-OUTPUT Co2 per capita'!$D$37-1","v":{"$error":"#VALUE!"}}]
["Liquid gas",0,0,0,0,0,0,0,0,0,0,null,"Liquid gas",{"$f":"IFERROR(B807/_data!B807-1,\"\")","v":""},{"$f":"IFERROR(C807/_data!C807-1,\"\")","v":""},{"$f":"IFERROR(D807/_data!D807-1,\"\")","v":""},{"$f":"IFERROR(E807/_data!E807-1,\"\")","v":""},{"$f":"IFERROR(F807/_data!F807-1,\"\")","v":""},{"$f":"IFERROR(G807/_data!G807-1,\"\")","v":""},{"$f":"IFERROR(H807/_data!H807-1,\"\")","v":""},{"$f":"IFERROR(I807/_data!I807-1,\"\")","v":""},{"$f":"IFERROR(J807/_data!J807-1,\"\")","v":""},{"$f":"IFERROR(K807/_data!K807-1,\"\")","v":""},null,"Liquid gas",{"$f":"_data!Z807","v":0.23100000000000001},{"$f":"_data!AA807","v":0.23100000000000001},{"$f":"_data!AB807","v":0.23100000000000001},{"$f":"_data!AC807","v":0.23100000000000001},{"$f":"_data!AD807","v":0.23100000000000001},{"$f":"_data!AE807","v":0.23100000000000001},{"$f":"_data!AF807","v":0.23100000000000001},{"$f":"_data!AG807","v":0.23100000000000001},{"$f":"_data!AH807","v":0.23100000000000001},{"$f":"_data!AI807","v":0.23100000000000001},null,null,null,{"$f":"'DATA-OUTPUT EC per capita'!$E$37","v":0},{"$f":"IF(AM803=Z803,Z807,IF(AM803=AA803,AA807,IF(AM803=AB803,AB807,IF(AM803=AC803,AC807,IF(AM803=AD803,AD807,IF(AM803=AE803,AE807,IF(AM803=AF803,AF807,IF(AM803=AG803, AG807,IF(AM803=AH803,AH807,IF(AM803=AI803,AI807,\"Fehler\"))))))))))","v":"Fehler"},{"$error":"#VALUE!"},{"$f":"AO807/'DATA-OUTPUT Co2 per capita'!$E$37-1","v":{"$error":"#VALUE!"}}]
["heating oil / diesel",2.9185913593468842E-3,2.8151198417657852E-3,2.7149277499470205E-3,2.618320945741871E-3,2.73864204595248E-3,2.2505021167458588E-3,2.2232121808536966E-3,2.191785353911303E-3,2.1568888384258292E-3,2.1207923280137458E-3,null,"heating oil / diesel",{"$f":"IFERROR(B808/_data!B808-1,\"\")","v":0},{"$f":"IFERROR(C808/_data!C808-1,\"\")","v":0},{"$f":"IFERROR(D808/_data!D808-1,\"\")","v":0},{"$f":"IFERROR(E808/_data!E808-1,\"\")","v":0},{"$f":"IFERROR(F808/_data!F808-1,\"\")","v":0},{"$f":"IFERROR(G808/_data!G808-1,\"\")","v":0},{"$f":"IFERROR(H808/_data!H808-1,\"\")","v":0},{"$f":"IFERROR(I808/_data!I808-1,\"\")","v":0},{"$f":"IFERROR(J808/_data!J808-1,\"\")","v":0},{"$f":"IFERROR(K808/_data!K808-1,\"\")","v":0},null,"heating oil / diesel",{"$f":"_data!Z808","v":0.26700000000000002},{"$f":"_data!AA808","v":0.26700000000000002},{"$f":"_data!AB808","v":0.26700000000000002},{"$f":"_data!AC808","v":0.26700000000000002},{"$f":"_data!AD808","v":0.26700000000000002},{"$f":"_data!AE808","v":0.26700000000000002},{"$f":"_data!AF808","v":0.26700000000000002},{"$f":"_data!AG808","v":0.26700000000000002},{"$f":"_data!AH808","v":0.26700000000000002},{"$f":"_data!AI808","v":0.26700000000000002},null,null,null,{"$f":"'DATA-OUTPUT EC per capita'!$F$37","v":0},{"$f":"IF(AM803=Z803,Z808,IF(AM803=AA803,AA808,IF(AM803=AB803,AB808,IF(AM803=AC803,AC808,IF(AM803=AD803,AD808,IF(AM803=AE803,AE808,IF(AM803=AF803,AF808,IF(AM803=AG803, AG808,IF(AM803=AH803,AH808,IF(AM803=AI803,AI808,\"Fehler\"))))))))))","v":"Fehler"},{"$error":"#VALUE!"},{"$f":"AO808/'DATA-OUTPUT Co2 per capita'!$F$37-1","v":{"$error":"#VALUE!"}}]
["gasoline",9.8037624812038191E-4,9.6804516297874829E-4,9.562700981594767E-4,9.4520299701055096E-4,9.3436022744261083E-4,9.2355511394759296E-4,9.1235594214279054E-4,8.994590839164309E-4,8.8513834407097705E-4,8.7032515347733905E-4,null,"gasoline",{"$f":"IFERROR(B809/_data!B809-1,\"\")","v":0},{"$f":"IFERROR(C809/_data!C809-1,\"\")","v":0},{"$f":"IFERROR(D809/_data!D809-1,\"\")","v":0},{"$f":"IFERROR(E809/_data!E809-1,\"\")","v":0},{"$f":"IFERROR(F809/_data!F809-1,\"\")","v":0},{"$f":"IFERROR(G809/_data!G809-1,\"\")","v":0},{"$f":"IFERROR(H809/_data!H809-1,\"\")","v":0},{"$f":"IFERROR(I809/_data!I809-1,\"\")","v":0},{"$f":"IFERROR(J809/_data!J809-1,\"\")","v":0},{"$f":"IFERROR(K809/_data!K809-1,\"\")","v":0},null,"gasoline",{"$f":"_data!Z809","v":0.249},{"$f":"_data!AA809","v":0.249},{"$f":"_data!AB809","v":0.249},{"$f":"_data!AC809","v":0.249},{"$f":"_data!AD809","v":0.249},{"$f":"_data!AE809","v":0.249},{"$f":"_data!AF809","v":0.249},{"$f":"_data!AG809","v":0.249},{"$f":"_data!AH809","v":0.249},{"$f":"_data!AI809","v":0.249},null,null,null,{"$f":"'DATA-OUTPUT EC per capita'!$G$37","v":0},{"$f":"IF(AM803=Z803,Z809,IF(AM803=AA803,AA809,IF(AM803=AB803,AB809,IF(AM803=AC803,AC809,IF(AM803=AD803,AD809,IF(AM803=AE803,AE809,IF(AM803=AF803,AF809,IF(AM803=AG803, AG809,IF(AM803=AH803,AH809,IF(AM803=AI803,AI809,\"Fehler\"))))))))))","v":"Fehler"},{"$error":"#VALUE!"},{"$f":"AO809/'DATA-OUTPUT Co2 per capita'!$G$37-1","v":{"$error":"#VALUE!"}}]
["Lignite / Coal",3.4820259847034257E-3,3.6941493575740744E-3,3.8910300545799401E-3,4.0958796537123882E-3,4.1240727280225584E-3,4.5540821136036483E-3,4.8554115081851958E-3,5.0142259275801036E-3,4.7105638310903719E-3,5.1919397086751607E-3,null,"Lignite / Coal",{"$f":"IFERROR(B810/_data!B810-1,\"\")","v":0},{"$f":"IFERROR(C810/_data!C810-1,\"\")","v":0},{"$f":"IFERROR(D810/_data!D810-1,\"\")","v":0},{"$f":"IFERROR(E810/_data!E810-1,\"\")","v":0},{"$f":"IFERROR(F810/_data!F810-1,\"\")","v":0},{"$f":"IFERROR(G810/_data!G810-1,\"\")","v":0},{"$f":"IFERROR(H810/_data!H810-1,\"\")","v":0},{"$f":"IFERROR(I810/_data!I810-1,\"\")","v":0},{"$f":"IFERROR(J810/_data!J810-1,\"\")","v":0},{"$f":"IFERROR(K810/_data!K810-1,\"\")","v":0},null,"Lignite / Coal",{"$f":"_data!Z810","v":0.36399999999999999},{"$f":"_data!AA810","v":0.36399999999999999},{"$f":"_data!AB810","v":0.36399999999999999},{"$f":"_data!AC810","v":0.36399999999999999},{"$f":"_data!AD810","v":0.36399999999999999},{"$f":"_data!AE810","v":0.36399999999999999},{"$f":"_data!AF810","v":0.36399999999999999},{"$f":"_data!AG810","v":0.36399999999999999},{"$f":"_data!AH810","v":0.36399999999999999},{"$f":"_data!AI810","v":0.36399999999999999},null,null,null,{"$f":"'DATA-OUTPUT EC per capita'!$H$37","v":0},{"$f":"IF(AM803=Z803,Z810,IF(AM803=AA803,AA810,IF(AM803=AB803,AB810,IF(AM803=AC803,AC810,IF(AM803=AD803,AD810,IF(AM803=AE803,AE810,IF(AM803=AF803,AF810,IF(AM803=AG803, AG810,IF(AM803=AH803,AH810,IF(AM803=AI803,AI810,\"Fehler\"))))))))))","v":"Fehler"},{"$error":"#VALUE!"},{"$f":"AO810/'DATA-OUTPUT Co2 per capita'!$H$37-1","v":{"$error":"#VALUE!"}}]
["other fossil fuels",7.8430099849630553E-3,7.2770291561850735E-3,6.7268655180873545E-3,6.2035736930232729E-3,6.3579454557014447E-3,4.8300870901856873E-3,4.2996084629717719E-3,3.7632540982250671E-3,3.7033374395613293E-3,3.6413604122500164E-3,null,"other fossil fuels",{"$f":"IFERROR(B811/_data!B811-1,\"\")","v":0},{"$f":"IFERROR(C811/_data!C811-1,\"\")","v":0},{"$f":"IFERROR(D811/_data!D811-1,\"\")","v":0},{"$f":"IFERROR(E811/_data!E811-1,\"\")","v":0},{"$f":"IFERROR(F811/_data!F811-1,\"\")","v":0},{"$f":"IFERROR(G811/_data!G811-1,\"\")","v":0},{"$f":"IFERROR(H811/_data!H811-1,\"\")","v":0},{"$f":"IFERROR(I811/_data!I811-1,\"\")","v":0},{"$f":"IFERROR(J811/_data!J811-1,\"\")","v":0},{"$f":"IFERROR(K811/_data!K811-1,\"\")","v":0},null,"other fossil fuels",{"$f":"_data!Z811","v":0.38200000000000001},{"$f":"_data!AA811","v":0.38200000000000001},{"$f":"_data!AB811","v":0.38200000000000001},{"$f":"_data!AC811","v":0.38200000000000001},{"$f":"_data!AD811","v":0.38200000000000001},{"$f":"_data!AE811","v":0.38200000000000001},{"$f":"_data!AF811","v":0.38200000000000001},{"$f":"_data!AG811","v":0.38200000000000001},{"$f":"_data!AH811","v":0.38200000000000001},{"$f":"_data!AI811","v":0.38200000000000001},null,null,null,{"$f":"'DATA-OUTPUT EC per capita'!$I$37","v":0},{"$f":"IF(AM803=Z803,Z811,IF(AM803=AA803,AA811,IF(AM803=AB803,AB811,IF(AM803=AC803,AC811,IF(AM803=AD803,AD811,IF(AM803=AE803,AE811,IF(AM803=AF803,AF811,IF(AM803=AG803, AG811,IF(AM803=AH803,AH811,IF(AM803=AI803,AI811,\"Fehler\"))))))))))","v":"Fehler"},{"$error":"#VALUE!"},{"$f":"AO811/'DATA-OUTPUT Co2 per capita'!$I$37-1","v":{"$error":"#VALUE!"}}]
["Plant oil, biofuel",0,0,0,0,0,0,0,0,0,0,null,"Plant oil, biofuel",{"$f":"IFERROR(B812/_data!B812-1,\"\")","v":""},{"$f":"IFERROR(C812/_data!C812-1,\"\")","v":""},{"$f":"IFERROR(D812/_data!D812-1,\"\")","v":""},{"$f":"IFERROR(E812/_data!E812-1,\"\")","v":""},{"$f":"IFERROR(F812/_data!F812-1,\"\")","v":""},{"$f":"IFERROR(G812/_data!G812-1,\"\")","v":""},{"$f":"IFERROR(H812/_data!H812-1,\"\")","v":""},{"$f":"IFERROR(I812/_data!I812-1,\"\")","v":""},{"$f":"IFERROR(J812/_data!J812-1,\"\")","v":""},{"$f":"IFERROR(K812/_data!K812-1,\"\")","v":""},null,"Plant oil, biofuel",{"$f":"_data!Z812","v":0},{"$f":"_data!AA812","v":0},{"$f":"_data!AB812","v":0},{"$f":"_data!AC812","v":0},{"$f":"_data!AD812","v":0},{"$f":"_data!AE812","v":0},{"$f":"_data!AF812","v":0},{"$f":"_data!AG812","v":0},{"$f":"_data!AH812","v":0},{"$f":"_data!AI812","v":0},null,null,null,{"$f":"'DATA-OUTPUT EC per capita'!$J$37","v":0},{"$f":"IF(AM803=Z803,Z812,IF(AM803=AA803,AA812,IF(AM803=AB803,AB812,IF(AM803=AC803,AC812,IF(AM803=AD803,AD812,IF(AM803=AE803,AE812,IF(AM803=AF803,AF812,IF(AM803=AG803, AG812,IF(AM803=AH803,AH812,IF(AM803=AI803,AI812,\"Fehler\"))))))))))","v":"Fehler"},{"$error":"#VALUE!"},{"$f":"AO812/'DATA-OUTPUT Co2 per capita'!$J$37-1","v":{"$error":"#VALUE!"}}]
["Summe",7.7940092024650474,7.8091980758377701,8.1203598917018631,7.6433351455156311,7.3538875399734343,7.0390504579559501,7.2697989628924917,7.2390017865118352,7.3697839407824137,6.727493391531076,null,"Summe",{"$f":"IFERROR(B813/_data!B813-1,\"\")","v":0},{"$f":"IFERROR(C813/_data!C813-1,\"\")","v":0},{"$f":"IFERROR(D813/_data!D813-1,\"\")","v":0},{"$f":"IFERROR(E813/_data!E813-1,\"\")","v":0},{"$f":"IFERROR(F813/_data!F813-1,\"\")","v":0},{"$f":"IFERROR(G813/_data!G813-1,\"\")","v":0},{"$f":"IFERROR(H813/_data!H813-1,\"\")","v":0},{"$f":"IFERROR(I813/_data!I813-1,\"\")","v":0},{"$f":"IFERROR(J813/_data!J813-1,\"\")","v":0},{"$f":"IFERROR(K813/_data!K813-1,\"\")","v":0},null,null,null,null,null,null,null,null,null,null,null,null,null,null,"Total",null,null,{"$f":"SUM(AO804:AO812)","v":{"$error":"#VALUE!"}},{"$f":"AO813/'DATA-OUTPUT Co2 per capita'!$K$37-1","v":{"$error":"#VALUE!"}}]
[]
["Energy consumption (MWh /Einwohner and  Year) - Primary sector (Agriculture)",null,null,null,null,null,null,null,null,null,null,null,"Test:",{"$f":"A815","v":"Energy consumption (MWh /Einwohner and  Year) - Primary sector (Agriculture)"}]
["Energieträger",2000,2001,2002,2003,2004,2005,2006,2007,2008,2009,null,"Energieträger",2000,2001,2002,2003,2004,2005,2006,2007,2008,2009]
["Electricity",0.5239265894265408,0.51573440579385044,0.52267305411125797,0.5176887679029053,0.52864383305066243,0.4885500397022543,0.51547062046076697,0.48861305476982114,0.48534068466163099,0.48215013128904954,null,"Electricity",{"$f":"IFERROR(B817/_data!B817-1,\"\")","v":0},{"$f":"IFERROR(C817/_data!C817-1,\"\")","v":0},{"$f":"IFERROR(D817/_data!D817-1,\"\")","v":0},{"$f":"IFERROR(E817/_data!E817-1,\"\")","v":0},{"$f":"IFERROR(F817/_data!F817-1,\"\")","v":0},{"$f":"IFERROR(G817/_data!G817-1,\"\")","v":0},{"$f":"IFERROR(H817/_data!H817-1,\"\")","v":0},{"$f":"IFERROR(I817/_data!I817-1,\"\")","v":0},{"$f":"IFERROR(J817/_data!J817-1,\"\")","v":0},{"$f":"IFERROR(K817/_data!K817-1,\"\")","v":0}]
["Heat and Cold",0,0,0,0,0,0,0,0,0,0,null,"Heat and Cold",{"$f":"IFERROR(B818/_data!B818-1,\"\")","v":""},{"$f":"IFERROR(C818/_data!C818-1,\"\")","v":""},{"$f":"IFERROR(D818/_data!D818-1,\"\")","v":""},{"$f":"IFERROR(E818/_data!E818-1,\"\")","v":""},{"$f":"IFERROR(F818/_data!F818-1,\"\")","v":""},{"$f":"IFERROR(G818/_data!G818-1,\"\")","v":""},{"$f":"IFERROR(H818/_data!H818-1,\"\")","v":""},{"$f":"IFERROR(I818/_data!I818-1,\"\")","v":""},{"$f":"IFERROR(J818/_data!J818-1,\"\")","v":""},{"$f":"IFERROR(K818/_data!K818-1,\"\")","v":""}]
["natural gas",8.0018985493136019E-2,8.0236478968273045E-2,8.352524684958465E-2,7.8462713154140218E-2,7.5296546604599376E-2,7.2185916952225662E-2,7.4498581758418211E-2,7.4334607050105042E-2,7.5755633447729842E-2,6.8905743185654164E-2,null,"natural gas",{"$f":"IFERROR(B819/_data!B819-1,\"\")","v":0},{"$f":"IFERROR(C819/_data!C819-1,\"\")","v":0},{"$f":"IFERROR(D819/_data!D819-1,\"\")","v":0},{"$f":"IFERROR(E819/_data!E819-1,\"\")","v":0},{"$f":"IFERROR(F819/_data!F819-1,\"\")","v":0},{"$f":"IFERROR(G819/_data!G819-1,\"\")","v":0},{"$f":"IFERROR(H819/_data!H819-1,\"\")","v":0},{"$f":"IFERROR(I819/_data!I819-1,\"\")","v":0},{"$f":"IFERROR(J819/_data!J819-1,\"\")","v":0},{"$f":"IFERROR(K819/_data!K819-1,\"\")","v":0}]
["Liquid gas",0,0,0,0,0,0,0,0,0,0,null,"Liquid gas",{"$f":"IFERROR(B820/_data!B820-1,\"\")","v":""},{"$f":"IFERROR(C820/_data!C820-1,\"\")","v":""},{"$f":"IFERROR(D820/_data!D820-1,\"\")","v":""},{"$f":"IFERROR(E820/_data!E820-1,\"\")","v":""},{"$f":"IFERROR(F820/_data!F820-1,\"\")","v":""},{"$f":"IFERROR(G820/_data!G820-1,\"\")","v":""},{"$f":"IFERROR(H820/_data!H820-1,\"\")","v":""},{"$f":"IFERROR(I820/_data!I820-1,\"\")","v":""},{"$f":"IFERROR(J820/_data!J820-1,\"\")","v":""},{"$f":"IFERROR(K820/_data!K820-1,\"\")","v":""}]
["heating oil / diesel",0.47685726082425528,0.44663600967778117,0.41727450271756572,0.41052230396598488,0.39203392393491526,0.31667324832380056,0.29322281032476516,0.26184597952128097,0.24643472379410583,0.25166402167849911,null,"heating oil / diesel",{"$f":"IFERROR(B821/_data!B821-1,\"\")","v":0},{"$f":"IFERROR(C821/_data!C821-1,\"\")","v":0},{"$f":"IFERROR(D821/_data!D821-1,\"\")","v":0},{"$f":"IFERROR(E821/_data!E821-1,\"\")","v":0},{"$f":"IFERROR(F821/_data!F821-1,\"\")","v":0},{"$f":"IFERROR(G821/_data!G821-1,\"\")","v":0},{"$f":"IFERROR(H821/_data!H821-1,\"\")","v":0},{"$f":"IFERROR(I821/_data!I821-1,\"\")","v":0},{"$f":"IFERROR(J821/_data!J821-1,\"\")","v":0},{"$f":"IFERROR(K821/_data!K821-1,\"\")","v":0}]
["gasoline",2.6661726471871539E-2,2.5736648988159139E-2,2.4841039331499053E-2,2.3966871395462937E-2,2.5829153413787116E-2,2.0891453612055896E-2,1.9715277830212027E-2,1.9446925710882836E-2,1.9584957613064721E-2,2.0577687824171111E-2,null,"gasoline",{"$f":"IFERROR(B822/_data!B822-1,\"\")","v":0},{"$f":"IFERROR(C822/_data!C822-1,\"\")","v":0},{"$f":"IFERROR(D822/_data!D822-1,\"\")","v":0},{"$f":"IFERROR(E822/_data!E822-1,\"\")","v":0},{"$f":"IFERROR(F822/_data!F822-1,\"\")","v":0},{"$f":"IFERROR(G822/_data!G822-1,\"\")","v":0},{"$f":"IFERROR(H822/_data!H822-1,\"\")","v":0},{"$f":"IFERROR(I822/_data!I822-1,\"\")","v":0},{"$f":"IFERROR(J822/_data!J822-1,\"\")","v":0},{"$f":"IFERROR(K822/_data!K822-1,\"\")","v":0}]
["Lignite / Coal",5.4089724034227975E-4,6.564903978821398E-4,7.6941272265705022E-4,8.8001658342361656E-4,9.6657954563028723E-4,1.0827887542833848E-3,1.3003693888012189E-3,1.2819876598349131E-3,1.2615764904000133E-3,1.3505045484993193E-3,null,"Lignite / Coal",{"$f":"IFERROR(B823/_data!B823-1,\"\")","v":0},{"$f":"IFERROR(C823/_data!C823-1,\"\")","v":0},{"$f":"IFERROR(D823/_data!D823-1,\"\")","v":0},{"$f":"IFERROR(E823/_data!E823-1,\"\")","v":0},{"$f":"IFERROR(F823/_data!F823-1,\"\")","v":0},{"$f":"IFERROR(G823/_data!G823-1,\"\")","v":0},{"$f":"IFERROR(H823/_data!H823-1,\"\")","v":0},{"$f":"IFERROR(I823/_data!I823-1,\"\")","v":0},{"$f":"IFERROR(J823/_data!J823-1,\"\")","v":0},{"$f":"IFERROR(K823/_data!K823-1,\"\")","v":0}]
["other fossil fuels",0,0,0,0,0,0,0,0,0,0,null,"other fossil fuels",{"$f":"IFERROR(B824/_data!B824-1,\"\")","v":""},{"$f":"IFERROR(C824/_data!C824-1,\"\")","v":""},{"$f":"IFERROR(D824/_data!D824-1,\"\")","v":""},{"$f":"IFERROR(E824/_data!E824-1,\"\")","v":""},{"$f":"IFERROR(F824/_data!F824-1,\"\")","v":""},{"$f":"IFERROR(G824/_data!G824-1,\"\")","v":""},{"$f":"IFERROR(H824/_data!H824-1,\"\")","v":""},{"$f":"IFERROR(I824/_data!I824-1,\"\")","v":""},{"$f":"IFERROR(J824/_data!J824-1,\"\")","v":""},{"$f":"IFERROR(K824/_data!K824-1,\"\")","v":""}]
["Plant oil, biofuel",0,0,0,0,0,0,0,0,0,0,null,"Plant oil, biofuel",{"$f":"IFERROR(B825/_data!B825-1,\"\")","v":""},{"$f":"IFERROR(C825/_data!C825-1,\"\")","v":""},{"$f":"IFERROR(D825/_data!D825-1,\"\")","v":""},{"$f":"IFERROR(E825/_data!E825-1,\"\")","v":""},{"$f":"IFERROR(F825/_data!F825-1,\"\")","v":""},{"$f":"IFERROR(G825/_data!G825-1,\"\")","v":""},{"$f":"IFERROR(H825/_data!H825-1,\"\")","v":""},{"$f":"IFERROR(I825/_data!I825-1,\"\")","v":""},{"$f":"IFERROR(J825/_data!J825-1,\"\")","v":""},{"$f":"IFERROR(K825/_data!K825-1,\"\")","v":""}]
["Summe",1.1080054594561459,1.0690000338259458,1.0490832557325642,1.0315206730019166,1.0227700365495946,0.89938344734461972,0.90420765976296347,0.84552255471192483,0.8283775760069314,0.82464808852587324,null,"Summe",{"$f":"IFERROR(B826/_data!B826-1,\"\")","v":0},{"$f":"IFERROR(C826/_data!C826-1,\"\")","v":0},{"$f":"IFERROR(D826/_data!D826-1,\"\")","v":0},{"$f":"IFERROR(E826/_data!E826-1,\"\")","v":0},{"$f":"IFERROR(F826/_data!F826-1,\"\")","v":0},{"$f":"IFERROR(G826/_data!G826-1,\"\")","v":0},{"$f":"IFERROR(H826/_data!H826-1,\"\")","v":0},{"$f":"IFERROR(I826/_data!I826-1,\"\")","v":0},{"$f":"IFERROR(J826/_data!J826-1,\"\")","v":0},{"$f":"IFERROR(K826/_data!K826-1,\"\")","v":0}]
[]
["Energy consumption (MWh /Einwohner and  Year) - Secondary sector (Industrie)",null,null,null,null,null,null,null,null,null,null,null,"Test:",{"$f":"A828","v":"Energy consumption (MWh /Einwohner and  Year) - Secondary sector (Industrie)"}]
["Energieträger",2000,2001,2002,2003,2004,2005,2006,2007,2008,2009,null,"Energieträger",2000,2001,2002,2003,2004,2005,2006,2007,2008,2009]
["Electricity",0.61815539617116877,0.60846645623367679,0.61649743983412342,0.61045989883937757,0.62340084784061833,0.5760330017027383,0.60736688621935631,0.57563313648619596,0.57166710821843825,0.56779212713869909,null,"Electricity",{"$f":"IFERROR(B830/_data!B830-1,\"\")","v":0},{"$f":"IFERROR(C830/_data!C830-1,\"\")","v":0},{"$f":"IFERROR(D830/_data!D830-1,\"\")","v":0},{"$f":"IFERROR(E830/_data!E830-1,\"\")","v":0},{"$f":"IFERROR(F830/_data!F830-1,\"\")","v":0},{"$f":"IFERROR(G830/_data!G830-1,\"\")","v":0},{"$f":"IFERROR(H830/_data!H830-1,\"\")","v":0},{"$f":"IFERROR(I830/_data!I830-1,\"\")","v":0},{"$f":"IFERROR(J830/_data!J830-1,\"\")","v":0},{"$f":"IFERROR(K830/_data!K830-1,\"\")","v":0}]
["Heat and Cold",0,0,0,0,0,0,0,0,0,0,null,"Heat and Cold",{"$f":"IFERROR(B831/_data!B831-1,\"\")","v":""},{"$f":"IFERROR(C831/_data!C831-1,\"\")","v":""},{"$f":"IFERROR(D831/_data!D831-1,\"\")","v":""},{"$f":"IFERROR(E831/_data!E831-1,\"\")","v":""},{"$f":"IFERROR(F831/_data!F831-1,\"\")","v":""},{"$f":"IFERROR(G831/_data!G831-1,\"\")","v":""},{"$f":"IFERROR(H831/_data!H831-1,\"\")","v":""},{"$f":"IFERROR(I831/_data!I831-1,\"\")","v":""},{"$f":"IFERROR(J831/_data!J831-1,\"\")","v":""},{"$f":"IFERROR(K831/_data!K831-1,\"\")","v":""}]
["natural gas",3.3071696830702768,3.316122157952925,3.4521350543557117,3.2428611099160269,3.112117642611294,2.9836668747319566,3.0792222784317378,3.0724591831670884,3.1312735451886526,2.8481740778354796,null,"natural gas",{"$f":"IFERROR(B832/_data!B832-1,\"\")","v":0},{"$f":"IFERROR(C832/_data!C832-1,\"\")","v":0},{"$f":"IFERROR(D832/_data!D832-1,\"\")","v":0},{"$f":"IFERROR(E832/_data!E832-1,\"\")","v":0},{"$f":"IFERROR(F832/_data!F832-1,\"\")","v":0},{"$f":"IFERROR(G832/_data!G832-1,\"\")","v":0},{"$f":"IFERROR(H832/_data!H832-1,\"\")","v":0},{"$f":"IFERROR(I832/_data!I832-1,\"\")","v":0},{"$f":"IFERROR(J832/_data!J832-1,\"\")","v":0},{"$f":"IFERROR(K832/_data!K832-1,\"\")","v":0}]
["Liquid gas",0,0,0,0,0,0,0,0,0,0,null,"Liquid gas",{"$f":"IFERROR(B833/_data!B833-1,\"\")","v":""},{"$f":"IFERROR(C833/_data!C833-1,\"\")","v":""},{"$f":"IFERROR(D833/_data!D833-1,\"\")","v":""},{"$f":"IFERROR(E833/_data!E833-1,\"\")","v":""},{"$f":"IFERROR(F833/_data!F833-1,\"\")","v":""},{"$f":"IFERROR(G833/_data!G833-1,\"\")","v":""},{"$f":"IFERROR(H833/_data!H833-1,\"\")","v":""},{"$f":"IFERROR(I833/_data!I833-1,\"\")","v":""},{"$f":"IFERROR(J833/_data!J833-1,\"\")","v":""},{"$f":"IFERROR(K833/_data!K833-1,\"\")","v":""}]
["heating oil / diesel",9.1276409307759709E-2,8.531037085698924E-2,7.9502317471120632E-2,7.3867070996261344E-2,7.4340706831698314E-2,5.9956773374436848E-2,5.4783303928206184E-2,4.8746546904206572E-2,4.5823713812594029E-2,4.6757468590265319E-2,null,"heating oil / diesel",{"$f":"IFERROR(B834/_data!B834-1,\"\")","v":0},{"$f":"IFERROR(C834/_data!C834-1,\"\")","v":0},{"$f":"IFERROR(D834/_data!D834-1,\"\")","v":0},{"$f":"IFERROR(E834/_data!E834-1,\"\")","v":0},{"$f":"IFERROR(F834/_data!F834-1,\"\")","v":0},{"$f":"IFERROR(G834/_data!G834-1,\"\")","v":0},{"$f":"IFERROR(H834/_data!H834-1,\"\")","v":0},{"$f":"IFERROR(I834/_data!I834-1,\"\")","v":0},{"$f":"IFERROR(J834/_data!J834-1,\"\")","v":0},{"$f":"IFERROR(K834/_data!K834-1,\"\")","v":0}]
["gasoline",4.573962288644403E-2,4.4396554026266737E-2,4.3087112468794819E-2,4.1838813120547498E-2,4.5633294326478779E-2,3.6740508613478384E-2,3.4921210199258534E-2,3.4882470679701585E-2,3.5670057865664892E-2,3.7283929275977505E-2,null,"gasoline",{"$f":"IFERROR(B835/_data!B835-1,\"\")","v":0},{"$f":"IFERROR(C835/_data!C835-1,\"\")","v":0},{"$f":"IFERROR(D835/_data!D835-1,\"\")","v":0},{"$f":"IFERROR(E835/_data!E835-1,\"\")","v":0},{"$f":"IFERROR(F835/_data!F835-1,\"\")","v":0},{"$f":"IFERROR(G835/_data!G835-1,\"\")","v":0},{"$f":"IFERROR(H835/_data!H835-1,\"\")","v":0},{"$f":"IFERROR(I835/_data!I835-1,\"\")","v":0},{"$f":"IFERROR(J835/_data!J835-1,\"\")","v":0},{"$f":"IFERROR(K835/_data!K835-1,\"\")","v":0}]
["Lignite / Coal",0,3.1044206950697792E-3,9.6506338641841449E-3,1.6046722144650388E-2,1.5390094320980017E-2,1.6889381451616326E-2,4.0175122004011854E-2,5.0214629546920748E-2,5.5916325735794144E-2,3.9094605744706218E-2,null,"Lignite / Coal",{"$f":"IFERROR(B836/_data!B836-1,\"\")","v":""},{"$f":"IFERROR(C836/_data!C836-1,\"\")","v":0},{"$f":"IFERROR(D836/_data!D836-1,\"\")","v":0},{"$f":"IFERROR(E836/_data!E836-1,\"\")","v":0},{"$f":"IFERROR(F836/_data!F836-1,\"\")","v":0},{"$f":"IFERROR(G836/_data!G836-1,\"\")","v":0},{"$f":"IFERROR(H836/_data!H836-1,\"\")","v":0},{"$f":"IFERROR(I836/_data!I836-1,\"\")","v":0},{"$f":"IFERROR(J836/_data!J836-1,\"\")","v":0},{"$f":"IFERROR(K836/_data!K836-1,\"\")","v":0}]
["other fossil fuels",0,0,0,0,0,0,0,0,0,0,null,"other fossil fuels",{"$f":"IFERROR(B837/_data!B837-1,\"\")","v":""},{"$f":"IFERROR(C837/_data!C837-1,\"\")","v":""},{"$f":"IFERROR(D837/_data!D837-1,\"\")","v":""},{"$f":"IFERROR(E837/_data!E837-1,\"\")","v":""},{"$f":"IFERROR(F837/_data!F837-1,\"\")","v":""},{"$f":"IFERROR(G837/_data!G837-1,\"\")","v":""},{"$f":"IFERROR(H837/_data!H837-1,\"\")","v":""},{"$f":"IFERROR(I837/_data!I837-1,\"\")","v":""},{"$f":"IFERROR(J837/_data!J837-1,\"\")","v":""},{"$f":"IFERROR(K837/_data!K837-1,\"\")","v":""}]
["Plant oil, biofuel",0,0,0,0,0,0,0,0,0,0,null,"Plant oil, biofuel",{"$f":"IFERROR(B838/_data!B838-1,\"\")","v":""},{"$f":"IFERROR(C838/_data!C838-1,\"\")","v":""},{"$f":"IFERROR(D838/_data!D838-1,\"\")","v":""},{"$f":"IFERROR(E838/_data!E838-1,\"\")","v":""},{"$f":"IFERROR(F838/_data!F838-1,\"\")","v":""},{"$f":"IFERROR(G838/_data!G838-1,\"\")","v":""},{"$f":"IFERROR(H838/_data!H838-1,\"\")","v":""},{"$f":"IFERROR(I838/_data!I838-1,\"\")","v":""},{"$f":"IFERROR(J838/_data!J838-1,\"\")","v":""},{"$f":"IFERROR(K838/_data!K838-1,\"\")","v":""}]
["Summe",4.0623411114356491,4.0573999597649273,4.2008725579939341,3.985073615016864,3.8708825859310694,3.6732865398742267,3.8164688007825709,3.7819359667841135,3.8403507508211439,3.5391022085851276,null,"Summe",{"$f":"IFERROR(B839/_data!B839-1,\"\")","v":0},{"$f":"IFERROR(C839/_data!C839-1,\"\")","v":0},{"$f":"IFERROR(D839/_data!D839-1,\"\")","v":0},{"$f":"IFERROR(E839/_data!E839-1,\"\")","v":0},{"$f":"IFERROR(F839/_data!F839-1,\"\")","v":0},{"$f":"IFERROR(G839/_data!G839-1,\"\")","v":0},{"$f":"IFERROR(H839/_data!H839-1,\"\")","v":0},{"$f":"IFERROR(I839/_data!I839-1,\"\")","v":0},{"$f":"IFERROR(J839/_data!J839-1,\"\")","v":0},{"$f":"IFERROR(K839/_data!K839-1,\"\")","v":0}]
[]
["Energy consumption (MWh /Einwohner and  Year) - Tertiary sector (Services)",null,null,null,null,null,null,null,null,null,null,null,"Test:",{"$f":"A841","v":"Energy consumption (MWh /Einwohner and  Year) - Tertiary sector (Services)"}]
["Energieträger",2000,2001,2002,2003,2004,2005,2006,2007,2008,2009,null,"Energieträger",2000,2001,2002,2003,2004,2005,2006,2007,2008,2009]
["Electricity",0.12505994944413795,0.12309751308084935,0.12472180234270785,0.1235173893449765,0.12611715115929403,0.11655902472579967,0.12288490724171518,0.1164541048417779,0.11566825096256252,0.11488292025900877,null,"Electricity",{"$f":"IFERROR(B843/_data!B843-1,\"\")","v":0},{"$f":"IFERROR(C843/_data!C843-1,\"\")","v":0},{"$f":"IFERROR(D843/_data!D843-1,\"\")","v":0},{"$f":"IFERROR(E843/_data!E843-1,\"\")","v":0},{"$f":"IFERROR(F843/_data!F843-1,\"\")","v":0},{"$f":"IFERROR(G843/_data!G843-1,\"\")","v":0},{"$f":"IFERROR(H843/_data!H843-1,\"\")","v":0},{"$f":"IFERROR(I843/_data!I843-1,\"\")","v":0},{"$f":"IFERROR(J843/_data!J843-1,\"\")","v":0},{"$f":"IFERROR(K843/_data!K843-1,\"\")","v":0}]
["Heat and Cold",0,0,0,0,0,0,0,0,0,0,null,"Heat and Cold",{"$f":"IFERROR(B844/_data!B844-1,\"\")","v":""},{"$f":"IFERROR(C844/_data!C844-1,\"\")","v":""},{"$f":"IFERROR(D844/_data!D844-1,\"\")","v":""},{"$f":"IFERROR(E844/_data!E844-1,\"\")","v":""},{"$f":"IFERROR(F844/_data!F844-1,\"\")","v":""},{"$f":"IFERROR(G844/_data!G844-1,\"\")","v":""},{"$f":"IFERROR(H844/_data!H844-1,\"\")","v":""},{"$f":"IFERROR(I844/_data!I844-1,\"\")","v":""},{"$f":"IFERROR(J844/_data!J844-1,\"\")","v":""},{"$f":"IFERROR(K844/_data!K844-1,\"\")","v":""}]
["natural gas",1.497259904729966,1.5013156512651795,1.5628860803126192,1.4681392712072048,1.4089507843470819,1.3508002021205674,1.3940589058943647,1.3909979653615205,1.4176253630593312,1.2894617429071502,null,"natural gas",{"$f":"IFERROR(B845/_data!B845-1,\"\")","v":0},{"$f":"IFERROR(C845/_data!C845-1,\"\")","v":0},{"$f":"IFERROR(D845/_data!D845-1,\"\")","v":0},{"$f":"IFERROR(E845/_data!E845-1,\"\")","v":0},{"$f":"IFERROR(F845/_data!F845-1,\"\")","v":0},{"$f":"IFERROR(G845/_data!G845-1,\"\")","v":0},{"$f":"IFERROR(H845/_data!H845-1,\"\")","v":0},{"$f":"IFERROR(I845/_data!I845-1,\"\")","v":0},{"$f":"IFERROR(J845/_data!J845-1,\"\")","v":0},{"$f":"IFERROR(K845/_data!K845-1,\"\")","v":0}]
["Liquid gas",0,0,0,0,6.8519750012458131E-3,5.3184035872154492E-3,0,0,0,0,null,"Liquid gas",{"$f":"IFERROR(B846/_data!B846-1,\"\")","v":""},{"$f":"IFERROR(C846/_data!C846-1,\"\")","v":""},{"$f":"IFERROR(D846/_data!D846-1,\"\")","v":""},{"$f":"IFERROR(E846/_data!E846-1,\"\")","v":""},{"$f":"IFERROR(F846/_data!F846-1,\"\")","v":0},{"$f":"IFERROR(G846/_data!G846-1,\"\")","v":0},{"$f":"IFERROR(H846/_data!H846-1,\"\")","v":""},{"$f":"IFERROR(I846/_data!I846-1,\"\")","v":""},{"$f":"IFERROR(J846/_data!J846-1,\"\")","v":""},{"$f":"IFERROR(K846/_data!K846-1,\"\")","v":""}]
["heating oil / diesel",8.9338194196533202E-2,8.3496677045891116E-2,7.7809609481275133E-2,7.2302597070174904E-2,7.2998235240545134E-2,5.8619210795616196E-2,5.3461960839585591E-2,4.7443882024051746E-2,4.4958923476432731E-2,4.5907150911580569E-2,null,"heating oil / diesel",{"$f":"IFERROR(B847/_data!B847-1,\"\")","v":0},{"$f":"IFERROR(C847/_data!C847-1,\"\")","v":0},{"$f":"IFERROR(D847/_data!D847-1,\"\")","v":0},{"$f":"IFERROR(E847/_data!E847-1,\"\")","v":0},{"$f":"IFERROR(F847/_data!F847-1,\"\")","v":0},{"$f":"IFERROR(G847/_data!G847-1,\"\")","v":0},{"$f":"IFERROR(H847/_data!H847-1,\"\")","v":0},{"$f":"IFERROR(I847/_data!I847-1,\"\")","v":0},{"$f":"IFERROR(J847/_data!J847-1,\"\")","v":0},{"$f":"IFERROR(K847/_data!K847-1,\"\")","v":0}]
["gasoline",3.8155792829144983E-2,3.5550624088702312E-2,3.3007805801987457E-2,3.055069916774333E-2,3.0200240914581861E-2,2.4341515819331392E-2,2.2683056354653518E-2,2.012927398144013E-2,1.8933821359955038E-2,1.7746630141020684E-2,null,"gasoline",{"$f":"IFERROR(B848/_data!B848-1,\"\")","v":0},{"$f":"IFERROR(C848/_data!C848-1,\"\")","v":0},{"$f":"IFERROR(D848/_data!D848-1,\"\")","v":0},{"$f":"IFERROR(E848/_data!E848-1,\"\")","v":0},{"$f":"IFERROR(F848/_data!F848-1,\"\")","v":0},{"$f":"IFERROR(G848/_data!G848-1,\"\")","v":0},{"$f":"IFERROR(H848/_data!H848-1,\"\")","v":0},{"$f":"IFERROR(I848/_data!I848-1,\"\")","v":0},{"$f":"IFERROR(J848/_data!J848-1,\"\")","v":0},{"$f":"IFERROR(K848/_data!K848-1,\"\")","v":0}]
["Lignite / Coal",0,4.2393701964931396E-3,1.5750977593822189E-2,2.6987175224990907E-2,3.4292094324416746E-2,3.7855144095828928E-2,5.5024501476128994E-2,8.1540618331596454E-2,6.4055528899665204E-2,0.101357867299223,null,"Lignite / Coal",{"$f":"IFERROR(B849/_data!B849-1,\"\")","v":""},{"$f":"IFERROR(C849/_data!C849-1,\"\")","v":0},{"$f":"IFERROR(D849/_data!D849-1,\"\")","v":0},{"$f":"IFERROR(E849/_data!E849-1,\"\")","v":0},{"$f":"IFERROR(F849/_data!F849-1,\"\")","v":0},{"$f":"IFERROR(G849/_data!G849-1,\"\")","v":0},{"$f":"IFERROR(H849/_data!H849-1,\"\")","v":0},{"$f":"IFERROR(I849/_data!I849-1,\"\")","v":0},{"$f":"IFERROR(J849/_data!J849-1,\"\")","v":0},{"$f":"IFERROR(K849/_data!K849-1,\"\")","v":0}]
["other fossil fuels",1.5212734884626619E-3,2.0584868408168784E-3,2.5940200363866271E-3,3.1072190476438802E-3,3.6085636370197386E-3,4.1082279206634308E-3,4.7715167089076981E-3,4.7040676227813345E-3,5.565180163296833E-3,5.922212538604422E-3,null,"other fossil fuels",{"$f":"IFERROR(B850/_data!B850-1,\"\")","v":0},{"$f":"IFERROR(C850/_data!C850-1,\"\")","v":0},{"$f":"IFERROR(D850/_data!D850-1,\"\")","v":0},{"$f":"IFERROR(E850/_data!E850-1,\"\")","v":0},{"$f":"IFERROR(F850/_data!F850-1,\"\")","v":0},{"$f":"IFERROR(G850/_data!G850-1,\"\")","v":0},{"$f":"IFERROR(H850/_data!H850-1,\"\")","v":0},{"$f":"IFERROR(I850/_data!I850-1,\"\")","v":0},{"$f":"IFERROR(J850/_data!J850-1,\"\")","v":0},{"$f":"IFERROR(K850/_data!K850-1,\"\")","v":0}]
["Plant oil, biofuel",1.6677664910553626E-3,1.7246781639276552E-3,1.780640872434888E-3,1.8360839826986567E-3,1.8902000003436724E-3,1.772801195738483E-3,2.1078568318471367E-3,2.1711081335913851E-3,2.0449747949226023E-3,2.0107512166545418E-3,null,"Plant oil, biofuel",{"$f":"IFERROR(B851/_data!B851-1,\"\")","v":0},{"$f":"IFERROR(C851/_data!C851-1,\"\")","v":0},{"$f":"IFERROR(D851/_data!D851-1,\"\")","v":0},{"$f":"IFERROR(E851/_data!E851-1,\"\")","v":0},{"$f":"IFERROR(F851/_data!F851-1,\"\")","v":0},{"$f":"IFERROR(G851/_data!G851-1,\"\")","v":0},{"$f":"IFERROR(H851/_data!H851-1,\"\")","v":0},{"$f":"IFERROR(I851/_data!I851-1,\"\")","v":0},{"$f":"IFERROR(J851/_data!J851-1,\"\")","v":0},{"$f":"IFERROR(K851/_data!K851-1,\"\")","v":0}]
["Summe",1.7530028811793001,1.75148300068186,1.8185509364412333,1.726440435045433,1.6849092446245288,1.5993745302607612,1.6549927053472029,1.6634410202967596,1.6688520427161659,1.5772892752732421,null,"Summe",{"$f":"IFERROR(B852/_data!B852-1,\"\")","v":0},{"$f":"IFERROR(C852/_data!C852-1,\"\")","v":0},{"$f":"IFERROR(D852/_data!D852-1,\"\")","v":0},{"$f":"IFERROR(E852/_data!E852-1,\"\")","v":0},{"$f":"IFERROR(F852/_data!F852-1,\"\")","v":0},{"$f":"IFERROR(G852/_data!G852-1,\"\")","v":0},{"$f":"IFERROR(H852/_data!H852-1,\"\")","v":0},{"$f":"IFERROR(I852/_data!I852-1,\"\")","v":0},{"$f":"IFERROR(J852/_data!J852-1,\"\")","v":0},{"$f":"IFERROR(K852/_data!K852-1,\"\")","v":0}]
[]
["Energy consumption (MWh /Einwohner and  Year) - Road",null,null,null,null,null,null,null,null,null,null,null,"Test:",{"$f":"A854","v":"Energy consumption (MWh /Einwohner and  Year) - Road"}]
["Energieträger",2000,2001,2002,2003,2004,2005,2006,2007,2008,2009,null,"Energieträger",2000,2001,2002,2003,2004,2005,2006,2007,2008,2009]
["Electricity",0,0,0,0,0,0,0,0,0,0,null,"Electricity",{"$f":"IFERROR(B856/_data!B856-1,\"\")","v":""},{"$f":"IFERROR(C856/_data!C856-1,\"\")","v":""},{"$f":"IFERROR(D856/_data!D856-1,\"\")","v":""},{"$f":"IFERROR(E856/_data!E856-1,\"\")","v":""},{"$f":"IFERROR(F856/_data!F856-1,\"\")","v":""},{"$f":"IFERROR(G856/_data!G856-1,\"\")","v":""},{"$f":"IFERROR(H856/_data!H856-1,\"\")","v":""},{"$f":"IFERROR(I856/_data!I856-1,\"\")","v":""},{"$f":"IFERROR(J856/_data!J856-1,\"\")","v":""},{"$f":"IFERROR(K856/_data!K856-1,\"\")","v":""}]
["Heat and Cold",0,0,0,0,0,0,0,0,0,0,null,"Heat and Cold",{"$f":"IFERROR(B857/_data!B857-1,\"\")","v":""},{"$f":"IFERROR(C857/_data!C857-1,\"\")","v":""},{"$f":"IFERROR(D857/_data!D857-1,\"\")","v":""},{"$f":"IFERROR(E857/_data!E857-1,\"\")","v":""},{"$f":"IFERROR(F857/_data!F857-1,\"\")","v":""},{"$f":"IFERROR(G857/_data!G857-1,\"\")","v":""},{"$f":"IFERROR(H857/_data!H857-1,\"\")","v":""},{"$f":"IFERROR(I857/_data!I857-1,\"\")","v":""},{"$f":"IFERROR(J857/_data!J857-1,\"\")","v":""},{"$f":"IFERROR(K857/_data!K857-1,\"\")","v":""}]
["natural gas",3.2104504952815728E-2,3.219028340801746E-2,3.351341987687638E-2,3.1485037762489392E-2,3.0210980687311088E-2,2.8959291389069351E-2,2.9887522242608659E-2,2.9826890311481648E-2,3.0399923817058385E-2,2.7650330163349026E-2,null,"natural gas",{"$f":"IFERROR(B858/_data!B858-1,\"\")","v":0},{"$f":"IFERROR(C858/_data!C858-1,\"\")","v":0},{"$f":"IFERROR(D858/_data!D858-1,\"\")","v":0},{"$f":"IFERROR(E858/_data!E858-1,\"\")","v":0},{"$f":"IFERROR(F858/_data!F858-1,\"\")","v":0},{"$f":"IFERROR(G858/_data!G858-1,\"\")","v":0},{"$f":"IFERROR(H858/_data!H858-1,\"\")","v":0},{"$f":"IFERROR(I858/_data!I858-1,\"\")","v":0},{"$f":"IFERROR(J858/_data!J858-1,\"\")","v":0},{"$f":"IFERROR(K858/_data!K858-1,\"\")","v":0}]
["Liquid gas",0,0,0,0,0,0,0,0,0,0,null,"Liquid gas",{"$f":"IFERROR(B859/_data!B859-1,\"\")","v":""},{"$f":"IFERROR(C859/_data!C859-1,\"\")","v":""},{"$f":"IFERROR(D859/_data!D859-1,\"\")","v":""},{"$f":"IFERROR(E859/_data!E859-1,\"\")","v":""},{"$f":"IFERROR(F859/_data!F859-1,\"\")","v":""},{"$f":"IFERROR(G859/_data!G859-1,\"\")","v":""},{"$f":"IFERROR(H859/_data!H859-1,\"\")","v":""},{"$f":"IFERROR(I859/_data!I859-1,\"\")","v":""},{"$f":"IFERROR(J859/_data!J859-1,\"\")","v":""},{"$f":"IFERROR(K859/_data!K859-1,\"\")","v":""}]
["heating oil / diesel",0.18234998215039108,0.17168892948002398,0.16134584794118345,0.1513085303375396,0.15426609548259385,0.12451009116656687,0.11720103459066469,0.10588804525829984,0.1003055049907559,0.10415891377018453,null,"heating oil / diesel",{"$f":"IFERROR(B860/_data!B860-1,\"\")","v":0},{"$f":"IFERROR(C860/_data!C860-1,\"\")","v":0},{"$f":"IFERROR(D860/_data!D860-1,\"\")","v":0},{"$f":"IFERROR(E860/_data!E860-1,\"\")","v":0},{"$f":"IFERROR(F860/_data!F860-1,\"\")","v":0},{"$f":"IFERROR(G860/_data!G860-1,\"\")","v":0},{"$f":"IFERROR(H860/_data!H860-1,\"\")","v":0},{"$f":"IFERROR(I860/_data!I860-1,\"\")","v":0},{"$f":"IFERROR(J860/_data!J860-1,\"\")","v":0},{"$f":"IFERROR(K860/_data!K860-1,\"\")","v":0}]
["gasoline",0.70628784026943892,0.69295343235433926,0.6801168803875377,0.66788912920946697,0.74408367399892428,0.60060806019456225,0.57350484786097633,0.5817639323110515,0.59798725644960626,0.64867234398771378,null,"gasoline",{"$f":"IFERROR(B861/_data!B861-1,\"\")","v":0},{"$f":"IFERROR(C861/_data!C861-1,\"\")","v":0},{"$f":"IFERROR(D861/_data!D861-1,\"\")","v":0},{"$f":"IFERROR(E861/_data!E861-1,\"\")","v":0},{"$f":"IFERROR(F861/_data!F861-1,\"\")","v":0},{"$f":"IFERROR(G861/_data!G861-1,\"\")","v":0},{"$f":"IFERROR(H861/_data!H861-1,\"\")","v":0},{"$f":"IFERROR(I861/_data!I861-1,\"\")","v":0},{"$f":"IFERROR(J861/_data!J861-1,\"\")","v":0},{"$f":"IFERROR(K861/_data!K861-1,\"\")","v":0}]
["Lignite / Coal",0,0,0,0,0,0,0,0,0,0,null,"Lignite / Coal",{"$f":"IFERROR(B862/_data!B862-1,\"\")","v":""},{"$f":"IFERROR(C862/_data!C862-1,\"\")","v":""},{"$f":"IFERROR(D862/_data!D862-1,\"\")","v":""},{"$f":"IFERROR(E862/_data!E862-1,\"\")","v":""},{"$f":"IFERROR(F862/_data!F862-1,\"\")","v":""},{"$f":"IFERROR(G862/_data!G862-1,\"\")","v":""},{"$f":"IFERROR(H862/_data!H862-1,\"\")","v":""},{"$f":"IFERROR(I862/_data!I862-1,\"\")","v":""},{"$f":"IFERROR(J862/_data!J862-1,\"\")","v":""},{"$f":"IFERROR(K862/_data!K862-1,\"\")","v":""}]
["other fossil fuels",0,0,0,0,6.3579454557014447E-3,5.3184035872154492E-3,3.8172133671261583E-3,2.8224405736688002E-3,1.8516687197806646E-3,9.103401030625041E-4,null,"other fossil fuels",{"$f":"IFERROR(B863/_data!B863-1,\"\")","v":""},{"$f":"IFERROR(C863/_data!C863-1,\"\")","v":""},{"$f":"IFERROR(D863/_data!D863-1,\"\")","v":""},{"$f":"IFERROR(E863/_data!E863-1,\"\")","v":""},{"$f":"IFERROR(F863/_data!F863-1,\"\")","v":0},{"$f":"IFERROR(G863/_data!G863-1,\"\")","v":0},{"$f":"IFERROR(H863/_data!H863-1,\"\")","v":0},{"$f":"IFERROR(I863/_data!I863-1,\"\")","v":0},{"$f":"IFERROR(J863/_data!J863-1,\"\")","v":0},{"$f":"IFERROR(K863/_data!K863-1,\"\")","v":0}]
["Plant oil, biofuel",0,0,0,0,0,0,0,0,0,0,null,"Plant oil, biofuel",{"$f":"IFERROR(B864/_data!B864-1,\"\")","v":""},{"$f":"IFERROR(C864/_data!C864-1,\"\")","v":""},{"$f":"IFERROR(D864/_data!D864-1,\"\")","v":""},{"$f":"IFERROR(E864/_data!E864-1,\"\")","v":""},{"$f":"IFERROR(F864/_data!F864-1,\"\")","v":""},{"$f":"IFERROR(G864/_data!G864-1,\"\")","v":""},{"$f":"IFERROR(H864/_data!H864-1,\"\")","v":""},{"$f":"IFERROR(I864/_data!I864-1,\"\")","v":""},{"$f":"IFERROR(J864/_data!J864-1,\"\")","v":""},{"$f":"IFERROR(K864/_data!K864-1,\"\")","v":""}]
["Summe",0.92074232737264572,0.89683264524238071,0.87497614820559755,0.85068269730949597,0.93491869562453067,0.75939584633741397,0.72441061806137585,0.7203013084545018,0.73054435397720119,0.78139192802430979,null,"Summe",{"$f":"IFERROR(B865/_data!B865-1,\"\")","v":0},{"$f":"IFERROR(C865/_data!C865-1,\"\")","v":0},{"$f":"IFERROR(D865/_data!D865-1,\"\")","v":0},{"$f":"IFERROR(E865/_data!E865-1,\"\")","v":0},{"$f":"IFERROR(F865/_data!F865-1,\"\")","v":0},{"$f":"IFERROR(G865/_data!G865-1,\"\")","v":0},{"$f":"IFERROR(H865/_data!H865-1,\"\")","v":0},{"$f":"IFERROR(I865/_data!I865-1,\"\")","v":0},{"$f":"IFERROR(J865/_data!J865-1,\"\")","v":0},{"$f":"IFERROR(K865/_data!K865-1,\"\")","v":0}]
[]
["Energy consumption (MWh /Einwohner and  Year) - Rail",null,null,null,null,null,null,null,null,null,null,null,"Test:",{"$f":"A867","v":"Energy consumption (MWh /Einwohner and  Year) - Rail"}]
["Energieträger",2000,2001,2002,2003,2004,2005,2006,2007,2008,2009,null,"Energieträger",2000,2001,2002,2003,2004,2005,2006,2007,2008,2009]
["Electricity",6.4501995910816864E-3,6.3690695550463862E-3,6.4498769379308148E-3,6.3752312488021988E-3,6.4546034102644732E-3,5.9978004526481613E-3,6.3445441953607845E-3,6.0274097232560827E-3,5.9721403214903846E-3,5.9422200133970055E-3,null,"Electricity",{"$f":"IFERROR(B869/_data!B869-1,\"\")","v":0},{"$f":"IFERROR(C869/_data!C869-1,\"\")","v":0},{"$f":"IFERROR(D869/_data!D869-1,\"\")","v":0},{"$f":"IFERROR(E869/_data!E869-1,\"\")","v":0},{"$f":"IFERROR(F869/_data!F869-1,\"\")","v":0},{"$f":"IFERROR(G869/_data!G869-1,\"\")","v":0},{"$f":"IFERROR(H869/_data!H869-1,\"\")","v":0},{"$f":"IFERROR(I869/_data!I869-1,\"\")","v":0},{"$f":"IFERROR(J869/_data!J869-1,\"\")","v":0},{"$f":"IFERROR(K869/_data!K869-1,\"\")","v":0}]
["Heat and Cold",0,0,0,0,0,0,0,0,0,0,null,"Heat and Cold",{"$f":"IFERROR(B870/_data!B870-1,\"\")","v":""},{"$f":"IFERROR(C870/_data!C870-1,\"\")","v":""},{"$f":"IFERROR(D870/_data!D870-1,\"\")","v":""},{"$f":"IFERROR(E870/_data!E870-1,\"\")","v":""},{"$f":"IFERROR(F870/_data!F870-1,\"\")","v":""},{"$f":"IFERROR(G870/_data!G870-1,\"\")","v":""},{"$f":"IFERROR(H870/_data!H870-1,\"\")","v":""},{"$f":"IFERROR(I870/_data!I870-1,\"\")","v":""},{"$f":"IFERROR(J870/_data!J870-1,\"\")","v":""},{"$f":"IFERROR(K870/_data!K870-1,\"\")","v":""}]
["natural gas",0,0,0,0,0,0,0,0,0,0,null,"natural gas",{"$f":"IFERROR(B871/_data!B871-1,\"\")","v":""},{"$f":"IFERROR(C871/_data!C871-1,\"\")","v":""},{"$f":"IFERROR(D871/_data!D871-1,\"\")","v":""},{"$f":"IFERROR(E871/_data!E871-1,\"\")","v":""},{"$f":"IFERROR(F871/_data!F871-1,\"\")","v":""},{"$f":"IFERROR(G871/_data!G871-1,\"\")","v":""},{"$f":"IFERROR(H871/_data!H871-1,\"\")","v":""},{"$f":"IFERROR(I871/_data!I871-1,\"\")","v":""},{"$f":"IFERROR(J871/_data!J871-1,\"\")","v":""},{"$f":"IFERROR(K871/_data!K871-1,\"\")","v":""}]
["Liquid gas",0,0,0,0,0,0,0,0,0,0,null,"Liquid gas",{"$f":"IFERROR(B872/_data!B872-1,\"\")","v":""},{"$f":"IFERROR(C872/_data!C872-1,\"\")","v":""},{"$f":"IFERROR(D872/_data!D872-1,\"\")","v":""},{"$f":"IFERROR(E872/_data!E872-1,\"\")","v":""},{"$f":"IFERROR(F872/_data!F872-1,\"\")","v":""},{"$f":"IFERROR(G872/_data!G872-1,\"\")","v":""},{"$f":"IFERROR(H872/_data!H872-1,\"\")","v":""},{"$f":"IFERROR(I872/_data!I872-1,\"\")","v":""},{"$f":"IFERROR(J872/_data!J872-1,\"\")","v":""},{"$f":"IFERROR(K872/_data!K872-1,\"\")","v":""}]
["heating oil / diesel",5.3717857181492662E-2,5.03160945631023E-2,4.7011117354345773E-2,4.3794405528155535E-2,4.4269343189867152E-2,3.5636488707150228E-2,3.2981142965966395E-2,2.9434023125403202E-2,2.767329075716158E-2,2.8480640367241197E-2,null,"heating oil / diesel",{"$f":"IFERROR(B873/_data!B873-1,\"\")","v":0},{"$f":"IFERROR(C873/_data!C873-1,\"\")","v":0},{"$f":"IFERROR(D873/_data!D873-1,\"\")","v":0},{"$f":"IFERROR(E873/_data!E873-1,\"\")","v":0},{"$f":"IFERROR(F873/_data!F873-1,\"\")","v":0},{"$f":"IFERROR(G873/_data!G873-1,\"\")","v":0},{"$f":"IFERROR(H873/_data!H873-1,\"\")","v":0},{"$f":"IFERROR(I873/_data!I873-1,\"\")","v":0},{"$f":"IFERROR(J873/_data!J873-1,\"\")","v":0},{"$f":"IFERROR(K873/_data!K873-1,\"\")","v":0}]
["gasoline",0,0,0,0,0,0,0,0,0,0,null,"gasoline",{"$f":"IFERROR(B874/_data!B874-1,\"\")","v":""},{"$f":"IFERROR(C874/_data!C874-1,\"\")","v":""},{"$f":"IFERROR(D874/_data!D874-1,\"\")","v":""},{"$f":"IFERROR(E874/_data!E874-1,\"\")","v":""},{"$f":"IFERROR(F874/_data!F874-1,\"\")","v":""},{"$f":"IFERROR(G874/_data!G874-1,\"\")","v":""},{"$f":"IFERROR(H874/_data!H874-1,\"\")","v":""},{"$f":"IFERROR(I874/_data!I874-1,\"\")","v":""},{"$f":"IFERROR(J874/_data!J874-1,\"\")","v":""},{"$f":"IFERROR(K874/_data!K874-1,\"\")","v":""}]
["Lignite / Coal",0,0,0,0,0,0,0,0,0,0,null,"Lignite / Coal",{"$f":"IFERROR(B875/_data!B875-1,\"\")","v":""},{"$f":"IFERROR(C875/_data!C875-1,\"\")","v":""},{"$f":"IFERROR(D875/_data!D875-1,\"\")","v":""},{"$f":"IFERROR(E875/_data!E875-1,\"\")","v":""},{"$f":"IFERROR(F875/_data!F875-1,\"\")","v":""},{"$f":"IFERROR(G875/_data!G875-1,\"\")","v":""},{"$f":"IFERROR(H875/_data!H875-1,\"\")","v":""},{"$f":"IFERROR(I875/_data!I875-1,\"\")","v":""},{"$f":"IFERROR(J875/_data!J875-1,\"\")","v":""},{"$f":"IFERROR(K875/_data!K875-1,\"\")","v":""}]
["other fossil fuels",0,0,0,0,0,0,0,0,0,0,null,"other fossil fuels",{"$f":"IFERROR(B876/_data!B876-1,\"\")","v":""},{"$f":"IFERROR(C876/_data!C876-1,\"\")","v":""},{"$f":"IFERROR(D876/_data!D876-1,\"\")","v":""},{"$f":"IFERROR(E876/_data!E876-1,\"\")","v":""},{"$f":"IFERROR(F876/_data!F876-1,\"\")","v":""},{"$f":"IFERROR(G876/_data!G876-1,\"\")","v":""},{"$f":"IFERROR(H876/_data!H876-1,\"\")","v":""},{"$f":"IFERROR(I876/_data!I876-1,\"\")","v":""},{"$f":"IFERROR(J876/_data!J876-1,\"\")","v":""},{"$f":"IFERROR(K876/_data!K876-1,\"\")","v":""}]
["Plant oil, biofuel",0,0,0,0,0,0,0,0,0,0,null,"Plant oil, biofuel",{"$f":"IFERROR(B877/_data!B877-1,\"\")","v":""},{"$f":"IFERROR(C877/_data!C877-1,\"\")","v":""},{"$f":"IFERROR(D877/_data!D877-1,\"\")","v":""},{"$f":"IFERROR(E877/_data!E877-1,\"\")","v":""},{"$f":"IFERROR(F877/_data!F877-1,\"\")","v":""},{"$f":"IFERROR(G877/_data!G877-1,\"\")","v":""},{"$f":"IFERROR(H877/_data!H877-1,\"\")","v":""},{"$f":"IFERROR(I877/_data!I877-1,\"\")","v":""},{"$f":"IFERROR(J877/_data!J877-1,\"\")","v":""},{"$f":"IFERROR(K877/_data!K877-1,\"\")","v":""}]
["Summe",6.0168056772574349E-2,5.6685164118148688E-2,5.346099429227659E-2,5.0169636776957731E-2,5.0723946600131624E-2,4.1634289159798388E-2,3.9325687161327179E-2,3.5461432848659283E-2,3.3645431078651963E-2,3.4422860380638201E-2,null,"Summe",{"$f":"IFERROR(B878/_data!B878-1,\"\")","v":0},{"$f":"IFERROR(C878/_data!C878-1,\"\")","v":0},{"$f":"IFERROR(D878/_data!D878-1,\"\")","v":0},{"$f":"IFERROR(E878/_data!E878-1,\"\")","v":0},{"$f":"IFERROR(F878/_data!F878-1,\"\")","v":0},{"$f":"IFERROR(G878/_data!G878-1,\"\")","v":0},{"$f":"IFERROR(H878/_data!H878-1,\"\")","v":0},{"$f":"IFERROR(I878/_data!I878-1,\"\")","v":0},{"$f":"IFERROR(J878/_data!J878-1,\"\")","v":0},{"$f":"IFERROR(K878/_data!K878-1,\"\")","v":0}]